XString v0.005 Perl 5 v5.24.0 x86_64-linux-thread-multi
- Status
- Pass
- From
- Nigel Horne
- Dist
-
XString v0.005
- Platform
- Perl 5 v5.24.0 x86_64-linux-thread-multi
- Date
- 2025-10-18 22:13:12
- ID
- a30f76f0-ac6f-11f0-982c-ceb5a289be80
This distribution has been tested as part of the CPAN Testers
project, supporting the Perl programming language. See
http://wiki.cpantesters.org/ for more information or email
questions to cpan-testers-discuss@perl.org
--
Dear icolas .,
This is a computer-generated report for XString-0.005
on perl 5.24.0, created by CPAN-Reporter-1.2018.
Thank you for uploading your work to CPAN. Congratulations!
All tests were successful.
Sections of this report:
* Tester comments
* Program output
* Prerequisites
* Environment and other context
------------------------------
TESTER COMMENTS
------------------------------
Additional comments from tester:
this report is from an automated smoke testing program
and was not reviewed by a human for accuracy
------------------------------
PROGRAM OUTPUT
------------------------------
Output from '/usr/bin/make test':
"/home/njh/perl5/perlbrew/perls/perl-5.24.0/bin/perl5.24.0" -MExtUtils::Command::MM -e 'cp_nonempty' -- XString.bs blib/arch/auto/XString/XString.bs 644
PERL_DL_NONLAZY=1 "/home/njh/perl5/perlbrew/perls/perl-5.24.0/bin/perl5.24.0" "-MExtUtils::Command::MM" "-MTest::Harness" "-e" "undef *Test::Harness::Switches; test_harness(0, 'blib/lib', 'blib/arch')" t/*.t
t/00-load.t ............ ok
t/cstring.t ............ ok
t/perlstring.t ......... ok
#
# Versions for all modules listed in MYMETA.json (including optional ones):
#
# === Configure Requires ===
#
# Module Want Have
# ------------------- ---- ----
# ExtUtils::MakeMaker any 7.62
#
# === Build Requires ===
#
# Module Want Have
# ------------------- ---- ----
# ExtUtils::MakeMaker any 7.62
#
# === Test Requires ===
#
# Module Want Have
# ------------------- ---- --------
# ExtUtils::MakeMaker any 7.62
# File::Spec any 3.75
# File::Temp any 0.2304
# Test::More 0.87 1.302186
#
# === Test Recommends ===
#
# Module Want Have
# ---------- -------- --------
# CPAN::Meta 2.120900 2.150010
#
# === Runtime Requires ===
#
# Module Want Have
# ------ ---- ----
#
t/00-report-prereqs.t .. ok
All tests successful.
Files=4, Tests=282, 0 wallclock secs ( 0.02 usr 0.01 sys + 0.27 cusr 0.04 csys = 0.34 CPU)
Result: PASS
------------------------------
PREREQUISITES
------------------------------
Prerequisite modules loaded:
requires:
Module Need Have
------------------- ----- --------
perl 5.008 5.024000
build_requires:
Module Need Have
------------------- ----- --------
ExtUtils::MakeMaker 0 7.62
File::Spec 0 3.75
File::Temp 0 0.2304
Test::More 0.87 1.302186
configure_requires:
Module Need Have
------------------- ----- --------
ExtUtils::MakeMaker 0 7.62
------------------------------
ENVIRONMENT AND OTHER CONTEXT
------------------------------
Environment variables:
AUTOMATED_TESTING = 1
HARNESS_OPTIONS = j4
LANG = en_US.UTF-8
PATH = /home/njh/perl5/perlbrew/bin:/home/njh/perl5/perlbrew/perls/perl-5.24.0/bin:/home/njh/perl5/perlbrew/bin:/home/njh/src/njh/smoker/bin:/usr/bin:/bin
PERL5LIB = /tmp/user/1000/build/Params-ValidationCompiler-0.31-0/blib/arch:/tmp/user/1000/build/Params-ValidationCompiler-0.31-0/blib/lib:/tmp/user/1000/build/DateTime-TimeZone-2.65-0/blib/arch:/tmp/user/1000/build/DateTime-TimeZone-2.65-0/blib/lib:/tmp/user/1000/build/Date-Range-1.41-0/blib/arch:/tmp/user/1000/build/Date-Range-1.41-0/blib/lib:/tmp/user/1000/build/Date-Simple-3.03-0/blib/arch:/tmp/user/1000/build/Date-Simple-3.03-0/blib/lib
PERL5OPT =
PERL5_CPANPLUS_IS_RUNNING = 1703273
PERL5_CPAN_IS_RUNNING = 1703273
PERL5_CPAN_IS_RUNNING_IN_RECURSION = 1703263,1703273
PERLBREW_LIB =
PERLBREW_MANPATH = /home/njh/perl5/perlbrew/perls/perl-5.24.0/man
PERLBREW_PATH = /home/njh/perl5/perlbrew/bin:/home/njh/perl5/perlbrew/perls/perl-5.24.0/bin
PERLBREW_PERL = perl-5.24.0
PERLBREW_ROOT = /home/njh/perl5/perlbrew
PERLBREW_SHELLRC_VERSION = 1.02
PERLBREW_VERSION = 1.02
PERL_LOCAL_LIB_ROOT =
PERL_MM_USE_DEFAULT = 1
PERL_USE_UNSAFE_INC = 1
SHELL = /bin/sh
TEMP = /tmp/user/1000
TMPDIR = /tmp/user/1000/testwrapper.1703266
Perl special variables (and OS-specific diagnostics, for MSWin32):
$^X = /home/njh/perl5/perlbrew/perls/perl-5.24.0/bin/perl5.24.0
$UID/$EUID = 1000 / 1000
$GID = 1000 4 24 25 29 30 44 46 103 108 115 123 996 1000
$EGID = 1000 4 24 25 29 30 44 46 103 108 115 123 996 1000
Perl module toolchain versions installed:
Module Have
------------------- --------
CPAN 2.28
CPAN::Meta 2.150010
Cwd 3.75
ExtUtils::CBuilder 0.280225
ExtUtils::Command 7.62
ExtUtils::Install 2.08
ExtUtils::MakeMaker 7.62
ExtUtils::Manifest 1.70
ExtUtils::ParseXS 3.31
File::Spec 3.75
JSON 4.02
JSON::PP 2.27400
Module::Build 0.4222
Module::Signature n/a
Parse::CPAN::Meta 2.150010
Test::Harness 3.39
Test::More 1.302186
YAML 1.31
YAML::Syck 1.34
version 0.9918
--
Summary of my perl5 (revision 5 version 24 subversion 0) configuration:
Platform:
osname=linux, osvers=4.4.0-1-amd64, archname=x86_64-linux-thread-multi
uname='linux amelia 4.4.0-1-amd64 #1 smp debian 4.4.6-1 (2016-03-17) x86_64 gnulinux '
config_args='-de -Dprefix=/home/njh/perl5/perlbrew/perls/perl-5.24.0 -Duseithreads -Dusemultiplicity -Dusedevel -Accflags= -Aeval:scriptdir=/home/njh/perl5/perlbrew/perls/perl-5.24.0/bin'
hint=recommended, useposix=true, d_sigaction=define
useithreads=define, usemultiplicity=define
use64bitint=define, use64bitall=define, uselongdouble=undef
usemymalloc=n, bincompat5005=undef
Compiler:
cc='cc', ccflags ='-D_REENTRANT -D_GNU_SOURCE -fwrapv -fno-strict-aliasing -pipe -fstack-protector-strong -I/usr/local/include -D_LARGEFILE_SOURCE -D_FILE_OFFSET_BITS=64 -D_FORTIFY_SOURCE=2',
optimize='-O2',
cppflags='-D_REENTRANT -D_GNU_SOURCE -fwrapv -fno-strict-aliasing -pipe -fstack-protector-strong -I/usr/local/include'
ccversion='', gccversion='5.3.1 20160429', gccosandvers=''
intsize=4, longsize=8, ptrsize=8, doublesize=8, byteorder=12345678, doublekind=3
d_longlong=define, longlongsize=8, d_longdbl=define, longdblsize=16, longdblkind=3
ivtype='long', ivsize=8, nvtype='double', nvsize=8, Off_t='off_t', lseeksize=8
alignbytes=8, prototype=define
Linker and Libraries:
ld='cc', ldflags =' -fstack-protector-strong -L/usr/local/lib'
libpth=/usr/local/lib /usr/lib/gcc/x86_64-linux-gnu/5/include-fixed /usr/include/x86_64-linux-gnu /usr/lib /lib/x86_64-linux-gnu /lib/../lib /usr/lib/x86_64-linux-gnu /usr/lib/../lib /lib
libs=-lpthread -lnsl -lgdbm -ldb -ldl -lm -lcrypt -lutil -lc -lgdbm_compat
perllibs=-lpthread -lnsl -ldl -lm -lcrypt -lutil -lc
libc=libc-2.22.so, so=so, useshrplib=false, libperl=libperl.a
gnulibc_version='2.22'
Dynamic Linking:
dlsrc=dl_dlopen.xs, dlext=so, d_dlsymun=undef, ccdlflags='-Wl,-E'
cccdlflags='-fPIC', lddlflags='-shared -O2 -L/usr/local/lib -fstack-protector-strong'
Characteristics of this binary (from libperl):
Compile-time options: HAS_TIMES MULTIPLICITY PERLIO_LAYERS
PERL_COPY_ON_WRITE PERL_DONT_CREATE_GVSV
PERL_HASH_FUNC_ONE_AT_A_TIME_HARD
PERL_IMPLICIT_CONTEXT PERL_MALLOC_WRAP
PERL_PRESERVE_IVUV PERL_USE_DEVEL USE_64_BIT_ALL
USE_64_BIT_INT USE_ITHREADS USE_LARGE_FILES
USE_LOCALE USE_LOCALE_COLLATE USE_LOCALE_CTYPE
USE_LOCALE_NUMERIC USE_LOCALE_TIME USE_PERLIO
USE_PERL_ATOF USE_REENTRANT_API
Built under linux
Compiled at May 11 2016 00:33:19
%ENV:
PERL5LIB="/tmp/user/1000/build/Params-ValidationCompiler-0.31-0/blib/arch:/tmp/user/1000/build/Params-ValidationCompiler-0.31-0/blib/lib:/tmp/user/1000/build/DateTime-TimeZone-2.65-0/blib/arch:/tmp/user/1000/build/DateTime-TimeZone-2.65-0/blib/lib:/tmp/user/1000/build/Date-Range-1.41-0/blib/arch:/tmp/user/1000/build/Date-Range-1.41-0/blib/lib:/tmp/user/1000/build/Date-Simple-3.03-0/blib/arch:/tmp/user/1000/build/Date-Simple-3.03-0/blib/lib"
PERL5OPT=""
PERL5_CPANPLUS_IS_RUNNING="1703273"
PERL5_CPAN_IS_RUNNING="1703273"
PERL5_CPAN_IS_RUNNING_IN_RECURSION="1703263,1703273"
PERLBREW_LIB=""
PERLBREW_MANPATH="/home/njh/perl5/perlbrew/perls/perl-5.24.0/man"
PERLBREW_PATH="/home/njh/perl5/perlbrew/bin:/home/njh/perl5/perlbrew/perls/perl-5.24.0/bin"
PERLBREW_PERL="perl-5.24.0"
PERLBREW_ROOT="/home/njh/perl5/perlbrew"
PERLBREW_SHELLRC_VERSION="1.02"
PERLBREW_VERSION="1.02"
PERL_LOCAL_LIB_ROOT=""
PERL_MM_USE_DEFAULT="1"
PERL_USE_UNSAFE_INC="1"
@INC:
/tmp/user/1000/build/Params-ValidationCompiler-0.31-0/blib/arch
/tmp/user/1000/build/Params-ValidationCompiler-0.31-0/blib/lib
/tmp/user/1000/build/DateTime-TimeZone-2.65-0/blib/arch
/tmp/user/1000/build/DateTime-TimeZone-2.65-0/blib/lib
/tmp/user/1000/build/Date-Range-1.41-0/blib/arch
/tmp/user/1000/build/Date-Range-1.41-0/blib/lib
/tmp/user/1000/build/Date-Simple-3.03-0/blib/arch
/tmp/user/1000/build/Date-Simple-3.03-0/blib/lib
/home/njh/perl5/perlbrew/perls/perl-5.24.0/lib/site_perl/5.24.0/x86_64-linux-thread-multi
/home/njh/perl5/perlbrew/perls/perl-5.24.0/lib/site_perl/5.24.0
/home/njh/perl5/perlbrew/perls/perl-5.24.0/lib/5.24.0/x86_64-linux-thread-multi
/home/njh/perl5/perlbrew/perls/perl-5.24.0/lib/5.24.0
.