Spreadsheet-Reader-ExcelXML vv0.16.8 Perl 5 v5.38.0 x86_64-linux-thread-multi-ld

Status
Pass
From
Andreas J. König (ANDK)
Dist
Spreadsheet-Reader-ExcelXML vv0.16.8
Platform
Perl 5 v5.38.0 x86_64-linux-thread-multi-ld
Date
2023-07-13 11:51:43
ID
a3021426-2173-11ee-810f-ec5ebc55a4cc
This distribution has been tested as part of the CPAN Testers
project, supporting the Perl programming language.  See
http://wiki.cpantesters.org/ for more information or email
questions to cpan-testers-discuss@perl.org


--
Dear Jed Lund,

This is a computer-generated report for Spreadsheet-Reader-ExcelXML-v0.16.8
on perl 5.38.0, created by CPAN-Reporter-1.2019.

Thank you for uploading your work to CPAN.  Congratulations!
All tests were successful.

Sections of this report:

    * Tester comments
    * Program output
    * Prerequisites
    * Environment and other context

------------------------------
TESTER COMMENTS
------------------------------

Additional comments from tester:

this report is from an automated smoke testing program
and was not reviewed by a human for accuracy

------------------------------
PROGRAM OUTPUT
------------------------------

Output from '/usr/bin/make test':

PERL_DL_NONLAZY=1 "/tmp/basesmoker-reloperl-wLAq/bin/perl" "-MExtUtils::Command::MM" "-MTest::Harness" "-e" "undef *Test::Harness::Switches; test_harness(0, 'blib/lib', 'blib/arch')" t/Spreadsheet/Reader/*.t t/Spreadsheet/Reader/ExcelXML/*.t t/Spreadsheet/Reader/ExcelXML/XMLReader/*.t t/Spreadsheet/Reader/ExcelXML/ZipReader/*.t t/github_issues/*.t
t/github_issues/006-synopsis_use.t .................................... ok
t/github_issues/007-bad_shared_strings.t .............................. ok
t/github_issues/008-unknown_xml_cell_type.t ........................... ok
t/Spreadsheet/Reader/01-excelxml.t .................................... ok
t/Spreadsheet/Reader/02-open_by_worksheet.t ........................... ok
t/Spreadsheet/Reader/03-temp_dir.t .................................... ok
t/Spreadsheet/Reader/04-no_pivot.t .................................... ok
t/Spreadsheet/Reader/05-chart.t ....................................... ok
t/Spreadsheet/Reader/06-stacked_flags.t ............................... ok
t/Spreadsheet/Reader/07-losing_is_hidden.t ............................ ok
t/Spreadsheet/Reader/08-open_spreadsheet_ml_files.t ................... ok
t/Spreadsheet/Reader/09-open_MySQL_data.t ............................. ok
t/Spreadsheet/Reader/10-shared_strings.t .............................. ok
t/Spreadsheet/Reader/11-percent_file.t ................................ ok
t/Spreadsheet/Reader/12-merge_function_alignment.t .................... ok
t/Spreadsheet/Reader/13-hidden_formatting.t ........................... ok
t/Spreadsheet/Reader/14-read_xlsm_feature.t ........................... ok
t/Spreadsheet/Reader/ExcelXML/01-types.t .............................. ok
t/Spreadsheet/Reader/ExcelXML/02-error.t .............................. ok
t/Spreadsheet/Reader/ExcelXML/04-xml_reader.t ......................... ok
t/Spreadsheet/Reader/ExcelXML/05-cell_to_column_row.t ................. ok
t/Spreadsheet/Reader/ExcelXML/06-sharedstrings_interface.t ............ ok
t/Spreadsheet/Reader/ExcelXML/07-styles_interface.t ................... ok
t/Spreadsheet/Reader/ExcelXML/08-cell.t ............................... ok
t/Spreadsheet/Reader/ExcelXML/09-worksheet_to_row.t ................... ok
t/Spreadsheet/Reader/ExcelXML/10-worksheet.t .......................... ok
t/Spreadsheet/Reader/ExcelXML/11-zip_reader.t ......................... ok
t/Spreadsheet/Reader/ExcelXML/12-workbook_file_interface.t ............ ok
t/Spreadsheet/Reader/ExcelXML/13-workbook_integration.t ............... ok
t/Spreadsheet/Reader/ExcelXML/14-empty_sharedstrings.t ................ ok
t/Spreadsheet/Reader/ExcelXML/15-text_in_worksheet.t .................. ok
t/Spreadsheet/Reader/ExcelXML/16-quote_in_style_line.t ................ ok
t/Spreadsheet/Reader/ExcelXML/17-dxfId_handling.t ..................... ok
t/Spreadsheet/Reader/ExcelXML/XMLReader/01-position_shared_strings.t .. ok
t/Spreadsheet/Reader/ExcelXML/XMLReader/02-named_shared_strings.t ..... ok
t/Spreadsheet/Reader/ExcelXML/XMLReader/03-position_styles.t .......... ok
t/Spreadsheet/Reader/ExcelXML/XMLReader/04-named_styles.t ............. ok
t/Spreadsheet/Reader/ExcelXML/XMLReader/05-file_worksheet.t ........... ok
t/Spreadsheet/Reader/ExcelXML/XMLReader/06-named_worksheet.t .......... ok
t/Spreadsheet/Reader/ExcelXML/XMLReader/07-xml_workbook_meta.t ........ ok
t/Spreadsheet/Reader/ExcelXML/XMLReader/08-xml_workbook_rels.t ........ ok
t/Spreadsheet/Reader/ExcelXML/XMLReader/09-xml_workbook_props.t ....... ok
t/Spreadsheet/Reader/ExcelXML/ZipReader/01-zip_workbook_meta.t ........ ok
t/Spreadsheet/Reader/ExcelXML/ZipReader/02-zip_workbook_rels.t ........ ok
t/Spreadsheet/Reader/ExcelXML/ZipReader/03-zip_workbook_props.t ....... ok
All tests successful.
Files=45, Tests=2769, 51 wallclock secs ( 0.85 usr  0.07 sys + 47.06 cusr  2.99 csys = 50.97 CPU)
Result: PASS

------------------------------
PREREQUISITES
------------------------------

Prerequisite modules loaded:

requires:

    Module                                               Need       Have      
    ---------------------------------------------------- ---------- ----------
    Archive::Zip                                         1.30       1.68      
    Capture::Tiny                                        0          0.48      
    Carp                                                 0          1.54      
    Clone                                                0          0.46      
    Data::Dumper                                         0          2.188     
    DateTime::Format::Flexible                           0          0.34      
    DateTimeX::Format::Excel                             0          v0.14.0   
    Encode                                               0          3.19      
    FileHandle                                           0          2.05      
    IO::File                                             0          1.52      
    IO::Handle                                           1.25       1.52      
    lib                                                  0          0.65      
    Modern::Perl                                         1.20150127 1.20230106
    Moose                                                0          2.2203    
    Moose::Role                                          0          2.2203    
    MooseX::HasDefaults::RO                              0          0         
    MooseX::ShortCut::BuildInstance                      1.040      v1.44.2   
    MooseX::StrictConstructor                            0          0.21      
    perl                                                 5.010      5.038000  
    Spreadsheet::Reader::Format                          v0.6.4     v0.6.5    
    Spreadsheet::Reader::Format::FmtDefault              0          v0.6.4    
    Spreadsheet::Reader::Format::ParseExcelFormatStrings 0          v0.6.4    
    strict                                               0          1.12      
    Test::Moose                                          2.1801     2.2203    
    Type::Library                                        1.000      2.004000  
    Type::Utils                                          0          2.004000  
    Types::Standard                                      0          2.004000  
    version                                              0.77       0.9929    
    warnings                                             0          1.65      

build_requires:

    Module                                               Need       Have      
    ---------------------------------------------------- ---------- ----------
    ExtUtils::MakeMaker                                  0          7.70      
    File::Copy                                           0          2.41      
    File::Temp                                           0          0.2311    
    Log::Shiras::Unhide                                  0          v0.48.0   
    Spreadsheet::ParseExcel                              0          0.65      
    Test::Deep                                           0          1.204     
    Test::Moose                                          2.1801     2.2203    
    Test::Most                                           0          0.38      
    Test::TypeTiny                                       0          2.004000  

configure_requires:

    Module                                               Need       Have      
    ---------------------------------------------------- ---------- ----------
    ExtUtils::MakeMaker                                  7.04       7.70      


------------------------------
ENVIRONMENT AND OTHER CONTEXT
------------------------------

Environment variables:

    AUTOMATED_TESTING = 1
    LANG = en_US.UTF-8
    PATH = /home/sand/bin:/usr/local/bin:/usr/local/sbin:/usr/sbin:/usr/bin:/sbin:/bin:/usr/games:/usr/local/games:/snap/bin:/usr/local/perl/bin:/usr/X11/bin
    PERL = /tmp/basesmoker-reloperl-wLAq/bin/perl
    PERL5LIB = /tmp/loop_over_bdir-2149217-TFgYXV/App-rmcd-0.280-0/blib/arch:/tmp/loop_over_bdir-2149217-TFgYXV/App-rmcd-0.280-0/blib/lib:/tmp/loop_over_bdir-2149217-TFgYXV/Sysync-0.35-0/blib/arch:/tmp/loop_over_bdir-2149217-TFgYXV/Sysync-0.35-0/blib/lib
    PERL5OPT = 
    PERL5_CPANPLUS_IS_RUNNING = 2149225
    PERL5_CPAN_IS_RUNNING = 2149225
    PERL_CANARY_STABILITY_NOPROMPT = 1
    PERL_MM_USE_DEFAULT = 1
    PERL_USE_UNSAFE_INC = 1
    SHELL = /usr/bin/zsh
    TERM = screen

Perl special variables (and OS-specific diagnostics, for MSWin32):

    $^X = /tmp/basesmoker-reloperl-wLAq/bin/perl
    $UID/$EUID = 1005 / 1005
    $GID = 1005 1005
    $EGID = 1005 1005

Perl module toolchain versions installed:

    Module              Have    
    ------------------- --------
    CPAN                2.36    
    CPAN::Meta          2.150010
    Cwd                 3.89    
    ExtUtils::CBuilder  0.280238
    ExtUtils::Command   7.70    
    ExtUtils::Install   2.22    
    ExtUtils::MakeMaker 7.70    
    ExtUtils::Manifest  1.73    
    ExtUtils::ParseXS   3.51    
    File::Spec          3.88    
    JSON                4.10    
    JSON::PP            4.16    
    Module::Build       0.4234  
    Module::Signature   0.88    
    Parse::CPAN::Meta   2.150010
    Test2               1.302195
    Test::Harness       3.44    
    Test::More          1.302195
    YAML                1.30    
    YAML::Syck          1.34    
    version             0.9929  


--

Summary of my perl5 (revision 5 version 38 subversion 0) configuration:
  Commit id: 76298ae68aa7796f0ffc05095b127d23f4b2de8f
  Platform:
    osname=linux
    osvers=5.4.0-153-generic
    archname=x86_64-linux-thread-multi-ld
    uname='linux k93focal 5.4.0-153-generic #170-ubuntu smp fri jun 16 13:43:31 utc 2023 x86_64 x86_64 x86_64 gnulinux '
    config_args='-Dprefix=/home/sand/src/perl/repoperls/installed-perls/host/k93focal/v5.38.0/e463 -Dmyhostname=k93focal -Dinstallusrbinperl=n -Uversiononly -Dusedevel -des -Ui_db -Dlibswanted=cl pthread socket inet nsl gdbm dbm malloc dl ld sun m crypt sec util c cposix posix ucb BSD gdbm_compat -Duseithreads -Duselongdouble -DEBUGGING=both'
    hint=recommended
    useposix=true
    d_sigaction=define
    useithreads=define
    usemultiplicity=define
    use64bitint=define
    use64bitall=define
    uselongdouble=define
    usemymalloc=n
    default_inc_excludes_dot=define
  Compiler:
    cc='cc'
    ccflags ='-D_REENTRANT -D_GNU_SOURCE -fwrapv -DDEBUGGING -fno-strict-aliasing -pipe -fstack-protector-strong -I/usr/local/include -D_LARGEFILE_SOURCE -D_FILE_OFFSET_BITS=64'
    optimize='-O2 -g'
    cppflags='-D_REENTRANT -D_GNU_SOURCE -fwrapv -DDEBUGGING -fno-strict-aliasing -pipe -fstack-protector-strong -I/usr/local/include'
    ccversion=''
    gccversion='9.4.0'
    gccosandvers=''
    intsize=4
    longsize=8
    ptrsize=8
    doublesize=8
    byteorder=12345678
    doublekind=3
    d_longlong=define
    longlongsize=8
    d_longdbl=define
    longdblsize=16
    longdblkind=3
    ivtype='long'
    ivsize=8
    nvtype='long double'
    nvsize=16
    Off_t='off_t'
    lseeksize=8
    alignbytes=16
    prototype=define
  Linker and Libraries:
    ld='cc'
    ldflags =' -fstack-protector-strong -L/usr/local/lib'
    libpth=/usr/local/lib /usr/lib/x86_64-linux-gnu /usr/lib /usr/lib64
    libs=-lpthread -lnsl -ldl -lm -lcrypt -lutil -lc
    perllibs=-lpthread -lnsl -ldl -lm -lcrypt -lutil -lc
    libc=libc-2.31.so
    so=so
    useshrplib=false
    libperl=libperl.a
    gnulibc_version='2.31'
  Dynamic Linking:
    dlsrc=dl_dlopen.xs
    dlext=so
    d_dlsymun=undef
    ccdlflags='-Wl,-E'
    cccdlflags='-fPIC'
    lddlflags='-shared -O2 -g -L/usr/local/lib -fstack-protector-strong'


Characteristics of this binary (from libperl): 
  Compile-time options:
    DEBUGGING
    HAS_LONG_DOUBLE
    HAS_STRTOLD
    HAS_TIMES
    MULTIPLICITY
    PERLIO_LAYERS
    PERL_COPY_ON_WRITE
    PERL_DONT_CREATE_GVSV
    PERL_HASH_FUNC_SIPHASH13
    PERL_HASH_USE_SBOX32
    PERL_MALLOC_WRAP
    PERL_OP_PARENT
    PERL_PRESERVE_IVUV
    PERL_TRACK_MEMPOOL
    PERL_USE_DEVEL
    PERL_USE_SAFE_PUTENV
    USE_64_BIT_ALL
    USE_64_BIT_INT
    USE_ITHREADS
    USE_LARGE_FILES
    USE_LOCALE
    USE_LOCALE_COLLATE
    USE_LOCALE_CTYPE
    USE_LOCALE_NUMERIC
    USE_LOCALE_TIME
    USE_LONG_DOUBLE
    USE_PERLIO
    USE_PERL_ATOF
    USE_REENTRANT_API
    USE_THREAD_SAFE_LOCALE
  Built under linux
  Compiled at Jul 12 2023 05:55:00
  %ENV:
    PERL="/tmp/basesmoker-reloperl-wLAq/bin/perl"
    PERL5LIB="/tmp/loop_over_bdir-2149217-TFgYXV/App-rmcd-0.280-0/blib/arch:/tmp/loop_over_bdir-2149217-TFgYXV/App-rmcd-0.280-0/blib/lib:/tmp/loop_over_bdir-2149217-TFgYXV/Sysync-0.35-0/blib/arch:/tmp/loop_over_bdir-2149217-TFgYXV/Sysync-0.35-0/blib/lib"
    PERL5OPT=""
    PERL5_CPANPLUS_IS_RUNNING="2149225"
    PERL5_CPAN_IS_RUNNING="2149225"
    PERL_CANARY_STABILITY_NOPROMPT="1"
    PERL_MM_USE_DEFAULT="1"
    PERL_USE_UNSAFE_INC="1"
  @INC:
    /tmp/loop_over_bdir-2149217-TFgYXV/App-rmcd-0.280-0/blib/arch
    /tmp/loop_over_bdir-2149217-TFgYXV/App-rmcd-0.280-0/blib/lib
    /tmp/loop_over_bdir-2149217-TFgYXV/Sysync-0.35-0/blib/arch
    /tmp/loop_over_bdir-2149217-TFgYXV/Sysync-0.35-0/blib/lib
    /home/sand/src/perl/repoperls/installed-perls/host/k93focal/v5.38.0/e463/lib/site_perl/5.38.0/x86_64-linux-thread-multi-ld
    /home/sand/src/perl/repoperls/installed-perls/host/k93focal/v5.38.0/e463/lib/site_perl/5.38.0
    /home/sand/src/perl/repoperls/installed-perls/host/k93focal/v5.38.0/e463/lib/5.38.0/x86_64-linux-thread-multi-ld
    /home/sand/src/perl/repoperls/installed-perls/host/k93focal/v5.38.0/e463/lib/5.38.0
    .