PostScript-Report v0.13 Perl 5 v5.31.3 x86_64-linux-ld

Status
Pass
From
Andreas J. König (ANDK)
Dist
PostScript-Report v0.13
Platform
Perl 5 v5.31.3 x86_64-linux-ld
Date
2019-07-25 15:12:37
ID
a2edb04a-aeee-11e9-ae06-9e638f0bdb8d
This distribution has been tested as part of the CPAN Testers
project, supporting the Perl programming language.  See
http://wiki.cpantesters.org/ for more information or email
questions to cpan-testers-discuss@perl.org


--
Dear Christopher J. Madsen,

This is a computer-generated report for PostScript-Report-0.13
on perl 5.31.3, created by CPAN-Reporter-1.2018.

Thank you for uploading your work to CPAN.  Congratulations!
All tests were successful.

Sections of this report:

    * Tester comments
    * Program output
    * Prerequisites
    * Environment and other context

------------------------------
TESTER COMMENTS
------------------------------

Additional comments from tester:

this report is from an automated smoke testing program
and was not reviewed by a human for accuracy

------------------------------
PROGRAM OUTPUT
------------------------------

Output from '/usr/bin/make test':

PERL_DL_NONLAZY=1 "/tmp/basesmoker-reloperl-qh_9/bin/perl" "-MExtUtils::Command::MM" "-MTest::Harness" "-e" "undef *Test::Harness::Switches; test_harness(0, 'blib/lib', 'blib/arch')" t/*.t
# Listing %INC
#                                                         B 1.76
#                                      B::Hooks::EndOfScope 0.24
#                                  B::Hooks::EndOfScope::XS 0.24
#                                                      Carp 1.50
#                                                Carp::Clan 6.07
#                                               Class::Load 0.25
#                                           Class::Load::XS 0.10
#                                                Class::MOP 2.2011
#                                     Class::MOP::Attribute 2.2011
#                                         Class::MOP::Class 2.2011
#           Class::MOP::Class::Immutable::Class::MOP::Class undef
#          Class::MOP::Class::Immutable::Moose::Meta::Class undef
#                       Class::MOP::Class::Immutable::Trait 2.2011
#                                    Class::MOP::Deprecated 2.2011
#                                      Class::MOP::Instance 2.2011
#                                        Class::MOP::Method 2.2011
#                              Class::MOP::Method::Accessor 2.2011
#                           Class::MOP::Method::Constructor 2.2011
#                             Class::MOP::Method::Generated 2.2011
#                               Class::MOP::Method::Inlined 2.2011
#                                  Class::MOP::Method::Meta 2.2011
#                               Class::MOP::Method::Wrapped 2.2011
#                                     Class::MOP::MiniTrait 2.2011
#                                         Class::MOP::Mixin 2.2011
#                          Class::MOP::Mixin::AttributeCore 2.2011
#                          Class::MOP::Mixin::HasAttributes 2.2011
#                             Class::MOP::Mixin::HasMethods 2.2011
#                           Class::MOP::Mixin::HasOverloads 2.2011
#                                        Class::MOP::Module 2.2011
#                                        Class::MOP::Object 2.2011
#                                      Class::MOP::Overload 2.2011
#                                       Class::MOP::Package 2.2011
#                                                    Config 5.031003
#                                                       Cwd 3.78
#                                             Data::OptList 0.110
#                                  Devel::GlobalDestruction 0.14
#                                       Devel::OverloadInfo 0.005
#                                                DynaLoader 1.45
#                                             Eval::Closure 0.14
#                                                  Exporter 5.74
#                                                File::Spec 3.78
#                                          File::Spec::Unix 3.78
#                                                List::Util 1.5
#                                               MRO::Compat 0.13
#                                    Module::Implementation 0.09
#                                           Module::Runtime 0.016
#                                                     Moose 2.2011
#                                         Moose::Deprecated 2.2011
#                                           Moose::Exporter 2.2011
#                                    Moose::Meta::Attribute 2.2011
#                            Moose::Meta::Attribute::Native 2.2011
#                                        Moose::Meta::Class 2.2011
#                      Moose::Meta::Class::Immutable::Trait 2.2011
#                   Moose::Meta::Class::__ANON__::SERIAL::1 undef
#                   Moose::Meta::Class::__ANON__::SERIAL::2 undef
#                   Moose::Meta::Class::__ANON__::SERIAL::3 undef
#                                     Moose::Meta::Instance 2.2011
#                                       Moose::Meta::Method 2.2011
#                             Moose::Meta::Method::Accessor 2.2011
#                            Moose::Meta::Method::Augmented 2.2011
#                          Moose::Meta::Method::Constructor 2.2011
#                           Moose::Meta::Method::Delegation 2.2011
#                           Moose::Meta::Method::Destructor 2.2011
#                                 Moose::Meta::Method::Meta 2.2011
#                           Moose::Meta::Method::Overridden 2.2011
#                         Moose::Meta::Mixin::AttributeCore 2.2011
#                                Moose::Meta::Object::Trait 2.2011
#                                         Moose::Meta::Role 2.2011
#                            Moose::Meta::Role::Application 2.2011
#             Moose::Meta::Role::Application::RoleSummation 2.2011
#                   Moose::Meta::Role::Application::ToClass 2.2011
#                Moose::Meta::Role::Application::ToInstance 2.2011
#                    Moose::Meta::Role::Application::ToRole 2.2011
#                              Moose::Meta::Role::Attribute 2.2011
#                              Moose::Meta::Role::Composite 2.2011
#                                 Moose::Meta::Role::Method 2.2011
#                    Moose::Meta::Role::Method::Conflicting 2.2011
#                       Moose::Meta::Role::Method::Required 2.2011
#                                 Moose::Meta::TypeCoercion 2.2011
#                          Moose::Meta::TypeCoercion::Union 2.2011
#                               Moose::Meta::TypeConstraint 2.2011
#                        Moose::Meta::TypeConstraint::Class 2.2011
#                     Moose::Meta::TypeConstraint::DuckType 2.2011
#                         Moose::Meta::TypeConstraint::Enum 2.2011
#              Moose::Meta::TypeConstraint::Parameterizable 2.2011
#                Moose::Meta::TypeConstraint::Parameterized 2.2011
#                     Moose::Meta::TypeConstraint::Registry 2.2011
#                         Moose::Meta::TypeConstraint::Role 2.2011
#                        Moose::Meta::TypeConstraint::Union 2.2011
#                                             Moose::Object 2.2011
#                                               Moose::Role 2.2011
#                                               Moose::Util 2.2011
#                                     Moose::Util::MetaRole 2.2011
#                              Moose::Util::TypeConstraints 2.2011
#                    Moose::Util::TypeConstraints::Builtins 2.2011
#                                     MooseX::AttributeTree 0.06
#                           MooseX::AttributeTree::Accessor 0.06
#                               MooseX::Role::Parameterized 1.11
#    MooseX::Role::Parameterized::Meta::Role::Parameterized 1.11
# MooseX::Role::Parameterized::Meta::Trait::Parameterizable 1.11
#   MooseX::Role::Parameterized::Meta::Trait::Parameterized 1.11
#                   MooseX::Role::Parameterized::Parameters 1.11
#                                             MooseX::Types 0.50
#                                       MooseX::Types::Base 0.50
#                         MooseX::Types::CheckedUtilExports 0.50
#                                      MooseX::Types::Moose 0.50
#                              MooseX::Types::TypeDecorator 0.50
#                              MooseX::Types::UndefinedType 0.50
#                                       MooseX::Types::Util 0.50
#                               Package::DeprecationManager 0.17
#                                            Package::Stash 0.38
#                                        Package::Stash::XS 0.29
#                                              Params::Util 1.07
#                                          PostScript::File 2.23
#                                              Scalar::Util 1.5
#                                     String::RewritePrefix 0.007
#                                             Sub::Exporter 0.987
#                                 Sub::Exporter::ForMethods 0.100052
#                                Sub::Exporter::Progressive 0.001013
#                                             Sub::Identify 0.14
#                                              Sub::Install 0.928
#                                                 Sub::Name 0.21
#                                                 Sub::Util 1.5
#                                                 Try::Tiny 0.30
#                                           Variable::Magic 0.62
#                                                  XSLoader 0.30
#                                                      base 2.27
#                                                  constant 1.33
#                                                        if 0.0608
#                                                 metaclass 2.2011
#                                                       mro 1.22
#                                      namespace::autoclean 0.28
#                                          namespace::clean 0.27
#                                   namespace::clean::_Util undef
#                                                  overload 1.31
#                                               overloading 0.02
#                                                    parent 0.237
#                                                        re 0.37
#                                                    strict 1.11
#                                                      vars 1.05
#                                                  warnings 1.45
#                                        warnings::register 1.04
t/00-all_prereqs.t .. ok
# Testing PostScript::Report 0.13
t/00-load.t ......... ok
t/10-structure.t .... ok
t/20-warnings.t ..... ok
t/30-output.t ....... ok
t/40-linkparser.t ... ok
All tests successful.
Files=6, Tests=89, 12 wallclock secs ( 0.03 usr  0.09 sys +  3.05 cusr  0.93 csys =  4.10 CPU)
Result: PASS

------------------------------
PREREQUISITES
------------------------------

Prerequisite modules loaded:

requires:

    Module                Need  Have    
    --------------------- ----- --------
    Carp                  0     1.50    
    File::Spec            0     3.78    
    List::Util            0     1.50    
    Module::Runtime       0     0.016   
    Moose                 0.90  2.2011  
    Moose::Role           0     2.2011  
    MooseX::AttributeTree 0.02  0.06    
    MooseX::Types         0     0.50    
    MooseX::Types::Moose  0     0.50    
    namespace::autoclean  0     0.28    
    PostScript::File      2.20  2.23    
    Scalar::Util          0     1.50    
    String::RewritePrefix 0     0.007   

build_requires:

    Module                Need  Have    
    --------------------- ----- --------
    Encode                0     3.01    
    Test::More            0.88  1.302164

configure_requires:

    Module                Need  Have    
    --------------------- ----- --------
    ExtUtils::MakeMaker   6.30  7.36    
    Moose                 0     2.2011  
    MooseX::Types         0     0.50    
    perl                  5.008 5.031003
    version               0.77  0.9924  


------------------------------
ENVIRONMENT AND OTHER CONTEXT
------------------------------

Environment variables:

    AUTOMATED_TESTING = 1
    LANG = en_US.UTF-8
    PATH = /home/sand/bin:/usr/local/bin:/usr/bin:/bin:/usr/games:/usr/local/perl/bin:/usr/X11/bin:/sbin:/usr/sbin
    PERL5LIB = /home/sand/.cpan/privbuild/k93msid/Test-Usage-0.08-1/blib/arch:/home/sand/.cpan/privbuild/k93msid/Test-Usage-0.08-1/blib/lib:/home/sand/.cpan/privbuild/k93msid/Return-Value-1.666005-6/blib/arch:/home/sand/.cpan/privbuild/k93msid/Return-Value-1.666005-6/blib/lib:/home/sand/.cpan/privbuild/k93msid/Test-Lib-0.002-2/blib/arch:/home/sand/.cpan/privbuild/k93msid/Test-Lib-0.002-2/blib/lib:/home/sand/.cpan/privbuild/k93msid/Test-Device-SerialPort-0.05-2/blib/arch:/home/sand/.cpan/privbuild/k93msid/Test-Device-SerialPort-0.05-2/blib/lib:/home/sand/.cpan/privbuild/k93msid/latest-0.03-0/blib/arch:/home/sand/.cpan/privbuild/k93msid/latest-0.03-0/blib/lib:/home/sand/.cpan/privbuild/k93msid/Test-POE-Client-TCP-1.26-3/blib/arch:/home/sand/.cpan/privbuild/k93msid/Test-POE-Client-TCP-1.26-3/blib/lib:/home/sand/.cpan/privbuild/k93msid/Plack-Middleware-Auth-Digest-0.05-0/blib/arch:/home/sand/.cpan/privbuild/k93msid/Plack-Middleware-Auth-Digest-0.05-0/blib/lib:/home/sand/.cpan/privbuild/k93msid/Test-Expect-0.34-2/blib/arch:/home/sand/.cpan/privbuild/k93msid/Test-Expect-0.34-2/blib/lib:/home/sand/.cpan/privbuild/k93msid/Expect-Simple-0.04-3/blib/arch:/home/sand/.cpan/privbuild/k93msid/Expect-Simple-0.04-3/blib/lib:/home/sand/.cpan/privbuild/k93msid/Test-Command-0.11-5/blib/arch:/home/sand/.cpan/privbuild/k93msid/Test-Command-0.11-5/blib/lib:/home/sand/.cpan/privbuild/k93msid/Module-Build-Pluggable-PPPort-0.04-2/blib/arch:/home/sand/.cpan/privbuild/k93msid/Module-Build-Pluggable-PPPort-0.04-2/blib/lib:/home/sand/.cpan/privbuild/k93msid/Text-TestBase-0.13-3/blib/arch:/home/sand/.cpan/privbuild/k93msid/Text-TestBase-0.13-3/blib/lib:/home/sand/.cpan/privbuild/k93msid/Test-Module-Used-0.2.6-17/blib/arch:/home/sand/.cpan/privbuild/k93msid/Test-Module-Used-0.2.6-17/blib/lib:/home/sand/.cpan/privbuild/k93msid/Module-Used-v1.3.0-17/blib/arch:/home/sand/.cpan/privbuild/k93msid/Module-Used-v1.3.0-17/blib/lib
    PERL5OPT = 
    PERL5_CPANPLUS_IS_RUNNING = 16216
    PERL5_CPAN_IS_RUNNING = 16216
    PERL_CANARY_STABILITY_NOPROMPT = 1
    PERL_MM_USE_DEFAULT = 1
    PERL_USE_UNSAFE_INC = 1
    SHELL = /usr/bin/zsh
    TERM = screen

Perl special variables (and OS-specific diagnostics, for MSWin32):

    $^X = /tmp/basesmoker-reloperl-qh_9/bin/perl
    $UID/$EUID = 1005 / 1005
    $GID = 1005 1005
    $EGID = 1005 1005

Perl module toolchain versions installed:

    Module              Have    
    ------------------- --------
    CPAN                2.27    
    CPAN::Meta          2.150010
    Cwd                 3.78    
    ExtUtils::CBuilder  0.280232
    ExtUtils::Command   7.36    
    ExtUtils::Install   2.14    
    ExtUtils::MakeMaker 7.36    
    ExtUtils::Manifest  1.72    
    ExtUtils::ParseXS   3.40    
    File::Spec          3.78    
    JSON                4.02    
    JSON::PP            4.04    
    Module::Build       0.4229  
    Module::Signature   0.83    
    Parse::CPAN::Meta   2.150010
    Test::Harness       3.42    
    Test::More          1.302164
    YAML                1.29    
    YAML::Syck          1.31    
    version             0.9924  


--

Summary of my perl5 (revision 5 version 31 subversion 3) configuration:
  Derived from: c8abed4aa5f30e504657d68bbf7b480e264f575f
  Platform:
    osname=linux
    osvers=4.18.0-2-amd64
    archname=x86_64-linux-ld
    uname='linux k93msid 4.18.0-2-amd64 #1 smp debian 4.18.10-2 (2018-10-07) x86_64 gnulinux '
    config_args='-Dprefix=/home/sand/src/perl/repoperls/installed-perls/host/k93msid/v5.31.2-31-gc8abed4aa5/af11 -Dmyhostname=k93msid -Dinstallusrbinperl=n -Uversiononly -Dusedevel -des -Ui_db -Dlibswanted=cl pthread socket inet nsl gdbm dbm malloc dl ld sun m crypt sec util c cposix posix ucb BSD gdbm_compat -Uuseithreads -Duselongdouble -DEBUGGING=-g'
    hint=recommended
    useposix=true
    d_sigaction=define
    useithreads=undef
    usemultiplicity=undef
    use64bitint=define
    use64bitall=define
    uselongdouble=define
    usemymalloc=n
    default_inc_excludes_dot=define
    bincompat5005=undef
  Compiler:
    cc='cc'
    ccflags ='-fwrapv -fno-strict-aliasing -pipe -fstack-protector-strong -I/usr/local/include -D_LARGEFILE_SOURCE -D_FILE_OFFSET_BITS=64 -D_FORTIFY_SOURCE=2'
    optimize='-O2 -g'
    cppflags='-fwrapv -fno-strict-aliasing -pipe -fstack-protector-strong -I/usr/local/include'
    ccversion=''
    gccversion='8.2.0'
    gccosandvers=''
    intsize=4
    longsize=8
    ptrsize=8
    doublesize=8
    byteorder=12345678
    doublekind=3
    d_longlong=define
    longlongsize=8
    d_longdbl=define
    longdblsize=16
    longdblkind=3
    ivtype='long'
    ivsize=8
    nvtype='long double'
    nvsize=16
    Off_t='off_t'
    lseeksize=8
    alignbytes=16
    prototype=define
  Linker and Libraries:
    ld='cc'
    ldflags =' -fstack-protector-strong -L/usr/local/lib'
    libpth=/usr/local/lib /usr/lib/gcc/x86_64-linux-gnu/8/include-fixed /usr/include/x86_64-linux-gnu /usr/lib /lib/x86_64-linux-gnu /lib/../lib /usr/lib/x86_64-linux-gnu /usr/lib/../lib /lib
    libs=-lpthread -lnsl -ldl -lm -lcrypt -lutil -lc
    perllibs=-lpthread -lnsl -ldl -lm -lcrypt -lutil -lc
    libc=libc-2.27.so
    so=so
    useshrplib=false
    libperl=libperl.a
    gnulibc_version='2.27'
  Dynamic Linking:
    dlsrc=dl_dlopen.xs
    dlext=so
    d_dlsymun=undef
    ccdlflags='-Wl,-E'
    cccdlflags='-fPIC'
    lddlflags='-shared -O2 -g -L/usr/local/lib -fstack-protector-strong'


Characteristics of this binary (from libperl): 
  Compile-time options:
    HAS_TIMES
    PERLIO_LAYERS
    PERL_COPY_ON_WRITE
    PERL_DONT_CREATE_GVSV
    PERL_MALLOC_WRAP
    PERL_OP_PARENT
    PERL_PRESERVE_IVUV
    PERL_USE_DEVEL
    USE_64_BIT_ALL
    USE_64_BIT_INT
    USE_LARGE_FILES
    USE_LOCALE
    USE_LOCALE_COLLATE
    USE_LOCALE_CTYPE
    USE_LOCALE_NUMERIC
    USE_LOCALE_TIME
    USE_LONG_DOUBLE
    USE_PERLIO
    USE_PERL_ATOF
  Locally applied patches:
    uncommitted-changes
  Built under linux
  Compiled at Jul 23 2019 18:13:15
  %ENV:
    PERL5LIB="/home/sand/.cpan/privbuild/k93msid/Test-Usage-0.08-1/blib/arch:/home/sand/.cpan/privbuild/k93msid/Test-Usage-0.08-1/blib/lib:/home/sand/.cpan/privbuild/k93msid/Return-Value-1.666005-6/blib/arch:/home/sand/.cpan/privbuild/k93msid/Return-Value-1.666005-6/blib/lib:/home/sand/.cpan/privbuild/k93msid/Test-Lib-0.002-2/blib/arch:/home/sand/.cpan/privbuild/k93msid/Test-Lib-0.002-2/blib/lib:/home/sand/.cpan/privbuild/k93msid/Test-Device-SerialPort-0.05-2/blib/arch:/home/sand/.cpan/privbuild/k93msid/Test-Device-SerialPort-0.05-2/blib/lib:/home/sand/.cpan/privbuild/k93msid/latest-0.03-0/blib/arch:/home/sand/.cpan/privbuild/k93msid/latest-0.03-0/blib/lib:/home/sand/.cpan/privbuild/k93msid/Test-POE-Client-TCP-1.26-3/blib/arch:/home/sand/.cpan/privbuild/k93msid/Test-POE-Client-TCP-1.26-3/blib/lib:/home/sand/.cpan/privbuild/k93msid/Plack-Middleware-Auth-Digest-0.05-0/blib/arch:/home/sand/.cpan/privbuild/k93msid/Plack-Middleware-Auth-Digest-0.05-0/blib/lib:/home/sand/.cpan/privbuild/k93msid/Test-Expect-0.34-2/blib/arch:/home/sand/.cpan/privbuild/k93msid/Test-Expect-0.34-2/blib/lib:/home/sand/.cpan/privbuild/k93msid/Expect-Simple-0.04-3/blib/arch:/home/sand/.cpan/privbuild/k93msid/Expect-Simple-0.04-3/blib/lib:/home/sand/.cpan/privbuild/k93msid/Test-Command-0.11-5/blib/arch:/home/sand/.cpan/privbuild/k93msid/Test-Command-0.11-5/blib/lib:/home/sand/.cpan/privbuild/k93msid/Module-Build-Pluggable-PPPort-0.04-2/blib/arch:/home/sand/.cpan/privbuild/k93msid/Module-Build-Pluggable-PPPort-0.04-2/blib/lib:/home/sand/.cpan/privbuild/k93msid/Text-TestBase-0.13-3/blib/arch:/home/sand/.cpan/privbuild/k93msid/Text-TestBase-0.13-3/blib/lib:/home/sand/.cpan/privbuild/k93msid/Test-Module-Used-0.2.6-17/blib/arch:/home/sand/.cpan/privbuild/k93msid/Test-Module-Used-0.2.6-17/blib/lib:/home/sand/.cpan/privbuild/k93msid/Module-Used-v1.3.0-17/blib/arch:/home/sand/.cpan/privbuild/k93msid/Module-Used-v1.3.0-17/blib/lib"
    PERL5OPT=""
    PERL5_CPANPLUS_IS_RUNNING="16216"
    PERL5_CPAN_IS_RUNNING="16216"
    PERL_CANARY_STABILITY_NOPROMPT="1"
    PERL_MM_USE_DEFAULT="1"
    PERL_USE_UNSAFE_INC="1"
  @INC:
    /home/sand/.cpan/privbuild/k93msid/Test-Usage-0.08-1/blib/arch
    /home/sand/.cpan/privbuild/k93msid/Test-Usage-0.08-1/blib/lib
    /home/sand/.cpan/privbuild/k93msid/Return-Value-1.666005-6/blib/arch
    /home/sand/.cpan/privbuild/k93msid/Return-Value-1.666005-6/blib/lib
    /home/sand/.cpan/privbuild/k93msid/Test-Lib-0.002-2/blib/arch
    /home/sand/.cpan/privbuild/k93msid/Test-Lib-0.002-2/blib/lib
    /home/sand/.cpan/privbuild/k93msid/Test-Device-SerialPort-0.05-2/blib/arch
    /home/sand/.cpan/privbuild/k93msid/Test-Device-SerialPort-0.05-2/blib/lib
    /home/sand/.cpan/privbuild/k93msid/latest-0.03-0/blib/arch
    /home/sand/.cpan/privbuild/k93msid/latest-0.03-0/blib/lib
    /home/sand/.cpan/privbuild/k93msid/Test-POE-Client-TCP-1.26-3/blib/arch
    /home/sand/.cpan/privbuild/k93msid/Test-POE-Client-TCP-1.26-3/blib/lib
    /home/sand/.cpan/privbuild/k93msid/Plack-Middleware-Auth-Digest-0.05-0/blib/arch
    /home/sand/.cpan/privbuild/k93msid/Plack-Middleware-Auth-Digest-0.05-0/blib/lib
    /home/sand/.cpan/privbuild/k93msid/Test-Expect-0.34-2/blib/arch
    /home/sand/.cpan/privbuild/k93msid/Test-Expect-0.34-2/blib/lib
    /home/sand/.cpan/privbuild/k93msid/Expect-Simple-0.04-3/blib/arch
    /home/sand/.cpan/privbuild/k93msid/Expect-Simple-0.04-3/blib/lib
    /home/sand/.cpan/privbuild/k93msid/Test-Command-0.11-5/blib/arch
    /home/sand/.cpan/privbuild/k93msid/Test-Command-0.11-5/blib/lib
    /home/sand/.cpan/privbuild/k93msid/Module-Build-Pluggable-PPPort-0.04-2/blib/arch
    /home/sand/.cpan/privbuild/k93msid/Module-Build-Pluggable-PPPort-0.04-2/blib/lib
    /home/sand/.cpan/privbuild/k93msid/Text-TestBase-0.13-3/blib/arch
    /home/sand/.cpan/privbuild/k93msid/Text-TestBase-0.13-3/blib/lib
    /home/sand/.cpan/privbuild/k93msid/Test-Module-Used-0.2.6-17/blib/arch
    /home/sand/.cpan/privbuild/k93msid/Test-Module-Used-0.2.6-17/blib/lib
    /home/sand/.cpan/privbuild/k93msid/Module-Used-v1.3.0-17/blib/arch
    /home/sand/.cpan/privbuild/k93msid/Module-Used-v1.3.0-17/blib/lib
    /home/sand/src/perl/repoperls/installed-perls/host/k93msid/v5.31.2-31-gc8abed4aa5/af11/lib/site_perl/5.31.3/x86_64-linux-ld
    /home/sand/src/perl/repoperls/installed-perls/host/k93msid/v5.31.2-31-gc8abed4aa5/af11/lib/site_perl/5.31.3
    /home/sand/src/perl/repoperls/installed-perls/host/k93msid/v5.31.2-31-gc8abed4aa5/af11/lib/5.31.3/x86_64-linux-ld
    /home/sand/src/perl/repoperls/installed-perls/host/k93msid/v5.31.2-31-gc8abed4aa5/af11/lib/5.31.3
    .