HTML-Zoom-Parser-HTML-Parser v1.130810 Perl 5 v5.39.3 x86_64-linux-thread-multi-ld

Status
Pass
From
Andreas J. König (ANDK)
Dist
HTML-Zoom-Parser-HTML-Parser v1.130810
Platform
Perl 5 v5.39.3 x86_64-linux-thread-multi-ld
Date
2023-10-20 13:21:54
ID
a2dd0f02-6f4b-11ee-a56e-fdb83f3b773f
This distribution has been tested as part of the CPAN Testers
project, supporting the Perl programming language.  See
http://wiki.cpantesters.org/ for more information or email
questions to cpan-testers-discuss@perl.org


--
Dear Matthew Phillips,

This is a computer-generated report for HTML-Zoom-Parser-HTML-Parser-1.130810
on perl 5.39.3, created by CPAN-Reporter-1.2019.

Thank you for uploading your work to CPAN.  Congratulations!
All tests were successful.

Sections of this report:

    * Tester comments
    * Program output
    * Prerequisites
    * Environment and other context

------------------------------
TESTER COMMENTS
------------------------------

Additional comments from tester:

this report is from an automated smoke testing program
and was not reviewed by a human for accuracy

------------------------------
PROGRAM OUTPUT
------------------------------

Output from './Build test':

t/00-compile.t ........................ ok
# 
# 
# perl: v5.39.3 (wanted any version) on linux from /tmp/basesmoker-reloperl-hsKC/bin/perl
# 
# File::Find                                    => 1.43       (want any version)
# File::Temp                                    => 0.2311     (want any version)
# HTML::Entities                                => 3.81       (want any version)
# HTML::TokeParser                              => 3.81       (want any version)
# HTML::Zoom                                    => 0.009009   (want any version)
# HTML::Zoom::CodeStream                        => <undef>    (want any version)
# HTML::Zoom::FilterBuilder                     => <undef>    (want any version)
# HTML::Zoom::FilterStream                      => <undef>    (want any version)
# HTML::Zoom::Producer::BuiltIn                 => <undef>    (want any version)
# HTML::Zoom::SelectorParser                    => <undef>    (want any version)
# HTML::Zoom::SubObject                         => <undef>    (want any version)
# Module::Build                                 => 0.4234     (want 0.3601) 
# Test::More                                    => 1.302195   (want 0.88)   
# Test::Pod                                     => 1.52       (want 1.41)   
# base                                          => 2.27       (want any version)
# strict                                        => 1.13       (want any version)
# strictures                                    => 2.000006   (want 1)      
# warnings                                      => 1.67       (want any version)
# 
# Thanks for using my code.  I hope it works for you.
# If not, please try and include this output in the bug report.
# That will help me reproduce the issue and solve you problem.
# 
t/000-report-versions-tiny.t .......... ok
t/actions.t ........................... ok
t/apply.t ............................. ok
t/balance.t ........................... ok
t/bugs/repeat_replace_on_empty_tag.t .. skipped: TODO test
t/doctype.t ........................... ok
t/dwim-autoload.t ..................... ok
t/flush.t ............................. ok
t/forms.t ............................. ok
t/parser_weirdness.t .................. ok
t/plain_text.t ........................ ok
t/release-has-version.t ............... skipped: these tests are for release candidate testing
t/release-minimum-version.t ........... skipped: these tests are for release candidate testing
t/release-pod-syntax.t ................ skipped: these tests are for release candidate testing
t/release-portability.t ............... skipped: these tests are for release candidate testing
t/repeat_bugfixes.t ................... ok
t/selectors.t ......................... ok
t/span.t .............................. ok
t/synopsis/filterbuilder.t ............ ok
t/synopsis/zoom.t ..................... ok
t/todo-repeat.t ....................... skipped: Totally doesn't work yet
All tests successful.
Files=22, Tests=104,  3 wallclock secs ( 0.09 usr  0.03 sys +  2.09 cusr  0.30 csys =  2.51 CPU)
Result: PASS

------------------------------
PREREQUISITES
------------------------------

Prerequisite modules loaded:

requires:

    Module                        Need   Have    
    ----------------------------- ------ --------
    base                          0      2.27    
    HTML::Entities                0      3.81    
    HTML::TokeParser              0      3.81    
    HTML::Zoom::SubObject         0      0       
    strictures                    1      2.000006

build_requires:

    Module                        Need   Have    
    ----------------------------- ------ --------
    File::Find                    0      1.43    
    File::Temp                    0      0.2311  
    HTML::Zoom                    0      0.009009
    HTML::Zoom::CodeStream        0      0       
    HTML::Zoom::FilterBuilder     0      0       
    HTML::Zoom::FilterStream      0      0       
    HTML::Zoom::Producer::BuiltIn 0      0       
    HTML::Zoom::SelectorParser    0      0       
    Module::Build                 0.3601 0.4234  
    strict                        0      1.13    
    Test::More                    0.88   1.302195
    warnings                      0      1.67    

configure_requires:

    Module                        Need   Have    
    ----------------------------- ------ --------
    Module::Build                 0.3601 0.4234  


------------------------------
ENVIRONMENT AND OTHER CONTEXT
------------------------------

Environment variables:

    AUTOMATED_TESTING = 1
    LANG = en_US.UTF-8
    PATH = /home/sand/bin:/usr/local/bin:/usr/local/sbin:/usr/sbin:/usr/bin:/sbin:/bin:/usr/games:/usr/local/games:/snap/bin:/usr/local/perl/bin:/usr/X11/bin
    PERL = /tmp/basesmoker-reloperl-hsKC/bin/perl
    PERL5LIB = /tmp/loop_over_bdir-2407-e1F9qZ/downsexta-0/blib/arch:/tmp/loop_over_bdir-2407-e1F9qZ/downsexta-0/blib/lib:/tmp/loop_over_bdir-2407-e1F9qZ/Captive-Portal-4.10-0/blib/arch:/tmp/loop_over_bdir-2407-e1F9qZ/Captive-Portal-4.10-0/blib/lib:/tmp/loop_over_bdir-2407-e1F9qZ/EJBCA-CrlPublish-0.60-0/blib/arch:/tmp/loop_over_bdir-2407-e1F9qZ/EJBCA-CrlPublish-0.60-0/blib/lib:/tmp/loop_over_bdir-2407-e1F9qZ/Devel-Required-0.16-0/blib/arch:/tmp/loop_over_bdir-2407-e1F9qZ/Devel-Required-0.16-0/blib/lib
    PERL5OPT = 
    PERL5_CPANPLUS_IS_RUNNING = 2415
    PERL5_CPAN_IS_RUNNING = 2415
    PERL_CANARY_STABILITY_NOPROMPT = 1
    PERL_MM_USE_DEFAULT = 1
    PERL_USE_UNSAFE_INC = 1
    SHELL = /usr/bin/zsh
    TERM = screen

Perl special variables (and OS-specific diagnostics, for MSWin32):

    $^X = /tmp/basesmoker-reloperl-hsKC/bin/perl
    $UID/$EUID = 1005 / 1005
    $GID = 1005 1005
    $EGID = 1005 1005

Perl module toolchain versions installed:

    Module              Have    
    ------------------- --------
    CPAN                2.36    
    CPAN::Meta          2.150010
    Cwd                 3.90    
    ExtUtils::CBuilder  0.280240
    ExtUtils::Command   7.70    
    ExtUtils::Install   2.22    
    ExtUtils::MakeMaker 7.70    
    ExtUtils::Manifest  1.75    
    ExtUtils::ParseXS   3.51    
    File::Spec          3.90    
    JSON                4.10    
    JSON::PP            4.16    
    Module::Build       0.4234  
    Module::Signature   0.88    
    Parse::CPAN::Meta   2.150010
    Test2               1.302195
    Test::Harness       3.47    
    Test::More          1.302195
    YAML                1.30    
    YAML::Syck          1.34    
    version             0.9930  


--

Summary of my perl5 (revision 5 version 39 subversion 3) configuration:
  Commit id: c8a2e4d1432cd1244a4e44d6bb71920b692076b7
  Platform:
    osname=linux
    osvers=5.4.0-162-generic
    archname=x86_64-linux-thread-multi-ld
    uname='linux k93focal 5.4.0-162-generic #179-ubuntu smp mon aug 14 08:51:31 utc 2023 x86_64 x86_64 x86_64 gnulinux '
    config_args='-Dprefix=/home/sand/src/perl/repoperls/installed-perls/host/k93focal/v5.39.3/e463 -Dmyhostname=k93focal -Dinstallusrbinperl=n -Uversiononly -Dusedevel -des -Ui_db -Dlibswanted=cl pthread socket inet nsl gdbm dbm malloc dl ld sun m crypt sec util c cposix posix ucb BSD gdbm_compat -Duseithreads -Duselongdouble -DEBUGGING=both'
    hint=recommended
    useposix=true
    d_sigaction=define
    useithreads=define
    usemultiplicity=define
    use64bitint=define
    use64bitall=define
    uselongdouble=define
    usemymalloc=n
    default_inc_excludes_dot=define
  Compiler:
    cc='cc'
    ccflags ='-D_REENTRANT -D_GNU_SOURCE -fwrapv -DDEBUGGING -fno-strict-aliasing -pipe -fstack-protector-strong -I/usr/local/include -D_LARGEFILE_SOURCE -D_FILE_OFFSET_BITS=64'
    optimize='-O2 -g'
    cppflags='-D_REENTRANT -D_GNU_SOURCE -fwrapv -DDEBUGGING -fno-strict-aliasing -pipe -fstack-protector-strong -I/usr/local/include'
    ccversion=''
    gccversion='9.4.0'
    gccosandvers=''
    intsize=4
    longsize=8
    ptrsize=8
    doublesize=8
    byteorder=12345678
    doublekind=3
    d_longlong=define
    longlongsize=8
    d_longdbl=define
    longdblsize=16
    longdblkind=3
    ivtype='long'
    ivsize=8
    nvtype='long double'
    nvsize=16
    Off_t='off_t'
    lseeksize=8
    alignbytes=16
    prototype=define
  Linker and Libraries:
    ld='cc'
    ldflags =' -fstack-protector-strong -L/usr/local/lib'
    libpth=/usr/local/lib /usr/lib/x86_64-linux-gnu /usr/lib /usr/lib64
    libs=-lpthread -lnsl -ldl -lm -lcrypt -lutil -lc
    perllibs=-lpthread -lnsl -ldl -lm -lcrypt -lutil -lc
    libc=libc-2.31.so
    so=so
    useshrplib=false
    libperl=libperl.a
    gnulibc_version='2.31'
  Dynamic Linking:
    dlsrc=dl_dlopen.xs
    dlext=so
    d_dlsymun=undef
    ccdlflags='-Wl,-E'
    cccdlflags='-fPIC'
    lddlflags='-shared -O2 -g -L/usr/local/lib -fstack-protector-strong'


Characteristics of this binary (from libperl): 
  Compile-time options:
    DEBUGGING
    HAS_LONG_DOUBLE
    HAS_STRTOLD
    HAS_TIMES
    MULTIPLICITY
    PERLIO_LAYERS
    PERL_COPY_ON_WRITE
    PERL_DONT_CREATE_GVSV
    PERL_HASH_FUNC_SIPHASH13
    PERL_HASH_USE_SBOX32
    PERL_MALLOC_WRAP
    PERL_OP_PARENT
    PERL_PRESERVE_IVUV
    PERL_TRACK_MEMPOOL
    PERL_USE_DEVEL
    PERL_USE_SAFE_PUTENV
    USE_64_BIT_ALL
    USE_64_BIT_INT
    USE_ITHREADS
    USE_LARGE_FILES
    USE_LOCALE
    USE_LOCALE_COLLATE
    USE_LOCALE_CTYPE
    USE_LOCALE_NUMERIC
    USE_LOCALE_TIME
    USE_LONG_DOUBLE
    USE_PERLIO
    USE_PERL_ATOF
    USE_REENTRANT_API
    USE_THREAD_SAFE_LOCALE
  Built under linux
  Compiled at Sep 21 2023 06:18:04
  %ENV:
    PERL="/tmp/basesmoker-reloperl-hsKC/bin/perl"
    PERL5LIB="/tmp/loop_over_bdir-2407-e1F9qZ/downsexta-0/blib/arch:/tmp/loop_over_bdir-2407-e1F9qZ/downsexta-0/blib/lib:/tmp/loop_over_bdir-2407-e1F9qZ/Captive-Portal-4.10-0/blib/arch:/tmp/loop_over_bdir-2407-e1F9qZ/Captive-Portal-4.10-0/blib/lib:/tmp/loop_over_bdir-2407-e1F9qZ/EJBCA-CrlPublish-0.60-0/blib/arch:/tmp/loop_over_bdir-2407-e1F9qZ/EJBCA-CrlPublish-0.60-0/blib/lib:/tmp/loop_over_bdir-2407-e1F9qZ/Devel-Required-0.16-0/blib/arch:/tmp/loop_over_bdir-2407-e1F9qZ/Devel-Required-0.16-0/blib/lib"
    PERL5OPT=""
    PERL5_CPANPLUS_IS_RUNNING="2415"
    PERL5_CPAN_IS_RUNNING="2415"
    PERL_CANARY_STABILITY_NOPROMPT="1"
    PERL_MM_USE_DEFAULT="1"
    PERL_USE_UNSAFE_INC="1"
  @INC:
    /tmp/loop_over_bdir-2407-e1F9qZ/downsexta-0/blib/arch
    /tmp/loop_over_bdir-2407-e1F9qZ/downsexta-0/blib/lib
    /tmp/loop_over_bdir-2407-e1F9qZ/Captive-Portal-4.10-0/blib/arch
    /tmp/loop_over_bdir-2407-e1F9qZ/Captive-Portal-4.10-0/blib/lib
    /tmp/loop_over_bdir-2407-e1F9qZ/EJBCA-CrlPublish-0.60-0/blib/arch
    /tmp/loop_over_bdir-2407-e1F9qZ/EJBCA-CrlPublish-0.60-0/blib/lib
    /tmp/loop_over_bdir-2407-e1F9qZ/Devel-Required-0.16-0/blib/arch
    /tmp/loop_over_bdir-2407-e1F9qZ/Devel-Required-0.16-0/blib/lib
    /home/sand/src/perl/repoperls/installed-perls/host/k93focal/v5.39.3/e463/lib/site_perl/5.39.3/x86_64-linux-thread-multi-ld
    /home/sand/src/perl/repoperls/installed-perls/host/k93focal/v5.39.3/e463/lib/site_perl/5.39.3
    /home/sand/src/perl/repoperls/installed-perls/host/k93focal/v5.39.3/e463/lib/5.39.3/x86_64-linux-thread-multi-ld
    /home/sand/src/perl/repoperls/installed-perls/host/k93focal/v5.39.3/e463/lib/5.39.3
    .