Report for Dancer-Plugin-Preprocess-Less-0.021

Back
From: metabase:user:c5d8ed3c-9413-11e3-9500-9628c7c7991c
Subject: PASS Dancer-Plugin-Preprocess-Less-0.021 v5.16.3 FreeBSD
Date: 2014-04-29T00:46:01Z

This distribution has been tested as part of the CPAN Testers
project, supporting the Perl programming language.  See
http://wiki.cpantesters.org/ for more information or email
questions to cpan-testers-discuss@perl.org


--
Dear Michal Wojciechowski,

This is a computer-generated report for Dancer-Plugin-Preprocess-Less-0.021
on perl 5.16.3, created by CPAN-Reporter-1.2006.

Thank you for uploading your work to CPAN.  Congratulations!
All tests were successful.

Sections of this report:

    * Tester comments
    * Program output
    * Prerequisites
    * Environment and other context

------------------------------
TESTER COMMENTS
------------------------------

Additional comments from tester:

this report is from an automated smoke testing program
and was not reviewed by a human for accuracy

------------------------------
PROGRAM OUTPUT
------------------------------

Output from '/usr/bin/make test':

PERL_DL_NONLAZY=1 /usr/local/bin/perl5.16.3 "-MExtUtils::Command::MM" "-e" "test_harness(0, 'blib/lib', 'blib/arch')" t/*.t t/paths/*.t
Can't exec "lessc": No such file or directory at /usr/home/cpan/.cpan/build/Dancer-Plugin-Preprocess-Less-0.021-8ZsZjn/blib/lib/Dancer/Plugin/Preprocess/Less.pm line 33.
t/00-compile.t ......... ok
# 
# Versions for all modules listed in MYMETA.json (including optional ones):
#    Version Module                  
#   -------- ------------------------
#   2.140640 CPAN::Meta              
#      2.125 CPAN::Meta::Requirements
#       0.86 CSS::LESSp              
#       3.40 Cwd                     
#     1.3123 Dancer                  
#      undef Dancer::FileUtils       
#      undef Dancer::Plugin          
#      undef Dancer::Test            
#     6.6302 ExtUtils::MakeMaker     
#       3.40 File::Spec              
#       3.40 File::Spec::Functions   
#     0.2301 File::Temp              
#       1.33 IO::Handle              
#       1.12 IPC::Open3              
#       1.35 List::Util              
#   1.001002 Test::More              
#       1.07 strict                  
#       1.13 warnings                
t/00-report-prereqs.t .. ok
t/parser-missing.t ..... ok
Can't exec "lessc": No such file or directory at /usr/home/cpan/.cpan/build/Dancer-Plugin-Preprocess-Less-0.021-8ZsZjn/lib/Dancer/Plugin/Preprocess/Less.pm line 33.
Use of uninitialized value $_[0] in join or string at /usr/local/lib/perl5/site_perl/5.16/mach/File/Spec/Unix.pm line 86.
t/paths/paths.t ........ ok
All tests successful.
Files=4, Tests=7,  1 wallclock secs ( 0.03 usr  0.02 sys +  0.79 cusr  0.29 csys =  1.12 CPU)
Result: PASS

------------------------------
PREREQUISITES
------------------------------

Prerequisite modules loaded:

requires:

    Module                Need Have    
    --------------------- ---- --------
    CSS::LESSp            0    0.86    
    Cwd                   0    3.40    
    Dancer                0    1.3123  
    Dancer::FileUtils     0    0       
    Dancer::Plugin        0    0       
    Dancer::Test          0    0       
    ExtUtils::MakeMaker   0    6.6302  
    File::Spec            0    3.40    
    File::Spec::Functions 0    3.40    
    File::Temp            0    0.2301  
    IO::Handle            0    1.33    
    IPC::Open3            0    1.12    
    List::Util            0    1.35    
    strict                0    1.07    
    Test::More            0    1.001002
    warnings              0    1.13    

build_requires:

    Module                Need Have    
    --------------------- ---- --------
    ExtUtils::MakeMaker   0    6.6302  

configure_requires:

    Module                Need Have    
    --------------------- ---- --------
    ExtUtils::MakeMaker   6.17 6.6302  


------------------------------
ENVIRONMENT AND OTHER CONTEXT
------------------------------

Environment variables:

    AUTOMATED_TESTING = 1
    PATH = /sbin:/bin:/usr/sbin:/usr/bin:/usr/games:/usr/local/sbin:/usr/local/bin:/root/bin
    PERL5LIB = /home/cpan/.cpan/build/CSS-LESSp-0.86-BFeCQ0/blib/arch:/home/cpan/.cpan/build/CSS-LESSp-0.86-BFeCQ0/blib/lib:/home/cpan/.cpan/build/Dancer-1.3123-uxzT0E/blib/arch:/home/cpan/.cpan/build/Dancer-1.3123-uxzT0E/blib/lib:/home/cpan/.cpan/build/MIME-Types-2.04-i2w3cV/blib/arch:/home/cpan/.cpan/build/MIME-Types-2.04-i2w3cV/blib/lib:/home/cpan/.cpan/build/HTTP-Body-1.19-3vR3mZ/blib/arch:/home/cpan/.cpan/build/HTTP-Body-1.19-3vR3mZ/blib/lib:/home/cpan/.cpan/build/HTTP-Server-Simple-PSGI-0.16-8PjrkE/blib/arch:/home/cpan/.cpan/build/HTTP-Server-Simple-PSGI-0.16-8PjrkE/blib/lib:/home/cpan/.cpan/build/HTTP-Server-Simple-0.44-y70aZ6/blib/arch:/home/cpan/.cpan/build/HTTP-Server-Simple-0.44-y70aZ6/blib/lib:/home/cpan/.cpan/build/Try-Tiny-0.21-JehSnq/blib/arch:/home/cpan/.cpan/build/Try-Tiny-0.21-JehSnq/blib/lib
    PERL5OPT = 
    PERL5_CPANPLUS_IS_RUNNING = 43923
    PERL5_CPAN_IS_RUNNING = 43923
    PERL5_CPAN_IS_RUNNING_IN_RECURSION = 2358,43923
    PERL_CR_SMOKER_CURRENT = Dancer-Plugin-Preprocess-Less-0.021
    PERL_EXTUTILS_AUTOINSTALL = --defaultdeps
    PERL_MM_USE_DEFAULT = 1
    SHELL = /bin/sh
    TERM = screen

Perl special variables (and OS-specific diagnostics, for MSWin32):

    $^X = /usr/local/bin/perl5.16.3
    $UID/$EUID = 1001 / 1001
    $GID = 1001 1001
    $EGID = 1001 1001

Perl module toolchain versions installed:

    Module              Have    
    ------------------- --------
    CPAN                1.9800  
    CPAN::Meta          2.140640
    Cwd                 3.40    
    ExtUtils::CBuilder  0.280206
    ExtUtils::Command   1.17    
    ExtUtils::Install   1.58    
    ExtUtils::MakeMaker 6.6302  
    ExtUtils::Manifest  1.61    
    ExtUtils::ParseXS   3.16    
    File::Spec          3.40    
    JSON                2.90    
    JSON::PP            2.27200 
    Module::Build       0.39_01 
    Module::Signature   0.73    
    Parse::CPAN::Meta   1.4414  
    Test::Harness       3.23    
    Test::More          1.001002
    YAML                0.87    
    YAML::Syck          n/a     
    version             0.99    


--

Summary of my perl5 (revision 5 version 16 subversion 3) configuration:
   
  Platform:
    osname=freebsd, osvers=9.1-release-p10, archname=amd64-freebsd-thread-multi
    uname='freebsd 91amd64-default-job-07 9.1-release-p10 freebsd 9.1-release-p10 amd64 '
    config_args='-sde -Dprefix=/usr/local -Darchlib=/usr/local/lib/perl5/5.16/mach -Dprivlib=/usr/local/lib/perl5/5.16 -Dman3dir=/usr/local/lib/perl5/5.16/perl/man/man3 -Dman1dir=/usr/local/man/man1 -Dsitearch=/usr/local/lib/perl5/site_perl/5.16/mach -Dsitelib=/usr/local/lib/perl5/site_perl/5.16 -Dscriptdir=/usr/local/bin -Dsiteman3dir=/usr/local/lib/perl5/5.16/man/man3 -Dsiteman1dir=/usr/local/man/man1 -Ui_malloc -Ui_iconv -Uinstallusrbinperl -Dcc=cc -Duseshrplib -Dinc_version_list=none -Dccflags=-DAPPLLIB_EXP="/usr/local/lib/perl5/5.16/BSDPAN" -Doptimize=-O2 -pipe -fno-strict-aliasing -Ui_gdbm -Dusethreads=y -Dusemymalloc=n -Duse64bitint'
    hint=recommended, useposix=true, d_sigaction=define
    useithreads=define, usemultiplicity=define
    useperlio=define, d_sfio=undef, uselargefiles=define, usesocks=undef
    use64bitint=define, use64bitall=define, uselongdouble=undef
    usemymalloc=n, bincompat5005=undef
  Compiler:
    cc='cc', ccflags ='-DAPPLLIB_EXP="/usr/local/lib/perl5/5.16/BSDPAN" -DHAS_FPSETMASK -DHAS_FLOATINGPOINT_H -fno-strict-aliasing -pipe -fstack-protector -I/usr/local/include',
    optimize='-O2 -pipe -fno-strict-aliasing',
    cppflags='-DAPPLLIB_EXP="/usr/local/lib/perl5/5.16/BSDPAN" -DHAS_FPSETMASK -DHAS_FLOATINGPOINT_H -fno-strict-aliasing -pipe -fstack-protector -I/usr/local/include'
    ccversion='', gccversion='4.2.1 20070831 patched [FreeBSD]', gccosandvers=''
    intsize=4, longsize=8, ptrsize=8, doublesize=8, byteorder=12345678
    d_longlong=define, longlongsize=8, d_longdbl=define, longdblsize=16
    ivtype='long', ivsize=8, nvtype='double', nvsize=8, Off_t='off_t', lseeksize=8
    alignbytes=8, prototype=define
  Linker and Libraries:
    ld='cc', ldflags ='-pthread -Wl,-E  -fstack-protector -L/usr/local/lib'
    libpth=/usr/lib /usr/local/lib
    libs=-lm -lcrypt -lutil
    perllibs=-lm -lcrypt -lutil
    libc=, so=so, useshrplib=true, libperl=libperl.so
    gnulibc_version=''
  Dynamic Linking:
    dlsrc=dl_dlopen.xs, dlext=so, d_dlsymun=undef, ccdlflags='  -Wl,-R/usr/local/lib/perl5/5.16/mach/CORE'
    cccdlflags='-DPIC -fPIC', lddlflags='-shared  -L/usr/local/lib -fstack-protector'


Characteristics of this binary (from libperl): 
  Compile-time options: HAS_TIMES MULTIPLICITY PERLIO_LAYERS
                        PERL_DONT_CREATE_GVSV PERL_IMPLICIT_CONTEXT
                        PERL_MALLOC_WRAP PERL_PRESERVE_IVUV USE_64_BIT_ALL
                        USE_64_BIT_INT USE_ITHREADS USE_LARGE_FILES
                        USE_LOCALE USE_LOCALE_COLLATE USE_LOCALE_CTYPE
                        USE_LOCALE_NUMERIC USE_PERLIO USE_PERL_ATOF
                        USE_REENTRANT_API
  Built under freebsd
  Compiled at Mar 19 2014 19:17:27
  %ENV:
    PERL5LIB="/home/cpan/.cpan/build/CSS-LESSp-0.86-BFeCQ0/blib/arch:/home/cpan/.cpan/build/CSS-LESSp-0.86-BFeCQ0/blib/lib:/home/cpan/.cpan/build/Dancer-1.3123-uxzT0E/blib/arch:/home/cpan/.cpan/build/Dancer-1.3123-uxzT0E/blib/lib:/home/cpan/.cpan/build/MIME-Types-2.04-i2w3cV/blib/arch:/home/cpan/.cpan/build/MIME-Types-2.04-i2w3cV/blib/lib:/home/cpan/.cpan/build/HTTP-Body-1.19-3vR3mZ/blib/arch:/home/cpan/.cpan/build/HTTP-Body-1.19-3vR3mZ/blib/lib:/home/cpan/.cpan/build/HTTP-Server-Simple-PSGI-0.16-8PjrkE/blib/arch:/home/cpan/.cpan/build/HTTP-Server-Simple-PSGI-0.16-8PjrkE/blib/lib:/home/cpan/.cpan/build/HTTP-Server-Simple-0.44-y70aZ6/blib/arch:/home/cpan/.cpan/build/HTTP-Server-Simple-0.44-y70aZ6/blib/lib:/home/cpan/.cpan/build/Try-Tiny-0.21-JehSnq/blib/arch:/home/cpan/.cpan/build/Try-Tiny-0.21-JehSnq/blib/lib"
    PERL5OPT=""
    PERL5_CPANPLUS_IS_RUNNING="43923"
    PERL5_CPAN_IS_RUNNING="43923"
    PERL5_CPAN_IS_RUNNING_IN_RECURSION="2358,43923"
    PERL_CR_SMOKER_CURRENT="Dancer-Plugin-Preprocess-Less-0.021"
    PERL_EXTUTILS_AUTOINSTALL="--defaultdeps"
    PERL_MM_USE_DEFAULT="1"
  @INC:
    /home/cpan/.cpan/build/CSS-LESSp-0.86-BFeCQ0/blib/arch
    /home/cpan/.cpan/build/CSS-LESSp-0.86-BFeCQ0/blib/lib
    /home/cpan/.cpan/build/Dancer-1.3123-uxzT0E/blib/arch
    /home/cpan/.cpan/build/Dancer-1.3123-uxzT0E/blib/lib
    /home/cpan/.cpan/build/MIME-Types-2.04-i2w3cV/blib/arch
    /home/cpan/.cpan/build/MIME-Types-2.04-i2w3cV/blib/lib
    /home/cpan/.cpan/build/HTTP-Body-1.19-3vR3mZ/blib/arch
    /home/cpan/.cpan/build/HTTP-Body-1.19-3vR3mZ/blib/lib
    /home/cpan/.cpan/build/HTTP-Server-Simple-PSGI-0.16-8PjrkE/blib/arch
    /home/cpan/.cpan/build/HTTP-Server-Simple-PSGI-0.16-8PjrkE/blib/lib
    /home/cpan/.cpan/build/HTTP-Server-Simple-0.44-y70aZ6/blib/arch
    /home/cpan/.cpan/build/HTTP-Server-Simple-0.44-y70aZ6/blib/lib
    /home/cpan/.cpan/build/Try-Tiny-0.21-JehSnq/blib/arch
    /home/cpan/.cpan/build/Try-Tiny-0.21-JehSnq/blib/lib
    /usr/local/lib/perl5/5.16/BSDPAN
    /usr/local/lib/perl5/site_perl/5.16/mach
    /usr/local/lib/perl5/site_perl/5.16
    /usr/local/lib/perl5/5.16/mach
    /usr/local/lib/perl5/5.16
    .