CatalystX-OAuth2 v0.001009 Perl 5 v5.22.4 x86_64-linux

Status
Pass
From
Andreas J. König (ANDK)
Dist
CatalystX-OAuth2 v0.001009
Platform
Perl 5 v5.22.4 x86_64-linux
Date
2017-12-13 01:40:44
ID
a2a6d008-dfa6-11e7-85f2-0e93de6bcf58
This distribution has been tested as part of the CPAN Testers
project, supporting the Perl programming language.  See
http://wiki.cpantesters.org/ for more information or email
questions to cpan-testers-discuss@perl.org


--
Dear John Napiorkowski,

This is a computer-generated report for CatalystX-OAuth2-0.001009
on perl 5.22.4, created by CPAN-Reporter-1.2018.

Thank you for uploading your work to CPAN.  Congratulations!
All tests were successful.

Sections of this report:

    * Tester comments
    * Program output
    * Prerequisites
    * Environment and other context

------------------------------
TESTER COMMENTS
------------------------------

Additional comments from tester:

this report is from an automated smoke testing program
and was not reviewed by a human for accuracy

------------------------------
PROGRAM OUTPUT
------------------------------

Output from '/usr/bin/make test':

PERL_DL_NONLAZY=1 "/home/sand/src/perl/repoperls/installed-perls/host/k93msid/v5.22.4/d2d1/bin/perl" "-MExtUtils::Command::MM" "-MTest::Harness" "-e" "undef *Test::Harness::Switches; test_harness(0, 'blib/lib', 'blib/arch')" t/*.t t/integration/*.t t/unit/*.t
t/00-compile.t ........................................ ok
t/author-pod-syntax.t ................................. skipped: these tests are for testing by the author
t/author-synopsis.t ................................... skipped: these tests are for testing by the author
t/integration/100-client-access-protected-resource.t .. ok
[error] Attribute (response_type) is required at /home/sand/src/perl/repoperls/installed-perls/host/k93msid/v5.22.4/d2d1/lib/site_perl/5.22.4/x86_64-linux/Moose/Object.pm line 24
	Moose::Object::new('CatalystX::OAuth2::Request::RequestAuth') called at /tmp/loop_over_bdir-14911-lv_PyT/CatalystX-OAuth2-0.001009-0/blib/lib/Catalyst/ActionRole/OAuth2/RequestAuth.pm line 21
	Catalyst::ActionRole::OAuth2::RequestAuth::try {...}  at /home/sand/src/perl/repoperls/installed-perls/host/k93msid/v5.22.4/d2d1/lib/site_perl/5.22.4/Try/Tiny.pm line 103
	eval {...} at /home/sand/src/perl/repoperls/installed-perls/host/k93msid/v5.22.4/d2d1/lib/site_perl/5.22.4/Try/Tiny.pm line 94
	Try::Tiny::try('CODE(0x5631b875f5f0)', 'Try::Tiny::Catch=REF(0x5631b87524e8)') called at /tmp/loop_over_bdir-14911-lv_PyT/CatalystX-OAuth2-0.001009-0/blib/lib/Catalyst/ActionRole/OAuth2/RequestAuth.pm line 31
	Catalyst::ActionRole::OAuth2::RequestAuth::build_oauth2_request('Moose::Meta::Class::__ANON__::SERIAL::11=HASH(0x5631b8420878)', 'AuthServer::Controller::OAuth2::Provider=HASH(0x5631b8342320)', 'AuthServer=HASH(0x5631b848b1f0)') called at /tmp/loop_over_bdir-14911-lv_PyT/CatalystX-OAuth2-0.001009-0/blib/lib/CatalystX/OAuth2/ActionRole/RequestInjector.pm line 17
	Class::MOP::Class:::before('Moose::Meta::Class::__ANON__::SERIAL::11=HASH(0x5631b8420878)', 'AuthServer::Controller::OAuth2::Provider=HASH(0x5631b8342320)', 'AuthServer=HASH(0x5631b848b1f0)') called at /home/sand/src/perl/repoperls/installed-perls/host/k93msid/v5.22.4/d2d1/lib/site_perl/5.22.4/x86_64-linux/Class/MOP/Method/Wrapped.pm line 27
	Moose::Meta::Class::__ANON__::SERIAL::11::_wrapped_execute('Moose::Meta::Class::__ANON__::SERIAL::11=HASH(0x5631b8420878)', 'AuthServer::Controller::OAuth2::Provider=HASH(0x5631b8342320)', 'AuthServer=HASH(0x5631b848b1f0)') called at /home/sand/src/perl/repoperls/installed-perls/host/k93msid/v5.22.4/d2d1/lib/site_perl/5.22.4/x86_64-linux/Class/MOP/Method/Wrapped.pm line 95
	Moose::Meta::Class::__ANON__::SERIAL::11::execute('Moose::Meta::Class::__ANON__::SERIAL::11=HASH(0x5631b8420878)', 'AuthServer::Controller::OAuth2::Provider=HASH(0x5631b8342320)', 'AuthServer=HASH(0x5631b848b1f0)') called at /home/sand/src/perl/repoperls/installed-perls/host/k93msid/v5.22.4/d2d1/lib/site_perl/5.22.4/Catalyst.pm line 2052
	eval {...} at /home/sand/src/perl/repoperls/installed-perls/host/k93msid/v5.22.4/d2d1/lib/site_perl/5.22.4/Catalyst.pm line 2052
	Catalyst::execute('AuthServer=HASH(0x5631b848b1f0)', 'AuthServer::Controller::OAuth2::Provider', 'Moose::Meta::Class::__ANON__::SERIAL::11=HASH(0x5631b8420878)') called at /home/sand/src/perl/repoperls/installed-perls/host/k93msid/v5.22.4/d2d1/lib/site_perl/5.22.4/Catalyst/Action.pm line 353
	Catalyst::Action::dispatch('Moose::Meta::Class::__ANON__::SERIAL::11=HASH(0x5631b8420878)', 'AuthServer=HASH(0x5631b848b1f0)') called at /home/sand/src/perl/repoperls/installed-perls/host/k93msid/v5.22.4/d2d1/lib/site_perl/5.22.4/Catalyst/ActionChain.pm line 46
	Catalyst::ActionChain::dispatch('Catalyst::ActionChain=HASH(0x5631b875a3e0)', 'AuthServer=HASH(0x5631b848b1f0)') called at /home/sand/src/perl/repoperls/installed-perls/host/k93msid/v5.22.4/d2d1/lib/site_perl/5.22.4/Catalyst/Controller.pm line 171
	Catalyst::Controller::_ACTION('AuthServer::Controller::OAuth2::Provider=HASH(0x5631b8342320)', 'AuthServer=HASH(0x5631b848b1f0)') called at /home/sand/src/perl/repoperls/installed-perls/host/k93msid/v5.22.4/d2d1/lib/site_perl/5.22.4/Catalyst/Action.pm line 358
	Catalyst::Action::execute('Catalyst::Action=HASH(0x5631b8413828)', 'AuthServer::Controller::OAuth2::Provider=HASH(0x5631b8342320)', 'AuthServer=HASH(0x5631b848b1f0)') called at /home/sand/src/perl/repoperls/installed-perls/host/k93msid/v5.22.4/d2d1/lib/site_perl/5.22.4/Catalyst.pm line 2052
	eval {...} at /home/sand/src/perl/repoperls/installed-perls/host/k93msid/v5.22.4/d2d1/lib/site_perl/5.22.4/Catalyst.pm line 2052
	Catalyst::execute('AuthServer=HASH(0x5631b848b1f0)', 'AuthServer::Controller::OAuth2::Provider', 'Catalyst::Action=HASH(0x5631b8413828)') called at /home/sand/src/perl/repoperls/installed-perls/host/k93msid/v5.22.4/d2d1/lib/site_perl/5.22.4/Catalyst/Action.pm line 353
	Catalyst::Action::dispatch('Catalyst::Action=HASH(0x5631b8413828)', 'AuthServer=HASH(0x5631b848b1f0)') called at /home/sand/src/perl/repoperls/installed-perls/host/k93msid/v5.22.4/d2d1/lib/site_perl/5.22.4/Catalyst/Dispatcher.pm line 262
	Catalyst::Dispatcher::_do_forward('Catalyst::Dispatcher=HASH(0x5631b66a99c8)', 'forward', 'AuthServer=HASH(0x5631b848b1f0)', '_ACTION') called at /home/sand/src/perl/repoperls/installed-perls/host/k93msid/v5.22.4/d2d1/lib/site_perl/5.22.4/Catalyst/Dispatcher.pm line 242
	Catalyst::Dispatcher::forward('Catalyst::Dispatcher=HASH(0x5631b66a99c8)', 'AuthServer=HASH(0x5631b848b1f0)', '_ACTION') called at /home/sand/src/perl/repoperls/installed-perls/host/k93msid/v5.22.4/d2d1/lib/site_perl/5.22.4/Catalyst.pm line 477
	Catalyst::forward('AuthServer=HASH(0x5631b848b1f0)', '_ACTION') called at /home/sand/src/perl/repoperls/installed-perls/host/k93msid/v5.22.4/d2d1/lib/site_perl/5.22.4/Catalyst/Controller.pm line 135
	Catalyst::Controller::_DISPATCH('AuthServer::Controller::OAuth2::Provider=HASH(0x5631b8342320)', 'AuthServer=HASH(0x5631b848b1f0)') called at /home/sand/src/perl/repoperls/installed-perls/host/k93msid/v5.22.4/d2d1/lib/site_perl/5.22.4/Catalyst/Action.pm line 358
	Catalyst::Action::execute('Catalyst::Action=HASH(0x5631b840dc88)', 'AuthServer::Controller::OAuth2::Provider=HASH(0x5631b8342320)', 'AuthServer=HASH(0x5631b848b1f0)') called at /home/sand/src/perl/repoperls/installed-perls/host/k93msid/v5.22.4/d2d1/lib/site_perl/5.22.4/Catalyst.pm line 2052
	eval {...} at /home/sand/src/perl/repoperls/installed-perls/host/k93msid/v5.22.4/d2d1/lib/site_perl/5.22.4/Catalyst.pm line 2052
	Catalyst::execute('AuthServer=HASH(0x5631b848b1f0)', 'AuthServer::Controller::OAuth2::Provider', 'Catalyst::Action=HASH(0x5631b840dc88)') called at /home/sand/src/perl/repoperls/installed-perls/host/k93msid/v5.22.4/d2d1/lib/site_perl/5.22.4/Catalyst/Action.pm line 353
	Catalyst::Action::dispatch('Catalyst::Action=HASH(0x5631b840dc88)', 'AuthServer=HASH(0x5631b848b1f0)') called at /home/sand/src/perl/repoperls/installed-perls/host/k93msid/v5.22.4/d2d1/lib/site_perl/5.22.4/Catalyst/Dispatcher.pm line 262
	Catalyst::Dispatcher::_do_forward('Catalyst::Dispatcher=HASH(0x5631b66a99c8)', 'forward', 'AuthServer=HASH(0x5631b848b1f0)', '/oauth2/provider/_DISPATCH') called at /home/sand/src/perl/repoperls/installed-perls/host/k93msid/v5.22.4/d2d1/lib/site_perl/5.22.4/Catalyst/Dispatcher.pm line 242
	Catalyst::Dispatcher::forward('Catalyst::Dispatcher=HASH(0x5631b66a99c8)', 'AuthServer=HASH(0x5631b848b1f0)', '/oauth2/provider/_DISPATCH') called at /home/sand/src/perl/repoperls/installed-perls/host/k93msid/v5.22.4/d2d1/lib/site_perl/5.22.4/Catalyst.pm line 477
	Catalyst::forward('AuthServer=HASH(0x5631b848b1f0)', '/oauth2/provider/_DISPATCH') called at /home/sand/src/perl/repoperls/installed-perls/host/k93msid/v5.22.4/d2d1/lib/site_perl/5.22.4/Catalyst/Dispatcher.pm line 108
	Catalyst::Dispatcher::dispatch('Catalyst::Dispatcher=HASH(0x5631b66a99c8)', 'AuthServer=HASH(0x5631b848b1f0)') called at /home/sand/src/perl/repoperls/installed-perls/host/k93msid/v5.22.4/d2d1/lib/site_perl/5.22.4/Catalyst.pm line 1998
	Catalyst::dispatch('AuthServer=HASH(0x5631b848b1f0)') called at /home/sand/src/perl/repoperls/installed-perls/host/k93msid/v5.22.4/d2d1/lib/site_perl/5.22.4/x86_64-linux/Class/MOP/Method/Wrapped.pm line 56
	AuthServer::_wrapped_dispatch('AuthServer=HASH(0x5631b848b1f0)') called at /home/sand/src/perl/repoperls/installed-perls/host/k93msid/v5.22.4/d2d1/lib/site_perl/5.22.4/x86_64-linux/Class/MOP/Method/Wrapped.pm line 95
	AuthServer::dispatch('AuthServer=HASH(0x5631b848b1f0)') called at /home/sand/src/perl/repoperls/installed-perls/host/k93msid/v5.22.4/d2d1/lib/site_perl/5.22.4/Catalyst.pm line 2393
	Catalyst::try {...}  at /home/sand/src/perl/repoperls/installed-perls/host/k93msid/v5.22.4/d2d1/lib/site_perl/5.22.4/Try/Tiny.pm line 103
	eval {...} at /home/sand/src/perl/repoperls/installed-perls/host/k93msid/v5.22.4/d2d1/lib/site_perl/5.22.4/Try/Tiny.pm line 94
	Try::Tiny::try('CODE(0x5631b861d3f0)', 'Try::Tiny::Catch=REF(0x5631b86e3ee8)') called at /home/sand/src/perl/repoperls/installed-perls/host/k93msid/v5.22.4/d2d1/lib/site_perl/5.22.4/Catalyst.pm line 2402
	Catalyst::handle_request('AuthServer', 'env', 'HASH(0x5631b81c7a78)', 'response_cb', 'CODE(0x5631b867a2d0)') called at /home/sand/src/perl/repoperls/installed-perls/host/k93msid/v5.22.4/d2d1/lib/site_perl/5.22.4/Catalyst/Engine.pm line 800
	Catalyst::Engine::__ANON__('CODE(0x5631b867a2d0)') called at /home/sand/src/perl/repoperls/installed-perls/host/k93msid/v5.22.4/d2d1/lib/site_perl/5.22.4/Plack/Middleware/HTTPExceptions.pm line 32
	Plack::Middleware::HTTPExceptions::try {...}  at /home/sand/src/perl/repoperls/installed-perls/host/k93msid/v5.22.4/d2d1/lib/site_perl/5.22.4/Try/Tiny.pm line 103
	eval {...} at /home/sand/src/perl/repoperls/installed-perls/host/k93msid/v5.22.4/d2d1/lib/site_perl/5.22.4/Try/Tiny.pm line 94
	Try::Tiny::try('CODE(0x5631b8318c08)', 'Try::Tiny::Catch=REF(0x5631b7ddd840)') called at /home/sand/src/perl/repoperls/installed-perls/host/k93msid/v5.22.4/d2d1/lib/site_perl/5.22.4/Plack/Middleware/HTTPExceptions.pm line 41
	Plack::Middleware::HTTPExceptions::__ANON__('CODE(0x5631b855f300)') called at /home/sand/src/perl/repoperls/installed-perls/host/k93msid/v5.22.4/d2d1/lib/site_perl/5.22.4/Plack/Util.pm line 339
	Plack::Util::__ANON__('CODE(0x5631b7d74a40)') called at /home/sand/src/perl/repoperls/installed-perls/host/k93msid/v5.22.4/d2d1/lib/site_perl/5.22.4/Plack/Util.pm line 339
	Plack::Util::__ANON__('CODE(0x5631b834d3f8)') called at /home/sand/src/perl/repoperls/installed-perls/host/k93msid/v5.22.4/d2d1/lib/site_perl/5.22.4/Plack/Util.pm line 339
	Plack::Util::__ANON__('CODE(0x5631b7de53e8)') called at /home/sand/src/perl/repoperls/installed-perls/host/k93msid/v5.22.4/d2d1/lib/site_perl/5.22.4/HTTP/Message/PSGI.pm line 100
	HTTP::Message::PSGI::res_from_psgi('CODE(0x5631b864f470)') called at /home/sand/src/perl/repoperls/installed-perls/host/k93msid/v5.22.4/d2d1/lib/site_perl/5.22.4/HTTP/Message/PSGI.pm line 156
	HTTP::Response::from_psgi('HTTP::Response', 'CODE(0x5631b864f470)') called at /home/sand/src/perl/repoperls/installed-perls/host/k93msid/v5.22.4/d2d1/lib/site_perl/5.22.4/Plack/Test/MockHTTP.pm line 24
	Plack::Test::MockHTTP::try {...}  at /home/sand/src/perl/repoperls/installed-perls/host/k93msid/v5.22.4/d2d1/lib/site_perl/5.22.4/Try/Tiny.pm line 101
	eval {...} at /home/sand/src/perl/repoperls/installed-perls/host/k93msid/v5.22.4/d2d1/lib/site_perl/5.22.4/Try/Tiny.pm line 94
	Try::Tiny::try('CODE(0x5631b84e14b8)', 'Try::Tiny::Catch=REF(0x5631b86e1018)') called at /home/sand/src/perl/repoperls/installed-perls/host/k93msid/v5.22.4/d2d1/lib/site_perl/5.22.4/Plack/Test/MockHTTP.pm line 27
	Plack::Test::MockHTTP::request('Plack::Test::MockHTTP=HASH(0x5631b86f6870)', 'HTTP::Request=HASH(0x5631b86e3fc0)') called at /home/sand/src/perl/repoperls/installed-perls/host/k93msid/v5.22.4/d2d1/lib/site_perl/5.22.4/Plack/Test.pm line 38
	Plack::Test::__ANON__('HTTP::Request=HASH(0x5631b86e3fc0)') called at /home/sand/src/perl/repoperls/installed-perls/host/k93msid/v5.22.4/d2d1/lib/site_perl/5.22.4/Catalyst/Test.pm line 281
	Catalyst::Test::__ANON__('CODE(0x5631b86f66f0)') called at /home/sand/src/perl/repoperls/installed-perls/host/k93msid/v5.22.4/d2d1/lib/site_perl/5.22.4/Plack/Test.pm line 38
	Plack::Test::test_psgi('app', 'CODE(0x5631b86e3618)', 'mangle_response', 'CODE(0x5631b86a1e98)', 'app', 'CODE(0x5631b86f6588)', 'client', 'CODE(0x5631b86f6600)') called at /home/sand/src/perl/repoperls/installed-perls/host/k93msid/v5.22.4/d2d1/lib/site_perl/5.22.4/Catalyst/Test.pm line 284
	Catalyst::Test::_request('HASH(0x5631b86de700)', '/request') called at /home/sand/src/perl/repoperls/installed-perls/host/k93msid/v5.22.4/d2d1/lib/site_perl/5.22.4/Catalyst/Test.pm line 327
	Catalyst::Test::_local_request('AuthServer', '/request') called at /home/sand/src/perl/repoperls/installed-perls/host/k93msid/v5.22.4/d2d1/lib/site_perl/5.22.4/Catalyst/Test.pm line 32
	Catalyst::Test::__ANON__('/request') called at /home/sand/src/perl/repoperls/installed-perls/host/k93msid/v5.22.4/d2d1/lib/site_perl/5.22.4/Catalyst/Test.pm line 72
	Catalyst::Test::__ANON__('/request') called at t/unit/100-controller-role-provider.t line 30
bless( {
  "Plugin::ConfigLoader" => {},
  action => bless( {
    args_constraints => [],
    attributes => {
      Args => [
        0,
      ],
      Chained => [
        "/oauth2/provider/base",
      ],
      Does => [
        "Catalyst::ActionRole::OAuth2::RequestAuth",
      ],
      PathPart => [
        bless( do{\(my $o = "request")}, 'URI::_generic' ),
      ],
    },
    chain => [
      bless( {
        attributes => {
          CaptureArgs => [
            0,
          ],
          Chained => [
            "/",
          ],
          PathPart => [
            bless( do{\(my $o = "")}, 'URI::_generic' ),
          ],
        },
        class => "AuthServer::Controller::OAuth2::Provider",
        code => sub {
            package AuthServer::Controller::OAuth2::Provider;
            use warnings;
            use strict;
            
        },
        name => "base",
        namespace => "oauth2/provider",
        number_of_captures => 0,
        reverse => "oauth2/provider/base",
      }, 'Catalyst::Action' ),
      bless( {
        args_constraints => $VAR1->{action}{args_constraints},
        attributes => $VAR1->{action}{attributes},
        class => "AuthServer::Controller::OAuth2::Provider",
        code => sub {
            package AuthServer::Controller::OAuth2::Provider;
            use warnings;
            use strict;
            
        },
        enable_client_secret => 0,
        name => "request",
        namespace => "oauth2/provider",
        number_of_args => 0,
        reverse => "oauth2/provider/request",
      }, 'Moose::Meta::Class::__ANON__::SERIAL::11' ),
    ],
    class => "AuthServer::Controller::OAuth2::Provider",
    code => $VAR1->{action}{chain}[1]{code},
    enable_client_secret => 0,
    name => "request",
    namespace => "oauth2/provider",
    number_of_args => 0,
    reverse => "oauth2/provider/request",
  }, 'Catalyst::ActionChain' ),
  counter => {},
  home => "/tmp/loop_over_bdir-14911-lv_PyT/CatalystX-OAuth2-0.001009-0/t/lib/AuthServer",
  namespace => "oauth2/provider",
  request => bless( {
    _body => 0,
    _log => bless( {
      _body => undef,
      _psgi_errors => *::STDERR,
      abort => undef,
      autoflush => 1,
      level => 31,
    }, 'Catalyst::Log' ),
    _path => "request",
    _read_length => 0,
    _read_position => 0,
    _use_hash_multivalue => 0,
    action => "/oauth2/provider/request",
    address => "127.0.0.1",
    arguments => [],
    base => bless( do{\(my $o = "http://localhost/")}, 'URI::http' ),
    body_parameters => {},
    captures => [],
    cookies => {},
    data_handlers => {
      "application/json" => sub {
          package Catalyst;
          use warnings;
          use strict;
          my($fh, $req) = @_;
          my $parser = Class::Load::load_first_existing_class('JSON::MaybeXS', 'JSON');
          my $slurped;
          return eval {
              do {
                  local $/;
                  $slurped = $fh->getline;
                  $parser->can('decode_json')->($slurped)
              }
          } || 'Catalyst::Exception'->throw(sprintf(q[Error Parsing POST '%s', Error: %s], defined $slurped ? $slurped : 'undef', $@));
      },
      "application/x-www-form-urlencoded" => sub {
          package Catalyst;
          use warnings;
          use strict;
          my($fh, $req) = @_;
          my $params = $req->_use_hash_multivalue ? $req->body_parameters->mixed : $req->body_parameters;
          Class::Load::load_first_existing_class('CGI::Struct::XS', 'CGI::Struct')->can('build_cgi_struct')->($params);
      },
    },
    env => {
      CONTENT_LENGTH => 0,
      "Catalyst.Stash.v2" => sub {
          package Catalyst::Middleware::Stash;
          use warnings;
          use strict;
          if (@_) {
              my $new_stash = @_ > 1 ? {@_} : $_[0];
              croak('stash takes a hash or hashref') unless ref $new_stash;
              foreach my $key (keys %$new_stash) {
                  $stash->{$key} = $new_stash->{$key};
              }
          }
          $stash;
      },
      HTTP_HOST => "localhost",
      PATH_INFO => "/request",
      QUERY_STRING => "",
      REMOTE_ADDR => "127.0.0.1",
      REMOTE_HOST => "localhost",
      REMOTE_PORT => 2845,
      REQUEST_METHOD => "GET",
      REQUEST_URI => "/request",
      SCRIPT_NAME => "",
      SERVER_NAME => "localhost",
      SERVER_PORT => 80,
      SERVER_PROTOCOL => "HTTP/1.1",
      "plack.original_request_method" => "GET",
      "psgi.errors" => *::STDERR,
      "psgi.input" => \*{"HTTP::Message::PSGI::\$input"},
      "psgi.multiprocess" => "",
      "psgi.multithread" => "",
      "psgi.nonblocking" => "",
      "psgi.run_once" => 1,
      "psgi.streaming" => 1,
      "psgi.url_scheme" => "http",
      "psgi.version" => [
        1,
        1,
      ],
    },
    headers => bless( {
      "::std_case" => {
        cookie => "Cookie",
      },
      "content-length" => 0,
      host => "localhost",
    }, 'HTTP::Headers' ),
    hostname => "localhost",
    match => "/oauth2/provider/request",
    method => "GET",
    parameters => {},
    protocol => "HTTP/1.1",
    query_keywords => "",
    query_parameters => {},
    remote_user => undef,
    secure => 0,
    uploads => {},
    uri => bless( do{\(my $o = "http://localhost/request")}, 'URI::http' ),
  }, 'Catalyst::Request' ),
  response => bless( {
    _context => $VAR1,
    _log => $VAR1->{request}{_log},
    body => "warning: response_type/client_id invalid or missing",
    cookies => {},
    encodable_content_type => qr/text|xml$|javascript$/,
    encoding => bless( {
      Name => "utf-8-strict",
      strict_utf8 => 1,
    }, 'Encode::utf8' ),
    finalized_headers => 1,
    headers => bless( {}, 'HTTP::Headers' ),
    status => 200,
  }, 'Catalyst::Response' ),
  root => bless( {
    dirs => [
      "",
      "tmp",
      "loop_over_bdir-14911-lv_PyT",
      "CatalystX-OAuth2-0.001009-0",
      "t",
      "lib",
      "AuthServer",
      "root",
    ],
    file_spec_class => undef,
    volume => "",
  }, 'Path::Class::Dir' ),
  stack => [],
  stash => {},
  state => 1,
  stats => bless( {
    enable => 0,
    tree => bless( {
      _children => [],
      _depth => -1,
      _height => 1,
      _node => {
        t => [
          "1513129213",
          405140,
        ],
      },
      _parent => "root",
      _uid => "0x5631b81a7a08",
      _width => 1,
    }, 'Tree::Simple' ),
  }, 'Catalyst::Stats' ),
}, 'AuthServer' )
t/unit/100-controller-role-provider.t ................. ok
[error] Attribute (client_id) is required at /home/sand/src/perl/repoperls/installed-perls/host/k93msid/v5.22.4/d2d1/lib/site_perl/5.22.4/x86_64-linux/Moose/Object.pm line 24
	Moose::Object::new('CatalystX::OAuth2::Request::RequestAuth') called at /tmp/loop_over_bdir-14911-lv_PyT/CatalystX-OAuth2-0.001009-0/blib/lib/Catalyst/ActionRole/OAuth2/RequestAuth.pm line 21
	Catalyst::ActionRole::OAuth2::RequestAuth::try {...}  at /home/sand/src/perl/repoperls/installed-perls/host/k93msid/v5.22.4/d2d1/lib/site_perl/5.22.4/Try/Tiny.pm line 103
	eval {...} at /home/sand/src/perl/repoperls/installed-perls/host/k93msid/v5.22.4/d2d1/lib/site_perl/5.22.4/Try/Tiny.pm line 94
	Try::Tiny::try('CODE(0x562d3a1dfd80)', 'Try::Tiny::Catch=REF(0x562d3a1d5590)') called at /tmp/loop_over_bdir-14911-lv_PyT/CatalystX-OAuth2-0.001009-0/blib/lib/Catalyst/ActionRole/OAuth2/RequestAuth.pm line 31
	Catalyst::ActionRole::OAuth2::RequestAuth::build_oauth2_request('Moose::Meta::Class::__ANON__::SERIAL::11=HASH(0x562d39f5a930)', 'AuthServer::Controller::OAuth2::Provider=HASH(0x562d39df5e08)', 'AuthServer=HASH(0x562d3a078588)') called at /tmp/loop_over_bdir-14911-lv_PyT/CatalystX-OAuth2-0.001009-0/blib/lib/CatalystX/OAuth2/ActionRole/RequestInjector.pm line 17
	Class::MOP::Class:::before('Moose::Meta::Class::__ANON__::SERIAL::11=HASH(0x562d39f5a930)', 'AuthServer::Controller::OAuth2::Provider=HASH(0x562d39df5e08)', 'AuthServer=HASH(0x562d3a078588)') called at /home/sand/src/perl/repoperls/installed-perls/host/k93msid/v5.22.4/d2d1/lib/site_perl/5.22.4/x86_64-linux/Class/MOP/Method/Wrapped.pm line 27
	Moose::Meta::Class::__ANON__::SERIAL::11::_wrapped_execute('Moose::Meta::Class::__ANON__::SERIAL::11=HASH(0x562d39f5a930)', 'AuthServer::Controller::OAuth2::Provider=HASH(0x562d39df5e08)', 'AuthServer=HASH(0x562d3a078588)') called at /home/sand/src/perl/repoperls/installed-perls/host/k93msid/v5.22.4/d2d1/lib/site_perl/5.22.4/x86_64-linux/Class/MOP/Method/Wrapped.pm line 95
	Moose::Meta::Class::__ANON__::SERIAL::11::execute('Moose::Meta::Class::__ANON__::SERIAL::11=HASH(0x562d39f5a930)', 'AuthServer::Controller::OAuth2::Provider=HASH(0x562d39df5e08)', 'AuthServer=HASH(0x562d3a078588)') called at /home/sand/src/perl/repoperls/installed-perls/host/k93msid/v5.22.4/d2d1/lib/site_perl/5.22.4/Catalyst.pm line 2052
	eval {...} at /home/sand/src/perl/repoperls/installed-perls/host/k93msid/v5.22.4/d2d1/lib/site_perl/5.22.4/Catalyst.pm line 2052
	Catalyst::execute('AuthServer=HASH(0x562d3a078588)', 'AuthServer::Controller::OAuth2::Provider', 'Moose::Meta::Class::__ANON__::SERIAL::11=HASH(0x562d39f5a930)') called at /home/sand/src/perl/repoperls/installed-perls/host/k93msid/v5.22.4/d2d1/lib/site_perl/5.22.4/Catalyst/Action.pm line 353
	Catalyst::Action::dispatch('Moose::Meta::Class::__ANON__::SERIAL::11=HASH(0x562d39f5a930)', 'AuthServer=HASH(0x562d3a078588)') called at /home/sand/src/perl/repoperls/installed-perls/host/k93msid/v5.22.4/d2d1/lib/site_perl/5.22.4/Catalyst/ActionChain.pm line 46
	Catalyst::ActionChain::dispatch('Catalyst::ActionChain=HASH(0x562d3a1dbc00)', 'AuthServer=HASH(0x562d3a078588)') called at /home/sand/src/perl/repoperls/installed-perls/host/k93msid/v5.22.4/d2d1/lib/site_perl/5.22.4/Catalyst/Controller.pm line 171
	Catalyst::Controller::_ACTION('AuthServer::Controller::OAuth2::Provider=HASH(0x562d39df5e08)', 'AuthServer=HASH(0x562d3a078588)') called at /home/sand/src/perl/repoperls/installed-perls/host/k93msid/v5.22.4/d2d1/lib/site_perl/5.22.4/Catalyst/Action.pm line 358
	Catalyst::Action::execute('Catalyst::Action=HASH(0x562d39eeee98)', 'AuthServer::Controller::OAuth2::Provider=HASH(0x562d39df5e08)', 'AuthServer=HASH(0x562d3a078588)') called at /home/sand/src/perl/repoperls/installed-perls/host/k93msid/v5.22.4/d2d1/lib/site_perl/5.22.4/Catalyst.pm line 2052
	eval {...} at /home/sand/src/perl/repoperls/installed-perls/host/k93msid/v5.22.4/d2d1/lib/site_perl/5.22.4/Catalyst.pm line 2052
	Catalyst::execute('AuthServer=HASH(0x562d3a078588)', 'AuthServer::Controller::OAuth2::Provider', 'Catalyst::Action=HASH(0x562d39eeee98)') called at /home/sand/src/perl/repoperls/installed-perls/host/k93msid/v5.22.4/d2d1/lib/site_perl/5.22.4/Catalyst/Action.pm line 353
	Catalyst::Action::dispatch('Catalyst::Action=HASH(0x562d39eeee98)', 'AuthServer=HASH(0x562d3a078588)') called at /home/sand/src/perl/repoperls/installed-perls/host/k93msid/v5.22.4/d2d1/lib/site_perl/5.22.4/Catalyst/Dispatcher.pm line 262
	Catalyst::Dispatcher::_do_forward('Catalyst::Dispatcher=HASH(0x562d371fab00)', 'forward', 'AuthServer=HASH(0x562d3a078588)', '_ACTION') called at /home/sand/src/perl/repoperls/installed-perls/host/k93msid/v5.22.4/d2d1/lib/site_perl/5.22.4/Catalyst/Dispatcher.pm line 242
	Catalyst::Dispatcher::forward('Catalyst::Dispatcher=HASH(0x562d371fab00)', 'AuthServer=HASH(0x562d3a078588)', '_ACTION') called at /home/sand/src/perl/repoperls/installed-perls/host/k93msid/v5.22.4/d2d1/lib/site_perl/5.22.4/Catalyst.pm line 477
	Catalyst::forward('AuthServer=HASH(0x562d3a078588)', '_ACTION') called at /home/sand/src/perl/repoperls/installed-perls/host/k93msid/v5.22.4/d2d1/lib/site_perl/5.22.4/Catalyst/Controller.pm line 135
	Catalyst::Controller::_DISPATCH('AuthServer::Controller::OAuth2::Provider=HASH(0x562d39df5e08)', 'AuthServer=HASH(0x562d3a078588)') called at /home/sand/src/perl/repoperls/installed-perls/host/k93msid/v5.22.4/d2d1/lib/site_perl/5.22.4/Catalyst/Action.pm line 358
	Catalyst::Action::execute('Catalyst::Action=HASH(0x562d39ee8d60)', 'AuthServer::Controller::OAuth2::Provider=HASH(0x562d39df5e08)', 'AuthServer=HASH(0x562d3a078588)') called at /home/sand/src/perl/repoperls/installed-perls/host/k93msid/v5.22.4/d2d1/lib/site_perl/5.22.4/Catalyst.pm line 2052
	eval {...} at /home/sand/src/perl/repoperls/installed-perls/host/k93msid/v5.22.4/d2d1/lib/site_perl/5.22.4/Catalyst.pm line 2052
	Catalyst::execute('AuthServer=HASH(0x562d3a078588)', 'AuthServer::Controller::OAuth2::Provider', 'Catalyst::Action=HASH(0x562d39ee8d60)') called at /home/sand/src/perl/repoperls/installed-perls/host/k93msid/v5.22.4/d2d1/lib/site_perl/5.22.4/Catalyst/Action.pm line 353
	Catalyst::Action::dispatch('Catalyst::Action=HASH(0x562d39ee8d60)', 'AuthServer=HASH(0x562d3a078588)') called at /home/sand/src/perl/repoperls/installed-perls/host/k93msid/v5.22.4/d2d1/lib/site_perl/5.22.4/Catalyst/Dispatcher.pm line 262
	Catalyst::Dispatcher::_do_forward('Catalyst::Dispatcher=HASH(0x562d371fab00)', 'forward', 'AuthServer=HASH(0x562d3a078588)', '/oauth2/provider/_DISPATCH') called at /home/sand/src/perl/repoperls/installed-perls/host/k93msid/v5.22.4/d2d1/lib/site_perl/5.22.4/Catalyst/Dispatcher.pm line 242
	Catalyst::Dispatcher::forward('Catalyst::Dispatcher=HASH(0x562d371fab00)', 'AuthServer=HASH(0x562d3a078588)', '/oauth2/provider/_DISPATCH') called at /home/sand/src/perl/repoperls/installed-perls/host/k93msid/v5.22.4/d2d1/lib/site_perl/5.22.4/Catalyst.pm line 477
	Catalyst::forward('AuthServer=HASH(0x562d3a078588)', '/oauth2/provider/_DISPATCH') called at /home/sand/src/perl/repoperls/installed-perls/host/k93msid/v5.22.4/d2d1/lib/site_perl/5.22.4/Catalyst/Dispatcher.pm line 108
	Catalyst::Dispatcher::dispatch('Catalyst::Dispatcher=HASH(0x562d371fab00)', 'AuthServer=HASH(0x562d3a078588)') called at /home/sand/src/perl/repoperls/installed-perls/host/k93msid/v5.22.4/d2d1/lib/site_perl/5.22.4/Catalyst.pm line 1998
	Catalyst::dispatch('AuthServer=HASH(0x562d3a078588)') called at /home/sand/src/perl/repoperls/installed-perls/host/k93msid/v5.22.4/d2d1/lib/site_perl/5.22.4/x86_64-linux/Class/MOP/Method/Wrapped.pm line 56
	AuthServer::_wrapped_dispatch('AuthServer=HASH(0x562d3a078588)') called at /home/sand/src/perl/repoperls/installed-perls/host/k93msid/v5.22.4/d2d1/lib/site_perl/5.22.4/x86_64-linux/Class/MOP/Method/Wrapped.pm line 95
	AuthServer::dispatch('AuthServer=HASH(0x562d3a078588)') called at /home/sand/src/perl/repoperls/installed-perls/host/k93msid/v5.22.4/d2d1/lib/site_perl/5.22.4/Catalyst.pm line 2393
	Catalyst::try {...}  at /home/sand/src/perl/repoperls/installed-perls/host/k93msid/v5.22.4/d2d1/lib/site_perl/5.22.4/Try/Tiny.pm line 103
	eval {...} at /home/sand/src/perl/repoperls/installed-perls/host/k93msid/v5.22.4/d2d1/lib/site_perl/5.22.4/Try/Tiny.pm line 94
	Try::Tiny::try('CODE(0x562d39f95c28)', 'Try::Tiny::Catch=REF(0x562d39ca7368)') called at /home/sand/src/perl/repoperls/installed-perls/host/k93msid/v5.22.4/d2d1/lib/site_perl/5.22.4/Catalyst.pm line 2402
	Catalyst::handle_request('AuthServer', 'env', 'HASH(0x562d3a16b730)', 'response_cb', 'CODE(0x562d3a18fb88)') called at /home/sand/src/perl/repoperls/installed-perls/host/k93msid/v5.22.4/d2d1/lib/site_perl/5.22.4/Catalyst/Engine.pm line 800
	Catalyst::Engine::__ANON__('CODE(0x562d3a18fb88)') called at /home/sand/src/perl/repoperls/installed-perls/host/k93msid/v5.22.4/d2d1/lib/site_perl/5.22.4/Plack/Middleware/HTTPExceptions.pm line 32
	Plack::Middleware::HTTPExceptions::try {...}  at /home/sand/src/perl/repoperls/installed-perls/host/k93msid/v5.22.4/d2d1/lib/site_perl/5.22.4/Try/Tiny.pm line 103
	eval {...} at /home/sand/src/perl/repoperls/installed-perls/host/k93msid/v5.22.4/d2d1/lib/site_perl/5.22.4/Try/Tiny.pm line 94
	Try::Tiny::try('CODE(0x562d397e8c88)', 'Try::Tiny::Catch=REF(0x562d39b11858)') called at /home/sand/src/perl/repoperls/installed-perls/host/k93msid/v5.22.4/d2d1/lib/site_perl/5.22.4/Plack/Middleware/HTTPExceptions.pm line 41
	Plack::Middleware::HTTPExceptions::__ANON__('CODE(0x562d3a077880)') called at /home/sand/src/perl/repoperls/installed-perls/host/k93msid/v5.22.4/d2d1/lib/site_perl/5.22.4/Plack/Util.pm line 339
	Plack::Util::__ANON__('CODE(0x562d39725e10)') called at /home/sand/src/perl/repoperls/installed-perls/host/k93msid/v5.22.4/d2d1/lib/site_perl/5.22.4/Plack/Util.pm line 339
	Plack::Util::__ANON__('CODE(0x562d397116b8)') called at /home/sand/src/perl/repoperls/installed-perls/host/k93msid/v5.22.4/d2d1/lib/site_perl/5.22.4/Plack/Util.pm line 339
	Plack::Util::__ANON__('CODE(0x562d39df5e98)') called at /home/sand/src/perl/repoperls/installed-perls/host/k93msid/v5.22.4/d2d1/lib/site_perl/5.22.4/HTTP/Message/PSGI.pm line 100
	HTTP::Message::PSGI::res_from_psgi('CODE(0x562d3a0ff8f0)') called at /home/sand/src/perl/repoperls/installed-perls/host/k93msid/v5.22.4/d2d1/lib/site_perl/5.22.4/HTTP/Message/PSGI.pm line 156
	HTTP::Response::from_psgi('HTTP::Response', 'CODE(0x562d3a0ff8f0)') called at /home/sand/src/perl/repoperls/installed-perls/host/k93msid/v5.22.4/d2d1/lib/site_perl/5.22.4/Plack/Test/MockHTTP.pm line 24
	Plack::Test::MockHTTP::try {...}  at /home/sand/src/perl/repoperls/installed-perls/host/k93msid/v5.22.4/d2d1/lib/site_perl/5.22.4/Try/Tiny.pm line 101
	eval {...} at /home/sand/src/perl/repoperls/installed-perls/host/k93msid/v5.22.4/d2d1/lib/site_perl/5.22.4/Try/Tiny.pm line 94
	Try::Tiny::try('CODE(0x562d3a03a588)', 'Try::Tiny::Catch=REF(0x562d358bb108)') called at /home/sand/src/perl/repoperls/installed-perls/host/k93msid/v5.22.4/d2d1/lib/site_perl/5.22.4/Plack/Test/MockHTTP.pm line 27
	Plack::Test::MockHTTP::request('Plack::Test::MockHTTP=HASH(0x562d3a16b760)', 'HTTP::Request=HASH(0x562d3a16b250)') called at /home/sand/src/perl/repoperls/installed-perls/host/k93msid/v5.22.4/d2d1/lib/site_perl/5.22.4/Plack/Test.pm line 38
	Plack::Test::__ANON__('HTTP::Request=HASH(0x562d3a16b250)') called at /home/sand/src/perl/repoperls/installed-perls/host/k93msid/v5.22.4/d2d1/lib/site_perl/5.22.4/Catalyst/Test.pm line 281
	Catalyst::Test::__ANON__('CODE(0x562d3a16b5c8)') called at /home/sand/src/perl/repoperls/installed-perls/host/k93msid/v5.22.4/d2d1/lib/site_perl/5.22.4/Plack/Test.pm line 38
	Plack::Test::test_psgi('app', 'CODE(0x562d358bb918)', 'mangle_response', 'CODE(0x562d371d1cc0)', 'app', 'CODE(0x562d3a16b460)', 'client', 'CODE(0x562d3a16b4d8)') called at /home/sand/src/perl/repoperls/installed-perls/host/k93msid/v5.22.4/d2d1/lib/site_perl/5.22.4/Catalyst/Test.pm line 284
	Catalyst::Test::_request('HASH(0x562d3a15c138)', '/request') called at /home/sand/src/perl/repoperls/installed-perls/host/k93msid/v5.22.4/d2d1/lib/site_perl/5.22.4/Catalyst/Test.pm line 327
	Catalyst::Test::_local_request('AuthServer', '/request') called at /home/sand/src/perl/repoperls/installed-perls/host/k93msid/v5.22.4/d2d1/lib/site_perl/5.22.4/Catalyst/Test.pm line 32
	Catalyst::Test::__ANON__('/request') called at /home/sand/src/perl/repoperls/installed-perls/host/k93msid/v5.22.4/d2d1/lib/site_perl/5.22.4/Catalyst/Test.pm line 72
	Catalyst::Test::__ANON__('/request') called at t/unit/200-actionrole-request-auth.t line 15
[error] Attribute (response_type) is required at /home/sand/src/perl/repoperls/installed-perls/host/k93msid/v5.22.4/d2d1/lib/site_perl/5.22.4/x86_64-linux/Moose/Object.pm line 24
	Moose::Object::new('CatalystX::OAuth2::Request::RequestAuth') called at /tmp/loop_over_bdir-14911-lv_PyT/CatalystX-OAuth2-0.001009-0/blib/lib/Catalyst/ActionRole/OAuth2/RequestAuth.pm line 21
	Catalyst::ActionRole::OAuth2::RequestAuth::try {...}  at /home/sand/src/perl/repoperls/installed-perls/host/k93msid/v5.22.4/d2d1/lib/site_perl/5.22.4/Try/Tiny.pm line 103
	eval {...} at /home/sand/src/perl/repoperls/installed-perls/host/k93msid/v5.22.4/d2d1/lib/site_perl/5.22.4/Try/Tiny.pm line 94
	Try::Tiny::try('CODE(0x562d3a256a50)', 'Try::Tiny::Catch=REF(0x562d3a250550)') called at /tmp/loop_over_bdir-14911-lv_PyT/CatalystX-OAuth2-0.001009-0/blib/lib/Catalyst/ActionRole/OAuth2/RequestAuth.pm line 31
	Catalyst::ActionRole::OAuth2::RequestAuth::build_oauth2_request('Moose::Meta::Class::__ANON__::SERIAL::11=HASH(0x562d39f5a930)', 'AuthServer::Controller::OAuth2::Provider=HASH(0x562d39df5e08)', 'AuthServer=HASH(0x562d3a078588)') called at /tmp/loop_over_bdir-14911-lv_PyT/CatalystX-OAuth2-0.001009-0/blib/lib/CatalystX/OAuth2/ActionRole/RequestInjector.pm line 17
	Class::MOP::Class:::before('Moose::Meta::Class::__ANON__::SERIAL::11=HASH(0x562d39f5a930)', 'AuthServer::Controller::OAuth2::Provider=HASH(0x562d39df5e08)', 'AuthServer=HASH(0x562d3a078588)') called at /home/sand/src/perl/repoperls/installed-perls/host/k93msid/v5.22.4/d2d1/lib/site_perl/5.22.4/x86_64-linux/Class/MOP/Method/Wrapped.pm line 27
	Moose::Meta::Class::__ANON__::SERIAL::11::_wrapped_execute('Moose::Meta::Class::__ANON__::SERIAL::11=HASH(0x562d39f5a930)', 'AuthServer::Controller::OAuth2::Provider=HASH(0x562d39df5e08)', 'AuthServer=HASH(0x562d3a078588)') called at /home/sand/src/perl/repoperls/installed-perls/host/k93msid/v5.22.4/d2d1/lib/site_perl/5.22.4/x86_64-linux/Class/MOP/Method/Wrapped.pm line 95
	Moose::Meta::Class::__ANON__::SERIAL::11::execute('Moose::Meta::Class::__ANON__::SERIAL::11=HASH(0x562d39f5a930)', 'AuthServer::Controller::OAuth2::Provider=HASH(0x562d39df5e08)', 'AuthServer=HASH(0x562d3a078588)') called at /home/sand/src/perl/repoperls/installed-perls/host/k93msid/v5.22.4/d2d1/lib/site_perl/5.22.4/Catalyst.pm line 2052
	eval {...} at /home/sand/src/perl/repoperls/installed-perls/host/k93msid/v5.22.4/d2d1/lib/site_perl/5.22.4/Catalyst.pm line 2052
	Catalyst::execute('AuthServer=HASH(0x562d3a078588)', 'AuthServer::Controller::OAuth2::Provider', 'Moose::Meta::Class::__ANON__::SERIAL::11=HASH(0x562d39f5a930)') called at /home/sand/src/perl/repoperls/installed-perls/host/k93msid/v5.22.4/d2d1/lib/site_perl/5.22.4/Catalyst/Action.pm line 353
	Catalyst::Action::dispatch('Moose::Meta::Class::__ANON__::SERIAL::11=HASH(0x562d39f5a930)', 'AuthServer=HASH(0x562d3a078588)') called at /home/sand/src/perl/repoperls/installed-perls/host/k93msid/v5.22.4/d2d1/lib/site_perl/5.22.4/Catalyst/ActionChain.pm line 46
	Catalyst::ActionChain::dispatch('Catalyst::ActionChain=HASH(0x562d3a1dbc00)', 'AuthServer=HASH(0x562d3a078588)') called at /home/sand/src/perl/repoperls/installed-perls/host/k93msid/v5.22.4/d2d1/lib/site_perl/5.22.4/Catalyst/Controller.pm line 171
	Catalyst::Controller::_ACTION('AuthServer::Controller::OAuth2::Provider=HASH(0x562d39df5e08)', 'AuthServer=HASH(0x562d3a078588)') called at /home/sand/src/perl/repoperls/installed-perls/host/k93msid/v5.22.4/d2d1/lib/site_perl/5.22.4/Catalyst/Action.pm line 358
	Catalyst::Action::execute('Catalyst::Action=HASH(0x562d39eeee98)', 'AuthServer::Controller::OAuth2::Provider=HASH(0x562d39df5e08)', 'AuthServer=HASH(0x562d3a078588)') called at /home/sand/src/perl/repoperls/installed-perls/host/k93msid/v5.22.4/d2d1/lib/site_perl/5.22.4/Catalyst.pm line 2052
	eval {...} at /home/sand/src/perl/repoperls/installed-perls/host/k93msid/v5.22.4/d2d1/lib/site_perl/5.22.4/Catalyst.pm line 2052
	Catalyst::execute('AuthServer=HASH(0x562d3a078588)', 'AuthServer::Controller::OAuth2::Provider', 'Catalyst::Action=HASH(0x562d39eeee98)') called at /home/sand/src/perl/repoperls/installed-perls/host/k93msid/v5.22.4/d2d1/lib/site_perl/5.22.4/Catalyst/Action.pm line 353
	Catalyst::Action::dispatch('Catalyst::Action=HASH(0x562d39eeee98)', 'AuthServer=HASH(0x562d3a078588)') called at /home/sand/src/perl/repoperls/installed-perls/host/k93msid/v5.22.4/d2d1/lib/site_perl/5.22.4/Catalyst/Dispatcher.pm line 262
	Catalyst::Dispatcher::_do_forward('Catalyst::Dispatcher=HASH(0x562d371fab00)', 'forward', 'AuthServer=HASH(0x562d3a078588)', '_ACTION') called at /home/sand/src/perl/repoperls/installed-perls/host/k93msid/v5.22.4/d2d1/lib/site_perl/5.22.4/Catalyst/Dispatcher.pm line 242
	Catalyst::Dispatcher::forward('Catalyst::Dispatcher=HASH(0x562d371fab00)', 'AuthServer=HASH(0x562d3a078588)', '_ACTION') called at /home/sand/src/perl/repoperls/installed-perls/host/k93msid/v5.22.4/d2d1/lib/site_perl/5.22.4/Catalyst.pm line 477
	Catalyst::forward('AuthServer=HASH(0x562d3a078588)', '_ACTION') called at /home/sand/src/perl/repoperls/installed-perls/host/k93msid/v5.22.4/d2d1/lib/site_perl/5.22.4/Catalyst/Controller.pm line 135
	Catalyst::Controller::_DISPATCH('AuthServer::Controller::OAuth2::Provider=HASH(0x562d39df5e08)', 'AuthServer=HASH(0x562d3a078588)') called at /home/sand/src/perl/repoperls/installed-perls/host/k93msid/v5.22.4/d2d1/lib/site_perl/5.22.4/Catalyst/Action.pm line 358
	Catalyst::Action::execute('Catalyst::Action=HASH(0x562d39ee8d60)', 'AuthServer::Controller::OAuth2::Provider=HASH(0x562d39df5e08)', 'AuthServer=HASH(0x562d3a078588)') called at /home/sand/src/perl/repoperls/installed-perls/host/k93msid/v5.22.4/d2d1/lib/site_perl/5.22.4/Catalyst.pm line 2052
	eval {...} at /home/sand/src/perl/repoperls/installed-perls/host/k93msid/v5.22.4/d2d1/lib/site_perl/5.22.4/Catalyst.pm line 2052
	Catalyst::execute('AuthServer=HASH(0x562d3a078588)', 'AuthServer::Controller::OAuth2::Provider', 'Catalyst::Action=HASH(0x562d39ee8d60)') called at /home/sand/src/perl/repoperls/installed-perls/host/k93msid/v5.22.4/d2d1/lib/site_perl/5.22.4/Catalyst/Action.pm line 353
	Catalyst::Action::dispatch('Catalyst::Action=HASH(0x562d39ee8d60)', 'AuthServer=HASH(0x562d3a078588)') called at /home/sand/src/perl/repoperls/installed-perls/host/k93msid/v5.22.4/d2d1/lib/site_perl/5.22.4/Catalyst/Dispatcher.pm line 262
	Catalyst::Dispatcher::_do_forward('Catalyst::Dispatcher=HASH(0x562d371fab00)', 'forward', 'AuthServer=HASH(0x562d3a078588)', '/oauth2/provider/_DISPATCH') called at /home/sand/src/perl/repoperls/installed-perls/host/k93msid/v5.22.4/d2d1/lib/site_perl/5.22.4/Catalyst/Dispatcher.pm line 242
	Catalyst::Dispatcher::forward('Catalyst::Dispatcher=HASH(0x562d371fab00)', 'AuthServer=HASH(0x562d3a078588)', '/oauth2/provider/_DISPATCH') called at /home/sand/src/perl/repoperls/installed-perls/host/k93msid/v5.22.4/d2d1/lib/site_perl/5.22.4/Catalyst.pm line 477
	Catalyst::forward('AuthServer=HASH(0x562d3a078588)', '/oauth2/provider/_DISPATCH') called at /home/sand/src/perl/repoperls/installed-perls/host/k93msid/v5.22.4/d2d1/lib/site_perl/5.22.4/Catalyst/Dispatcher.pm line 108
	Catalyst::Dispatcher::dispatch('Catalyst::Dispatcher=HASH(0x562d371fab00)', 'AuthServer=HASH(0x562d3a078588)') called at /home/sand/src/perl/repoperls/installed-perls/host/k93msid/v5.22.4/d2d1/lib/site_perl/5.22.4/Catalyst.pm line 1998
	Catalyst::dispatch('AuthServer=HASH(0x562d3a078588)') called at /home/sand/src/perl/repoperls/installed-perls/host/k93msid/v5.22.4/d2d1/lib/site_perl/5.22.4/x86_64-linux/Class/MOP/Method/Wrapped.pm line 56
	AuthServer::_wrapped_dispatch('AuthServer=HASH(0x562d3a078588)') called at /home/sand/src/perl/repoperls/installed-perls/host/k93msid/v5.22.4/d2d1/lib/site_perl/5.22.4/x86_64-linux/Class/MOP/Method/Wrapped.pm line 95
	AuthServer::dispatch('AuthServer=HASH(0x562d3a078588)') called at t/unit/200-actionrole-request-auth.t line 19
[warn] Useless setting a header value after finalize_headers and the response callback has been called. Since we don't support tail headers this will not work as you might expect.
[warn] Useless setting a header value after finalize_headers and the response callback has been called. Since we don't support tail headers this will not work as you might expect.
t/unit/200-actionrole-request-auth.t .................. ok
[warn] Useless setting a header value after finalize_headers and the response callback has been called. Since we don't support tail headers this will not work as you might expect.
[warn] Useless setting a header value after finalize_headers and the response callback has been called. Since we don't support tail headers this will not work as you might expect.
[warn] Useless setting a header value after finalize_headers and the response callback has been called. Since we don't support tail headers this will not work as you might expect.
t/unit/300-actionrole-grant-auth.t .................... ok
t/unit/400-actionrole-auth-token-via-auth-grant.t ..... ok
t/unit/500-actionrole-auth-token-via-refresh-token.t .. ok
[warn] Useless setting a header value after finalize_headers and the response callback has been called. Since we don't support tail headers this will not work as you might expect.
t/unit/600-actionrole-protected-resource.t ............ ok
[error] No default action defined
[warn] Useless setting a header value after finalize_headers and the response callback has been called. Since we don't support tail headers this will not work as you might expect.
[error] No default action defined
t/unit/700-client.t ................................... ok
All tests successful.
Files=11, Tests=153, 44 wallclock secs ( 0.05 usr  0.07 sys + 20.79 cusr  2.46 csys = 23.37 CPU)
Result: PASS

------------------------------
PREREQUISITES
------------------------------

Prerequisite modules loaded:

requires:

    Module                                   Need    Have      
    ---------------------------------------- ------- ----------
    base                                     0       2.22_01   
    Class::Load                              0       0.24      
    DBIx::Class                              0       0.082840  
    DBIx::Class::ResultSet                   0       0         
    DBIx::Class::Schema                      0       0         
    HTTP::Request::Common                    0       6.13      
    JSON::Any                                0       1.39      
    LWP::UserAgent                           0       6.27      
    Moose                                    0       2.2006    
    Moose::Role                              0       2.2006    
    Moose::Util                              0       2.2006    
    Moose::Util::TypeConstraints             0       2.2006    
    MooseX::NonMoose                         0       0.26      
    MooseX::SetOnce                          0       0.200002  
    MooseX::Types::Common::String            0       0.001014  
    parent                                   0       0.236     
    perl                                     5.006   5.022004  
    Scalar::Util                             0       1.49      
    strict                                   0       1.09      
    Try::Tiny                                0       0.28      
    URI                                      0       1.72      
    warnings                                 0       1.34      

build_requires:

    Module                                   Need    Have      
    ---------------------------------------- ------- ----------
    blib                                     1.01    1.06      
    Catalyst                                 0       5.90115   
    Catalyst::Controller                     0       0         
    Catalyst::Controller::ActionRole         0       0.17      
    Catalyst::Model::DBIC::Schema            0       0.65      
    Catalyst::Plugin::Authentication         0       0.10023   
    Catalyst::Plugin::ConfigLoader           0       0.34      
    Catalyst::Plugin::Session                0       0.40      
    Catalyst::Plugin::Session::State::Cookie 0       0.17      
    Catalyst::Test                           0       0         
    Devel::Dwarn                             0       0         
    ExtUtils::MakeMaker                      0       7.31_04   
    File::Spec                               0       3.62      
    HTTP::Request                            0       6.13      
    IO::Handle                               0       1.35      
    IPC::Open3                               0       1.18      
    lib                                      0       0.63      
    namespace::autoclean                     0       0.28      
    Plack::Builder                           0       0         
    Plack::Test                              0       0         
    SQL::Translator                          0.11006 0.11023   
    strictures                               1       2.000003  
    Test::Exception                          0       0.43      
    Test::MockObject                         0       1.20161202
    Test::More                               0       1.302120  
    Test::WWW::Mechanize::PSGI               0       0.37      

configure_requires:

    Module                                   Need    Have      
    ---------------------------------------- ------- ----------
    ExtUtils::MakeMaker                      0       7.31_04   


------------------------------
ENVIRONMENT AND OTHER CONTEXT
------------------------------

Environment variables:

    AUTOMATED_TESTING = 1
    LANG = en_US.UTF-8
    PATH = /home/sand/bin:/usr/local/bin:/usr/bin:/bin:/usr/games:/usr/local/perl/bin:/usr/X11/bin:/sbin:/usr/sbin
    PERL5LIB = 
    PERL5OPT = 
    PERL5_CPANPLUS_IS_RUNNING = 14916
    PERL5_CPAN_IS_RUNNING = 14916
    PERL5_CPAN_IS_RUNNING_IN_RECURSION = 22402,14916
    PERL_CANARY_STABILITY_NOPROMPT = 1
    PERL_MM_USE_DEFAULT = 1
    PERL_USE_UNSAFE_INC = 1
    SHELL = /usr/bin/zsh
    TERM = screen

Perl special variables (and OS-specific diagnostics, for MSWin32):

    $^X = /home/sand/src/perl/repoperls/installed-perls/host/k93msid/v5.22.4/d2d1/bin/perl
    $UID/$EUID = 1005 / 1005
    $GID = 1005 1005
    $EGID = 1005 1005

Perl module toolchain versions installed:

    Module              Have    
    ------------------- --------
    CPAN                2.18    
    CPAN::Meta          2.150010
    Cwd                 3.62    
    ExtUtils::CBuilder  0.280230
    ExtUtils::Command   7.31_04 
    ExtUtils::Install   2.06    
    ExtUtils::MakeMaker 7.31_04 
    ExtUtils::Manifest  1.70    
    ExtUtils::ParseXS   3.35    
    File::Spec          3.62    
    JSON                2.96    
    JSON::PP            2.96    
    Module::Build       0.4224  
    Module::Signature   0.81    
    Parse::CPAN::Meta   2.150010
    Test::Harness       3.39    
    Test::More          1.302120
    YAML                1.24    
    YAML::Syck          1.30    
    version             0.9918  


--

Summary of my perl5 (revision 5 version 22 subversion 4) configuration:
  Derived from: a26666a1317770d8a2228ac3657ba58020c3511f
  Platform:
    osname=linux, osvers=4.12.0-2-amd64, archname=x86_64-linux
    uname='linux k93msid 4.12.0-2-amd64 #1 smp debian 4.12.13-1 (2017-09-19) x86_64 gnulinux '
    config_args='-Dprefix=/home/sand/src/perl/repoperls/installed-perls/host/k93msid/v5.22.4/d2d1 -Dmyhostname=k93msid -Dinstallusrbinperl=n -Uversiononly -Dusedevel -des -Ui_db -Dlibswanted=cl pthread socket inet nsl gdbm dbm malloc dl ld sun m crypt sec util c cposix posix ucb BSD gdbm_compat -Uuseithreads -Uuselongdouble -DDEBUGGING=both'
    hint=recommended, useposix=true, d_sigaction=define
    useithreads=undef, usemultiplicity=undef
    use64bitint=define, use64bitall=define, uselongdouble=undef
    usemymalloc=n, bincompat5005=undef
  Compiler:
    cc='cc', ccflags ='-fwrapv -DDEBUGGING -fno-strict-aliasing -pipe -fstack-protector-strong -I/usr/local/include -D_LARGEFILE_SOURCE -D_FILE_OFFSET_BITS=64',
    optimize='-O2 -g',
    cppflags='-fwrapv -DDEBUGGING -fno-strict-aliasing -pipe -fstack-protector-strong -I/usr/local/include'
    ccversion='', gccversion='7.2.0', gccosandvers=''
    intsize=4, longsize=8, ptrsize=8, doublesize=8, byteorder=12345678, doublekind=3
    d_longlong=define, longlongsize=8, d_longdbl=define, longdblsize=16, longdblkind=3
    ivtype='long', ivsize=8, nvtype='double', nvsize=8, Off_t='off_t', lseeksize=8
    alignbytes=8, prototype=define
  Linker and Libraries:
    ld='cc', ldflags =' -fstack-protector-strong -L/usr/local/lib'
    libpth=/usr/local/lib /usr/lib/gcc/x86_64-linux-gnu/7/include-fixed /usr/include/x86_64-linux-gnu /usr/lib /lib/x86_64-linux-gnu /lib/../lib /usr/lib/x86_64-linux-gnu /usr/lib/../lib /lib
    libs=-lpthread -lnsl -ldl -lm -lcrypt -lutil -lc
    perllibs=-lpthread -lnsl -ldl -lm -lcrypt -lutil -lc
    libc=libc-2.24.so, so=so, useshrplib=false, libperl=libperl.a
    gnulibc_version='2.24'
  Dynamic Linking:
    dlsrc=dl_dlopen.xs, dlext=so, d_dlsymun=undef, ccdlflags='-Wl,-E'
    cccdlflags='-fPIC', lddlflags='-shared -O2 -g -L/usr/local/lib -fstack-protector-strong'


Characteristics of this binary (from libperl): 
  Compile-time options: DEBUGGING HAS_TIMES PERLIO_LAYERS
                        PERL_DONT_CREATE_GVSV
                        PERL_HASH_FUNC_ONE_AT_A_TIME_HARD PERL_MALLOC_WRAP
                        PERL_NEW_COPY_ON_WRITE PERL_PRESERVE_IVUV
                        PERL_USE_DEVEL USE_64_BIT_ALL USE_64_BIT_INT
                        USE_LARGE_FILES USE_LOCALE USE_LOCALE_COLLATE
                        USE_LOCALE_CTYPE USE_LOCALE_NUMERIC USE_LOCALE_TIME
                        USE_PERLIO USE_PERL_ATOF
  Locally applied patches:
	uncommitted-changes
  Built under linux
  Compiled at Oct  2 2017 10:47:51
  %ENV:
    PERL5LIB=""
    PERL5OPT=""
    PERL5_CPANPLUS_IS_RUNNING="14916"
    PERL5_CPAN_IS_RUNNING="14916"
    PERL5_CPAN_IS_RUNNING_IN_RECURSION="22402,14916"
    PERL_CANARY_STABILITY_NOPROMPT="1"
    PERL_MM_USE_DEFAULT="1"
    PERL_USE_UNSAFE_INC="1"
  @INC:
    /home/sand/src/perl/repoperls/installed-perls/host/k93msid/v5.22.4/d2d1/lib/site_perl/5.22.4/x86_64-linux
    /home/sand/src/perl/repoperls/installed-perls/host/k93msid/v5.22.4/d2d1/lib/site_perl/5.22.4
    /home/sand/src/perl/repoperls/installed-perls/host/k93msid/v5.22.4/d2d1/lib/5.22.4/x86_64-linux
    /home/sand/src/perl/repoperls/installed-perls/host/k93msid/v5.22.4/d2d1/lib/5.22.4
    .