Report for Authen-Htpasswd-0.171

Back
From: metabase:user:30f4dfbe-2aae-11df-837a-5e0a49663a4f
Subject: PASS Authen-Htpasswd-0.171 v5.6.2 Mac OS X
Date: 2011-08-10T05:21:43Z

This distribution has been tested as part of the CPAN Testers
project, supporting the Perl programming language.  See
http://wiki.cpantesters.org/ for more information or email
questions to cpan-testers-discuss@perl.org


--
Dear Matt S Trout,

This is a computer-generated report for Authen-Htpasswd-0.171
on perl 5.6.2, created by CPAN-Reporter-1.1902.

Thank you for uploading your work to CPAN.  Congratulations!
All tests were successful.

Sections of this report:

    * Tester comments
    * Program output
    * Prerequisites
    * Environment and other context

------------------------------
TESTER COMMENTS
------------------------------

Additional comments from tester:

this report is from an automated smoke testing program
and was not reviewed by a human for accuracy

------------------------------
PROGRAM OUTPUT
------------------------------

Output from '/usr/bin/make test':

PERL_DL_NONLAZY=1 /usr/local/bin/perl5.6.2 "-MExtUtils::Command::MM" "-e" "test_harness(0, 'blib/lib', 'blib/arch')" t/*.t
t/01use.t .......... ok
t/02pod.t .......... skipped: Test::Pod 1.14 required
t/03podcoverage.t .. skipped: set TEST_POD to enable this test
t/04core.t ......... ok
t/05edit.t ......... ok
All tests successful.
Files=5, Tests=42,  1 wallclock secs ( 0.04 usr  0.02 sys +  0.29 cusr  0.10 csys =  0.45 CPU)
Result: PASS

------------------------------
PREREQUISITES
------------------------------

Prerequisite modules loaded:

requires:

    Module                Need Have
    --------------------- ---- ----
    Class::Accessor::Fast 0    0.34
    Crypt::PasswdMD5      0    1.3 
    Digest                0    1.16
    Digest::SHA1          0    2.13
    IO::LockedFile        0    0.23
    Scalar::Util          0    1.23

configure_requires:

    Module                Need Have
    --------------------- ---- ----
    ExtUtils::MakeMaker   0    6.56


------------------------------
ENVIRONMENT AND OTHER CONTEXT
------------------------------

Environment variables:

    AUTOMATED_TESTING = 1
    PATH = /usr/bin:/bin
    PERL5LIB = /Users/nigel/.cpan/build/Digest-SHA1-2.13-_iuePH/blib/arch:/Users/nigel/.cpan/build/Digest-SHA1-2.13-_iuePH/blib/lib:/Users/nigel/.cpan/build/IO-LockedFile-0.23-cx5l4o/blib/arch:/Users/nigel/.cpan/build/IO-LockedFile-0.23-cx5l4o/blib/lib:/Users/nigel/.cpan/build/Crypt-PasswdMD5-1.3-ejVFTt/blib/arch:/Users/nigel/.cpan/build/Crypt-PasswdMD5-1.3-ejVFTt/blib/lib:/Users/nigel/perl/Library/Perl/Updates/5.6.2:/Users/nigel/perl/Users/nigel/perl::/Users/nigel/perl/lib/perl5:/Users/nigel/perl/lib/perl5/site_perl
    PERL5OPT = 
    PERL5_CPANPLUS_IS_RUNNING = 82977
    PERL5_CPAN_IS_RUNNING = 82977
    PERL5_MINISMOKEBOX = 0.54
    PERL_EXTUTILS_AUTOINSTALL = --defaultdeps
    PERL_MM_USE_DEFAULT = 1
    SHELL = /bin/sh
    VERSIONER_PERL_PREFER_32_BIT = no
    VERSIONER_PERL_VERSION = 5.10.0

Perl special variables (and OS-specific diagnostics, for MSWin32):

    $^X = /usr/local/bin/perl5.6.2
    $UID/$EUID = 1077 / 1077
    $GID = 20 402 12 61 79 80 81 98 100 204 401 403 20
    $EGID = 20 402 12 61 79 80 81 98 100 204 401 403 20

Perl module toolchain versions installed:

    Module              Have  
    ------------------- ------
    CPAN                1.9600
    Cwd                 3.33  
    ExtUtils::CBuilder  n/a   
    ExtUtils::Command   1.17  
    ExtUtils::Install   1.54  
    ExtUtils::MakeMaker 6.56  
    ExtUtils::Manifest  1.58  
    ExtUtils::ParseXS   n/a   
    File::Spec          3.33  
    Module::Build       broken
    Module::Signature   0.68  
    Test::Harness       3.23  
    Test::More          0.98  
    YAML                broken
    YAML::Syck          1.17  
    version             0.75  


--

Summary of my perl5 (revision 5.0 version 6 subversion 2) configuration:
  Platform:
    osname=darwin, osvers=10.7.0, archname=darwin
    uname='darwin nigel.int.kcilink.com 10.7.0 darwin kernel version 10.7.0: sat jan 29 15:17:16 pst 2011; root:xnu-1504.9.37~1release_i386 i386 '
    config_args='-de'
    hint=previous, useposix=true, d_sigaction=define
    usethreads=undef use5005threads=undef useithreads=undef usemultiplicity=undef
    useperlio=undef d_sfio=undef uselargefiles=define usesocks=undef
    use64bitint=define use64bitall=define uselongdouble=undef
  Compiler:
    cc='cc', ccflags ='-pipe -fno-common -DPERL_DARWIN -no-cpp-precomp -fno-strict-aliasing -I/usr/local/include',
    optimize='-O3',
    cppflags='-pipe -fno-common -DPERL_DARWIN -no-cpp-precomp -fno-strict-aliasing -I/usr/local/include'
    ccversion='', gccversion='4.2.1 (Based on Apple Inc. build 5658) (LLVM build 2335.9)', gccosandvers=''
    intsize=4, longsize=8, ptrsize=8, doublesize=8, byteorder=12345678
    d_longlong=define, longlongsize=8, d_longdbl=define, longdblsize=16
    ivtype='long', ivsize=8, nvtype='double', nvsize=8, Off_t='off_t', lseeksize=8
    alignbytes=8, usemymalloc=n, prototype=define
  Linker and Libraries:
    ld='env MACOSX_DEPLOYMENT_TARGET=10.3 cc', ldflags =' -L/usr/local/lib'
    libpth=/usr/local/lib /usr/lib
    libs=-ldbm -ldl -lm -lc -lutil
    perllibs=-ldl -lm -lc -lutil
    libc=/usr/lib/libc.dylib, so=dylib, useshrplib=false, libperl=libperl.a
  Dynamic Linking:
    dlsrc=dl_dyld.xs, dlext=bundle, d_dlsymun=undef, ccdlflags=' '
    cccdlflags=' ', lddlflags=' -bundle -undefined dynamic_lookup -L/usr/local/lib'


Characteristics of this binary (from libperl): 
  Compile-time options: USE_64_BIT_INT USE_64_BIT_ALL USE_LARGE_FILES
  Built under darwin
  Compiled at Jun 20 2011 15:59:26
  %ENV:
    PERL5LIB="/Users/nigel/.cpan/build/Digest-SHA1-2.13-_iuePH/blib/arch:/Users/nigel/.cpan/build/Digest-SHA1-2.13-_iuePH/blib/lib:/Users/nigel/.cpan/build/IO-LockedFile-0.23-cx5l4o/blib/arch:/Users/nigel/.cpan/build/IO-LockedFile-0.23-cx5l4o/blib/lib:/Users/nigel/.cpan/build/Crypt-PasswdMD5-1.3-ejVFTt/blib/arch:/Users/nigel/.cpan/build/Crypt-PasswdMD5-1.3-ejVFTt/blib/lib:/Users/nigel/perl/Library/Perl/Updates/5.6.2:/Users/nigel/perl/Users/nigel/perl::/Users/nigel/perl/lib/perl5:/Users/nigel/perl/lib/perl5/site_perl"
    PERL5OPT=""
    PERL5_CPANPLUS_IS_RUNNING="82977"
    PERL5_CPAN_IS_RUNNING="82977"
    PERL5_MINISMOKEBOX="0.54"
    PERL_EXTUTILS_AUTOINSTALL="--defaultdeps"
    PERL_MM_USE_DEFAULT="1"
  @INC:
    /Users/nigel/.cpan/build/Digest-SHA1-2.13-_iuePH/blib/arch
    /Users/nigel/.cpan/build/Digest-SHA1-2.13-_iuePH/blib/lib
    /Users/nigel/.cpan/build/IO-LockedFile-0.23-cx5l4o/blib/arch
    /Users/nigel/.cpan/build/IO-LockedFile-0.23-cx5l4o/blib/lib
    /Users/nigel/.cpan/build/Crypt-PasswdMD5-1.3-ejVFTt/blib/arch
    /Users/nigel/.cpan/build/Crypt-PasswdMD5-1.3-ejVFTt/blib/lib
    /Users/nigel/perl/Library/Perl/Updates/5.6.2
    /Users/nigel/perl/Users/nigel/perl
    /Users/nigel/perl/lib/perl5/5.6.2/darwin
    /Users/nigel/perl/lib/perl5/5.6.2
    /Users/nigel/perl/lib/perl5
    /Users/nigel/perl/lib/perl5/site_perl/5.6.2/darwin
    /Users/nigel/perl/lib/perl5/site_perl/5.6.2
    /Users/nigel/perl/lib/perl5/site_perl
    /usr/local/lib/perl5/5.6.2/darwin
    /usr/local/lib/perl5/5.6.2
    /usr/local/lib/perl5/site_perl/5.6.2/darwin
    /usr/local/lib/perl5/site_perl/5.6.2
    /usr/local/lib/perl5/site_perl
    .