Report for Test-Pod-LinkCheck-0.008

Back
From: metabase:user:31d414ea-2aae-11df-837a-5e0a49663a4f
Subject: PASS Test-Pod-LinkCheck-0.008 v5.10.1 GNU/Linux
Date: 2014-12-19T22:44:47Z

This distribution has been tested as part of the CPAN Testers
project, supporting the Perl programming language.  See
http://wiki.cpantesters.org/ for more information or email
questions to cpan-testers-discuss@perl.org


--
Dear Apocalypse,

This is a computer-generated report for Test-Pod-LinkCheck-0.008
on perl 5.10.1, created by CPAN-Reporter-1.1803.

Thank you for uploading your work to CPAN.  Congratulations!
All tests were successful.

Sections of this report:

    * Tester comments
    * Program output
    * Prerequisites
    * Environment and other context

------------------------------
TESTER COMMENTS
------------------------------

Additional comments from tester:

this report is from an automated smoke testing program
and was not reviewed by a human for accuracy

------------------------------
PROGRAM OUTPUT
------------------------------

Output from './Build test':

t/00-compile.t ................ ok
# 
You should load Test::Tester before Test::Builder (or anything that loads Test::Builder) at /home/david/cpantesting/perl-5.10.1/lib/5.10.1/Test/Tester.pm line 9.
# 
# Generated by Dist::Zilla::Plugin::ReportVersions::Tiny v1.10
# perl: 5.010001 (wanted 5.006) on linux from /home/david/cpantesting/perl-5.10.1/bin/perl
# 
# App::PodLinkCheck::ParseLinks                 => 12         (want 4)      
# App::PodLinkCheck::ParseSections              => 12         (want any version)
# Capture::Tiny                                 => 0.27       (want any version)
# Exporter                                      => 5.63       (want any version)
# ExtUtils::MakeMaker                           => 7.04       (want any version)
# File::Spec                                    => 3.47       (want any version)
# File::Temp                                    => 0.22       (want any version)
# IO::Handle                                    => 1.28       (want any version)
# IPC::Open3                                    => 1.04       (want any version)
# Module::Build::Tiny                           => 0.039      (want 0.039)  
# Moose                                         => 2.1403     (want 1.01)   
# Moose::Util::TypeConstraints                  => 2.1403     (want 1.01)   
# Pod::Find                                     => 1.35       (want any version)
# Test::Builder                                 => 1.001009   (want 0.94)   
# Test::More                                    => 1.001009   (want 0.88)   
# Test::Pod                                     => 1.48       (want 1.44)   
# Test::Tester                                  => 0.109      (want any version)
# parent                                        => 0.228      (want any version)
# strict                                        => 1.04       (want any version)
# warnings                                      => 1.06       (want any version)
# 
# Thanks for using my code.  I hope it works for you.
# If not, please try and include this output in the bug report.
# That will help me reproduce the issue and solve your problem.
# 
t/000-report-versions-tiny.t .. ok
t/apocalypse.t ................ skipped: Test::Apocalypse required for validating the distribution
t/cpan_backend.t .............. ok
t/functions.t ................. ok
t/simple.t .................... ok
All tests successful.

Test Summary Report
-------------------
t/cpan_backend.t            (Wstat: 0 Tests: 24 Failed: 0)
  TODO passed:   3-8, 21-24
Files=6, Tests=130,  8 wallclock secs ( 0.04 usr  0.04 sys +  2.67 cusr  0.68 csys =  3.43 CPU)
Result: PASS

------------------------------
PREREQUISITES
------------------------------

Prerequisite modules loaded:

requires:

    Module                           Need  Have    
    -------------------------------- ----- --------
    App::PodLinkCheck::ParseLinks    4     12      
    App::PodLinkCheck::ParseSections 0     12      
    Capture::Tiny                    0     0.27    
    Exporter                         0     5.63    
    File::Spec                       0     3.47    
    Moose                            1.01  2.1403  
    Moose::Util::TypeConstraints     1.01  2.1403  
    parent                           0     0.228   
    perl                             5.006 5.010001
    Pod::Find                        0     1.35    
    strict                           0     1.04    
    Test::Builder                    0.94  1.001009
    Test::Pod                        1.44  1.48    
    warnings                         0     1.06    

build_requires:

    Module                           Need  Have    
    -------------------------------- ----- --------
    File::Spec                       0     3.47    
    File::Temp                       0     0.22    
    IO::Handle                       0     1.28    
    IPC::Open3                       0     1.04    
    perl                             5.006 5.010001
    Test::More                       0.88  1.001009
    Test::Tester                     0     0.109   

configure_requires:

    Module                           Need  Have    
    -------------------------------- ----- --------
    ExtUtils::MakeMaker              0     7.04    
    Module::Build::Tiny              0.039 0.039   
    perl                             5.006 5.010001


------------------------------
ENVIRONMENT AND OTHER CONTEXT
------------------------------

Environment variables:

    AUTOMATED_TESTING = 1
    PATH = /usr/local/bin:/usr/bin:/bin:/usr/games
    PERL = 5.10.1
    PERL5LIB = 
    PERL5OPT = 
    PERL5_CPANPLUS_IS_RUNNING = 8587
    PERL5_CPAN_IS_RUNNING = 8587
    PERLVER = 5.10.1
    PERL_INLINE_DIRECTORY = /home/david/.Inline-5.10.1
    PERL_MM_USE_DEFAULT = 1
    SHELL = /bin/bash
    TERM = screen

Perl special variables (and OS-specific diagnostics, for MSWin32):

    $^X = /home/david/cpantesting/perl-5.10.1/bin/perl
    $UID/$EUID = 1000 / 1000
    $GID = 1000 1000
    $EGID = 1000 1000

Perl module toolchain versions installed:

    Module              Have    
    ------------------- --------
    CPAN                1.9402  
    Cwd                 3.47    
    ExtUtils::CBuilder  0.2703  
    ExtUtils::Command   1.16    
    ExtUtils::Install   1.54    
    ExtUtils::MakeMaker 7.04    
    ExtUtils::Manifest  1.69    
    ExtUtils::ParseXS   2.2206  
    File::Spec          3.47    
    Module::Build       0.4210  
    Module::Signature   n/a     
    Test::Harness       3.34    
    Test::More          1.001009
    YAML                1.13    
    YAML::Syck          n/a     
    version             0.9909  


--

Summary of my perl5 (revision 5 version 10 subversion 1) configuration:
   
  Platform:
    osname=linux, osvers=2.6.18-4-xen-amd64, archname=x86_64-linux-thread-multi
    uname='linux pigsty.barnyard.co.uk 2.6.18-4-xen-amd64 #1 smp fri may 4 02:40:51 utc 2007 x86_64 gnulinux '
    config_args='-de -Duse64bitall -Dusethreads -Dprefix=/home/david/cpantesting/perl-5.10.1'
    hint=recommended, useposix=true, d_sigaction=define
    useithreads=define, usemultiplicity=define
    useperlio=define, d_sfio=undef, uselargefiles=define, usesocks=undef
    use64bitint=define, use64bitall=define, uselongdouble=undef
    usemymalloc=n, bincompat5005=undef
  Compiler:
    cc='cc', ccflags ='-D_REENTRANT -D_GNU_SOURCE -fno-strict-aliasing -pipe -fstack-protector -I/usr/local/include -D_LARGEFILE_SOURCE -D_FILE_OFFSET_BITS=64',
    optimize='-O2',
    cppflags='-D_REENTRANT -D_GNU_SOURCE -fno-strict-aliasing -pipe -fstack-protector -I/usr/local/include'
    ccversion='', gccversion='4.1.2 20061115 (prerelease) (Debian 4.1.1-21)', gccosandvers=''
    intsize=4, longsize=8, ptrsize=8, doublesize=8, byteorder=12345678
    d_longlong=define, longlongsize=8, d_longdbl=define, longdblsize=16
    ivtype='long', ivsize=8, nvtype='double', nvsize=8, Off_t='off_t', lseeksize=8
    alignbytes=8, prototype=define
  Linker and Libraries:
    ld='cc', ldflags =' -fstack-protector -L/usr/local/lib'
    libpth=/usr/local/lib /lib /usr/lib /lib64 /usr/lib64
    libs=-lnsl -lgdbm -ldb -ldl -lm -lcrypt -lutil -lpthread -lc -lgdbm_compat
    perllibs=-lnsl -ldl -lm -lcrypt -lutil -lpthread -lc
    libc=/lib/libc-2.3.6.so, so=so, useshrplib=false, libperl=libperl.a
    gnulibc_version='2.3.6'
  Dynamic Linking:
    dlsrc=dl_dlopen.xs, dlext=so, d_dlsymun=undef, ccdlflags='-Wl,-E'
    cccdlflags='-fPIC', lddlflags='-shared -O2 -L/usr/local/lib -fstack-protector'


Characteristics of this binary (from libperl): 
  Compile-time options: MULTIPLICITY PERL_DONT_CREATE_GVSV
                        PERL_IMPLICIT_CONTEXT PERL_MALLOC_WRAP USE_64_BIT_ALL
                        USE_64_BIT_INT USE_ITHREADS USE_LARGE_FILES
                        USE_PERLIO USE_REENTRANT_API
  Built under linux
  Compiled at Aug 25 2009 16:04:12
  %ENV:
    PERL="5.10.1"
    PERL5LIB=""
    PERL5OPT=""
    PERL5_CPANPLUS_IS_RUNNING="8587"
    PERL5_CPAN_IS_RUNNING="8587"
    PERLVER="5.10.1"
    PERL_INLINE_DIRECTORY="/home/david/.Inline-5.10.1"
    PERL_MM_USE_DEFAULT="1"
  @INC:
    /home/david/cpantesting/perl-5.10.1/lib/5.10.1/x86_64-linux-thread-multi
    /home/david/cpantesting/perl-5.10.1/lib/5.10.1
    /home/david/cpantesting/perl-5.10.1/lib/site_perl/5.10.1/x86_64-linux-thread-multi
    /home/david/cpantesting/perl-5.10.1/lib/site_perl/5.10.1
    .