Data-URIID vv0.16 Perl 5 v5.26.3 x86_64-linux
        
            - Status
- Pass
- From
- Slaven Rezić
- Dist
- 
                Data-URIID vv0.16
            
- Platform
- Perl 5 v5.26.3 x86_64-linux
- Date
- 2025-04-21 18:51:28
- ID
- a2654f3e-1ee1-11f0-bd19-6e506e8775ea
This distribution has been tested as part of the CPAN Testers
project, supporting the Perl programming language.  See
http://wiki.cpantesters.org/ for more information or email
questions to cpan-testers-discuss@perl.org
--
Dear Philipp Schafft,
This is a computer-generated report for Data-URIID-v0.16
on perl 5.26.3, created by CPAN-Reporter-1.2020.
Thank you for uploading your work to CPAN.  Congratulations!
All tests were successful.
Sections of this report:
    * Tester comments
    * Program output
    * Prerequisites
    * Environment and other context
------------------------------
TESTER COMMENTS
------------------------------
Additional comments from tester:
none provided
------------------------------
PROGRAM OUTPUT
------------------------------
Output from '/usr/bin/make test':
PERL_DL_NONLAZY=1 "/opt/perl-5.26.3/bin/perl" "-MExtUtils::Command::MM" "-MTest::Harness" "-e" "undef *Test::Harness::Switches; test_harness(0, 'blib/lib', 'blib/arch')" t/*.t
Couldn't load the specified math lib(s) 'Math::BigInt::GMP', so using fallback lib 'Math::BigInt::Calc' at /home/cpansand/.cpan/build/2025042016/Data-Identifier-v0.12-3/blib/lib/Data/Identifier.pm line 19.
t/01_load.t ...... ok
Couldn't load the specified math lib(s) 'Math::BigInt::GMP', so using fallback lib 'Math::BigInt::Calc' at /home/cpansand/.cpan/build/2025042016/Data-Identifier-v0.12-3/blib/lib/Data/Identifier.pm line 19.
t/02_wikidata.t .. ok
Couldn't load the specified math lib(s) 'Math::BigInt::GMP', so using fallback lib 'Math::BigInt::Calc' at /home/cpansand/.cpan/build/2025042016/Data-Identifier-v0.12-3/blib/lib/Data/Identifier.pm line 19.
t/03_uuid.t ...... ok
Couldn't load the specified math lib(s) 'Math::BigInt::GMP', so using fallback lib 'Math::BigInt::Calc' at /home/cpansand/.cpan/build/2025042016/Data-Identifier-v0.12-3/blib/lib/Data/Identifier.pm line 19.
t/04_oid.t ....... ok
Couldn't load the specified math lib(s) 'Math::BigInt::GMP', so using fallback lib 'Math::BigInt::Calc' at /home/cpansand/.cpan/build/2025042016/Data-Identifier-v0.12-3/blib/lib/Data/Identifier.pm line 19.
t/10_colour.t .... ok
Couldn't load the specified math lib(s) 'Math::BigInt::GMP', so using fallback lib 'Math::BigInt::Calc' at /home/cpansand/.cpan/build/2025042016/Data-Identifier-v0.12-3/blib/lib/Data/Identifier.pm line 19.
t/20_barcode.t ... ok
All tests successful.
Files=6, Tests=68,  1 wallclock secs ( 0.03 usr  0.02 sys +  1.20 cusr  0.19 csys =  1.44 CPU)
Result: PASS
------------------------------
PREREQUISITES
------------------------------
Prerequisite modules loaded:
requires:
    Module                    Need     Have    
    ------------------------- -------- --------
    Carp                      1.35     1.50    
    Data::Identifier          v0.11.0  v0.12   
    DateTime::Format::ISO8601 0.08     0.17    
    Digest::base              1.16     1.16    
    Encode                    3.19     3.21    
  ! I18N::LangTags            0.45     0.42    
  ! I18N::LangTags::Detect    1.08     1.06    
    JSON                      4.10     4.10    
    LWP::UserAgent            6.68     6.77    
    Math::BigInt              1.999816 2.005002
    MIME::Base64              3.15     3.16    
    perl                      5.016000 5.026003
    URI                       1.5      5.31    
    URI::Escape               3.31     5.31    
build_requires:
    Module                    Need     Have    
    ------------------------- -------- --------
    ExtUtils::MakeMaker       0        7.72    
    Test::Exception           0.30     0.43    
    Test::More                1.3      1.302209
    Test::Warn                0.30     0.37    
configure_requires:
    Module                    Need     Have    
    ------------------------- -------- --------
    ExtUtils::MakeMaker       0        7.72    
------------------------------
ENVIRONMENT AND OTHER CONTEXT
------------------------------
Environment variables:
    LANG = en_US.UTF-8
    PATH = /usr/local/bin:/usr/bin:/bin:/usr/local/sbin:/usr/sbin:/sbin:/home/cpansand/bin/linux-gnu:/home/cpansand/bin/sh:/home/cpansand/bin:/usr/games:/home/cpansand/devel:/home/eserte/src/srezic-misc/scripts
    PERL5LIB = /home/cpansand/.cpan/build/2025042016/Data-Identifier-v0.12-3/blib/arch:/home/cpansand/.cpan/build/2025042016/Data-Identifier-v0.12-3/blib/lib
    PERL5OPT = 
    PERL5_CPANPLUS_IS_RUNNING = 591002
    PERL5_CPAN_IS_RUNNING = 591002
    PERL5_CPAN_IS_RUNNING_IN_RECURSION = 588868,591002
    PERLDOC = -MPod::Perldoc::ToTextOverstrike
    PERL_BATCH = yes
    PERL_CANARY_STABILITY_NOPROMPT = 1
    PERL_CPAN_REPORTER_CONFIG = /var/tmp/cpansmoker-1023/2025042016/cpanreporter_000_config.ini
    PERL_EXTUTILS_AUTOINSTALL = --defaultdeps
    PERL_USE_UNSAFE_INC = 1
    SHELL = /usr/bin/zsh
    TERM = screen
    TMPDIR = /var/tmp/cpansmoker-1023/2025042016
Perl special variables (and OS-specific diagnostics, for MSWin32):
    $^X = /opt/perl-5.26.3/bin/perl
    $UID/$EUID = 1023 / 1023
    $GID = 1023 1023
    $EGID = 1023 1023
Perl module toolchain versions installed:
    Module              Have    
    ------------------- --------
    CPAN                2.18    
    CPAN::Meta          2.150010
    Cwd                 3.75    
    ExtUtils::CBuilder  0.280236
    ExtUtils::Command   7.72    
    ExtUtils::Install   2.06    
    ExtUtils::MakeMaker 7.72    
    ExtUtils::Manifest  1.75    
    ExtUtils::ParseXS   3.51    
    File::Spec          3.75    
    JSON                4.10    
    JSON::PP            4.16    
    Module::Build       0.4234  
    Module::Signature   n/a     
    Parse::CPAN::Meta   2.150010
    Test2               1.302209
    Test::Harness       3.38    
    Test::More          1.302209
    YAML                1.31    
    YAML::Syck          1.34    
    version             0.9917  
--
Summary of my perl5 (revision 5 version 26 subversion 3) configuration:
   
  Platform:
    osname=linux
    osvers=6.12.11-200.fc41.x86_64
    archname=x86_64-linux
    uname='linux cloud4.bbbike.org 6.12.11-200.fc41.x86_64 #1 smp preempt_dynamic fri jan 24 04:59:58 utc 2025 x86_64 gnulinux '
    config_args='-ds -e -Dprefix=/opt/perl-5.26.3 -Uinstallusrbinperl -Dcf_email=srezic@cpan.org'
    hint=recommended
    useposix=true
    d_sigaction=define
    useithreads=undef
    usemultiplicity=undef
    use64bitint=define
    use64bitall=define
    uselongdouble=undef
    usemymalloc=n
    default_inc_excludes_dot=define
    bincompat5005=undef
  Compiler:
    cc='cc'
    ccflags ='-fwrapv -fno-strict-aliasing -pipe -fstack-protector-strong -I/usr/local/include -D_LARGEFILE_SOURCE -D_FILE_OFFSET_BITS=64 -D_FORTIFY_SOURCE=2'
    optimize='-O2'
    cppflags='-fwrapv -fno-strict-aliasing -pipe -fstack-protector-strong -I/usr/local/include'
    ccversion=''
    gccversion='14.2.1 20250110 (Red Hat 14.2.1-7)'
    gccosandvers=''
    intsize=4
    longsize=8
    ptrsize=8
    doublesize=8
    byteorder=12345678
    doublekind=3
    d_longlong=define
    longlongsize=8
    d_longdbl=define
    longdblsize=16
    longdblkind=3
    ivtype='long'
    ivsize=8
    nvtype='double'
    nvsize=8
    Off_t='off_t'
    lseeksize=8
    alignbytes=8
    prototype=define
  Linker and Libraries:
    ld='cc'
    ldflags =' -fstack-protector-strong -L/usr/local/lib'
    libpth=/usr/local/lib /usr/lib /lib/../lib64 /usr/lib/../lib64 /lib /lib64 /usr/lib64 /usr/local/lib64
    libs=-lpthread -ldb -ldl -lm -lcrypt -lutil -lc
    perllibs=-lpthread -ldl -lm -lcrypt -lutil -lc
    libc=/lib/../lib64/libc.so.6
    so=so
    useshrplib=false
    libperl=libperl.a
    gnulibc_version='2.40'
  Dynamic Linking:
    dlsrc=dl_dlopen.xs
    dlext=so
    d_dlsymun=undef
    ccdlflags='-Wl,-E'
    cccdlflags='-fPIC'
    lddlflags='-shared -O2 -L/usr/local/lib -fstack-protector-strong'
Characteristics of this binary (from libperl): 
  Compile-time options:
    HAS_TIMES
    PERLIO_LAYERS
    PERL_COPY_ON_WRITE
    PERL_DONT_CREATE_GVSV
    PERL_MALLOC_WRAP
    PERL_OP_PARENT
    PERL_PRESERVE_IVUV
    USE_64_BIT_ALL
    USE_64_BIT_INT
    USE_LARGE_FILES
    USE_LOCALE
    USE_LOCALE_COLLATE
    USE_LOCALE_CTYPE
    USE_LOCALE_NUMERIC
    USE_LOCALE_TIME
    USE_PERLIO
    USE_PERL_ATOF
  Locally applied patches:
    Devel::PatchPerl 2.08
  Built under linux
  Compiled at Feb  6 2025 21:24:33
  %ENV:
    PERL5LIB="/home/cpansand/.cpan/build/2025042016/Data-Identifier-v0.12-3/blib/arch:/home/cpansand/.cpan/build/2025042016/Data-Identifier-v0.12-3/blib/lib"
    PERL5OPT=""
    PERL5_CPANPLUS_IS_RUNNING="591002"
    PERL5_CPAN_IS_RUNNING="591002"
    PERL5_CPAN_IS_RUNNING_IN_RECURSION="588868,591002"
    PERLDOC="-MPod::Perldoc::ToTextOverstrike"
    PERL_BATCH="yes"
    PERL_CANARY_STABILITY_NOPROMPT="1"
    PERL_CPAN_REPORTER_CONFIG="/var/tmp/cpansmoker-1023/2025042016/cpanreporter_000_config.ini"
    PERL_EXTUTILS_AUTOINSTALL="--defaultdeps"
    PERL_USE_UNSAFE_INC="1"
  @INC:
    /home/cpansand/.cpan/build/2025042016/Data-Identifier-v0.12-3/blib/arch
    /home/cpansand/.cpan/build/2025042016/Data-Identifier-v0.12-3/blib/lib
    /opt/perl-5.26.3/lib/site_perl/5.26.3/x86_64-linux
    /opt/perl-5.26.3/lib/site_perl/5.26.3
    /opt/perl-5.26.3/lib/5.26.3/x86_64-linux
    /opt/perl-5.26.3/lib/5.26.3
    .