Report for Acme-TLDR-0.004
Back
From: metabase:user:a0e144f2-373b-11e6-8edd-c6848980b093
Subject: PASS Acme-TLDR-0.004 v5.26.0 GNU/Linux
Date: 2017-04-16T22:18:35Z
This distribution has been tested as part of the CPAN Testers
project, supporting the Perl programming language. See
http://wiki.cpantesters.org/ for more information or email
questions to cpan-testers-discuss@perl.org
--
Dear Stanislaw Pusep,
This is a computer-generated report for Acme-TLDR-0.004
on perl 5.26.0, created by CPAN-Reporter-1.2018.
Thank you for uploading your work to CPAN. Congratulations!
All tests were successful.
Sections of this report:
* Tester comments
* Program output
* Prerequisites
* Environment and other context
------------------------------
TESTER COMMENTS
------------------------------
Additional comments from tester:
this report is from an automated smoke testing program
and was not reviewed by a human for accuracy
------------------------------
PROGRAM OUTPUT
------------------------------
Output from '/usr/bin/make test':
PERL_DL_NONLAZY=1 "/home/cpan4/install/bin/perl" "-MExtUtils::Command::MM" "-MTest::Harness" "-e" "undef *Test::Harness::Switches; test_harness(0, 'blib/lib', 'blib/arch')" t/*.t
t/00-compile.t ............... ok
t/author-critic.t ............ skipped: these tests are for testing by the author
t/author-test-eol.t .......... skipped: these tests are for testing by the author
ExtUtils::Installed cache: /home/cpan4/.local/share/.Acme-TLDR-c7a50196050afb5f5e59160ffa779640.cache
no cache found; generating
ACME::MyFirstModule::SETHS => ACME::MyFM::SETHS
ACME::THEDANIEL::Utils => ACME::THEDANIEL::U
AI::ConfusionMatrix => AI::CM
AI::MegaHAL => AI::MHAL
AI::NeuralNet::FastSOM => AI::NNet::FSOM
AWS-Signature4 => AWS-S4
AWS::CLI::Config => AWS::CLI::C
AWS::CLIWrapper => AWS::CLIW
Acme::ADEAS::Utils => A::ADEAS::U
Acme::ALEXEY::Utils => A::ALEXEY::U
Acme::ARUHI::Utils => A::ARUHI::U
Acme::AXP::Utils => A::AXP::U
Acme::AllThePerlIsAStage => A::AllThePIsAS
Acme::Ane => A::Ane
Acme::Array::MaxSize => A::A::MaxS
Acme::AutoloadAll => A::AAll
Acme::Boolean => A::B
Acme::Boom => *undef*
Acme::Buffy => *undef*
Acme::Buga => *undef*
Acme::CPANLists => A::CPANL
Acme::CPANLists::Import => A::CPANL::I
Acme::CPANLists::Import::BKB => A::CPANL::I::BKB
Acme::CPANLists::Import::NEILB => A::CPANL::I::NEILB
Acme::CPANLists::Import::PERLANCAR::Advent::2014 => A::CPANL::I::PERLANCAR::A::2014
Acme::CPANLists::Import::PERLANCAR::GetoptModules => A::CPANL::I::PERLANCAR::GM
Acme::CPANLists::Import::PerlAdvent::2000 => A::CPANL::I::PA::2000
Acme::CPANLists::Import::PerlAdvent::2001 => A::CPANL::I::PA::2001
Acme::CPANLists::Import::PerlAdvent::2002 => A::CPANL::I::PA::2002
Acme::CPANLists::Import::PerlAdvent::2003 => A::CPANL::I::PA::2003
Acme::CPANLists::Import::PerlAdvent::2004 => A::CPANL::I::PA::2004
Acme::CPANLists::Import::PerlAdvent::2005 => A::CPANL::I::PA::2005
Acme::CPANLists::Import::PerlAdvent::2006 => A::CPANL::I::PA::2006
Acme::CPANLists::Import::PerlAdvent::2007 => A::CPANL::I::PA::2007
Acme::CPANLists::Import::PerlAdvent::2008 => A::CPANL::I::PA::2008
Acme::CPANLists::Import::PerlAdvent::2009 => A::CPANL::I::PA::2009
Acme::CPANLists::Import::PerlAdvent::2010 => A::CPANL::I::PA::2010
Acme::CPANLists::Import::PerlAdvent::2011 => A::CPANL::I::PA::2011
Acme::CPANLists::Import::PerlAdvent::2012 => A::CPANL::I::PA::2012
Acme::CPANLists::Import::PerlAdvent::2013 => A::CPANL::I::PA::2013
Acme::CPANLists::Import::PerlAdvent::2014 => A::CPANL::I::PA::2014
Acme::CPANLists::Import::PerlAdvent::2015 => A::CPANL::I::PA::2015
Acme::CPANLists::Import::PerlAdvent::2016 => A::CPANL::I::PA::2016
Acme::CPANLists::Import::PerlDancerAdvent::2010 => A::CPANL::I::PDA::2010
Acme::CPANLists::Import::PerlDancerAdvent::2011 => A::CPANL::I::PDA::2011
Acme::CPANLists::Import::PerlDancerAdvent::2012 => A::CPANL::I::PDA::2012
Acme::CPANLists::Import::PerlDancerAdvent::2014 => A::CPANL::I::PDA::2014
Acme::CPANLists::Import::PerlDancerAdvent::2016 => A::CPANL::I::PDA::2016
Acme::CPANLists::Import::PerlTricks => A::CPANL::I::PT
Acme::CPANLists::Import::RSAVAGE => A::CPANL::I::RSAVAGE
Acme::CPANLists::Import::SHARYANTO => A::CPANL::I::SHARYANTO
Acme::CPANLists::PERLANCAR => A::CPANL::PERLANCAR
Acme::CPANLists::PERLANCAR::Self => A::CPANL::PERLANCAR::S
Acme::CPANLists::PERLANCAR::Temp::Plus => A::CPANL::PERLANCAR::T::P
Acme::CPANLists::PERLANCAR::Test => A::CPANL::PERLANCAR::T
Acme::CPANLists::SHARYANTO => A::CPANL::SHARYANTO
Acme::Cake => A::C
Acme::Capture => *undef*
Acme::Chef => *undef*
Acme::Coinbase => *undef*
Acme::Daily::Fail => A::D::F
Acme::Damn => A::D
Acme::Devel::Hide::Tiny => A::D::H::T
Acme::DieOnLoad => A::DieOnL
Acme::Dump::And::Dumper => A::D::And::D
Acme::Dzil::Plugin::Tester => A::D::P::T
Acme::EdError => A::EdE
Acme::EnclosedChar => A::EC
Acme::EvilLicense => A::EL
Acme::FixIO => A::FixIO
Acme::Flat => A::F
Acme::Frog => *undef*
Acme::Godot => A::G
Acme::Gosub => *undef*
Acme::HOIGAN => A::HOIGAN
Acme::Has::Tiny => A::Has::T
Acme::HashKeyOrderBrokenAgain => A::HKeyOBA
Acme::HidamariSketch => A::HS
Acme::Hodor => A::H
Acme::Holy::Shit::Here::Come::s::An::S => A::H::S::H::C::s::An::S
Acme::HowToMakeSushi => A::HowToMS
Acme::Include::Data => A::I::D
Acme::Indent => A::I
Acme::Iota => *undef*
Acme::IsItJSON => A::IsItJSON
Acme::JMOLLY::Utils => A::JMOLLY::U
Acme::KMX::Test => A::KMX::T
Acme::KeyboardMarathon => A::KM
Acme::LastWords => A::LW
Acme::LeetSpeak => A::LS
Acme::MadokaMagica => A::MM
Acme::MakeMoneyAtHome => A::MMAtH
Acme::Mandolion::Utils => A::M::U
Acme::Math::XS::LeanDist => A::M::XS::LD
Acme::MilkyHolmes => A::MH
Acme::MotorcycleGang => A::MG
Acme::MyFirstModule::ASTPL => A::MyFM::ASTPL
Acme::MyFirstModule::AUSTIN => A::MyFM::AUSTIN
Acme::MyFirstModule::BWAGNER => A::MyFM::BWAGNER
Acme::MyFirstModule::CARNIL => A::MyFM::CARNIL
Acme::MyFirstModule::DRPENGUIN => A::MyFM::DRPENGUIN
Acme::MyFirstModule::DRZIGMAN => A::MyFM::DRZIGMAN
Acme::MyFirstModule::MALLEN => A::MyFM::MALLEN
Acme::MyFirstModule::NANDO => A::MyFM::NANDO
Acme::MyFirstModule::RAYMONDJM => A::MyFM::RAYMONDJM
Acme::MyFirstModule::SADAMS => A::MyFM::SADAMS
Acme::MyFirstModule::WWILLIS => A::MyFM::WWILLIS
Acme::MyFirstModule::ddeimeke => A::MyFM::d
Acme::MyPeek => A::MyP
Acme::MySecondModule::SADAMS => A::MySM::SADAMS
Acme::NameGen => A::NGen
Acme::NamespaceRoulette => A::NR
Acme::Note => A::N
Acme::Ognon => A::O
Acme::PERLANCAR::Prime => A::PERLANCAR::P
Acme::PERLANCAR::Test::SameRelease => A::PERLANCAR::T::SR
Acme::Partitioner => A::P
Acme::People::Happy => A::P::H
Acme::Pi => A::Pi
Acme::Playpen => *undef*
Acme::Pony::Pink => A::P::P
Acme::PriPara => A::PriP
Acme::ProgressBar => A::PBar
Acme::Pythonic::Functions => A::P::F
Acme::RJWETMORE::Utils => A::RJWETMORE::U
Acme::Random => A::R
Acme::Random::Fire => A::R::F
Acme::Random::Hire => A::R::H
Acme::RandomEmoji => A::RE
Acme::Rautavistic::Sort => A::R::S
Acme::SList::Scheduler => A::SL::S
Acme::SList::Utilities => A::SL::U
Acme::Scurvy::Whoreson::BilgeRat => A::S::W::BRat
Acme::Shining => A::S
Acme::Sort::Sleep => A::S::S
Acme::Sterling => *undef*
Acme::Study::BLACKJ => A::S::BLACKJ
Acme::SuddenlyDeath => A::SD
Acme::Tau => A::Tau
Acme::Test::DROLSKY => A::T::DROLSKY
Acme::Test::VW => A::T::VW
Acme::Test::crypt => A::T::c
Acme::Time::Constant => A::T::C
Acme::Types::NonStandard => A::T::NonS
Acme::Unicodify => A::U
Acme::UseStrict => A::UseS
Acme::Version::Hex => A::V::Hex
Acme::Vuvuzela => A::V
Acme::XSS => A::XSS
Acme::Xyzzy => A::X
Acme::YBFOD => A::YBFOD
Acme::Zalgo => A::Z
Acme::require::case => A::r::c
Acme::this => A::t
Akamai::Edgegrid => A::E
Algorithm::AhoCorasick::XS => A::AhoC::XS
Algorithm::BinarySearch::Vec => A::BS::Vec
Algorithm::BitVector => A::BitV
Algorithm::Bitonic::Sort => A::B::S
Algorithm::C3 => A::C3
Algorithm::CheckDigits => A::CD
Algorithm::Combinatorics => *undef*
Algorithm::ConsistentHash::CHash => A::CH::CH
Algorithm::ConsistentHash::JumpHash => A::CH::JH
Algorithm::ConsistentHash::Ketama => A::CH::K
Algorithm::CouponCode => A::CC
Algorithm::Cron => *undef*
Algorithm::DBSCAN => A::DBSCAN
Algorithm::DecisionTree => A::DT
Algorithm::Dependency => *undef*
Algorithm::Diff => *undef*
Algorithm::Diff::Callback => A::D::C
Algorithm::Diff::HTMLTable => A::D::HTMLT
Algorithm::Diff::XS => A::D::XS
Algorithm::Evolutionary::Simple => A::E::S
Algorithm::GooglePolylineEncoding => A::GPE
Algorithm::Kelly => A::K
Algorithm::LUHN => A::LUHN
Algorithm::Loops => A::L
Algorithm::Merge => A::M
Algorithm::Munkres => *undef*
Algorithm::NCS => A::NCS
Algorithm::NeedlemanWunsch => A::NW
Algorithm::Numerical::Shuffle => A::N::S
Algorithm::Pair::Best2 => A::P::B2
Algorithm::RandomMatrixGeneration => A::RMG
Algorithm::RandomPointGenerator => A::RPG
Algorithm::SAT::Backtracking => A::SAT::B
Algorithm::Search => *undef*
Algorithm::TSort => A::TS
Algorithm::TokenBucket => A::TB
Alien::SeleniumRC => A::SRC
Alien::bz2::Installer => A::bz2::I
Align::Sequence => *undef*
AlignDB::IntSpan => ADB::IntS
AlignDB::IntSpanXS => ADB::IntSXS
Alt::Acme::Math::XS::CPP => Alt::A::M::XS::CPP
Alt::Acme::Math::XS::ModuleBuild => Alt::A::M::XS::MB
Alt::Acme::Math::XS::ModuleInstall => Alt::A::M::XS::MI
Alvis::TermTagger => A::TT
Amazon::S3::Thin => A::S3::T
Amazon::SNS => A::SNS
Amiga::ARexx => A::AR
Amiga::Exec => *undef*
Amon2::Auth::Site::Hatena => A2::A::S::H
Anagram::Groups => *undef*
Android::Build => *undef*
Any::Moose => Any::M
Any::URI::Escape => Any::URI::E
AnyDBM_File => AnyDBM_F
AnyData => AnyD
Apache::Admin::Config => A::A::C
Apache::ConfigParser => A::CP
Apache::Hadoop::Config => A::H::C
Apache::Hadoop::Watcher => A::H::W
Apache::Htaccess => *undef*
Apache::Htpasswd => *undef*
Apache::Log::Parser => A::Log::P
Apache::LogFormat::Compiler => A::LogF::C
Apache::LogRegex => A::LogR
Apache::Session => *undef*
Apache::Session::NoSQL => A::S::NoSQL
Apache::Test => A::T
Apachish::Examples => *undef*
Apigee::Edge => *undef*
App::256colors => App::256
App::AFNI::SiemensPhysio => App::AFNI::SP
App::ASCIIUtils => App::ASCIIU
App::Benchmark => App::B
App::Birthday => *undef*
App::Bootstrap::Perl => App::B::P
App::CLITestUtils => App::CLITU
App::CPAN::Changes => App::CPAN::C
App::CPAN::Dependents => App::CPAN::D
App::CPAN::Search => App::CPAN::S
App::Cache => App::C
App::CdUtils => App::CdU
App::Cmd::Starter => App::Cmd::S
App::CompleteUtils => App::CU
App::Cpan => *undef*
App::DataSectionSeekableUtils => App::DSSU
App::Devmode2 => App::D2
App::DistSync => App::DS
App::DistroWatchUtils => App::DWU
App::Dochazka::WWW => App::D::WWW
App::Du::Analyze => App::Du::A
App::DualLivedList => App::DLL
App::EC2::API::Tools => App::EC2::API::T
App::Environ => App::E
App::ExtractCPANModulesFromHTML => App::ECPANMFHTML
App::FatPacker => App::FatP
App::File::Grepper => App::F::G
App::Framework::Lite => App::F::L
App::GenPericmdScript => App::GenPS
App::GetClosestFile => App::GetCF
App::GitHubPullRequest => App::GitHubPR
App::GitUtils => App::GitU
App::Github::Email => App::G::E
App::GoogleSearchPerlIRCLogs => App::GSPIRCL
App::GoogleSearchPerlmonksUser => App::GSPU
App::HTRender => App::HTR
App::HasPrereqs => App::HasP
App::Hasher => App::H
App::Highlander => *undef*
App::INIUtils => App::INIU
App::Image::Generator => App::I::G
App::Info => App::I
App::Iptables2Dot => App::I2Dot
App::IsGitSynced => App::IsGitS
App::JSON::Tools => App::JSON::T
App::Kritika => App::K
App::LWP::Online => App::LWP::O
App::Lastmsg => App::L
App::LinguaENUtils => App::LENU
App::LinguaIDUtils => App::LIDU
App::LinguaSUUtils => App::LSUU
App::Locker => *undef*
App::MarkdownUtils => App::MU
App::Module::Lister => App::M::L
App::ModulePatchUtils => App::MPU
App::Monport => App::M
App::Mowyw => *undef*
App::MultiSsh => App::MSsh
App::NetdiscoX::Web::Plugin::GraphLink => App::NX::Web::P::GL
App::NetdiscoX::Web::Plugin::GraphLinkSwitch => App::NX::Web::P::GLS
App::NetdiscoX::Web::Plugin::JackLink => App::NX::Web::P::JL
App::NetdiscoX::Web::Plugin::JackReport => App::NX::Web::P::JR
App::NetdiscoX::Web::Plugin::RANCID => App::NX::Web::P::RANCID
App::Notifier::Client => App::N::C
App::PDF::Link => App::PDF::L
App::PNGCrush => App::PNGC
App::PPH21Utils => App::PPH21U
App::Packager => App::P
App::ParseCPANChanges => App::PCPANC
App::Pastebin::sprunge => App::P::s
App::PickRandomLines => App::PRL
App::Pinpp => *undef*
App::PlatformInfo => App::PI
App::Pod2CpanHtml => App::Pod2CH
App::Pods2Site => App::P2S
App::ProcUtils => App::PU
App::Prove => *undef*
App::Prove::State => App::P::S
App::Prove::State::Result => App::P::S::R
App::Prove::State::Result::Test => App::P::S::R::T
App::ProveWithPrereqsOnly => App::PWPO
App::Rad::Plugin::MoreHelp => App::Rad::P::MH
App::RecordStream => App::RS
App::RecordStream::Bio => App::RS::Bio
App::Repo => App::R
App::RewriteVersion => App::RV
App::SVG::Graph => App::SVG::G
App::Seacan => App::S
App::SerializeUtils => App::SU
App::Session::Token => App::S::T
App::Sets => *undef*
App::ShellCompleter::CpanUpload => App::SC::CU
App::ShellCompleter::YoutubeDl => App::SC::YDl
App::ShellCompleter::cpanm => App::SC::c
App::ShellCompleter::emacs => App::SC::e
App::ShellCompleter::meta => App::SC::m
App::ShellCompleter::mpv => App::SC::mpv
App::ShellCompleter::perlbrew => App::SC::p
App::ShellUtils => *undef*
App::SimpleHTTPServer => App::SHTTPS
App::SmokeBox::PerlVersion => App::SBox::PV
App::SpeedTest => App::ST
App::TableDataUtils => App::TDU
App::TimeClock => App::TC
App::TimeTracker::Command::TellSlack => App::TT::C::TS
App::Timestamper => App::T
App::TinyID => App::TID
App::Tool::Base => App::T::B
App::Translit::String => App::T::S
App::Trrr => *undef*
App::UniqFiles => App::UF
App::UpfUtils => App::UpfU
App::UuidUtils => App::UU
App::VOJournal => App::VOJ
App::VirtPerl => App::VP
App::Virtualenv => App::V
App::WeaverUtils => App::WU
App::WithSound => App::WS
App::WordListUtils => App::WLU
App::WordPressTools => App::WPT
App::XML::DocBook::Builder => App::XML::DocB::B
App::adr2org => App::adr2
App::after => App::a
App::breakout => App::b
App::chalk => App::c
App::chkfacl => *undef*
App::cloudconvert => *undef*
App::contenttype => *undef*
App::cpangrep => *undef*
App::cpanm::script => App::c::s
App::cpanminus => *undef*
App::cpanmw => *undef*
App::depakable => App::d
App::elsquid => App::e
App::errno => *undef*
App::eta2zero => App::eta2
App::genlines => App::g
App::githook::perltidy => App::g::p
App::imgsize => App::i
App::lcpan => App::l
App::lcpan::Call => App::l::C
App::lens => *undef*
App::linespeed => *undef*
App::manwrap::pm => App::m::pm
App::mimic => App::m
App::nauniq => App::n
App::norepeat => *undef*
App::numspeed => *undef*
App::p5stack => App::p5
App::palien => App::p
App::perlmv => *undef*
App::plockf => *undef*
App::plstrace => *undef*
App::podispell => *undef*
App::proxyforurl => *undef*
App::psort => *undef*
App::pwhich => *undef*
App::rainbarf => App::r
App::relpath => *undef*
App::remarkpl => *undef*
App::rmhere => *undef*
App::rsync::new2old => App::r::new2
App::screenorama => App::s
App::scriptdist => *undef*
App::setop => *undef*
App::spaceless => *undef*
App::ssl4curl => App::ssl4
App::subsort => *undef*
App::tabify => App::t
App::todoist => *undef*
App::toposort => *undef*
App::tracepm => *undef*
App::watcher => App::w
App::whichpm => *undef*
App::yajg => App::y
AppConfig => AppC
AppConfig::Std => AppC::Std
Archive::Any => A::Any
Archive::Any::Create => A::Any::C
Archive::Ar => A::Ar
Archive::ByteBoozer2 => A::BB2
Archive::Cpio => *undef*
Archive::Extract => *undef*
Archive::Har => A::Har
Archive::Merged => *undef*
Archive::SevenZip => A::SZip
Archive::Tar => A::Tar
Archive::Tar::Constant => A::Tar::C
Archive::Tar::File => A::Tar::F
Archive::Zip => A::Zip
Archive::Zip::SimpleZip => A::Zip::SZip
Array::APX => A::APX
Array::AllUtils => A::AllU
Array::Assign => A::A
Array::Contains => *undef*
Array::DeepUtils => A::DU
Array::Diff => *undef*
Array::Each::Override => A::E::O
Array::Find => *undef*
Array::Group => *undef*
Array::Heap => *undef*
Array::Heap::ModifiablePriorityQueue => A::H::MPQ
Array::IntSpan => A::IntS
Array::Iter => *undef*
Array::Iterator => *undef*
Array::RefElem => A::RefE
Array::Set => A::Set
Array::Transpose => *undef*
Array::Unique => *undef*
Array::Utils => *undef*
Arthas::Defaults => *undef*
Asm::Z80::Table => Asm::Z80::T
Asset::Pack => *undef*
Astro-SkyX => A-SkyX
Astro::Constants => *undef*
Astro::Coord::ECI => A::C::ECI
Astro::FITS::Header => A::FITS::H
Astro::PAL => A::PAL
Astro::SIMBAD::Client => A::SIMBAD::C
Astro::SunTime => A::SunT
Astro::Sunrise => *undef*
Astro::Telescope => *undef*
Astro::UTDF => A::UTDF
Async::Interrupt => *undef*
AsyncPing => AP
AtExit => AtE
AtomicParsley::Command => AP::C
Attribute::Boolean => *undef*
Attribute::Handlers => *undef*
Attribute::QueueStack => A::QS
Attribute::RecordCallers => A::RC
Attribute::Signature => *undef*
Attribute::Storage => *undef*
Attribute::Util => *undef*
Audio::LibSampleRate => A::LibSR
Audio::M4P => A::M4P
Audio::Scan => *undef*
AudioFile::Find => AF::F
AudioFile::Info => AF::I
AudioFile::Info::MP3::Info => AF::I::MP3::I
AudioFile::Info::MP3::Tag => AF::I::MP3::Tag
AudioFile::Info::MP4::Info => AF::I::MP4::I
Auth::GoogleAuth => A::GA
Auth::Yubikey_WebClient => A::YWebC
Authen::CAS::Client => A::CAS::C
Authen::Htpasswd => *undef*
Authen::NTLM => A::NTLM
Authen::Radius => *undef*
Authen::SASL => A::SASL
Authen::SASL::Perl::NTLM => A::SASL::P::NTLM
Authen::SASL::SASLprep => A::SASL::SASL
Authen::TacacsPlus => A::TP
Authorize::Rule => *undef*
AutoLoader => AL
AutoSplit => AS
Autoload::AUTOCAN => A::AUTOCAN
Aws::Polly::Select => Aws::P::S
B::CompilerPhase::Hook => B::CP::H
B::Compiling => B::C
B::Concise => *undef*
B::Debug => B::D
B::Deparse => *undef*
B::Flags => B::F
B::Generate => B::G
B::Hooks::OP::Check => B::H::OP::C
B::Hooks::OP::PPAddr => B::H::OP::PPA
B::Keywords => B::K
B::OPCheck => B::OPC
B::Op_private => B::O
B::RecDeparse => B::RecD
B::Showlex => B::S
B::Stats => *undef*
B::Terse => B::T
B::Tools => *undef*
B::Utils => B::U
B::Utils1 => B::U1
B::Xref => B::X
BSD::Resource => BSD::R
BSON::Decode => BSON::D
Baal::Parser => B::P
Backed_Objects => BO
BackupPC::XS => BPC::XS
Bag::Similarity => Bag::S
Banal::Utils => *undef*
Barcode::Code128 => B::C128
Barracuda::Api => B::Api
Bash::Completion => *undef*
Bash::Completion::Plugins::pinto => B::C::P::p
Bash::History::Read => B::H::R
Bb::Collaborate::Ultra => Bb::C::U
Bencher::BPM => B::BPM
Bencher::Tiny => *undef*
Benchmark::Apps => B::A
Benchmark::CSV => B::CSV
Benchmark::Report::GitHub => B::R::GitHub
Benchmark::Stopwatch => *undef*
Benchmark::Timer => *undef*
BenchmarkAnything::Config => BA::C
BenchmarkAnything::Reporter => BA::R
Bib::CrossRef => Bib::CRef
BibTeX::Parser => BibTeX::P
Biblio::EndnoteStyle => B::ES
Big5Plus => Big5P
Binary::Heap::Search => B::H::S
Bio::DB::NextProt => Bio::DB::NP
Bio::Kmer => Bio::K
Bio::LITE::Taxonomy => Bio::LITE::T
Bio::LITE::Taxonomy::NCBI => Bio::LITE::T::NCBI
Bio::LITE::Taxonomy::NCBI::Gi2taxid => Bio::LITE::T::NCBI::Gi2
Bio::Lite => Bio::L
Bio::RNA::SpliceSites::Scoring::MaxEntScan => Bio::RNA::SS::S::MaxEntS
Bio::Trace::ABIF => Bio::T::ABIF
Bio::fastAPD => Bio::fAPD
BioUtil => BioU
Bit::Fast => Bit::F
Bit::Manip => Bit::M
Bit::Manip::PP => Bit::M::PP
Bit::Vector => Bit::V
Bone::Easy => B::E
Bookings::Security::CVSS => B::S::CVSS
Boolean::Converter => *undef*
Bot::BasicBot => Bot::BBot
Bot::IRC::X::Dice => Bot::IRC::X::D
Bot::IRC::X::ManagementSpeak => Bot::IRC::X::MS
Bot::IRC::X::MetarTaf => Bot::IRC::X::MTaf
Bot::IRC::X::Retort => Bot::IRC::X::R
Bot::IRC::X::WwwShorten => Bot::IRC::X::WwwS
Brat::Handler => B::H
Bro::Log::Parse => Bro::Log::P
Broker::Async => *undef*
Browser::Open => *undef*
Builtin::Logged => B::L
Business::AuthorizeNet::CIM => B::ANet::CIM
Business::CCCheck => B::CCC
Business::CreditCard => B::CC
Business::ES::NIF => B::ES::NIF
Business::HK::IdentityCard => B::HK::IC
Business::IBAN::NL::BIC => B::IBAN::NL::BIC
Business::IBAN::Validator => B::IBAN::V
Business::ID::NPWP => B::ID::NPWP
Business::ISBN => B::ISBN
Business::ISBN::Data => B::ISBN::D
Business::ISSN => B::ISSN
Business::KontoCheck => B::KC
Business::PL::NIP => B::PL::NIP
Business::PT::BI => B::PT::BI
Business::Shipping::MRW => B::S::MRW
Business::Stripe => *undef*
Business::Tax::ID::PPH21 => B::Tax::ID::PPH21
Business::Tax::VAT::Validation => B::Tax::VAT::V
Business::UPC => B::UPC
Business::US::USPS::WebTools => B::US::USPS::WebT
Business::xISBN => B::xISBN
Bytes::Random::Secure => B::R::S
Bytes::Random::Secure::Tiny => B::R::S::T
Bytes::Random::XS => B::R::XS
C::Tokenize => C::T
C::Utility => C::U
CACertOrg::CA => CACOrg::CA
CAM::PDF::Annot => CAM::PDF::A
CASCM::Wrapper => CASCM::W
CDB_File => CDB_F
CDDB::File => CDDB::F
CDR::Parser::SI3000 => CDR::P::SI3000
CGI::Alternatives => CGI::A
CGI::Application => *undef*
CGI::Application::Plugin::Authentication => CGI::A::P::A
CGI::Application::Plugin::DevPopup => CGI::A::P::DevP
CGI::Application::Plugin::HTCompiled => CGI::A::P::HTC
CGI::Application::Plugin::PageBuilder => CGI::A::P::PB
CGI::Application::Plugin::Session => CGI::A::P::S
CGI::Application::Plugin::Stream => *undef*
CGI::CurlLog => CGI::CLog
CGI::Deurl::XS => CGI::D::XS
CGI::Emulate::PSGI => CGI::E::PSGI
CGI::Expand => CGI::E
CGI::Fast => CGI::F
CGI::Form2XML => CGI::F2XML
CGI::FormBuilder => CGI::FB
CGI::FormBuilder::Source::Perl => CGI::FB::S::P
CGI::Lite => CGI::L
CGI::Minimal => CGI::M
CGI::Plus => CGI::P
CGI::Pure => *undef*
CGI::Pure::Fast => CGI::P::F
CGI::Safe => CGI::S
CGI::Session => *undef*
CGI::Simple => *undef*
CGI::Stateless => *undef*
CGI::Struct => *undef*
CGI::Untaint => CGI::U
CGI::XMLPost => CGI::XMLP
CGI::apacheSSI => CGI::aSSI
COPS::Client => COPS::C
CPAN::Author => CPAN::A
CPAN::Bundle => CPAN::B
CPAN::CacheMgr => CPAN::CMgr
CPAN::Changes => CPAN::C
CPAN::Checksums => *undef*
CPAN::Common::Index => CPAN::C::I
CPAN::Complete => *undef*
CPAN::Debug => CPAN::D
CPAN::DeferredCode => CPAN::DC
CPAN::DistnameInfo => CPAN::DI
CPAN::Distribution => *undef*
CPAN::Distroprefs => *undef*
CPAN::Distrostatus => *undef*
CPAN::Exception::RecursiveDependency => CPAN::E::RD
CPAN::Exception::blocked_urllist => CPAN::E::b
CPAN::Exception::yaml_not_installed => CPAN::E::y
CPAN::Exception::yaml_process_error => *undef*
CPAN::FTP::netrc => CPAN::FTP::n
CPAN::FirstTime => CPAN::FT
CPAN::Flatten => CPAN::F
CPAN::HTTP::Client => CPAN::HTTP::C
CPAN::HTTP::Credentials => *undef*
CPAN::HandleConfig => CPAN::HC
CPAN::Index => CPAN::I
CPAN::Info::FromURL => CPAN::I::FURL
CPAN::InfoObj => CPAN::IObj
CPAN::Kwalify => CPAN::K
CPAN::LWP::UserAgent => CPAN::LWP::UA
CPAN::Meta => CPAN::M
CPAN::Meta::Check => CPAN::M::C
CPAN::Meta::Converter => *undef*
CPAN::Meta::Feature => CPAN::M::F
CPAN::Meta::History => CPAN::M::H
CPAN::Meta::Merge => CPAN::M::M
CPAN::Meta::Prereqs => CPAN::M::P
CPAN::Meta::Prereqs::Filter => CPAN::M::P::F
CPAN::Meta::Requirements => CPAN::M::R
CPAN::Meta::Spec => CPAN::M::S
CPAN::Meta::Validator => CPAN::M::V
CPAN::Meta::YAML => CPAN::M::YAML
CPAN::Mini => *undef*
CPAN::Mini::Devel => CPAN::M::D
CPAN::Mini::NoLargeFiles => CPAN::M::NoLF
CPAN::Mini::Visit::Simple => CPAN::M::V::S
CPAN::Mirrors => *undef*
CPAN::Module => *undef*
CPAN::Nearest => CPAN::N
CPAN::Perl::Releases => CPAN::P::R
CPAN::Plugin => CPAN::P
CPAN::Plugin::Specfile => CPAN::P::S
CPAN::Plugin::Sysdeps => *undef*
CPAN::Prompt => *undef*
CPAN::Queue => CPAN::Q
CPAN::Recent::Uploads => CPAN::R::U
CPAN::Reporter => CPAN::R
CPAN::Reporter::Smoker => CPAN::R::S
CPAN::Search::Author => CPAN::S::A
CPAN::Shell => CPAN::S
CPAN::Tarzip => CPAN::T
CPAN::Test::Dummy::Perl5::Deps::UndefModule => CPAN::T::D::P5::D::UM
CPAN::Test::Dummy::Perl5::DevRelease => CPAN::T::D::P5::DevR
CPAN::Test::Dummy::Perl5::DevRelease2 => CPAN::T::D::P5::DevR2
CPAN::Test::Dummy::Perl5::DifferentProvides => CPAN::T::D::P5::DP
CPAN::Test::Dummy::Perl5::StaticInstall => CPAN::T::D::P5::SI
CPAN::Test::Dummy::Perl5::VersionBump => CPAN::T::D::P5::VB
CPAN::Test::Dummy::ProvidesDupe => CPAN::T::D::PD
CPAN::Test::Dummy::SCO::Lacks => CPAN::T::D::SCO::L
CPAN::Test::Dummy::SCO::Pirated => CPAN::T::D::SCO::P
CPAN::Test::Dummy::SCO::Special => CPAN::T::D::SCO::S
CPAN::Testers => *undef*
CPAN::Testers::Common::Article => CPAN::T::C::A
CPAN::Testers::Common::Utils => CPAN::T::C::U
CPAN::Testers::Fact::PlatformInfo => CPAN::T::F::PI
CPAN::Testers::Report => CPAN::T::R
CPAN::Testers::Reports::Counts => CPAN::T::R::C
CPAN::Testers::TailLog => CPAN::T::TLog
CPAN::Testers::WWW::Reports::Parser => CPAN::T::WWW::R::P
CPAN::Testers::WWW::Statistics::Excel => CPAN::T::WWW::S::E
CPAN::Uploader => CPAN::U
CPAN::Version => CPAN::V
CPANPLUS::Config::BaseEnv => CPANPLUS::C::BEnv
CPANPLUS::Dist::Arch => CPANPLUS::D::A
CPANPLUS::Dist::Build => CPANPLUS::D::B
CPANPLUS::Dist::Slackware => CPANPLUS::D::S
CPANPLUS::Internals::Source::CPANIDX => CPANPLUS::I::S::CPANIDX
CPANPLUS::YACSmoke => CPANPLUS::YACS
CQL::Parser => CQL::P
CSS::Minifier => CSS::M
CSS::Minifier::XS => CSS::M::XS
CSS::Packer => CSS::P
CSS::Selector::Parser => CSS::S::P
CSS::Simple => CSS::S
CSS::Squish => *undef*
CSS::Tiny => CSS::T
CSel::Examples => CSel::E
Cache::Bounded => C::B
Cache::Escalate => C::E
Cache::FastMmap => C::FM
Cache::Keys::DSL => C::K::DSL
Cache::LRU => C::LRU
Cache::Memcached => C::M
Cache::Memcached::Fast => C::M::F
Cache::Memcached::Sweet => C::M::S
Cache::Memory::Simple => *undef*
Cache::Moustache => *undef*
Cache::Reddit => C::R
Cache::Repository => *undef*
Cache::Simple::TimedExpiry => C::S::TE
Calendar::Japanese::Holiday => C::J::H
Calendar::List => C::L
Calendar::Schedule => C::S
Calendar::Simple => *undef*
Call::Context => C::C
Call::From => C::F
Callback::Frame => *undef*
Canary::Stability => *undef*
Captcha::NocaptchaMailru => C::NM
Captcha::reCAPTCHA => C::reCAPTCHA
Captcha::reCAPTCHA::V2 => C::reCAPTCHA::V2
Capture::Attribute => C::A
Capture::Tiny => *undef*
Card::Magnetic => *undef*
Carp::Always => *undef*
Carp::Always::Color => C::A::C
Carp::Always::DieOnly => C::A::DieO
Carp::Assert => *undef*
Carp::Assert::More => C::A::M
Carp::Clan => *undef*
Carp::Clan::Share => C::C::S
Carp::Fix::1_25 => C::Fix::1_25
Carp::Heavy => C::H
Carp::Notify => C::N
Carp::Patch::Config => C::P::C
Catalyst::Manual => *undef*
Catmandu::Adlib => *undef*
Chart::Gnuplot => C::G
Chart::Math::Axis => C::M::A
Chatbot::Eliza => *undef*
Check::ISA => C::ISA
Check::UnitCheck => C::UC
Chemistry::Elements => *undef*
Chess::FIDE => C::FIDE
Chess::PGN::Moves => C::PGN::M
Chess::PGN::Parse => C::PGN::P
Chess::Rep => C::Rep
Chess::Rep::Coverage => C::Rep::C
Chimaera::Matcher => *undef*
Chorus::Expert => *undef*
Cisco::Management => *undef*
Cisco::SNMP => C::SNMP
Cisco::UCS => C::UCS
Class::Accessor => *undef*
Class::Accessor::Array => C::A::A
Class::Accessor::Array::Glob => C::A::A::G
Class::Accessor::Chained => *undef*
Class::Accessor::Classy => *undef*
Class::Accessor::Complex => *undef*
Class::Accessor::Constructor => *undef*
Class::Accessor::Fast::XS => C::A::F::XS
Class::Accessor::Inherited::XS => C::A::I::XS
Class::Accessor::Installer => C::A::I
Class::Accessor::Lazy => C::A::L
Class::Accessor::Lite => *undef*
Class::Accessor::Lite::Lazy => C::A::L::L
Class::Accessor::Lvalue => *undef*
Class::Adapter => *undef*
Class::Anonymous => *undef*
Class::AutoAccess => C::AA
Class::Autouse => *undef*
Class::Base => *undef*
Class::C3 => C::C3
Class::C3::Adopt::NEXT => C::C3::A::NEXT
Class::C3::Componentised => C::C3::C
Class::C3::XS => C::C3::XS
Class::CanBeA => C::CanBeA
Class::Constant => *undef*
Class::Core => *undef*
Class::Data::Accessor => C::D::A
Class::Data::ConfigHash => C::D::CH
Class::Data::Inheritable => C::D::I
Class::Date => C::D
Class::Declare => *undef*
Class::Declare::Attributes => *undef*
Class::Delegation => *undef*
Class::EHierarchy => C::EH
Class::Enumemon => *undef*
Class::ErrorHandler => *undef*
Class::Exporter => *undef*
Class::Factory => *undef*
Class::Factory::Enhanced => C::F::E
Class::Factory::Util => C::F::U
Class::Field => *undef*
Class::GenSource => C::GenS
Class::Generate => *undef*
Class::Gomor => *undef*
Class::Hook => *undef*
Class::ISA => *undef*
Class::Injection => C::I
Class::InsideOut => C::IOut
Class::Inspector => *undef*
Class::Iterator => *undef*
Class::Loader => *undef*
Class::MaybeXSAccessor => C::MXSA
Class::Measure => *undef*
Class::Member => *undef*
Class::Method::Modifiers => C::M::M
Class::Method::ModifiersX::Augment => C::M::MX::A
Class::Method::ModifiersX::Override => C::M::MX::O
Class::MethodMaker => C::MM
Class::Mixer => *undef*
Class::MixinFactory => C::MF
Class::ModuleByFile => C::MByF
Class::Monkey => *undef*
Class::Multimethods => *undef*
Class::Null => *undef*
Class::Observable => C::O
Class::Params => C::P
Class::Property => *undef*
Class::PublicPrivate => C::PP
Class::Rebirth => *undef*
Class::ReturnValue => C::RV
Class::Role => *undef*
Class::Singleton => *undef*
Class::Spiffy => *undef*
Class::Std => C::Std
Class::Std::Fast => C::Std::F
Class::Std::Utils => C::Std::U
Class::Storage => *undef*
Class::Struct => *undef*
Class::Throwable => *undef*
Class::Tiny => *undef*
Class::Tiny::Antlers => C::T::A
Class::Tiny::Chained => C::T::C
Class::Trigger => *undef*
Class::Unload => *undef*
Class::Utils => *undef*
Class::Variable => C::V
Class::Virtual => *undef*
Class::WeakSingleton => C::WS
Class::XSAccessor => C::XSA
Class::XSAccessor::Compat => C::XSA::C
ClassLoader => CL
ClickHouse => CH
Clone::PP => *undef*
Clone::Util => *undef*
Cmd::Interpreter => Cmd::I
Code::DRY => C::DRY
Code::Embeddable => *undef*
Code::Tooling => *undef*
Color::ANSI::Util => C::ANSI::U
Color::Library => *undef*
Color::RGB::Util => C::RGB::U
Color::Spectrum => *undef*
Color::Swatch::ASE::Reader => C::S::ASE::R
Color::Swatch::ASE::Writer => C::S::ASE::W
Combine::Keys => C::K
Common::Routine => *undef*
Comodo::DCV => C::DCV
Compare::Directory => *undef*
Complete::Acme::MetaSyntactic => C::A::MS
Complete::Bash => *undef*
Complete::Bash::History => C::B::H
Complete::Common => *undef*
Complete::Dist => *undef*
Complete::Dist::Zilla => C::D::Z
Complete::Dpkg => *undef*
Complete::Env => C::Env
Complete::FS => C::FS
Complete::File => *undef*
Complete::Fish => *undef*
Complete::Fish::Gen::FromGetoptLong => C::F::Gen::FGL
Complete::Fish::Gen::FromGetoptLongDescriptive => C::F::Gen::FGLD
Complete::Getopt::Long => C::G::L
Complete::Kernel => *undef*
Complete::Locale => *undef*
Complete::Man => C::Man
Complete::Module => *undef*
Complete::Number => *undef*
Complete::Path => *undef*
Complete::Perl => *undef*
Complete::Pod::Weaver => C::Pod::W
Complete::Program => *undef*
Complete::RPM => C::RPM
Complete::Regexp::Pattern => C::R::P
Complete::Riap => *undef*
Complete::Riap::Clientless => C::R::C
Complete::TZ => C::TZ
Complete::Tcsh => *undef*
Complete::Unix => *undef*
Complete::Util => *undef*
Complete::Zsh => C::Zsh
Complete::Zsh::Gen::FromGetoptLong => C::Zsh::Gen::FGL
Complete::Zsh::Gen::FromGetoptLongDescriptive => C::Zsh::Gen::FGLD
Compress::BGZF => C::BGZF
Compress::Bzip2 => C::B2
Compress::Huffman => *undef*
Compress::Huffman::Binary => C::H::B
Compress::LZ4 => C::LZ4
Compress::LZ4Frame => C::LZ4F
Compress::LZF => C::LZF
Compress::Raw::Bzip2 => C::Raw::B2
Compress::Raw::Zlib => C::Raw::Z
Compress::Snappy => *undef*
Compress::Zlib => C::Z
Compress::unLZMA => C::unLZMA
Config::Any => C::Any
Config::Any::Properties => C::Any::P
Config::App => C::App
Config::Auto => *undef*
Config::AutoConf => C::AC
Config::AutoConf::INI => C::AC::INI
Config::Dot => C::Dot
Config::Dot::Array => C::Dot::A
Config::DotNetXML => C::DotNetXML
Config::Entities => *undef*
Config::Extensions => *undef*
Config::File => *undef*
Config::Files::Simple => C::F::S
Config::Find => *undef*
Config::FromHash => C::FH
Config::General => *undef*
Config::Grammar => *undef*
Config::INI => C::INI
Config::INI::Reader::Multiline => C::INI::R::M
Config::INI::Reader::Ordered => C::INI::R::O
Config::IniFiles => C::IniF
Config::Merge => *undef*
Config::Model::Tester => C::M::T
Config::MyConfig2 => C::MyC2
Config::Neat => *undef*
Config::OpenSSH::Authkey => C::OSSH::A
Config::Options => *undef*
Config::PFiles::Path => C::PF::P
Config::PL => C::PL
Config::Param => *undef*
Config::Perl::V => C::P::V
Config::Pit => C::Pit
Config::Processor => *undef*
Config::Properties => *undef*
Config::Properties::Simple => C::P::S
Config::Settings => *undef*
Config::Simple => *undef*
Config::Simple::Conf => C::S::C
Config::Tiny => *undef*
Config::Tiny::Ordered => C::T::O
Config::Utils => *undef*
Config::Wild => C::W
Config::YAML => C::YAML
Config::apiLayers => C::apiL
ConfigReader::Simple => CR::S
Const::Fast => *undef*
Constant::Export::Lazy => C::E::L
Constant::FromGlobal => C::FG
Constant::Generate => *undef*
Constant::Generator => *undef*
Context::Preserve => *undef*
Contextual::Return => *undef*
Continual::Process => *undef*
Convert::ASCII::Armour => C::ASCII::A
Convert::Base32 => C::B32
Convert::Base32::Crockford => C::B32::C
Convert::Base64 => C::B64
Convert::BaseN => C::BN
Convert::Bencode => *undef*
Convert::BinHex => C::BinHex
Convert::CookingTimes => C::CT
Convert::IBM390 => C::IBM390
Convert::Moji => *undef*
Convert::NLS_DATE_FORMAT => C::NLS_DATE_FORMAT
Convert::Scalar => *undef*
Convert::TLI => C::TLI
Convert::UUlib => C::UU
Convert::Z85 => C::Z85
Cookie::Baker => *undef*
Cookie::Baker::XS => C::B::XS
Cpanel::JSON::XS => C::JSON::XS
Crypt::Argon2 => C::A2
Crypt::Blowfish => *undef*
Crypt::Blowfish_PP => C::BPP
Crypt::CBC => C::CBC
Crypt::Cryptoki => *undef*
Crypt::Curve25519 => C::C25519
Crypt::DES => C::DES
Crypt::DH::GMP => C::DH::GMP
Crypt::DRBG => C::DRBG
Crypt::ECB => C::ECB
Crypt::Ed25519 => C::Ed25519
Crypt::Format => *undef*
Crypt::GeneratePassword => C::GP
Crypt::HCE_MD5 => C::HCE_MD5
Crypt::HCE_SHA => C::HCE_SHA
Crypt::IDEA => C::IDEA
Crypt::JWT => C::JWT
Crypt::Libmcrypt => *undef*
Crypt::Lite => *undef*
Crypt::MagicSignatures::Envelope => C::MS::E
Crypt::MagicSignatures::Key => C::MS::Key
Crypt::Mode::CBC::Easy => C::M::CBC::E
Crypt::OpenBSD::Blowfish => C::OBSD::B
Crypt::OpenSSH::ChachaPoly => C::OSSH::CP
Crypt::OpenSSL::AES => C::OSSL::AES
Crypt::OpenSSL::Bignum => C::OSSL::B
Crypt::OpenSSL::DSA => C::OSSL::DSA
Crypt::OpenSSL::EC => C::OSSL::EC
Crypt::OpenSSL::ECDSA => C::OSSL::ECDSA
Crypt::OpenSSL::PBKDF2 => C::OSSL::PBKDF2
Crypt::OpenSSL::PKCS10 => C::OSSL::PKCS10
Crypt::OpenSSL::RSA => C::OSSL::RSA
Crypt::OpenSSL::Random => C::OSSL::R
Crypt::OpenSSL::VerifyX509 => C::OSSL::VX509
Crypt::OpenSSL::X509 => C::OSSL::X509
Crypt::PKCS11 => C::PKCS11
Crypt::PasswdMD5 => C::PMD5
Crypt::Password::Util => C::P::U
Crypt::RC4 => C::RC4
Crypt::RIPEMD160 => C::RIPEMD160
Crypt::RS14_PP => C::RS14_PP
Crypt::Random::Seed => C::R::S
Crypt::Random::TESHA2 => C::R::TESHA2
Crypt::Rhash => *undef*
Crypt::Rijndael => *undef*
Crypt::SSSS => C::SSSS
Crypt::SaltedHash => C::SH
Crypt::ScryptKDF => C::SKDF
Crypt::Skip32 => C::S32
Crypt::Skip32::XS => C::S32::XS
Crypt::Spritz => *undef*
Crypt::TEA_PP => C::TEA_PP
Crypt::TEA_XS => C::TEA_XS
Crypt::Twofish2 => C::T2
Crypt::URandom => C::UR
Crypt::UnixCrypt_XS => C::UCXS
Crypt::XTEA => C::XTEA
Crypt::XTEA::LE => C::XTEA::LE
Crypt::XTEA_PP => C::XTEA_PP
Crypt::XXTEA_PP => C::XXTEA_PP
Crypt::XXTEA_XS => C::XXTEA_XS
CryptX => CX
Cwd::Guard => Cwd::G
DB::Color => DB::C
DBI::Lite => DBI::L
DBIx::FunctionalAPI => DBIx::FAPI
DBIx::Mojo::Template => DBIx::M::T
DBIx::POS::Template => DBIx::POS::T
DBM_Filter => DBM_F
DBM_Filter::compress => DBM_F::c
DBM_Filter::encode => DBM_F::e
DBM_Filter::int32 => DBM_F::int32
DBM_Filter::null => DBM_F::n
DBM_Filter::utf8 => DBM_F::utf8
DB_File => DB_F
DFA::Statemap => DFA::S
DIME::Tools => DIME::T
DOCSIS::ConfigFile => DOCSIS::CF
DOM::Tiny => DOM::T
DR::Msgpuck => DR::M
DSP::LinPred_XS => DSP::LinPXS
DTL::Fast => DTL::F
Daemon::DaemonizeLight => D::DL
Danga::Socket => D::S
Data::BiaB => D::BiaB
Data::BitMask => D::BitM
Data::BitStream::XS => D::BitS::XS
Data::Bitfield => D::B
Data::Buffer => *undef*
Data::COW => D::COW
Data::CSel => D::CSel
Data::CSel::WrapStruct => D::CSel::WS
Data::Censor => D::C
Data::Check::Structure => D::C::S
Data::Checker => *undef*
Data::ChipsChallenge => D::CC
Data::Circular::Util => D::C::U
Data::CircularList => D::CL
Data::CleanJSON => D::CJSON
Data::Clone => *undef*
Data::Coloured => *undef*
Data::Compare => *undef*
Data::DPath => D::DP
Data::Dataset::Classic => D::D::C
Data::Debug => D::D
Data::DefGen => D::DefGen
Data::Define => *undef*
Data::Demos => *undef*
Data::Denter => *undef*
Data::Difflet => *undef*
Data::Diver => *undef*
Data::Dmp => D::Dmp
Data::Dmp::Org => D::Dmp::Org
Data::DownSample::LargestTriangleThreeBuckets => D::DS::LTTB
Data::Dump => *undef*
Data::Dump::Color => *undef*
Data::Dump::JavaScript => D::D::JS
Data::Dump::OneLine => D::D::OneL
Data::Dump::Partial => D::D::P
Data::Dump::Patch::Deparse => D::D::P::D
Data::Dump::Patch::ReplaceWithDataDmp => D::D::P::RWDDmp
Data::Dump::Perl6 => D::D::P6
Data::Dump::Ruby => D::D::R
Data::Dump::SortKeys => D::D::SK
Data::DumpXML => D::DXML
Data::Dumper => *undef*
Data::Dumper::Again => D::D::A
Data::Dumper::AutoEncode => D::D::AE
Data::Dumper::Concise => *undef*
Data::Dumper::Concise::Aligned => D::D::C::A
Data::Dumper::Hash => D::D::H
Data::Dumper::Lazy => D::D::L
Data::Dumper::OneLine => *undef*
Data::Dumper::Simple => D::D::S
Data::Dumper::Table => D::D::T
Data::EDI::X12 => D::EDI::X12
Data::ESN => D::ESN
Data::Edit::Xml => D::E::Xml
Data::FeatureFactory => D::FF
Data::Float => D::F
Data::Floid => *undef*
Data::FormValidator::Filters::Demoroniser => D::FV::F::D
Data::Format::Pretty::JSON => D::F::P::JSON
Data::Format::Pretty::Ruby => D::F::P::R
Data::Format::Pretty::YAML => D::F::P::YAML
Data::Freq => *undef*
Data::GUID => D::GUID
Data::Google::Visualization::DataTable => D::G::V::DT
Data::Graph::Util => D::G::U
Data::HanConvert => D::HanC
Data::HashArray => D::HA
Data::HexDump => D::HexD
Data::Hexdumper => D::H
Data::Hexify => *undef*
Data::Hive => *undef*
Data::ICal => D::ICal
Data::ICal::TimeZone => D::ICal::TZ
Data::IEEE754::Tools => D::IEEE754::T
Data::Inherited => D::I
Data::Inspect => *undef*
Data::Integer => *undef*
Data::Interactive::Inspect => D::I::I
Data::Kanji::Kanjidic => D::K::K
Data::Kanji::Tomoe => D::K::T
Data::Layout::BuddySystem => D::L::BS
Data::Lock => D::L
Data::MATFile => D::MATF
Data::MEID => D::MEID
Data::Mining::Apriori => D::M::A
Data::Miscellany => D::M
Data::ModeMerge => D::MM
Data::Monad => *undef*
Data::Munge => *undef*
Data::NestedParams => D::NP
Data::OptList => D::OptL
Data::Page => D::P
Data::Pageset => *undef*
Data::Password => *undef*
Data::Password::Entropy => D::P::E
Data::Password::Filter => D::P::F
Data::Password::Meter => D::P::M
Data::PatternCompare => D::PC
Data::Peek => *undef*
Data::Phrasebook => *undef*
Data::Phrasebook::Loader::Ini => D::P::L::Ini
Data::Phrasebook::Loader::JSON => D::P::L::JSON
Data::Phrasebook::Loader::XML => D::P::L::XML
Data::Phrasebook::Loader::YAML => D::P::L::YAML
Data::Processor => *undef*
Data::Radius => D::R
Data::Random => *undef*
Data::Random::Tree => D::R::T
Data::Random::Weighted => D::R::W
Data::Range::Compare => D::R::C
Data::Range::Compare::Stream => D::R::C::S
Data::Reach => *undef*
Data::Record => *undef*
Data::RecordStore => D::RS
Data::Recursive::Encode => D::R::E
Data::ResultSet => D::RSet
Data::Rmap => *undef*
Data::Rx => D::Rx
Data::SImeasures => D::SI
Data::Section => *undef*
Data::Section::Seekable => D::S::S
Data::Section::Simple => *undef*
Data::Selector => *undef*
Data::Serializer => *undef*
Data::Serializer::Data::Dmp => D::S::D::Dmp
Data::Serializer::Data::Dump => D::S::D::D
Data::Serializer::JSON::MaybeXS => D::S::JSON::MXS
Data::Serializer::Sereal => *undef*
Data::Show => *undef*
Data::Stacker => *undef*
Data::Struct => *undef*
Data::Structure::Util => D::S::U
Data::Tab => D::Tab
Data::Table => D::T
Data::Table::Text => D::T::T
Data::Tabulate => *undef*
Data::Tabulate::Plugin::ASCIITable => D::T::P::ASCIIT
Data::Tabulate::Plugin::HTMLTable => D::T::P::HTMLT
Data::Taxi => *undef*
Data::Throttler => *undef*
Data::Tools => *undef*
Data::Transactional => *undef*
Data::Transform::ExplicitMetadata => D::T::EM
Data::Transformer => *undef*
Data::Transmute => *undef*
Data::TreeDumper => D::TD
Data::Tubes => *undef*
Data::Tumbler => *undef*
Data::Types => *undef*
Data::UUID => D::UUID
Data::UUID::NCName => D::UUID::NCN
Data::Undump => D::U
Data::Uniqid => *undef*
Data::Unique::Name => D::U::N
Data::Util => *undef*
Data::Validate => D::V
Data::Validate::Currency => D::V::C
Data::Validate::IP => D::V::IP
Data::Validate::Image => D::V::I
Data::Validate::Sanctions => D::V::S
Data::Validate::Type => D::V::T
Data::Validate::UUID => D::V::UUID
Data::Validate::VIN => D::V::VIN
Data::Validate::WithYAML => D::V::WYAML
Data::Validate::WithYAML::Plugin::IBAN => D::V::WYAML::P::IBAN
Data::Validator => *undef*
Data::Validator::Recursive => D::V::R
Data::Walk => D::W
Data::WeightedRoundRobin => D::WRR
Data::XLSX::Parser => D::XLSX::P
Data::YAML => D::YAML
Data::iRealPro => D::iRPro
DataDist => DD
DataDog::DogStatsd => DDog::DogS
Database::Sophia => *undef*
Date::Baha::i => D::B::i
Date::Calc => *undef*
Date::Calc::Endpoints => D::C::E
Date::Calc::XS => D::C::XS
Date::Convert => *undef*
Date::Convert::French_Rev => D::C::FRev
Date::DayOfWeek => D::DayOfW
Date::Easter => D::E
Date::Easy => *undef*
Date::EzDate => D::EzD
Date::Fmtstr2time => D::F2
Date::Holidays::AT => D::H::AT
Date::Holidays::AU => D::H::AU
Date::Holidays::Abstract => D::H::A
Date::Holidays::BR => D::H::BR
Date::Holidays::CZ => D::H::CZ
Date::Holidays::DE => D::H::DE
Date::Holidays::GB => D::H::GB
Date::Holidays::PT => D::H::PT
Date::Holidays::RU => D::H::RU
Date::Holidays::SK => D::H::SK
Date::Holidays::Super => D::H::S
Date::Holidays::USFederal => D::H::USF
Date::ICal => *undef*
Date::ISO8601 => D::ISO8601
Date::Leapyear => *undef*
Date::Lectionary::Time => D::L::T
Date::Manip => *undef*
Date::Parse => *undef*
Date::Parse::Lite => D::P::L
Date::Passover => *undef*
Date::Qreki => D::Q
Date::QuarterOfYear => D::QOfY
Date::Reformat => *undef*
Date::Simple => *undef*
Date::Time2fmtstr => D::T2
Date::Tiny => *undef*
Date::Tolkien::Shire => D::T::S
Date::Tolkien::Shire::Data => D::T::S::D
Date::WeekNumber => D::WN
DateTime::Format::Human::Duration => DT::F::H::D
DateTime::Tiny => DT::T
Debug::ShowStuff => D::SS
Decaptcha::TextCaptcha => D::TC
Deep::Encode => *undef*
Deep::Hash::Exists => D::H::E
Deep::Hash::Utils => D::H::U
DefHash => DefH
DefHash::Examples => DefH::E
Desktop::Detect => *undef*
DestructAssign => DA
Devel::Assert => D::A
Devel::Autoflush => *undef*
Devel::CCompat::C99::ScopedVariables => D::CC::C99::SV
Devel::CCompat::C99::VariableLengthArrays => D::CC::C99::VLA
Devel::Caller::Util => *undef*
Devel::Callsite => *undef*
Devel::CheckBin => D::CBin
Devel::CheckCompiler => *undef*
Devel::CheckLib => D::CLib
Devel::CompileLevel => *undef*
Devel::Confess => *undef*
Devel::Confess::Patch::UseDataDmp => D::C::P::UseDDmp
Devel::Constants => *undef*
Devel::Cover::Report::OwnServer => D::C::R::OwnS
Devel::Cycle => *undef*
Devel::Dependencies => *undef*
Devel::DidYouMean => D::DidYouM
Devel::DieHandler::DumpINC => D::DieH::DINC
Devel::DieHandler::Pwd => D::DieH::Pwd
Devel::EndStats => D::EndS
Devel::EndStats::LoadedMods => D::EndS::LM
Devel::FindPerl => D::FP
Devel::Gladiator => D::G
Devel::GlobalDestruction => D::GD
Devel::GlobalDestruction::XS => D::GD::XS
Devel::Hide => *undef*
Devel::Hook => *undef*
Devel::INC::Sorted => D::INC::S
Devel::JSON => D::JSON
Devel::Local => *undef*
Devel::Mallinfo => *undef*
Devel::OverrideGlobalRequire => D::OGR
Devel::PPPort => D::PPP
Devel::PatchPerl => D::PP
Devel::PatchPerl::Plugin::BenchmarkVirtualError => D::PP::P::BVE
Devel::Peek => *undef*
Devel::PerlLog => D::PLog
Devel::Platform::Info => D::P::I
Devel::Refcount => *undef*
Devel::SelfStubber => *undef*
Devel::SimpleProfiler => D::SP
Devel::SimpleTrace => D::ST
Devel::Size => *undef*
Devel::StackTrace => *undef*
Devel::StackTrace::AsHTML => D::ST::AsHTML
Devel::StackTrace::AsHTMLExtended => D::ST::AsHTMLE
Devel::StackTrace::Extract => D::ST::E
Devel::StrictMode => D::SM
Devel::Symdump => *undef*
Devel::TakeHashArgs => D::THA
Devel::Timer => *undef*
Devel::Todo::Find => D::T::F
Devel::TraceUse => D::TUse
Devel::TrackObjects => D::TO
Devel::TrackSIG => D::TSIG
Devel::Unstate => *undef*
Devel::UseAnyFunc => D::UseAnyF
Devel::cst => D::cst
Device::AVR::Info => D::AVR::I
Device::CableModem::Zoom5341 => D::CM::Z5341
Device::CableModem::Zoom5341J => D::CM::Z5341J
Device::CurrentCost => *undef*
Device::ELM327 => D::ELM327
Device::GPIB::Prologix => D::GPIB::P
Device::Gembird => *undef*
Device::Gsm => D::Gsm
Device::I2C => D::I2C
Device::I2C::ADV7611 => D::I2C::ADV7611
Device::LaCrosse::WS23xx => D::LaC::WS23xx
Device::MindWave => D::MW
Device::Modbus => *undef*
Device::Modbus::RTU => D::M::RTU
Device::Modem => *undef*
Device::Modem::SMSModem => D::M::SMSM
Device::Nest => D::N
Device::Neurio => *undef*
Device::Onkyo => D::O
Device::PCDuino => D::PCD
Device::Pertelian => *undef*
Device::RadioThermostat => D::RT
Device::Router::RTX => D::R::RTX
Device::SerialPort => *undef*
Device::XBee::API => D::XBee::API
Dicom::DCMTK::DCMDump::Get => D::DCMTK::DCMD::Get
Dicom::DCMTK::DCMQRSCP::Config => D::DCMTK::DCMQRSCP::C
Dicom::File::Detect => D::F::D
DicomPack => DP
Digest::Adler32 => D::A32
Digest::BubbleBabble => D::BB
Digest::CRC => D::CRC
Digest::DJB32 => D::DJB32
Digest::DJB32::PP => D::DJB32::PP
Digest::Elf => D::Elf
Digest::FNV::XS => D::FNV::XS
Digest::GOST => D::GOST
Digest::Guava => *undef*
Digest::HMAC => D::HMAC
Digest::Hashcash => *undef*
Digest::JHash => D::JH
Digest::MD2 => D::MD2
Digest::MD4 => D::MD4
Digest::MD5 => D::MD5
Digest::MD5::File => D::MD5::F
Digest::MurmurHash => D::MH
Digest::MurmurHash2::Neutral => D::MH2::N
Digest::MurmurHash3::PurePerl => D::MH3::PP
Digest::PSHA => D::PSHA
Digest::Perl::MD5 => D::P::MD5
Digest::SHA => D::SHA
Digest::SHA1 => D::SHA1
Digest::SHA2 => D::SHA2
Digest::SHA3 => D::SHA3
Digest::SHA::PurePerl => D::SHA::PP
Digest::SipHash => D::SipH
Digest::Whirlpool => *undef*
Digest::base => D::b
Digest::file => D::f
Digest::xxHash => D::xxH
Dir::Iterate => Dir::I
Dir::ListFilesRecursive => Dir::LFR
Dir::Self => Dir::S
DirHandle => DirH
Directory::Diff => *undef*
Directory::Scratch => *undef*
Disk::SMART => D::SMART
Dispatch::Class => *undef*
Display::Resolution => *undef*
Dist::HomeDir => D::HDir
Dist::Metadata => *undef*
Dist::Surveyor => *undef*
Dist::Util => *undef*
Dist::Util::Debian => D::U::D
Distribution::Metadata => *undef*
Document::eSign::Docusign => D::eS::D
Domain::PublicSuffix => D::PS
Doxygen::Filter::Perl => D::F::P
Dreamhack::Solitaire => *undef*
Dreamhack::Solitaire::Medici => D::S::M
DynaLoader => DL
DynaLoader::Functions => DL::F
EJS::Template => EJS::T
ETR::XML::SAX::FilterHandler => ETR::XML::SAX::FH
Ed2k_link => Ed2
Email::Abstract => E::A
Email::Address => *undef*
Email::Address::Loose => E::A::L
Email::Address::XS => E::A::XS
Email::AddressParser => E::AP
Email::Date::Format => E::D::F
Email::Folder => E::F
Email::FolderType => E::FT
Email::Forward::Dispatch => E::F::D
Email::MIME => E::MIME
Email::MIME::ContentType => E::MIME::CT
Email::MIME::Encodings => E::MIME::E
Email::MIME::RFC2047 => E::MIME::RFC2047
Email::MessageID => E::MID
Email::Reply => E::R
Email::Send => E::S
Email::Send::YYClouds => E::S::YYC
Email::Simple => *undef*
Email::Valid => E::V
Email::Valid::Loose => E::V::L
Encode::Alias => *undef*
Encode::Arabic => *undef*
Encode::Arabic::Franco => E::A::F
Encode::Base58 => E::B58
Encode::BetaCode => E::BC
Encode::Byte => E::B
Encode::CJKConstants => E::CJKC
Encode::CN => E::CN
Encode::CN::HZ => E::CN::HZ
Encode::Config => E::C
Encode::DIN66003 => E::DIN66003
Encode::Detect => E::D
Encode::Detect::CJK => E::D::CJK
Encode::EBCDIC => E::EBCDIC
Encode::Encoder => E::E
Encode::Encoding => *undef*
Encode::GSM0338 => E::GSM0338
Encode::Guess => E::G
Encode::IMAPUTF7 => E::IMAPUTF7
Encode::JIS2K => E::JIS2K
Encode::JP => E::JP
Encode::JP::H2Z => E::JP::H2Z
Encode::JP::JIS7 => E::JP::JIS7
Encode::KR => E::KR
Encode::KR::2022_KR => E::KR::2022_KR
Encode::Locale => E::L
Encode::MIME::Header => E::MIME::H
Encode::MIME::Header::ISO_2022_JP => E::MIME::H::ISO_2022_JP
Encode::MIME::Name => E::MIME::N
Encode::Newlines => E::N
Encode::Positive::Digits => E::P::D
Encode::Positive::Pairs => E::P::P
Encode::Punycode => E::P
Encode::RAD50 => E::RAD50
Encode::Symbol => *undef*
Encode::TW => E::TW
Encode::UTF8::Slow => E::UTF8::S
Encode::Unicode => E::U
Encode::Unicode::PerlDecodeJava => E::U::PDJ
Encode::Unicode::UTF7 => E::U::UTF7
Encode::Wechsler => E::W
Encode::ZapCP1252 => E::ZapCP1252
Encoding::BER => E::BER
Encoding::FixLatin => E::FixL
Encoding::FixLatin::XS => E::FixL::XS
Encoding::HandleUtf8 => E::HUtf8
EntityModel::Log => EM::Log
Enumerate::PerlList => E::PL
Env::Browser => Env::B
Env::Heroku => Env::H
Env::Modify => Env::M
Env::Modulecmd => *undef*
Env::Path => Env::P
Env::Sanctify => Env::S
Error::Helper => E::H
Error::Pure => *undef*
Error::Pure::ANSIColor => E::P::ANSIC
Error::Pure::Always => E::P::A
Error::Pure::HTTP => E::P::HTTP
Error::Pure::HTTP::JSON => E::P::HTTP::JSON
Error::Pure::JSON => E::P::JSON
Error::Pure::NoDie => E::P::NoDie
Error::Pure::Output::ANSIColor => E::P::O::ANSIC
Error::Pure::Output::JSON => E::P::O::JSON
Error::Pure::Output::Tags::HTMLCustomPage => E::P::O::T::HTMLCP
Error::Pure::Output::Text => E::P::O::T
Error::errors => E::e
Escape::Houdini => *undef*
Etherpad::API => E::API
Etsy::StatsD => E::SD
Eval::Closure => *undef*
Eval::Logic => *undef*
Event::Distributor => *undef*
Event::Stats => *undef*
Evented::Configuration => *undef*
Evented::Object => E::O
Examples::Generator => *undef*
Excel::CloneXLSX::Format => E::CXLSX::F
Excel::Table => E::T
Excel::Template => *undef*
Excel::Template::XLSX => E::T::XLSX
Excel::Writer::XLSX => E::W::XLSX
Exception::Base => *undef*
Exception::Class => *undef*
Exception::Class::TryCatch => E::C::TryC
Exception::Delayed => *undef*
Exception::Sink => *undef*
Exim::SpoolMessage => E::SM
Expect::Simple => *undef*
Export::Lexical => *undef*
ExportTo => ETo
Exporter::Declare => *undef*
Exporter::Easy => *undef*
Exporter::Heavy => *undef*
Exporter::Lite => *undef*
Exporter::Proxy => *undef*
Exporter::Rinci => *undef*
Exporter::Tidy => *undef*
Exporter::Tiny => *undef*
ExtUtils::AutoInstall => ExtU::AI
ExtUtils::CBuilder => ExtU::CB
ExtUtils::CBuilder::Base => ExtU::CB::B
ExtUtils::CBuilder::Platform::Unix => ExtU::CB::P::U
ExtUtils::CBuilder::Platform::VMS => ExtU::CB::P::VMS
ExtUtils::CBuilder::Platform::Windows => ExtU::CB::P::W
ExtUtils::CBuilder::Platform::Windows::BCC => ExtU::CB::P::W::BCC
ExtUtils::CBuilder::Platform::Windows::GCC => ExtU::CB::P::W::GCC
ExtUtils::CBuilder::Platform::Windows::MSVC => ExtU::CB::P::W::MSVC
ExtUtils::CBuilder::Platform::aix => ExtU::CB::P::aix
ExtUtils::CBuilder::Platform::android => ExtU::CB::P::a
ExtUtils::CBuilder::Platform::cygwin => ExtU::CB::P::c
ExtUtils::CBuilder::Platform::darwin => ExtU::CB::P::d
ExtUtils::CBuilder::Platform::dec_osf => *undef*
ExtUtils::CBuilder::Platform::os2 => ExtU::CB::P::os2
ExtUtils::CChecker => ExtU::CC
ExtUtils::Command => ExtU::C
ExtUtils::Command::MM => ExtU::C::MM
ExtUtils::Config => *undef*
ExtUtils::Constant => *undef*
ExtUtils::Constant::Base => ExtU::C::B
ExtUtils::Constant::ProxySubs => ExtU::C::PS
ExtUtils::Constant::Utils => ExtU::C::U
ExtUtils::Constant::XS => ExtU::C::XS
ExtUtils::Depends => ExtU::D
ExtUtils::Embed => ExtU::E
ExtUtils::HasCompiler => ExtU::HasC
ExtUtils::Helpers => ExtU::H
ExtUtils::Install => ExtU::I
ExtUtils::InstallPaths => ExtU::IP
ExtUtils::Installed => *undef*
ExtUtils::LibBuilder => ExtU::LibB
ExtUtils::Liblist => ExtU::L
ExtUtils::Liblist::Kid => ExtU::L::Kid
ExtUtils::MM => ExtU::MM
ExtUtils::MM_AIX => ExtU::MM_AIX
ExtUtils::MM_Any => ExtU::MM_Any
ExtUtils::MM_BeOS => ExtU::MM_BeOS
ExtUtils::MM_Cygwin => ExtU::MM_C
ExtUtils::MM_DOS => ExtU::MM_DOS
ExtUtils::MM_Darwin => ExtU::MM_D
ExtUtils::MM_MacOS => ExtU::MM_MacOS
ExtUtils::MM_NW5 => ExtU::MM_NW5
ExtUtils::MM_OS2 => ExtU::MM_OS2
ExtUtils::MM_QNX => ExtU::MM_QNX
ExtUtils::MM_UWIN => ExtU::MM_UWIN
ExtUtils::MM_Unix => ExtU::MM_U
ExtUtils::MM_VMS => ExtU::MM_VMS
ExtUtils::MM_VOS => ExtU::MM_VOS
ExtUtils::MM_Win32 => ExtU::MM_Win32
ExtUtils::MM_Win95 => ExtU::MM_Win95
ExtUtils::MY => ExtU::MY
ExtUtils::MakeMaker => *undef*
ExtUtils::MakeMaker::Config => ExtU::MM::C
ExtUtils::MakeMaker::Extensions => ExtU::MM::E
ExtUtils::MakeMaker::Locale => ExtU::MM::L
ExtUtils::MakeMaker::version => ExtU::MM::v
ExtUtils::MakeMaker::version::regex => ExtU::MM::v::r
ExtUtils::Manifest => ExtU::M
ExtUtils::Miniperl => *undef*
ExtUtils::Mkbootstrap => *undef*
ExtUtils::Mksymlists => *undef*
ExtUtils::PL2Bat => ExtU::PL2Bat
ExtUtils::Packlist => ExtU::P
ExtUtils::ParseXS => ExtU::PXS
ExtUtils::ParseXS::Constants => ExtU::PXS::C
ExtUtils::ParseXS::CountLines => ExtU::PXS::CL
ExtUtils::ParseXS::Eval => ExtU::PXS::E
ExtUtils::ParseXS::Utilities => ExtU::PXS::U
ExtUtils::Typemaps => ExtU::T
ExtUtils::Typemaps::Cmd => ExtU::T::Cmd
ExtUtils::Typemaps::InputMap => ExtU::T::IMap
ExtUtils::Typemaps::OutputMap => ExtU::T::OMap
ExtUtils::Typemaps::Type => ExtU::T::T
ExtUtils::XSSymSet => ExtU::XSSymSet
ExtUtils::testlib => ExtU::t
FCGI::Daemon => FCGI::D
FCGI::ProcManager => FCGI::PM
FCGI::ProcManager::Dynamic => FCGI::PM::D
FFI::CheckLib => FFI::CLib
FFmpeg::Stream::Helper => FF::S::H
FIX::Lite => FIX::L
FIX::Parser => FIX::P
FSA::Rules => FSA::R
FSM::Basic => FSM::B
FTN::Addr => FTN::A
FTN::Address => *undef*
FTN::Bit_flags => FTN::B
FTN::Message::serialno => FTN::M::s
FTN::Nodelist => FTN::N
FTN::Outbound::BSO => FTN::O::BSO
FTN::Outbound::Reference_file => FTN::O::R
FTN::Packet => FTN::P
FabForce::DBDesigner4 => FabF::DBD4
Feed::PhaseCheck => F::PC
Fennec::Lite => F::L
File-Tools => F-T
File::Append::TempFile => F::A::TF
File::AtomicWrite => F::AW
File::BOM => F::BOM
File::BaseDir => F::BDir
File::Basename => F::B
File::Basename::Extra => F::B::E
File::CleanupTask => F::CT
File::Cmp => F::Cmp
File::Compare => F::C
File::Compressible => *undef*
File::ConfigDir => F::CDir
File::ConfigDir::Install => F::CDir::I
File::ConfigDir::Plack => F::CDir::P
File::Copy => *undef*
File::Copy::Recursive => F::C::R
File::Copy::Recursive::Verify => F::C::R::V
File::Copy::Verify => F::C::V
File::Copy::Vigilant => *undef*
File::Create::Layout => F::C::L
File::Data => F::D
File::Dedup => *undef*
File::DesktopEntry => F::DE
File::Details => *undef*
File::Digest => *undef*
File::DirCompare => F::DirC
File::DosGlob => F::DosG
File::Edit::Portable => F::E::P
File::FcntlLock => F::FL
File::Fetch => F::F
File::Find => *undef*
File::Find::Closures => F::F::C
File::Find::Iterator => F::F::I
File::Find::Object => F::F::O
File::Find::Object::Rule => F::F::O::R
File::Find::Rule => F::F::R
File::Find::Rule::Dicom => F::F::R::D
File::Find::Rule::MMagic => F::F::R::MM
File::Find::Rule::Perl => F::F::R::P
File::Find::Rule::VCS => F::F::R::VCS
File::Find::Wanted => F::F::W
File::Find::utf8 => F::F::utf8
File::FindLib => F::FLib
File::FindSimilars => F::FS
File::Finder => *undef*
File::Flock::Retry => *undef*
File::Flock::Tiny => F::F::T
File::FnMatch => F::FnM
File::Format::CRD => F::F::CRD
File::Glob => F::G
File::GlobMapper => F::GM
File::HomeDir => F::HDir
File::Hotfolder => F::H
File::JSON::Slurper => F::JSON::S
File::KeePass => F::KeeP
File::Listing => *undef*
File::Listing::Ftpcopy => F::L::F
File::Lock::ParentLock => F::L::PL
File::MMagic => F::MM
File::Macro => F::M
File::Map => F::Map
File::MimeInfo => F::MI
File::Misc => *undef*
File::Modified => *undef*
File::MoreUtil => F::MU
File::Mork => *undef*
File::Name::Check => F::N::C
File::Next => F::N
File::Object => F::O
File::Path => F::P
File::Path::Expand => F::P::E
File::Path::Tiny => F::P::T
File::PathList => F::PL
File::Permissions::Unix => F::P::U
File::Pid => F::Pid
File::Policy => *undef*
File::RDir => F::RDir
File::Random::Pick => F::R::P
File::RandomLine => F::RL
File::ReadBackwards => F::RB
File::Remove => F::R
File::ReplaceBytes => *undef*
File::RotateLogs => *undef*
File::RsyBak => F::RsyBak
File::Rsync => *undef*
File::Same => F::S
File::Save::Home => F::S::H
File::SearchPath => F::SP
File::ShareDir::Install => F::SDir::I
File::Slurp => *undef*
File::Slurp::Tiny => F::S::T
File::Slurper => *undef*
File::Slurper::Temp => *undef*
File::Sort => *undef*
File::Spec => *undef*
File::Spec::AmigaOS => F::S::AOS
File::Spec::Cygwin => F::S::C
File::Spec::Epoc => F::S::E
File::Spec::Functions => F::S::F
File::Spec::Mac => F::S::Mac
File::Spec::Native => F::S::N
File::Spec::OS2 => F::S::OS2
File::Spec::Unix => F::S::U
File::Spec::VMS => F::S::VMS
File::Spec::Win32 => F::S::Win32
File::Stamped => *undef*
File::Tabular => F::T
File::Tail => *undef*
File::Tail::Lite => F::T::L
File::Temp => *undef*
File::Tempdir => *undef*
File::TinyLock => F::TL
File::Touch => *undef*
File::Trash::FreeDesktop => F::T::FD
File::Type => *undef*
File::Unsaved => F::U
File::Util => *undef*
File::Util::Tempdir => F::U::T
File::Utils => *undef*
File::Valet => F::V
File::Versions => *undef*
File::Which => F::W
File::Which::Patch::Hide => F::W::P::H
File::Write::Rotate => F::W::R
File::XDG => F::XDG
File::Zglob => F::Z
File::chdir => F::c
File::chmod => *undef*
File::chmod::Recursive => F::c::R
File::chown => *undef*
File::lchown => F::l
File::pushd => F::p
File::stat => F::s
File::stat::Extra => F::s::E
FileCache => FC
FileHandle => FH
FileHandle::Fmode => FH::F
FileHandle::Unget => FH::U
Filename::Archive => F::A
Filename::Backup => *undef*
Filename::Compressed => *undef*
Filesys::Cap => F::Cap
Filesys::Df => F::Df
Filesys::DiskUsage => F::DU
Filesys::Notify::Simple => F::N::S
Filesys::POSIX => F::POSIX
Filesys::Statvfs => *undef*
Filesys::Virtual => *undef*
Filesys::Virtual::Chroot => F::V::C
Filesys::Virtual::Plain => F::V::P
Filesys::ZFS => F::ZFS
Filter::CommaEquals => F::CE
Filter::Dockerfile => *undef*
Filter::Encoding => F::E
Filter::HereDocIndent => F::HDocI
Filter::Heredoc => *undef*
Filter::Simple => *undef*
Filter::Util::Call => F::U::C
Filter::gunzip => F::g
Filter::signatures => *undef*
Finance::Bank::SK::SLSP::Notification => F::B::SK::SLSP::N
Finance::Budget => *undef*
Finance::PaycheckRecords => F::PR
Finance::PremiumBonds => F::PB
Finance::YahooQuote => F::YQ
FindBin => FBin
FindBin::libs => FBin::l
Flexnet::lmutil => *undef*
Flickr::API => F::API
Flickr::Upload => *undef*
Flv::Info::Lite => Flv::I::L
Font::AFM => F::AFM
Font::TFM => F::TFM
Font::TTF => F::TTF
Font::TTF::Scripts => F::TTF::S
Form::Diva => *undef*
Format::Human::Bytes => F::H::B
Format::Util => *undef*
FreezeThaw => FT
Fuckin::Lazy => *undef*
Function::Fallback::CoreOrPP => F::F::COrPP
Function::Parameters => *undef*
Functional::Types => *undef*
Functional::Utility => *undef*
Future::Mojo => *undef*
GD::Barcode => GD::B
GDBM_File => GDBM_F
GPLVote::SignDoc::Client => GPLV::SDoc::C
GQRX::Remote => GQRX::R
Game::WordBrain => G::WB
Games::Cards::ShuffleTrack => G::C::ST
Games::Dice => G::D
Games::Go::AGA::Parse => G::Go::AGA::P
Games::Hanabi => G::H
Games::JackThief => G::JT
Games::LMSolve => G::LMS
Games::Literati => G::L
Games::Maze => G::M
Games::Maze::SVG => G::M::SVG
Games::NES::SpriteMaker => G::NES::SM
Games::Ratings => G::R
Games::Ratings::LogisticElo => G::R::LElo
Games::Solitaire::BlackHole::Solver => G::S::BH::S
Games::Solitaire::Verify => G::S::V
Games::Sudoku::General => G::S::G
Games::TabRace => G::TabR
Games::Tournament::RoundRobin => G::T::RR
Games::Trackword => G::T
Games::WavingHands => G::WH
Games::Word => G::W
Games::Word::Guess => G::W::G
Games::Word::Phraselist => G::W::P
Games::Word::Phraselist::CCIC => G::W::P::CCIC
Games::Word::Phraselist::Proverb::KBBI => G::W::P::P::KBBI
Games::Word::Phraselist::Proverb::TWW => G::W::P::P::TWW
Games::Word::Wordlist::Country => G::W::W::C
Games::Word::Wordlist::HSK => G::W::W::HSK
Games::Word::Wordlist::KBBI => G::W::W::KBBI
Gcis::Client => G::C
Gcode::Interpreter => G::I
Gen::Test::Rinci::FuncResult => Gen::T::R::FR
Geneos::API => G::API
Generic::Assertions => G::A
Gentoo::App::Pram => G::App::P
Gentoo::PerlMod::Version => G::PMod::V
Gentoo::VDB => G::VDB
Geo::Calc::XS => Geo::C::XS
Geo::Cloudmade => Geo::C
Geo::Coder::Bing => Geo::C::B
Geo::Coder::GeocodeFarm => Geo::C::GF
Geo::Coder::Geocoder::US => Geo::C::G::US
Geo::Coder::Google => Geo::C::G
Geo::Coder::GooglePlaces => Geo::C::GP
Geo::Coder::Googlev3 => Geo::C::G3
Geo::Coder::HostIP => Geo::C::HIP
Geo::Coder::Many => Geo::C::M
Geo::Coder::OSM => Geo::C::OSM
Geo::Coder::OpenCage => Geo::C::OC
Geo::Coder::TomTom => Geo::C::TomTom
Geo::Coordinates::Converter::LV03 => Geo::C::C::LV03
Geo::Coordinates::GMap => Geo::C::GMap
Geo::Coordinates::OSGB => Geo::C::OSGB
Geo::Distance => Geo::D
Geo::Distance::XS => Geo::D::XS
Geo::Ellipsoid => Geo::E
Geo::GDAL::Const => Geo::GDAL::C
Geo::GeoNames => Geo::GeoN
Geo::Geocalc => Geo::G
Geo::Google::StaticMaps::V2 => Geo::G::SM::V2
Geo::GoogleEarth::AutoTour => Geo::GE::AT
Geo::Hash::XS => Geo::H::XS
Geo::IP2Location => Geo::IP2L
Geo::IP2Location::Lite => Geo::IP2L::L
Geo::IP2Proxy => Geo::IP2P
Geo::IP::PurePerl => Geo::IP::PP
Geo::IPfree => *undef*
Geo::Local::Server => Geo::L::S
Geo::OGC::Geometry => Geo::OGC::G
Geo::Openstreetmap::Parser => Geo::O::P
Geo::Parser::Text => Geo::P::T
Geo::ShapeFile => Geo::SF
Geo::Shapefile::Writer => Geo::S::W
Geo::SpaceManager => Geo::SM
Geo::SypexGeo => Geo::SGeo
Geo::UK::Postcode::Regex => Geo::UK::P::R
Geo::WebService::Elevation::USGS => Geo::WebS::E::USGS
Geography::BrazilianStates => G::BS
Geography::States => G::S
Geography::States::NoUnicodeWarnings => G::S::NoUW
Gerrit::REST => G::REST
Getopt::ApacheCommonsCLI => G::ACCLI
Getopt::ArgvFile => G::AF
Getopt::Auto => *undef*
Getopt::Compact => *undef*
Getopt::Compact::WithCmd => G::C::WCmd
Getopt::Config::FromPod => G::C::FPod
Getopt::EvaP => G::EvaP
Getopt::Kingpin => G::K
Getopt::Lazy => *undef*
Getopt::Long => *undef*
Getopt::Long::Any => G::L::Any
Getopt::Long::CGI => G::L::CGI
Getopt::Long::Complete => G::L::C
Getopt::Long::Descriptive::Dump => G::L::D::D
Getopt::Long::Descriptive::Util => G::L::D::U
Getopt::Long::Dump => G::L::D
Getopt::Long::EvenLess => G::L::EL
Getopt::Long::Less => G::L::L
Getopt::Long::Modern => G::L::M
Getopt::Long::More => *undef*
Getopt::Long::More::Dump => G::L::M::D
Getopt::Long::More::Util => G::L::M::U
Getopt::Long::Negate::EN => G::L::N::EN
Getopt::Long::Negate::ID => G::L::N::ID
Getopt::Long::Subcommand => G::L::S
Getopt::Long::Subcommand::Dump => G::L::S::D
Getopt::Long::Subcommand::Util => G::L::S::U
Getopt::Long::Util => G::L::U
Getopt::LongUsage => G::LU
Getopt::Mini => *undef*
Getopt::Panjang => G::P
Getopt::Simple => *undef*
Getopt::Std => G::Std
Getopt::Std::Dump => G::Std::D
Getopt::Std::Strict => G::Std::S
Getopt::Std::Util => G::Std::U
Getopt::Tabular => *undef*
Git::Hook::PostReceive => Git::H::PR
Git::Hooks => Git::H
Git::Hooks::PerlCritic => Git::H::PC
Git::Hooks::RubyNoDebugger => Git::H::RNoD
Git::Reduce::Tests => Git::R::T
Git::Version => Git::V
Git::Version::Compare => Git::V::C
Git::Wrapper => Git::W
GitHub::WebHook => GitHub::WebH
Glib::FindMinVersion => G::FMinV
Global::Rainbow::Map => G::R::Map
Google::GeoCoder::Smart => G::GeoC::S
Google::SAML::Request => G::SAML::R
Google::SAML::Response => *undef*
Graph::Convert => *undef*
Graph::Easy => G::E
Graph::Easy::As_svg => G::E::A
Graph::Easy::Manual => G::E::M
Graph::Easy::Weighted => G::E::W
Graph::Graph6 => G::G6
Graph::ModularDecomposition => G::MD
Graph::Weighted => *undef*
Grapheme::Ngram => G::N
Graphics::ColorNames => G::CN
Graphics::ColorNames::WWW => G::CN::WWW
Graphics::ColorObject => G::CO
Graphics::ColorUtils => G::CU
Graphics::Colourset => *undef*
Graphics::Framebuffer => G::F
Graphics::GnuplotIF => G::GIF
Graphite::Enumerator => *undef*
Gravatar::URL => G::URL
Grep::Query => G::Q
Grips::Gripsrc => G::G
Growl::GNTP => G::GNTP
Gzip::Faster => *undef*
HADaemon::Control => HAD::C
HAL::Tiny => HAL::T
HBase::JSONRest => HB::JSONR
HEP::Names::LaTeX => HEP::N::LaTeX
HOI::Comprehensions => HOI::C
HOP::Lexer => HOP::L
HOP::Stream => HOP::S
HSTS::Preloaded => HSTS::P
HTCondor::Queue::Parser => HTC::Q::P
HTML-TableExtract => HTML-TE
HTML::AutoTag => HTML::ATag
HTML::Bare => HTML::B
HTML::Copy => HTML::C
HTML::Declare => HTML::D
HTML::Diff => *undef*
HTML::Differences => *undef*
HTML::Display => *undef*
HTML::EasyTags => HTML::ET
HTML::Encoding => HTML::E
HTML::Entities::Interpolate => HTML::E::I
HTML::Extract::CPANModules => HTML::E::CPANM
HTML::ExtractContent => HTML::EC
HTML::ExtractText => *undef*
HTML::ExtractText::Extra => HTML::ET::E
HTML::FillInForm => HTML::FInF
HTML::FillInForm::Lite => HTML::FInF::L
HTML::Form => HTML::F
HTML::Formulate => *undef*
HTML::GenerateUtil => HTML::GU
HTML::HTML5::Entities => HTML::HTML5::E
HTML::HTML5::Sanity => HTML::HTML5::S
HTML::KTemplate => HTML::KT
HTML::Latemp::GenMakeHelpers => HTML::L::GenMH
HTML::LinkList => HTML::LL
HTML::ListScraper => HTML::LS
HTML::Make => HTML::M
HTML::Packer => HTML::P
HTML::ParseBrowser => HTML::PB
HTML::Parser => *undef*
HTML::Perlinfo => *undef*
HTML::Persistent => *undef*
HTML::Rebase => HTML::R
HTML::Scrubber => HTML::S
HTML::Selector::XPath => HTML::S::XP
HTML::Show => *undef*
HTML::SimpleLinkExtor => HTML::SLE
HTML::SimpleParse => HTML::SP
HTML::SiteTear => HTML::ST
HTML::Stream => *undef*
HTML::Strip => *undef*
HTML::StripScripts => HTML::SS
HTML::Table => HTML::T
HTML::Table::FromDatabase => HTML::T::FD
HTML::Tabulate => *undef*
HTML::TagReader => HTML::TagR
HTML::TagTree => HTML::TagT
HTML::Tagset => *undef*
HTML::Template => *undef*
HTML::Template::Compiled => HTML::T::C
HTML::Template::Compiled::Filter::Whitespace => HTML::T::C::F::W
HTML::Template::Pro => HTML::T::Pro
HTML::Template::Pro::Extension => HTML::T::Pro::E
HTML::Tiny => *undef*
HTML::TokeParser::Simple => HTML::TP::S
HTML::Tree::Create::Callback => HTML::T::C::C
HTML::Valid => HTML::V
HTML::Widgets::NavMenu => HTML::W::NavM
HTML::Widgets::NavMenu::ToJSON => HTML::W::NavM::ToJSON
HTML::XSSLint => HTML::XSSL
HTML::Zoom => HTML::Z
HTTP::Body => HTTP::B
HTTP::Body::Builder => HTTP::B::B
HTTP::BrowserDetect => HTTP::BD
HTTP::Cache::Transparent => HTTP::C::T
HTTP::ClickHouse => HTTP::CH
HTTP::ClickHouse::Base => HTTP::CH::B
HTTP::CookieJar => HTTP::CJar
HTTP::Cookies => HTTP::C
HTTP::Cookies::PhantomJS => HTTP::C::PJS
HTTP::Cookies::Safari => HTTP::C::S
HTTP::Daemon => HTTP::D
HTTP::Daemon::Patch::IPv6 => HTTP::D::P::IPv6
HTTP::Daemon::UNIX => HTTP::D::UNIX
HTTP::Date => *undef*
HTTP::DetectUserAgent => HTTP::DUA
HTTP::Entity::Parser => HTTP::E::P
HTTP::Exception => HTTP::E
HTTP::Headers::Fancy => HTTP::H::F
HTTP::Headers::Fast => *undef*
HTTP::Headers::Fast::XS => HTTP::H::F::XS
HTTP::Headers::Patch::DontUseStorable => HTTP::H::P::DUseS
HTTP::Headers::UserAgent => HTTP::H::UA
HTTP::Link => HTTP::L
HTTP::Link::Parser => HTTP::L::P
HTTP::Lite => *undef*
HTTP::Message => HTTP::M
HTTP::Method => *undef*
HTTP::MultiPartParser => HTTP::MPP
HTTP::Negotiate => HTTP::N
HTTP::Parser => HTTP::P
HTTP::Parser2::XS => HTTP::P2::XS
HTTP::Parser::XS => HTTP::P::XS
HTTP::Request::AsCGI => HTTP::R::AsCGI
HTTP::Request::Params => HTTP::R::P
HTTP::Request::StreamingUpload => HTTP::R::SU
HTTP::Response::Stringable => HTTP::R::S
HTTP::Retry => HTTP::R
HTTP::Server::Simple => HTTP::S::S
HTTP::Server::Simple::PSGI => HTTP::S::S::PSGI
HTTP::Size => HTTP::S
HTTP::Thin => HTTP::T
HTTP::Tiny => *undef*
HTTP::Tiny::Bandwidth => HTTP::T::B
HTTP::Tiny::Multipart => HTTP::T::M
HTTP::Tiny::Patch::LogAny => HTTP::T::P::LogAny
HTTP::Tiny::ProgressAny => HTTP::T::PAny
HTTP::Tiny::UA => HTTP::T::UA
HTTP::Tiny::UNIX => HTTP::T::UNIX
HTTP::Tinyish => *undef*
HTTP::UA::Parser => HTTP::UA::P
HTTP::Validate => HTTP::V
HTTP::XSCookies => HTTP::XSC
Ham::Locator => Ham::L
Ham::NOAA::Sunspot => Ham::NOAA::S
Ham::Reference::QRZ => Ham::R::QRZ
Ham::Resources::Utils => Ham::R::U
Ham::WSJTX::Logparse => Ham::WSJTX::L
Hash::AsObject => H::AsO
Hash::BulkKeyCopy => H::BKeyC
Hash::DefHash => H::DefH
Hash::DefHash::Normalize => H::DefH::N
Hash::DefaultValue => H::DV
Hash::Diff => H::D
Hash::Flatten => H::F
Hash::MD5 => H::MD5
Hash::Map => H::Map
Hash::Merge => H::M
Hash::Merge::Simple => H::M::S
Hash::MoreUtils => H::MU
Hash::MostUtils => *undef*
Hash::MultiValue => H::MV
Hash::Objectify => H::O
Hash::Ordered => *undef*
Hash::Path => H::P
Hash::SafeKeys => H::SK
Hash::Sanitize => H::S
Hash::Squash => *undef*
Hash::Tabular::Markdown => H::T::M
Hash::Type => H::T
Hash::Util => H::U
Hash::Util::FieldHash => H::U::FH
Hash::Util::FieldHash::Compat => H::U::FH::C
Hash::Work => H::W
Hazy::Cosmic::Jive => H::C::J
Heap::Priority => *undef*
Hex::Record => Hex::R
Hook::LexWrap => H::LexW
Hook::Output::Tiny => H::O::T
Hook::WrapSub => H::WSub
HtDig::Config => HtDig::C
I18N::AcceptLanguage => I18N::AL
I18N::Charset => I18N::C
I18N::Collate => *undef*
I18N::LangTags => I18N::LT
I18N::LangTags::Detect => I18N::LT::D
I18N::LangTags::List => I18N::LT::L
I18N::Langinfo => I18N::L
IBGE::Municipios => IBGE::M
IBM::StorageSystem => IBM::SS
IBM::V7000Unified => IBM::V7000U
IHeartRadio::Streams => IHR::S
IMAP::BodyStructure => IMAP::BS
IMAP::Query => IMAP::Q
IO::Async => IO::A
IO::Async::JSONStream => IO::A::JSONS
IO::Async::Loop::Epoll => IO::A::L::E
IO::Async::Resolver::StupidCache => IO::A::R::SC
IO::AsyncX::EventFD => IO::AX::EFD
IO::AsyncX::Sendfile => IO::AX::S
IO::AsyncX::SharedTimer => IO::AX::ST
IO::AsyncX::System => *undef*
IO::Barf => IO::B
IO::Callback => IO::C
IO::Capture => *undef*
IO::Capture::Extended => IO::C::E
IO::CaptureOutput => IO::CO
IO::Compress => *undef*
IO::Compress::Adapter::Bzip2 => IO::C::A::B2
IO::Compress::Adapter::Deflate => IO::C::A::D
IO::Compress::Adapter::Identity => IO::C::A::I
IO::Compress::Base => IO::C::B
IO::Compress::Base::Common => IO::C::B::C
IO::Compress::Brotli => *undef*
IO::Compress::Bzip2 => IO::C::B2
IO::Compress::Deflate => IO::C::D
IO::Compress::Gzip => IO::C::G
IO::Compress::Gzip::Constants => IO::C::G::C
IO::Compress::Lzf => IO::C::Lzf
IO::Compress::RawDeflate => IO::C::RawD
IO::Compress::Zip => IO::C::Zip
IO::Compress::Zip::Constants => IO::C::Zip::C
IO::Compress::Zlib::Constants => IO::C::Z::C
IO::Compress::Zlib::Extra => IO::C::Z::E
IO::FDPass => IO::FDP
IO::File => IO::F
IO::Framed => *undef*
IO::Handle => IO::H
IO::Handle::Record => IO::H::R
IO::Handle::Util => IO::H::U
IO::Interactive => IO::I
IO::Interactive::Tiny => IO::I::T
IO::Interface => *undef*
IO::Lambda => IO::L
IO::LockedFile => IO::LF
IO::Multiplex => IO::M
IO::Null => IO::N
IO::Pipe => IO::P
IO::Pipe::Producer => IO::P::P
IO::Pipely => *undef*
IO::Poll => *undef*
IO::Ppoll => *undef*
IO::Prompt::I18N => IO::P::I18N
IO::Prompt::Timeout => IO::P::T
IO::Prompt::Tiny => *undef*
IO::Pty::Easy => IO::Pty::E
IO::Seekable => IO::S
IO::Select => *undef*
IO::SessionData => IO::SD
IO::SigGuard => IO::SigG
IO::Socket => *undef*
IO::Socket::INET => IO::S::INET
IO::Socket::INET6 => IO::S::INET6
IO::Socket::IP => IO::S::IP
IO::Socket::Multicast => IO::S::M
IO::Socket::UNIX => IO::S::UNIX
IO::Socket::UNIX::Util => IO::S::UNIX::U
IO::String => *undef*
IO::Stringy => *undef*
IO::Stty => *undef*
IO::Termios => IO::T
IO::TieCombine => IO::TieC
IO::Uncompress::Adapter::Bunzip2 => IO::U::A::B2
IO::Uncompress::Adapter::Identity => IO::U::A::I
IO::Uncompress::Adapter::Inflate => *undef*
IO::Uncompress::AnyInflate => IO::U::AnyI
IO::Uncompress::AnyUncompress => IO::U::AnyU
IO::Uncompress::Base => IO::U::B
IO::Uncompress::Bunzip2 => IO::U::B2
IO::Uncompress::Gunzip => IO::U::G
IO::Uncompress::Inflate => IO::U::I
IO::Uncompress::RawInflate => IO::U::RawI
IO::Uncompress::Unzip => IO::U::U
IO::Vectored => IO::V
IO::Zlib => IO::Z
IOD::Examples => IOD::E
IP::China => IP::C
IP::IPwhere => IP::IP
IP::Random => IP::R
IPC::ConcurrencyLimit => IPC::CL
IPC::Lockfile => IPC::L
IPC::Open2 => IPC::O2
IPC::Open2::Simple => IPC::O2::S
IPC::Open3 => IPC::O3
IPC::Open3::Callback => IPC::O3::C
IPC::Open3::Simple => IPC::O3::S
IPC::PerlSSH => IPC::PSSH
IPC::Pidfile => IPC::P
IPC::Pipeline => *undef*
IPC::Run3::Shell => IPC::Run3::S
IPC::ScoreBoard => IPC::SB
IPC::Semaphore => IPC::S
IPC::Semaphore::SmokeSignals => IPC::S::SS
IPC::SharedMem => IPC::SMem
IPC::Signal => *undef*
IPC::System::Simple => IPC::S::S
IPTables::ChainMgr => IPT::CMgr
IPTables::Parse => IPT::P
IPTables::Rule => IPT::R
IPv6::Address => IPv6::A
IRC::Server::Tree => IRC::S::T
IRC::Utils => IRC::U
Identifier::PL::PESEL => I::PL::PESEL
Illumos::SMF => I::SMF
Illumos::Zones => I::Z
Image::BMP => I::BMP
Image::Base => I::B
Image::Checkerboard => I::C
Image::EXIF::DateTime::Parser => I::EXIF::DT::P
Image::Info => I::I
Image::PNG::Simple => I::PNG::S
Image::PNG::Write::BW => I::PNG::W::BW
Image::PNM => I::PNM
Image::Random => I::R
Image::SVG::Path => I::SVG::P
Image::Select => I::S
Image::Size => *undef*
Image::Xbm => I::Xbm
Image::Xpm => I::Xpm
Imager::Filter::Autocrop => I::F::A
Imager::Graph => I::G
Imager::Image::Base => I::I::B
Imager::LineTrace => I::LT
Imager::QRCode => I::QRC
Imager::Trim => I::T
InfluxDB::HTTP => IDB::HTTP
InfluxDB::LineProtocol => IDB::LP
Inline::Files => I::F
Inline::Python => I::P
Inline::YAML => I::YAML
Integer::Tiny => *undef*
Internals::DumpArenas => I::DA
Ipv4_networks => Ipv4
Iterator::Array::Jagged => I::A::J
Iterator::Diamond => I::D
Iterator::Simple => *undef*
Iterator::Simple::Lookahead => I::S::L
Iterator::Util => I::U
JCM::Net::Patricia => JCM::Net::P
JCONF::Writer => JCONF::W
JIP::ClassField => JIP::CF
JIP::Conf => JIP::C
JIP::Daemon => JIP::D
JIP::LockFile => JIP::LF
JIP::LockSocket => JIP::LS
JIP::Object => JIP::O
JQuery::DataTables::Request => JQ::DT::R
JSON-Diffable => JSON-D
JSON::Builder => JSON::B
JSON::Color => JSON::C
JSON::Create => *undef*
JSON::Decode::Regexp => JSON::D::R
JSON::JSend => JSON::JS
JSON::MaybeXS => JSON::MXS
JSON::MergePatch => JSON::MP
JSON::Meth => JSON::M
JSON::MultiValueOrdered => JSON::MVO
JSON::PP::Boolean => JSON::PP::B
JSON::Parse => JSON::P
JSON::Path => *undef*
JSON::Pointer => *undef*
JSON::Relaxed => JSON::R
JSON::Repair => *undef*
JSON::Schema::Fit => JSON::S::Fit
JSON::Schema::Shorthand => JSON::S::S
JSON::String => JSON::S
JSON::Tiny => JSON::T
JSON::Types => *undef*
JSON::Types::Flexible => JSON::T::F
JSON::Typist => *undef*
JSON::Util => JSON::U
JSON::Validator => JSON::V
JSON::XS::ByteString => JSON::XS::BS
Jar::Manifest => Jar::M
Java::Makefile => J::M
Java::Maven::Artifact::Version => J::M::A::V
JavaScript::Beautifier => JS::B
JavaScript::Console => JS::C
JavaScript::Minifier => JS::M
JavaScript::Minifier::XS => JS::M::XS
JavaScript::Packer => JS::P
JavaScript::Value::Escape => JS::V::E
JobCenter::Client::Mojo => JobC::C::M
Kayako::RestAPI => K::RAPI
LCS::Similar => LCS::S
LWP-attic => LWP-a
LWP::Authen::OAuth => LWP::A::OA
LWP::JSON::Tiny => LWP::JSON::T
LWP::MediaTypes => LWP::MT
LWP::Online => LWP::O
LWP::Protocol::UWSGI => LWP::P::UWSGI
LWP::Protocol::http::SocketUnixAlt => LWP::P::h::SUAlt
LWP::Simple::REST => LWP::S::REST
LWP::UserAgent::Anonymous => LWP::UA::A
LWP::UserAgent::Cached => LWP::UA::C
LWP::UserAgent::Mockable => LWP::UA::M
LWP::UserAgent::Patch::FilterMirror => LWP::UA::P::FM
LWP::UserAgent::Patch::HTTPSHardTimeout => LWP::UA::P::HTTPSHT
LWP::UserAgent::Patch::LogRequestContent => LWP::UA::P::LogRC
LWP::UserAgent::Patch::LogResponse => LWP::UA::P::LogR
LWP::UserAgent::Patch::Retry => LWP::UA::P::R
LWP::UserAgent::ProgressAny => LWP::UA::PAny
LWPx::ParanoidAgent => LWPx::PA
LaTeX::Encode => LaTeX::E
LaTeX::ToUnicode => LaTeX::ToU
LaTeX::Writer::Simple => LaTeX::W::S
Language::RAM => L::RAM
Latin1 => L1
Latin10 => L10
Latin2 => L2
Latin3 => L3
Latin4 => L4
Latin5 => L5
Latin6 => L6
Latin7 => L7
Latin8 => L8
Latin9 => L9
Lazy::Lockfile => L::L
Lazy::Utils => L::U
Ledger::Examples => L::E
LeftPad => LPad
Lego::Part => L::P
Lego::Part::Image => L::P::I
Lexical::Types => L::T
Lexical::select => L::s
Library::CallNumber::LC => L::CN::LC
LibreDTE::SDK => LDTE::SDK
Limper::Engine::PSGI => L::E::PSGI
Limper::SendFile => L::SF
Limper::SendJSON => L::SJSON
Limper::Sugar => L::S
Lingua::AR::Regexp => L::AR::R
Lingua::AR::Tashkeel => L::AR::T
Lingua::Alphabet::Phonetic => L::A::P
Lingua::Anagrams => L::A
Lingua::AtD => L::AtD
Lingua::Boolean::Tiny => L::B::T
Lingua::Conjunction => L::C
Lingua::DE::ASCII => L::DE::ASCII
Lingua::EN::ABC => L::EN::ABC
Lingua::EN::AddressParse => L::EN::AP
Lingua::EN::Fathom => L::EN::F
Lingua::EN::FindNumber => L::EN::FN
Lingua::EN::Fractions => *undef*
Lingua::EN::Inflect => L::EN::I
Lingua::EN::Inflect::Number => L::EN::I::N
Lingua::EN::Inflect::Phrase => L::EN::I::P
Lingua::EN::Inflexion => *undef*
Lingua::EN::NameCase => L::EN::NC
Lingua::EN::NameParse => L::EN::NP
Lingua::EN::Nickname => L::EN::N
Lingua::EN::Number::Format::MixWithWords => L::EN::N::F::MixWW
Lingua::EN::Number::IsOrdinal => L::EN::N::IsO
Lingua::EN::Numbers => *undef*
Lingua::EN::Numbers::Easy => L::EN::N::E
Lingua::EN::Numbers::Ordinate => L::EN::N::O
Lingua::EN::Numbers::Years => L::EN::N::Y
Lingua::EN::Nums2Words => L::EN::N2W
Lingua::EN::PluralToSingular => L::EN::PToS
Lingua::EN::Pseudolocalize => L::EN::P
Lingua::EN::SENNA => L::EN::SENNA
Lingua::EN::Segmenter => L::EN::S
Lingua::EN::Sentence => *undef*
Lingua::EN::Squeeze => *undef*
Lingua::EN::StopWordList => L::EN::SWL
Lingua::EN::Syllable => *undef*
Lingua::EN::Tagger => L::EN::T
Lingua::EN::Titlecase::Simple => L::EN::T::S
Lingua::EN::Words2Nums => L::EN::W2N
Lingua::FR::Hyphen => L::FR::H
Lingua::FR::Nums2Words => L::FR::N2W
Lingua::Han::Cantonese => L::Han::C
Lingua::Han::PinYin => L::Han::PinYin
Lingua::Han::Utils => L::Han::U
Lingua::ID::Number::Format::MixWithWords => L::ID::N::F::MixWW
Lingua::ID::Nums2Words => L::ID::N2W
Lingua::ID::Words2Nums => L::ID::W2N
Lingua::Identify::CLD => L::I::CLD
Lingua::JA::FindDates => L::JA::FD
Lingua::JA::Gairaigo::Fuzzy => L::JA::G::F
Lingua::JA::KanjiTable => L::JA::KT
Lingua::JA::Moji => L::JA::M
Lingua::JA::Name::Splitter => L::JA::N::S
Lingua::JA::Numbers => L::JA::N
Lingua::JA::Onbiki => L::JA::O
Lingua::JA::Regular::Unicode => L::JA::R::U
Lingua::Jspell => L::J
Lingua::KO::Munja => L::KO::M
Lingua::LO::NLP => L::LO::NLP
Lingua::MY::Zawgyi2Unicode => L::MY::Z2U
Lingua::ManagementSpeak => L::MS
Lingua::NO::Syllable => L::NO::S
Lingua::PT::Abbrev => L::PT::A
Lingua::PT::PLN => L::PT::PLN
Lingua::PT::PLNbase => *undef*
Lingua::PT::Stemmer => L::PT::S
Lingua::Postcodes => *undef*
Lingua::RO::Numbers => L::RO::N
Lingua::RU::Inflect => L::RU::I
Lingua::RU::Num2Word => L::RU::Num2W
Lingua::RU::Number => L::RU::N
Lingua::RU::Preposition => L::RU::P
Lingua::Romana::Perligata => L::R::P
Lingua::SU::Nums2Words => L::SU::N2W
Lingua::Stem => *undef*
Lingua::Stem::Fr => L::S::Fr
Lingua::Stem::It => L::S::It
Lingua::Stem::Ru => L::S::Ru
Lingua::Stem::Snowball::Da => L::S::S::Da
Lingua::Stem::Snowball::No => L::S::S::No
Lingua::Stem::Snowball::Se => L::S::S::Se
Lingua::StopWords => L::SW
Lingua::TH::Numbers => L::TH::N
Lingua::Translit => *undef*
Lingua::UK::Numbers => L::UK::N
Lingua::YI::Romanize => L::YI::R
Lingua::pt_BR::Nums2Words => L::pt_BR::N2W
LinkEmbedder => LE
LinkedList::Single => LL::S
Linux::Clone => *undef*
Linux::Cpuinfo => *undef*
Linux::DVB => L::DVB
Linux::DVB::DVBT => L::DVB::DVBT
Linux::Distribution => L::D
Linux::Epoll => *undef*
Linux::FD => L::FD
Linux::Fanotify => L::F
Linux::Fuser => *undef*
Linux::Info => L::I
Linux::Inotify2 => L::I2
Linux::MemInfo => L::MemI
Linux::Seccomp => *undef*
Linux::Setns => *undef*
Linux::Shadow => *undef*
Linux::Slackware::SystemTests => L::S::ST
Linux::Smaps => *undef*
Linux::Smaps::Tiny => L::S::T
Linux::Termios2 => L::T2
Linux::Unshare => *undef*
List::AssignRef => L::ARef
List::BinarySearch => L::BS
List::BinarySearch::XS => L::BS::XS
List::Collection => *undef*
List::Compare => *undef*
List::Cycle => *undef*
List::MapBruteBatch => L::MapBB
List::MapMulti => L::MapM
List::Member => L::M
List::MoreUtils => L::MU
List::MoreUtils::XS => L::MU::XS
List::NSect => L::NS
List::Pairwise => *undef*
List::Prefixed => *undef*
List::Range => L::R
List::Regexp => *undef*
List::Slice => *undef*
List::SomeUtils::XS => L::SU::XS
List::ToHumanString => L::ToHS
List::Util => *undef*
List::Util::ArrayRef::PP => L::U::ARef::PP
List::Util::WeightedRoundRobin => L::U::WRR
List::Util::XS => L::U::XS
List::UtilsBy::XS => L::UBy::XS
Locale-Maketext => L-M
Locale-Maketext-Gettext => L-M-G
Locale::Babelfish => L::B
Locale::CA => L::CA
Locale::Codes => *undef*
Locale::Codes::Constants => L::C::C
Locale::Codes::Country => *undef*
Locale::Codes::Country_Codes => L::C::CC
Locale::Codes::Country_Retired => L::C::CR
Locale::Codes::Currency => *undef*
Locale::Codes::Currency_Codes => *undef*
Locale::Codes::Currency_Retired => *undef*
Locale::Codes::LangExt => L::C::LExt
Locale::Codes::LangExt_Codes => L::C::LEC
Locale::Codes::LangExt_Retired => L::C::LER
Locale::Codes::LangFam => L::C::LFam
Locale::Codes::LangFam_Codes => L::C::LFC
Locale::Codes::LangFam_Retired => L::C::LFR
Locale::Codes::LangVar => L::C::LVar
Locale::Codes::LangVar_Codes => L::C::LVC
Locale::Codes::LangVar_Retired => L::C::LVR
Locale::Codes::Language => L::C::L
Locale::Codes::Language_Codes => L::C::LC
Locale::Codes::Language_Retired => L::C::LR
Locale::Codes::Script => L::C::S
Locale::Codes::Script_Codes => L::C::SC
Locale::Codes::Script_Retired => L::C::SR
Locale::Country => *undef*
Locale::Country::Extra => L::C::E
Locale::Country::Multilingual => L::C::M
Locale::Country::OFAC => L::C::OFAC
Locale::Currency => *undef*
Locale::Currency::Format => L::C::F
Locale::India => *undef*
Locale::KeyedText => L::KT
Locale::Language => *undef*
Locale::Maketext => *undef*
Locale::Maketext::From::Strings => L::M::F::S
Locale::Maketext::Guts => L::M::G
Locale::Maketext::GutsLoader => L::M::GL
Locale::Maketext::Lexicon => L::M::L
Locale::Maketext::Lexicon::CSV => L::M::L::CSV
Locale::Maketext::Lexicon::Getcontext => L::M::L::G
Locale::Maketext::ManyPluralForms => L::M::MPF
Locale::Maketext::Simple => L::M::S
Locale::Meta => *undef*
Locale::Nationality::en => L::N::en
Locale::PO => L::PO
Locale::Script => *undef*
Locale::Set => L::Set
Locale::SubCountry => L::SubC
Locale::TextDomain::UTF8 => L::TD::UTF8
Locale::Tie => L::Tie
Locale::US => L::US
Locale::US::CensusDivisions => L::US::CD
Locale::VersionedMessages => L::VM
Locale::Wolowitz => L::W
Lock::Socket => *undef*
LockFile::Simple => LF::S
Log::Any::Adapter::Callback => Log::Any::A::C
Log::Any::Adapter::Carp => *undef*
Log::Any::Adapter::Daemontools => Log::Any::A::D
Log::Any::Adapter::FileHandle => Log::Any::A::FH
Log::Any::Adapter::FileWriteRotate => Log::Any::A::FWR
Log::Any::Adapter::Journal => Log::Any::A::J
Log::Any::Adapter::Log4perl => Log::Any::A::Log4
Log::Any::Adapter::MojoLog => Log::Any::A::MLog
Log::Any::Adapter::Screen => Log::Any::A::S
Log::Any::Adapter::Syslog => *undef*
Log::Any::Adapter::TAP => Log::Any::A::TAP
Log::Any::For::File::chdir => Log::Any::For::F::c
Log::Any::For::HTTP::Tiny => Log::Any::For::HTTP::T
Log::Any::Plugin => Log::Any::P
Log::Any::Proxy::Patch::UseDataDmp => Log::Any::P::P::UseDDmp
Log::Any::Proxy::Patch::UseDataDump => Log::Any::P::P::UseDD
Log::AutoDump => Log::AD
Log::Basic => Log::B
Log::Defer => Log::D
Log::Defer::Viz => Log::D::Viz
Log::Fast => Log::F
Log::File::Rolling => Log::F::R
Log::LTSV::Instance => Log::LTSV::I
Log::Lite => Log::L
Log::Log4perl => Log::Log4
Log::Log4perl::Appender::Elasticsearch => Log::Log4::A::E
Log::Log4perl::Appender::SMTP => Log::Log4::A::SMTP
Log::Log4perl::Appender::ScreenColoredLevels::UsingMyColors => Log::Log4::A::SCL::UMyC
Log::Log4perl::AutoInit => Log::Log4::AI
Log::Log4perl::Layout::LTSV => Log::Log4::L::LTSV
Log::Log4perl::Layout::PatternLayout::Elapsed => Log::Log4::L::PL::E
Log::Log4perl::Tiny => Log::Log4::T
Log::Message => Log::M
Log::Message::Simple => Log::M::S
Log::MultiChannel => Log::MC
Log::Reproducible => Log::R
Log::Stderr => Log::S
Log::Syslog::Constants => Log::S::C
Log::Tiny => Log::T
Log::Trace => *undef*
Logging::Simple => *undef*
MARC::Lint => MARC::L
MARC::Parser::RAW => MARC::P::RAW
MARC::Parser::XML => MARC::P::XML
MARC::Record => MARC::R
MARC::Transform => MARC::T
MBclient => MB
MCE::Shared => MCE::S
MD5Check => MD5C
MIDI-Perl => MIDI-P
MIDI::Pitch => MIDI::P
MIDI::Simple::Drummer => MIDI::S::D
MIME::Base32 => MIME::B32
MIME::Base64 => MIME::B64
MIME::Charset => MIME::C
MIME::EcoEncode => MIME::EcoE
MIME::EncWords => MIME::EncW
MIME::Expander => MIME::E
MIME::Lite => MIME::L
MIME::Lite::Generator => MIME::L::G
MIME::QuotedPrint => MIME::QP
MIME::Tools => MIME::T
MIME::Type::FileName => MIME::T::FN
MIME::Types => *undef*
MP3::Info => MP3::I
MP4::Info => MP4::I
MRO::Compat => MRO::C
MSDOS::Descript => MSDOS::D
Mac::Errors => Mac::E
Mac::Path::Util => Mac::P::U
Mac::PropertyList => Mac::PL
Machine::Epsilon => M::E
Mail::Box::Parser::C => M::Box::P::C
Mail::DKIM => M::DKIM
Mail::DKIM::Iterator => M::DKIM::I
Mail::DWIM => M::DWIM
Mail::DeliveryStatus::BounceParser => M::DS::BP
Mail::Dir => M::Dir
Mail::File => M::F
Mail::IMAPClient => M::IMAPC
Mail::IMAPQueue => M::IMAPQ
Mail::IMAPTalk => M::IMAPT
Mail::LMLM => M::LMLM
Mail::MBX => M::MBX
Mail::Mbox::MessageParser => M::M::MP
Mail::Message => M::M
Mail::SPF::Iterator => M::SPF::I
Mail::Sender => M::S
Mail::Sendmail => *undef*
Mail::Transport => M::T
Makefile::Update => M::U
Mango::BSON::Dump => M::BSON::D
Map::Tube::Cookbook => Map::T::C
Map::Tube::Text::Shortest => Map::T::T::S
Markdown::TOC => M::TOC
Markdown::To::POD => M::To::POD
Markup::Unified => *undef*
Math::Algebra::Symbols => M::A::S
Math::BLAS => M::BLAS
Math::Base36 => M::B36
Math::Base85 => M::B85
Math::Base::Convert => M::B::C
Math::BaseCnv => M::BCnv
Math::BaseConvert => M::BC
Math::Bezier => M::B
Math::Big => M::Big
Math::BigFloat => M::BigF
Math::BigFloat::Trace => M::BigF::T
Math::BigInt => M::BigInt
Math::BigInt::Calc => M::BigInt::C
Math::BigInt::CalcEmu => M::BigInt::CEmu
Math::BigInt::Constant => *undef*
Math::BigInt::FastCalc => M::BigInt::FC
Math::BigInt::Lib => M::BigInt::Lib
Math::BigInt::Named => M::BigInt::N
Math::BigInt::Parts => M::BigInt::P
Math::BigInt::Trace => M::BigInt::T
Math::BigRat => M::BigRat
Math::BivariateCDF => M::BCDF
Math::Brent => *undef*
Math::Business::BlackScholes::Binaries::Greeks => M::B::BS::B::G
Math::Business::Blackscholes::Binaries => M::B::B::B
Math::Business::Stochastic => M::B::S
Math::CDF => M::CDF
Math::Calc::Parser => M::C::P
Math::Calc::Units => M::C::U
Math::Cartesian::Product => *undef*
Math::Cephes => M::C
Math::Combinatorics => *undef*
Math::Complex => *undef*
Math::Complex_C => M::CC
Math::Complex_C::L => M::CC::L
Math::Complex_C::Q => M::CC::Q
Math::Counting => *undef*
Math::Currency => *undef*
Math::DWT => M::DWT
Math::DWT::UDWT => M::DWT::UDWT
Math::Decimal128 => M::D128
Math::Decimal64 => M::D64
Math::Derivative => M::D
Math::Disarrange::List => M::D::L
Math::Erf::Approx => M::Erf::A
Math::Expression => *undef*
Math::FFT => M::FFT
Math::Fibonacci => *undef*
Math::Fibonacci::Phi => M::F::Phi
Math::Float128 => M::F128
Math::Fortran => *undef*
Math::Function::Interpolator => M::F::I
Math::GMP => M::GMP
Math::GMPf => M::GMPf
Math::GMPq => M::GMPq
Math::GMPz => M::GMPz
Math::Gauss::XS => M::G::XS
Math::Gradient => M::G
Math::Groups => *undef*
Math::HashSum => M::HSum
Math::HexGrid => M::HexG
Math::Histogram => M::H
Math::Int128 => M::Int128
Math::Int64 => M::Int64
Math::Int64::C_API::Sample => M::Int64::C_API::S
Math::Intersection::Circle::Line => M::I::C::L
Math::Intersection::StraightLine => M::I::SL
Math::KullbackLeibler::Discrete => M::KL::D
Math::Libm => M::L
Math::LongDouble => M::LD
Math::Matrix => *undef*
Math::MatrixDecomposition => M::MD
Math::ModInt => M::ModInt
Math::NV => M::NV
Math::NoCarry => M::NoC
Math::ODE => M::ODE
Math::OEIS => M::OEIS
Math::PRBS => M::PRBS
Math::Partition::Rand => M::P::R
Math::Permute::List => M::P::L
Math::Permute::Lists => *undef*
Math::Permute::Partitions => M::P::P
Math::PlanePath => M::PP
Math::PlanePath::Toothpick => M::PP::T
Math::Polygon => M::P
Math::Prime::Util => M::P::U
Math::Prime::Util::GMP => M::P::U::GMP
Math::RNG::Microsoft => M::RNG::M
Math::Random => M::R
Math::Random::BlumBlumShub => M::R::BBS
Math::Random::Discrete => M::R::D
Math::Random::ISAAC => M::R::ISAAC
Math::Random::ISAAC::XS => M::R::ISAAC::XS
Math::Random::MT => M::R::MT
Math::Random::MT::Auto => M::R::MT::A
Math::Random::MT::Perl => M::R::MT::P
Math::Random::MTwist => *undef*
Math::Random::MicaliSchnorr => M::R::MS
Math::Roman => *undef*
Math::Round => *undef*
Math::ScientificNotation::Util => M::SN::U
Math::Shape::Vector => M::S::V
Math::SigFigs => M::SigF
Math::Simple => *undef*
Math::SparseMatrix => M::SM
Math::SparseVector => M::SV
Math::Spline => *undef*
Math::String => *undef*
Math::String::Charset::Wordlist => M::S::C::W
Math::Subsets::List => M::S::L
Math::Transform::List => M::T::L
Math::Trig => *undef*
Math::Units => *undef*
Math::Units::PhysicalValue => M::U::PV
Math::Utils => *undef*
Math::VecStat => M::VecS
Math::Vector::Real => M::V::R
Math::Vector::Real::Neighbors => M::V::R::N
Math::Vector::Real::Random => M::V::R::R
Math::Vector::Real::XS => M::V::R::XS
Math::Vector::Real::kdTree => M::V::R::kdT
Math::Vector::SortIndexes => M::V::SI
Math::Window2Viewport => M::W2V
Math::Yapp => M::Y
McBain::WithWebSocket => McB::WWebS
MediaWiki::API => MW::API
MediaWiki::Table::Tiny => MW::T::T
Memoize::AnyDBM_File => M::AnyDBM_F
Memoize::Expire => *undef*
Memoize::ExpireFile => M::EF
Memoize::ExpireLRU => M::ELRU
Memoize::ExpireTest => M::ET
Memoize::HashKey::Ignore => M::HKey::I
Memoize::NDBM_File => M::NDBM_F
Memoize::SDBM_File => M::SDBM_F
Memoize::Storable => *undef*
Memory::Process => *undef*
Memory::Usage => *undef*
Message::Match => *undef*
Meta::Builder => *undef*
MetaMap::DataStructures => MMap::DS
MetaPOD::Spec => MPOD::S
Metabase::Client::Simple => M::C::S
Metabase::Fact => *undef*
Minecraft::NBTReader => M::NBTR
Minecraft::SectionFilter => M::SF
Minion::Backend::Mango => M::B::M
Minion::Backend::Storable => *undef*
Minion::Command::minion::jobx => M::C::m::j
Mixin::Linewise => *undef*
Mock::Config => *undef*
Mock::MonkeyPatch => M::MP
Mock::Net::Ping => M::Net::P
Mock::Person => *undef*
Mock::Person::CZ => M::P::CZ
Mock::Person::DE => M::P::DE
Mock::Person::EN => M::P::EN
Mock::Person::SK => M::P::SK
Mock::Person::SK::ROM => M::P::SK::ROM
Mock::Quick => M::Q
Mock::Sub => M::Sub
Modern::Perl => *undef*
Module-Versions-Report => M-V-R
Module::Build => *undef*
Module::Build::CleanInstall => M::B::CI
Module::Build::Deprecated => M::B::D
Module::Build::Tiny => M::B::T
Module::Build::XSUtil => M::B::XSU
Module::CheckVersion => M::CV
Module::Compile => *undef*
Module::CoreList => M::CL
Module::CoreList::More => M::CL::M
Module::CoreList::TieHashDelta => M::CL::TieHD
Module::CoreList::Utils => M::CL::U
Module::DataPack => M::DP
Module::Depakable => *undef*
Module::Extract::VERSION => M::E::VERSION
Module::ExtractUse => M::EUse
Module::FatPack => M::FatP
Module::Filename => *undef*
Module::Find => *undef*
Module::Format => *undef*
Module::Functions => *undef*
Module::Install => M::I
Module::Install::AckXXX => M::I::AckXXX
Module::Install::AutoLicense => M::I::AL
Module::Install::AutoManifest => M::I::AM
Module::Install::AutomatedTester => M::I::AT
Module::Install::Bugtracker => M::I::B
Module::Install::CheckLib => M::I::CLib
Module::Install::CheckOptional => M::I::CO
Module::Install::CustomInstallationPath => M::I::CIP
Module::Install::GetProgramLocations => M::I::GetPL
Module::Install::GithubMeta => M::I::GM
Module::Install::NoAutomatedTesting => M::I::NoAT
Module::Install::Rust => M::I::R
Module::Install::TestBase => M::I::TB
Module::Install::TestML => M::I::TML
Module::Install::VersionCheck => M::I::VC
Module::Installed::Tiny => M::I::T
Module::List => *undef*
Module::List::Pluggable => M::L::P
Module::List::WithPath => M::L::WP
Module::Load => *undef*
Module::Load::Conditional => M::L::C
Module::Loadable => *undef*
Module::Loaded => *undef*
Module::Locate => *undef*
Module::Manifest => *undef*
Module::Metadata => *undef*
Module::Notify => M::N
Module::OTRS::CoreList => M::OTRS::CL
Module::Patch => *undef*
Module::Path => *undef*
Module::Path::More => M::P::M
Module::Path::More::Patch::Hide => M::P::M::P::H
Module::Path::Patch::Hide => M::P::P::H
Module::Pluggable => *undef*
Module::Pluggable::Fast => M::P::F
Module::PrintUsed => M::PU
Module::Reader => *undef*
Module::Refresh => *undef*
Module::ScanDeps => M::SD
Module::Starter => *undef*
Module::Starter::Smart => M::S::S
Module::Version => M::V
Module::Want => M::W
Module::Which => *undef*
Module::XSOrPP => M::XSOrPP
Modulino::Demo => *undef*
MogileFS-Utils => MFS-U
MogileFS::Client => MFS::C
Mojar::Cron => *undef*
Mojar::Message => *undef*
Mojo::ACME => M::ACME
Mojo::Autobox => M::A
Mojo::Base::XS => M::B::XS
Mojo::DOM58 => M::DOM58
Mojo::Ecrawler => *undef*
Mojo::Email::Checker::SMTP => M::E::C::SMTP
Mojo::IOLoop::ForkCall => M::IOL::FC
Mojo::IOLoop::HoboProcess => M::IOL::HP
Mojo::IOLoop::LineReader => M::IOL::LR
Mojo::IOLoop::ProcBackground => M::IOL::PB
Mojo::IOLoop::ReadWriteFork => M::IOL::RWF
Mojo::IOLoop::Signal => M::IOL::S
Mojo::IOLoop::Subprocess::Sereal => M::IOL::S::S
Mojo::IOLoop::Tail => M::IOL::T
Mojo::IRC => M::IRC
Mojo::IRC::Server::Chinese => M::IRC::S::C
Mojo::JSON::MaybeXS => M::JSON::MXS
Mojo::JWT => M::JWT
Mojo::JWT::Google => M::JWT::G
Mojo::Log::Che => M::Log::Che
Mojo::Log::Clearable => M::Log::C
Mojo::Log::JSON => M::Log::JSON
Mojo::Log::More => M::Log::M
Mojo::MySQL5 => M::MySQL5
Mojo::Pua => M::Pua
Mojo::Reactor::Epoll => M::R::E
Mojo::Reactor::IOAsync => M::R::IOA
Mojo::Reactor::POE => M::R::POE
Mojo::Redis => *undef*
Mojo::Role => *undef*
Mojo::RoleTiny => M::RT
Mojo::SMTP::Client => M::SMTP::C
Mojo::SNMP => M::SNMP
Mojo::Sendgrid => *undef*
Mojo::TFTPd => M::TFTPd
Mojo::Unicode::UTF8 => M::U::UTF8
Mojo::UserAgent::DigestAuth => M::UA::DA
Mojo::WebSocketProxy => M::WebSP
Mojo::YR => M::YR
Mojo::Zabbix => M::Z
Mojo::Zabbix::APP => M::Z::APP
MojoX::AIO => MX::AIO
MojoX::AlmostJSON => MX::AJSON
MojoX::Auth::Simple => MX::A::S
MojoX::CloudFlare::Simple => MX::CF::S
MojoX::Dispatcher::Qooxdoo::Jsonrpc => MX::D::Q::J
MojoX::Encode::Gzip => MX::E::G
MojoX::IOLoop::Future => MX::IOL::F
MojoX::JSON::RPC => MX::JSON::RPC
MojoX::JSON::RPC::Service::AutoRegister => MX::JSON::RPC::S::AR
MojoX::LineStream => MX::LS
MojoX::Log::Any => MX::Log::Any
MojoX::Log::Fast => MX::Log::F
MojoX::Log::Log4perl => MX::Log::Log4
MojoX::Log::Log4perl::Tiny => MX::Log::Log4::T
MojoX::Log::Syslog => MX::Log::S
MojoX::NetstringStream => MX::NS
MojoX::Ping => MX::P
MojoX::Redis => MX::R
MojoX::Renderer::HTC => MX::R::HTC
MojoX::Renderer::IncludeLater => MX::R::IL
MojoX::Routes::AsGraph => MX::R::AsG
MojoX::Session => MX::S
MojoX::Transaction::WebSocket76 => MX::T::WebS76
MojoX::Twitter => MX::T
Mojolicious-Command-replget => M-C-r
Mojolicious::Che => M::Che
Mojolicious::Command::donuts => M::C::d
Mojolicious::Command::generate::controller => M::C::g::c
Mojolicious::Command::generate::lexicon => M::C::g::l
Mojolicious::Command::generate::qx_mojo_app => M::C::g::q
Mojolicious::Command::generate::routes_restsful => M::C::g::r
Mojolicious::Command::generate::routes_restsful_just_routes => *undef*
Mojolicious::Command::nopaste => M::C::n
Mojolicious::Command::snoodoc => M::C::s
Mojolicious::Command::swat => *undef*
Mojolicious::Plugin::AccessLog => M::P::ALog
Mojolicious::Plugin::AntiSpamMailTo => M::P::ASMTo
Mojolicious::Plugin::AttributeMaker => M::P::AM
Mojolicious::Plugin::Authentication => M::P::A
Mojolicious::Plugin::Authorization => *undef*
Mojolicious::Plugin::AutoParams => M::P::AP
Mojolicious::Plugin::AutoRoute => M::P::AR
Mojolicious::Plugin::AutoSecrets => M::P::AS
Mojolicious::Plugin::BModel => M::P::BM
Mojolicious::Plugin::BasicAuth => M::P::BA
Mojolicious::Plugin::BindSessionToIP => M::P::BSToIP
Mojolicious::Plugin::BlogSpam => M::P::BS
Mojolicious::Plugin::BootstrapHelpers => M::P::BH
Mojolicious::Plugin::BootstrapPagination => M::P::BP
Mojolicious::Plugin::Breadcrumbs => M::P::B
Mojolicious::Plugin::CBOR => M::P::CBOR
Mojolicious::Plugin::CSSLoader => M::P::CSSL
Mojolicious::Plugin::Captcha::reCAPTCHA => M::P::C::reCAPTCHA
Mojolicious::Plugin::ChromeLogger => M::P::CL
Mojolicious::Plugin::ClientIP => M::P::CIP
Mojolicious::Plugin::ClosedRedirect => M::P::CR
Mojolicious::Plugin::ConfigHashMerge => M::P::CHM
Mojolicious::Plugin::Crypto => M::P::C
Mojolicious::Plugin::CustomLog => M::P::CLog
Mojolicious::Plugin::DBInfo => M::P::DBI
Mojolicious::Plugin::DebugDumperHelper => M::P::DDH
Mojolicious::Plugin::DigestAuth => M::P::DA
Mojolicious::Plugin::Directory => M::P::D
Mojolicious::Plugin::Directory::Stylish => M::P::D::S
Mojolicious::Plugin::Disqus::Tiny => M::P::D::T
Mojolicious::Plugin::EDumper => M::P::ED
Mojolicious::Plugin::ErrorsAndWarnings => M::P::EAndW
Mojolicious::Plugin::ExposeControllerMethod => M::P::ECM
Mojolicious::Plugin::FeedReader => M::P::FR
Mojolicious::Plugin::ForkCart => M::P::FC
Mojolicious::Plugin::Form => *undef*
Mojolicious::Plugin::FormChecker => *undef*
Mojolicious::Plugin::FormFields => M::P::FF
Mojolicious::Plugin::FormFieldsFromJSON => M::P::FFFJSON
Mojolicious::Plugin::FormTamperingProtector => M::P::FTP
Mojolicious::Plugin::FormValidatorLazy => M::P::FVL
Mojolicious::Plugin::GeoCoder => M::P::GeoC
Mojolicious::Plugin::Google::Cloud::UserAgent => M::P::G::C::UA
Mojolicious::Plugin::HTMLTemplateProRenderer => M::P::HTMLTProR
Mojolicious::Plugin::Helper::Vars => M::P::H::V
Mojolicious::Plugin::HostMeta => M::P::HM
Mojolicious::Plugin::HttpBasicAuth => M::P::HBA
Mojolicious::Plugin::I18N => M::P::I18N
Mojolicious::Plugin::INIConfig => M::P::INIC
Mojolicious::Plugin::INIConfig::Extended => M::P::INIC::E
Mojolicious::Plugin::IP2Location => M::P::IP2L
Mojolicious::Plugin::Ical => M::P::I
Mojolicious::Plugin::JIPConf => M::P::JIPC
Mojolicious::Plugin::JSLoader => M::P::JSL
Mojolicious::Plugin::JSONP => M::P::JSONP
Mojolicious::Plugin::JSUrlFor => M::P::JSUrlFor
Mojolicious::Plugin::JSUrlFor::Angular => M::P::JSUrlFor::A
Mojolicious::Plugin::JavaScript::Console => M::P::JS::C
Mojolicious::Plugin::LinkedContent => M::P::LC
Mojolicious::Plugin::Log::Access => M::P::Log::A
Mojolicious::Plugin::Log::Elasticsearch => M::P::Log::E
Mojolicious::Plugin::Log::Timestamp => M::P::Log::T
Mojolicious::Plugin::Logf => *undef*
Mojolicious::Plugin::Mail => *undef*
Mojolicious::Plugin::MailException => M::P::ME
Mojolicious::Plugin::Memorize => *undef*
Mojolicious::Plugin::MethodOverride => M::P::MO
Mojolicious::Plugin::Model => *undef*
Mojolicious::Plugin::Module => *undef*
Mojolicious::Plugin::MoreHTMLHelpers => M::P::MHTMLH
Mojolicious::Plugin::MoreUtilHelpers => M::P::MUH
Mojolicious::Plugin::Multiplex => *undef*
Mojolicious::Plugin::Notifications => M::P::N
Mojolicious::Plugin::Number::Commify => M::P::N::C
Mojolicious::Plugin::OnFork => M::P::OnF
Mojolicious::Plugin::OpenAPI => M::P::OAPI
Mojolicious::Plugin::ParamExpand => M::P::PE
Mojolicious::Plugin::ParamLogger => M::P::PL
Mojolicious::Plugin::PetalTinyRenderer => M::P::PTR
Mojolicious::Plugin::Piwik => *undef*
Mojolicious::Plugin::PlainRoutes => M::P::PR
Mojolicious::Plugin::ProxyPassReverse::SubDir => M::P::PPR::SubDir
Mojolicious::Plugin::PubSubHubbub => M::P::PubSubH
Mojolicious::Plugin::Qooxdoo => M::P::Q
Mojolicious::Plugin::REST => M::P::REST
Mojolicious::Plugin::RESTRoutes => M::P::RESTR
Mojolicious::Plugin::RESTful => *undef*
Mojolicious::Plugin::Recaptcha => *undef*
Mojolicious::Plugin::RedirectHost => M::P::RH
Mojolicious::Plugin::RelativeUrlFor => M::P::RUrlFor
Mojolicious::Plugin::RemoteAddr => M::P::RA
Mojolicious::Plugin::RenderCGI => M::P::RCGI
Mojolicious::Plugin::RenderFile => M::P::RF
Mojolicious::Plugin::Renderer::WithoutCache => M::P::R::WC
Mojolicious::Plugin::ReplyTable => M::P::RT
Mojolicious::Plugin::RequestBase => M::P::RB
Mojolicious::Plugin::Restify => *undef*
Mojolicious::Plugin::Routes::Restful => M::P::R::R
Mojolicious::Plugin::RussianPost => M::P::RP
Mojolicious::Plugin::SMS => M::P::SMS
Mojolicious::Plugin::Scrypt => M::P::S
Mojolicious::Plugin::SecureCORS => M::P::SCORS
Mojolicious::Plugin::SecureOnly => M::P::SO
Mojolicious::Plugin::SemanticUI => M::P::SUI
Mojolicious::Plugin::SemanticUIPageNavigator => M::P::SUIPN
Mojolicious::Plugin::ServerInfo => M::P::SI
Mojolicious::Plugin::ServerStatus => M::P::SS
Mojolicious::Plugin::SetUserGroup => M::P::SetUG
Mojolicious::Plugin::ShareHelpers => M::P::SH
Mojolicious::Plugin::SimpleAuthorization => M::P::SA
Mojolicious::Plugin::StaticLog => M::P::SLog
Mojolicious::Plugin::Subdispatch => *undef*
Mojolicious::Plugin::Subprocess => *undef*
Mojolicious::Plugin::Surveil => *undef*
Mojolicious::Plugin::TagHelpers::MailToChiffre => M::P::TagH::MToC
Mojolicious::Plugin::TagHelpers::Pagination => M::P::TagH::P
Mojolicious::Plugin::TagHelpersI18N => M::P::TagHI18N
Mojolicious::Plugin::TemplatePerlish => M::P::TP
Mojolicious::Plugin::UnicodeNormalize => M::P::UN
Mojolicious::Plugin::UniqueTagHelpers => M::P::UTagH
Mojolicious::Plugin::Util::Callback => M::P::U::C
Mojolicious::Plugin::Util::Endpoint => M::P::U::E
Mojolicious::Plugin::Util::RandomString => M::P::U::RS
Mojolicious::Plugin::ValidateTiny => M::P::VT
Mojolicious::Plugin::ViewBuilder => M::P::VB
Mojolicious::Plugin::WebFinger => M::P::WebF
Mojolicious::Plugin::WithCSRFProtection => M::P::WCSRFP
Mojolicious::Plugin::WriteExcel => M::P::WE
Mojolicious::Plugin::XML::Loy => M::P::XML::Loy
Mojolicious::Plugin::XRD => M::P::XRD
Mojolicious::Plugin::YamlConfig => M::P::YC
Mojolicious::Plugin::YubiVerify => M::P::YV
Mojolicious::Quick => *undef*
MoneyWorks-pm => MW-pm
Monitoring::Generator::TestConfig => M::G::TC
Monitoring::Livestatus => *undef*
Monitoring::Livestatus::Class::Lite => M::L::C::L
Monkey::Patch => *undef*
Monkey::Patch::Action => *undef*
Monotone::AutomateStdio => M::AS
Month::Simple => *undef*
MooX::Lsub => MooX::L
Mooish::Caller::Util => *undef*
MooseX => MX
MooseX::MungeHas => MX::MHas
MooseY => MY
Moped::Msg => M::Msg
MouseX::Foreign => MX::F
MouseX::NativeTraits => MX::NT
MouseX::POE => MX::POE
MouseX::SingletonMethod => MX::SM
MouseX::StrictConstructor => MX::SC
MouseX::Types => *undef*
Mozilla::CA => M::CA
Mozilla::PublicSuffix => M::PS
Munin::Plugin::ApacheRequest => *undef*
Music::AtonalUtil => M::AU
Music::Chord::Note => M::C::N
Music::Chord::Positions => *undef*
Music::Duration => *undef*
Music::Interval::Barycentric => *undef*
Music::LilyPondUtil => M::LPU
Music::NeoRiemannianTonnetz => M::NeoRT
Music::Note => *undef*
Music::Note::Frequency => M::N::F
Music::Tension => *undef*
Music::Voss => *undef*
Mustache::Simple => *undef*
My::Object => My::O
My::Test => My::T
MySQL::Diff => MySQL::D
MySQL::Sandbox => MySQL::S
NDBM_File => NDBM_F
Nagios::Object => N::O
NanoB2B::NER => NB2B::NER
Net::AMQP::ConnectionMgr => Net::AMQP::CMgr
Net::AMQP::RabbitMQ => Net::AMQP::RMQ
Net::Abuse::Utils::Spamhaus => Net::A::U::S
Net::Airbrake => Net::A
Net::Airbrake::V2 => Net::A::V2
Net::Amazon::DirectConnect => Net::A::DC
Net::Amazon::Route53 => Net::A::R53
Net::Amazon::SNS::Signature => Net::A::SNS::S
Net::Amazon::Signature::V4 => Net::A::S::V4
Net::AmazonS3::Simple => Net::AS3::S
Net::Async::HTTP => Net::A::HTTP
Net::Async::HTTP::Server => Net::A::HTTP::S
Net::Async::IRC => Net::A::IRC
Net::Async::Matrix => Net::A::M
Net::Async::SOCKS => Net::A::SOCKS
Net::Async::SPORE => Net::A::SPORE
Net::Async::TransferFD => Net::A::TFD
Net::Async::WebSocket => Net::A::WebS
Net::Backpack => Net::B
Net::BitTorrent::Protocol => Net::BitT::P
Net::CIDR::Lite => Net::CIDR::L
Net::Cassandra => Net::C
Net::Citadel => *undef*
Net::Config => *undef*
Net::Continental => *undef*
Net::CyanChat => Net::CC
Net::DNS::Async => Net::DNS::A
Net::DNS::Async::Simple => Net::DNS::A::S
Net::DNS::Codes => Net::DNS::C
Net::DNS::Native => Net::DNS::N
Net::Dev::Tools::SyslogMessage => Net::Dev::T::SM
Net::Dict => Net::D
Net::DirectConnect::TigerHash => Net::DC::TH
Net::Dogstatsd => *undef*
Net::Domain => *undef*
Net::Domain::ExpireDate => Net::D::ED
Net::Domain::TLD => Net::D::TLD
Net::Enum::DNSServer => Net::E::DNSS
Net::Evernote::Simple => Net::E::S
Net::FTP::Tiny => Net::FTP::T
Net::FTP::dataconn => Net::FTP::d
Net::Facebook::Oauth2 => Net::F::O2
Net::Fix::Checksum::XS => Net::Fix::C::XS
Net::Flow => Net::F
Net::Frame => *undef*
Net::Frame::Layer::8021Q => Net::F::L::8021Q
Net::Frame::Layer::GRE => Net::F::L::GRE
Net::Frame::Layer::ICMPv4 => Net::F::L::ICMPv4
Net::Frame::Layer::IPv6 => Net::F::L::IPv6
Net::Frame::Layer::LLC => Net::F::L::LLC
Net::Frame::Layer::LLTD => Net::F::L::LLTD
Net::Frame::Layer::LOOP => Net::F::L::LOOP
Net::Frame::Layer::NTP => Net::F::L::NTP
Net::Frame::Layer::OSPF => Net::F::L::OSPF
Net::Frame::Layer::PPPLCP => Net::F::L::PPPLCP
Net::Frame::Layer::PPPoES => Net::F::L::PPPoES
Net::Frame::Layer::STP => Net::F::L::STP
Net::Frame::Layer::Syslog => Net::F::L::S
Net::Frame::Layer::UDPLite => Net::F::L::UDPL
Net::Frame::Layer::VRRP => Net::F::L::VRRP
Net::Frame::Simple => Net::F::S
Net::FreeDB2 => Net::FDB2
Net::Gearman::Administrative => Net::G::A
Net::Gnats => Net::G
Net::Google::Analytics => *undef*
Net::Google::WebmasterTools => Net::G::WT
Net::Graphite => *undef*
Net::HTTP::Methods::Patch::LogRequest => Net::HTTP::M::P::LogR
Net::HTTP::Tiny => Net::HTTP::T
Net::IDN::Encode => Net::IDN::E
Net::IDN::Nameprep => Net::IDN::N
Net::IMP::Remote => Net::IMP::R
Net::INET6Glue => Net::INET6G
Net::IP::Match::Bin => Net::IP::M::Bin
Net::IP::Minimal => Net::IP::M
Net::IPAddress::Util => Net::IPA::U
Net::IPv4Addr => Net::IPv4A
Net::IPv6Addr => Net::IPv6A
Net::Ident => Net::I
Net::Ifconfig::Wrapper => Net::I::W
Net::LDAP::FilterBuilder => Net::LDAP::FB
Net::MAC::Vendor => Net::MAC::V
Net::MQTT::Simple => Net::MQTT::S
Net::MQTT::Simple::Auth => Net::MQTT::S::A
Net::Mailboxlayer => Net::M
Net::ManageSieve => Net::MS
Net::NATS::Client => Net::NATS::C
Net::Netmask => Net::N
Net::Netrc => *undef*
Net::OAuth => Net::OA
Net::OAuth2 => Net::OA2
Net::OpenID::Common => Net::OID::C
Net::OpenID::Consumer => *undef*
Net::OpenID::Server => Net::OID::S
Net::OpenNebula => Net::ON
Net::OpenSSH => Net::OSSH
Net::OpenSSH::Compat => Net::OSSH::C
Net::OpenSSH::Parallel => Net::OSSH::P
Net::Ping => Net::P
Net::Ping::External => Net::P::E
Net::Prometheus => *undef*
Net::Proxmox::VE => Net::P::VE
Net::Routing => Net::R
Net::SFTP::Foreign => Net::SFTP::F
Net::SFTP::Foreign::Tempdir::Extract => Net::SFTP::F::T::E
Net::SNMP::Mixin => Net::SNMP::M
Net::SNMP::Mixin::CiscoDot1qVlanStaticTrunks => Net::SNMP::M::CDot1qVST
Net::SNMP::Mixin::Dot1abLldp => Net::SNMP::M::Dot1abL
Net::SNMP::Mixin::Dot1dBase => Net::SNMP::M::Dot1dB
Net::SNMP::Mixin::Dot1dStp => Net::SNMP::M::Dot1dStp
Net::SNMP::Mixin::Dot1qFdb => Net::SNMP::M::Dot1qFdb
Net::SNMP::Mixin::Dot1qVlanStatic => Net::SNMP::M::Dot1qVS
Net::SNMP::Mixin::IfInfo => Net::SNMP::M::IfI
Net::SNMP::Mixin::IpCidrRouteTable => Net::SNMP::M::IpCRT
Net::SNMP::Mixin::IpRouteTable => Net::SNMP::M::IpRT
Net::SNTP::Client => Net::SNTP::C
Net::SNTP::Server => Net::SNTP::S
Net::SRCDS::Queries => Net::SRCDS::Q
Net::SSH::AuthorizedKeysFile => Net::SSH::AKF
Net::SSH::Perl => Net::SSH::P
Net::SSH::Perl::ProxiedIPC => Net::SSH::P::PIPC
Net::Statsd => Net::S
Net::Statsite::Client => Net::S::C
Net::Stomp => *undef*
Net::Surveymonkey => *undef*
Net::Syslogd => *undef*
Net::Telnet => Net::T
Net::Telnet::Huawei => Net::T::H
Net::Telnet::Netgear => Net::T::N
Net::ThreeScale::Client => Net::TS::C
Net::Time => *undef*
Net::Todoist => *undef*
Net::Tomcat => *undef*
Net::Twitch::Oauth2 => Net::T::O2
Net::Waiter => Net::W
Net::WebSocket => Net::WebS
Net::WebSocket::Server => Net::WebS::S
Net::Whois::Norid => Net::W::N
Net::Whois::Parser => Net::W::P
Net::Whois::Raw => Net::W::Raw
Net::Write::Fast => Net::W::F
Net::hostent => Net::h
Net::netent => Net::n
Net::protoent => Net::p
Net::servent => Net::s
NetAddr::IP => NetA::IP
NetAddr::IP::FastNew => NetA::IP::FNew
NetAddr::IP::LazyInit => NetA::IP::LI
NetAddr::MAC => NetA::MAC
NetPacket => NetP
NetSDS::Util => NetSDS::U
Netflow::Parser => N::P
NexStarCtl => NexSCtl
Nginx::FastCGI::Cache => N::FCGI::C
Nginx::ParseLog => N::PLog
Nmap::Parser => *undef*
Number::Bytes::Human => N::B::H
Number::Closest::NonOO => N::C::NonOO
Number::Closest::XS => N::C::XS
Number::Compare => N::C
Number::Convert::Roman => N::C::R
Number::Format => N::F
Number::Format::Metric => N::F::M
Number::Format::SouthAsian => N::F::SA
Number::FormatEng => N::FEng
Number::Interval => N::I
Number::Misc => N::M
Number::Natural::SetTheory => N::N::SetT
Number::Phone::CountryCode => N::P::CC
Number::Range => N::R
Number::RangeTracker => N::RT
Number::Tolerant => N::T
Number::YAUID => N::YAUID
Number::ZipCode::JP => N::ZipC::JP
OAuth::Lite => OA::L
OAuth::Simple => OA::S
ODBM_File => ODBM_F
OLE::Storage_Lite => OLE::SL
OS2::ExtAttr => OS2::ExtA
OS2::Process => OS2::P
Object::Accessor => O::A
Object::Anon => *undef*
Object::ArrayType::New => O::AT::New
Object::Base => O::B
Object::Declare => O::D
Object::Dumb => *undef*
Object::Enum => O::E
Object::Exercise => *undef*
Object::ForkAware => O::FA
Object::HashBase => O::HB
Object::Import => O::I
Object::InsideOut => O::IOut
Object::Iterate => *undef*
Object::Method => O::M
Object::MultiType => O::MT
Object::Pluggable => O::P
Object::Properties => *undef*
Object::Realize::Later => O::R::L
Object::Signature => O::S
Object::Signature::Portable => O::S::P
Object::Simple => *undef*
Object::Sub => O::Sub
Object::Tap => O::Tap
Object::Tiny => O::T
Object::Tiny::Lvalue => O::T::L
Object::Tiny::RW => O::T::RW
Object::Tiny::XS => O::T::XS
Object::Trampoline => *undef*
OpenAPI => OAPI
OpenDNS::MyIP => ODNS::MyIP
OpenServices::SNMP => OS::SNMP
OpenStack::Client => OS::C
Opt::Imistic => Opt::I
OptArgs => OptA
OpusVL::Text::Util => OVL::T::U
Org::To::Text => Org::To::T
Ossec::Log::Parse => O::Log::P
Outthentic::DSL => O::DSL
Oxford::Calendar => O::C
PAR::Dist => PAR::D
PBKDF2::Tiny => PBKDF2::T
PCX::Loader => PCX::L
PDF::API2::Tweaks => PDF::API2::T
PDF::Reuse => PDF::R
PDF::Reuse::Barcode => PDF::R::B
PDF::Reuse::OverlayChart => PDF::R::OC
PDF::Reuse::Tutorial => PDF::R::T
PDF::Table => PDF::T
PDF::TextBlock => PDF::TB
PDF::Tiny => *undef*
PEF::CacheLRU => PEF::CLRU
PERLANCAR::AppUtil::PerlStripper => PERLANCAR::AppU::PS
PERLANCAR::Exporter::Lite => PERLANCAR::E::L
PERLANCAR::File::HomeDir => PERLANCAR::F::HDir
PERLANCAR::HTML::Tree::Examples => PERLANCAR::HTML::T::E
PERLANCAR::JSON::Match => PERLANCAR::JSON::M
PERLANCAR::List::Util::PP => PERLANCAR::L::U::PP
PERLANCAR::Module::List => PERLANCAR::M::L
PERLANCAR::Permute::Named => PERLANCAR::P::N
PERLANCAR::Sort::Sub => PERLANCAR::S::Sub
PERLANCAR::Text::Levenshtein => PERLANCAR::T::L
PERLANCAR::Tree::Examples => PERLANCAR::T::E
PERLANCAR::warnings::all => PERLANCAR::w::all
PESEL::Generator => PESEL::G
PHP::HTTPBuildQuery => PHP::HTTPBQ
PHP::Include => PHP::I
PHP::ParseStr => PHP::PStr
PHP::Serialization => PHP::S
PHP::Serialization::XS => PHP::S::XS
PID::File => PID::F
POD2::Base => POD2::B
POE::Component::AI::MegaHAL => POE::C::AI::MHAL
POE::Component::CPANIDX => POE::C::CPANIDX
POE::Component::Captcha::reCAPTCHA => POE::C::C::reCAPTCHA
POE::Component::Client::DNS => POE::C::C::DNS
POE::Component::Client::DNS::Recursive => POE::C::C::DNS::R
POE::Component::Client::FTP => POE::C::C::FTP
POE::Component::Client::HTTP => POE::C::C::HTTP
POE::Component::Client::Ident => POE::C::C::I
POE::Component::Client::Keepalive => POE::C::C::K
POE::Component::Client::NNTP => POE::C::C::NNTP
POE::Component::Client::NTP => POE::C::C::NTP
POE::Component::Client::Pastebot => POE::C::C::P
POE::Component::Client::SOCKS => POE::C::C::SOCKS
POE::Component::Client::Whois => POE::C::C::W
POE::Component::IKC => POE::C::IKC
POE::Component::IRC => POE::C::IRC
POE::Component::IRC::Plugin::CoreList => POE::C::IRC::P::CL
POE::Component::IRC::Plugin::Hello => POE::C::IRC::P::H
POE::Component::IRC::Plugin::Logger::Irssi => POE::C::IRC::P::L::I
POE::Component::IRC::Plugin::POE::Knee => POE::C::IRC::P::POE::K
POE::Component::NonBlockingWrapper::Base => POE::C::NonBW::B
POE::Component::Pluggable => POE::C::P
POE::Component::Proxy::SOCKS => POE::C::P::SOCKS
POE::Component::Resolver => POE::C::R
POE::Component::SASLAuthd => POE::C::SASLA
POE::Component::Server::Chargen => POE::C::S::C
POE::Component::Server::DNS => POE::C::S::DNS
POE::Component::Server::Daytime => POE::C::S::D
POE::Component::Server::Discard => *undef*
POE::Component::Server::Echo => POE::C::S::E
POE::Component::Server::IRC => POE::C::S::IRC
POE::Component::Server::Ident => POE::C::S::I
POE::Component::Server::NNTP => POE::C::S::NNTP
POE::Component::Server::POP3 => POE::C::S::POP3
POE::Component::Server::Qotd => POE::C::S::Q
POE::Component::Server::SimpleContent => POE::C::S::SC
POE::Component::Server::Time => POE::C::S::T
POE::Component::SmokeBox => POE::C::SBox
POE::Component::SmokeBox::Dists => POE::C::SBox::D
POE::Component::SmokeBox::Recent => POE::C::SBox::R
POE::Component::SmokeBox::Uploads::CPAN::Mini => POE::C::SBox::U::CPAN::M
POE::Component::SmokeBox::Uploads::NNTP => POE::C::SBox::U::NNTP
POE::Component::Syndicator => POE::C::S
POE::Component::WWW::Shorten => POE::C::WWW::S
POE::Component::YubiAuth => POE::C::YA
POE::Filter::Bzip2 => POE::F::B2
POE::Filter::CSV => POE::F::CSV
POE::Filter::CSV_XS => POE::F::CSV_XS
POE::Filter::DHCPd::Lease => POE::F::DHCPd::L
POE::Filter::DNS::TCP => POE::F::DNS::TCP
POE::Filter::HTTP::Parser => POE::F::HTTP::P
POE::Filter::IASLog => POE::F::IASLog
POE::Filter::IRCD => POE::F::IRCD
POE::Filter::IRCv3 => POE::F::IRCv3
POE::Filter::JSONMaybeXS => POE::F::JSONMXS
POE::Filter::LZF => POE::F::LZF
POE::Filter::ParseWords => POE::F::PW
POE::Filter::Zlib => POE::F::Z
POE::Future => POE::F
POE::Loop::EV => POE::L::EV
POE::Session::AttributeBased => POE::S::AB
POE::Test::Loops => POE::T::L
POE::XS::Loop::EPoll => POE::XS::L::EP
POE::XS::Queue::Array => POE::XS::Q::A
POSIX::AtFork => POSIX::AtF
POSIX::Open3 => POSIX::O3
POSIX::RT::SharedMem => POSIX::RT::SMem
POSIX::RT::Signal => POSIX::RT::S
POSIX::RT::Timer => POSIX::RT::T
POSIX::Wide => POSIX::W
POSIX::strftime::Compiler => POSIX::s::C
POSIX::strftime::GNU => POSIX::s::GNU
POSIX::strptime => POSIX::s
PPM::Repositories => PPM::R
PQL::Cache => PQL::C
PYX::Hist => PYX::H
PYX::SGML::Tags => PYX::SGML::T
PYX::Sort => PYX::S
PYX::Stack => *undef*
PYX::Utils => PYX::U
PYX::XMLNorm => PYX::XMLN
PYX::XMLSchema::List => PYX::XMLS::L
Package::Alias => P::A
Package::Anon => *undef*
Package::Constants => P::C
Package::Generator => P::G
Package::MoreUtil => P::MU
Package::New => P::New
Package::Rename => P::R
Package::Stash::XS => P::S::XS
PagSeguro::API => PagS::API
Palm::MaTirelire => P::MaT
Palm::PDB => P::PDB
Palm::SMS => P::SMS
Panda::Config::Perl => P::C::P
Panda::Date => P::D
Panda::Export => P::E
Panda::Install => P::I
Panda::Lib => P::Lib
Panda::Time => P::T
Panda::URI => P::URI
Panda::XS => P::XS
Pandoc::Elements => *undef*
PangoConst => PC
Parallel::Boss => P::B
Parallel::Dragons => *undef*
Parallel::Fork::BossWorkerAsync => P::F::BWA
Parallel::ForkManager => P::FM
Parallel::Loops => P::L
Parallel::Pipes => P::P
Parallel::Prefork => *undef*
Parallel::Runner => *undef*
Parallel::Scoreboard => P::S
Params::Check => *undef*
Params::Check::Faster => P::C::F
Params::Dry => P::Dry
Params::Util => P::U
Paranoid::Log::Email => P::Log::E
Paranoid::Log::Syslog => P::Log::S
Parse::BBCode => P::BBC
Parse::BBCode::SCEditor => P::BBC::SCE
Parse::CPAN::Distributions => P::CPAN::D
Parse::CPAN::Meta => P::CPAN::M
Parse::CPAN::Packages::Fast => P::CPAN::P::F
Parse::CSV => P::CSV
Parse::CSV::Colnames => P::CSV::C
Parse::CommandLine => P::CL
Parse::Crontab => *undef*
Parse::DNS::Zone => P::DNS::Z
Parse::Diagnostics => *undef*
Parse::ErrorString::Perl => P::ES::P
Parse::Functions => P::F
Parse::Gitignore => *undef*
Parse::GutenbergRoget => P::GR
Parse::Hosts => P::H
Parse::IASLog => P::IASLog
Parse::IRC => P::IRC
Parse::JCONF => P::JCONF
Parse::Lotus123::WK4 => P::L123::WK4
Parse::M3U::Extended => P::M3U::E
Parse::MIME => P::MIME
Parse::Netstat => P::N
Parse::Number::EN => P::N::EN
Parse::Number::ID => P::N::ID
Parse::PEM::Lax => P::PEM::Lax
Parse::PhoneNumber::ID => P::PN::ID
Parse::PlainConfig => P::PC
Parse::Readelf => *undef*
Parse::RecDescent => P::RecD
Parse::SQLOutput => P::SQLO
Parse::Services => *undef*
Parse::Stata::DtaReader => P::S::DtaR
Parse::Sums => *undef*
Parse::Taxonomy => *undef*
Parse::Template => *undef*
Parse::VarName => P::VarN
Parse::WWWAuthenticate => P::WWWA
Parser::AAMVA::License => P::AAMVA::L
Parser::Combinators => *undef*
Parser::MGC => P::MGC
Passwd::Keyring::Memory => P::K::M
Passwd::Keyring::OSXKeychain => P::K::OSXK
Passwd::Linux => *undef*
Path::Class => *undef*
Path::Class::File::Stat => P::C::F::S
Path::Class::URI => P::C::URI
Path::Dispatcher => *undef*
Path::Hilbert => *undef*
Path::Hilbert::XS => P::H::XS
Path::Iterator::Rule => P::I::R
Path::Naive => *undef*
Path::Resolve => *undef*
Path::ScanINC => P::SINC
Path::Tiny => *undef*
Patterns::UndefObject => P::UO
PayflowPro => PPro
Pegex::CPAN::Packages => P::CPAN::P
Pegex::CSV => *undef*
Pegex::Chess => *undef*
Pegex::Drinkup => *undef*
Pegex::Forth => *undef*
Pegex::JSON => P::JSON
Pegex::vCard => P::vC
Performance::Probability => *undef*
Perinci::Access => *undef*
Perinci::Access::Base => P::A::B
Perinci::Access::HTTP::Client => P::A::HTTP::C
Perinci::Access::Simple::Client => P::A::S::C
Perinci::AccessUtil => P::AU
Perinci::CLI => P::CLI
Perinci::CmdLine => P::CmdL
Perinci::CmdLine::Any => P::CmdL::Any
Perinci::CmdLine::Call => P::CmdL::C
Perinci::CmdLine::Dump => P::CmdL::D
Perinci::CmdLine::Easy => P::CmdL::E
Perinci::CmdLine::Gen => P::CmdL::Gen
Perinci::CmdLine::Help => P::CmdL::H
Perinci::CmdLine::Util => P::CmdL::U
Perinci::CmdLine::Util::Config => P::CmdL::U::C
Perinci::Declare => *undef*
Perinci::Easy => *undef*
Perinci::Examples => *undef*
Perinci::Examples::Bin::Any => P::E::Bin::Any
Perinci::Examples::Bin::Any::ArgsAs => P::E::Bin::Any::AAs
Perinci::Examples::Bin::Any::ResultNaked => P::E::Bin::Any::RN
Perinci::Examples::Bin::Inline => P::E::Bin::I
Perinci::Gen::ForModule => P::Gen::ForM
Perinci::Object => P::O
Perinci::Result::Format::Lite => P::R::F::L
Perinci::Result::Util => P::R::U
Perinci::Sub::ArgEntity => P::Sub::ArgE
Perinci::Sub::ArgEntity::dirname => P::Sub::ArgE::d
Perinci::Sub::ArgEntity::distname => *undef*
Perinci::Sub::ArgEntity::filename => P::Sub::ArgE::f
Perinci::Sub::ArgEntity::modulename => P::Sub::ArgE::m
Perinci::Sub::ArgEntity::perl_version => P::Sub::ArgE::p
Perinci::Sub::ArgEntity::riap_url => P::Sub::ArgE::r
Perinci::Sub::ArgEntity::sah::type_name => P::Sub::ArgE::sah::t
Perinci::Sub::ArgEntity::software_license => P::Sub::ArgE::s
Perinci::Sub::ArgEntity::timezone => P::Sub::ArgE::t
Perinci::Sub::ArgEntity::unix_user => P::Sub::ArgE::u
Perinci::Sub::Convert::default_lang => P::Sub::C::d
Perinci::Sub::Convert::v => P::Sub::C::v
Perinci::Sub::ConvertArgs::Array => P::Sub::CA::A
Perinci::Sub::DepChecker => P::Sub::DepC
Perinci::Sub::Gen => P::Sub::Gen
Perinci::Sub::Gen::FromFormulas => P::Sub::Gen::FF
Perinci::Sub::GetArgs::WebForm => P::Sub::GetA::WebF
Perinci::Sub::PropertyUtil => P::Sub::PU
Perinci::Sub::To::CLIDocData => P::Sub::To::CLIDocD
Perinci::Sub::Util => P::Sub::U
Perinci::Sub::Util::DepModule => P::Sub::U::DepM
Perinci::Tx::Util => P::Tx::U
Perinci::Use => P::Use
Perinci::Web => P::Web
Perl6::Export => P6::E
Perl6::Form => P6::F
Perl6::Perldoc => P6::P
Perl6::Slurp => P6::S
Perl::APIReference => P::APIR
Perl::Build => *undef*
Perl::Builtins => *undef*
Perl::Configure => *undef*
Perl::Destruct::Level => P::D::L
Perl::Exactly => *undef*
Perl::Examples => *undef*
Perl::Lexer => *undef*
Perl::Meta => P::M
Perl::OSType => P::OST
Perl::Tidy => *undef*
Perl::Tidy::Komodo => P::T::K
Perl::Tidy::Sweetened => P::T::S
Perl::Tokenizer => *undef*
Perl::Unsafe::Signals => P::U::S
Perl::Version => P::V
Perl::osnames => P::o
PerlIO => PIO
PerlIO::Layers => PIO::L
PerlIO::encoding => PIO::e
PerlIO::eol => PIO::eol
PerlIO::gzip => PIO::g
PerlIO::locale => PIO::l
PerlIO::mmap => PIO::m
PerlIO::scalar => PIO::s
PerlIO::utf8_strict => PIO::utf8
PerlIO::via => PIO::via
PerlIO::via::PrepareCP1251 => PIO::via::PCP1251
PerlIO::via::QuotedPrint => PIO::via::QP
PerlIO::via::Unidecode => PIO::via::U
PerlIO::via::as_is => PIO::via::a
PerlIO::via::dynamic => PIO::via::d
PerlIO::via::json => PIO::via::j
PerlMongers::Hannover => PM::H
PerlMongers::MadMongers => PM::MadM
PerlX::ArraySkip => PX::AS
PerlX::ArraySkip::XS => PX::AS::XS
PerlX::Maybe => PX::M
PerlX::Maybe::XS => PX::M::XS
PerlX::Perform => PX::P
Perlito5 => P5
Permute::Named::Iter => P::N::I
Person::CNPclass => P::CNP
Petal::Tiny => *undef*
Pg::Explain => Pg::E
Pg::hstore => Pg::h
Photography::EV => P::EV
Physics::Unit => *undef*
Pipe::Find => *undef*
PkgConfig => PkgC
PlugAuth::Client::Tiny => PA::C::T
Plugin::Simple => *undef*
Pod::Abstract => Pod::A
Pod::AsciiDoctor => Pod::AD
Pod::Autopod => *undef*
Pod::Cats => Pod::C
Pod::Checker => *undef*
Pod::Confluence => *undef*
Pod::Constants => *undef*
Pod::Coverage => *undef*
Pod::Coverage::TrustPod => Pod::C::TPod
Pod::Elide => Pod::E
Pod::Escapes => *undef*
Pod::Eventual => *undef*
Pod::Find => Pod::F
Pod::From::Acme::CPANLists => Pod::F::A::CPANL
Pod::Functions => *undef*
Pod::Functions::Functions => Pod::F::F
Pod::Generate::Recursive => Pod::G::R
Pod::Html => Pod::H
Pod::InputObjects => Pod::IO
Pod::Markdown => Pod::M
Pod::Markdown::Github => Pod::M::G
Pod::Markdown::Passthrough => Pod::M::P
Pod::POM::View::Restructured => Pod::POM::V::R
Pod::POM::View::XML => Pod::POM::V::XML
Pod::ParseLink => Pod::PL
Pod::ParseUtils => Pod::PU
Pod::Parser => Pod::P
Pod::Perldoc => *undef*
Pod::Perldoc::BaseTo => Pod::P::BTo
Pod::Perldoc::GetOptsOO => Pod::P::GetOOO
Pod::Perldoc::ToANSI => Pod::P::ToANSI
Pod::Perldoc::ToChecker => Pod::P::ToC
Pod::Perldoc::ToMan => Pod::P::ToMan
Pod::Perldoc::ToNroff => Pod::P::ToN
Pod::Perldoc::ToPod => Pod::P::ToPod
Pod::Perldoc::ToRtf => Pod::P::ToRtf
Pod::Perldoc::ToTerm => Pod::P::ToT
Pod::Perldoc::ToText => *undef*
Pod::Perldoc::ToTk => Pod::P::ToTk
Pod::Perldoc::ToXml => Pod::P::ToXml
Pod::PlainText => Pod::PT
Pod::PseudoPod => Pod::PPod
Pod::PseudoPod::LaTeX => Pod::PPod::LaTeX
Pod::Section => Pod::S
Pod::Select => *undef*
Pod::Simple => *undef*
Pod::Simple::BlackBox => Pod::S::BBox
Pod::Simple::Checker => Pod::S::C
Pod::Simple::Data => Pod::S::D
Pod::Simple::Debug => *undef*
Pod::Simple::DumpAsText => Pod::S::DAsT
Pod::Simple::DumpAsXML => Pod::S::DAsXML
Pod::Simple::HTML => Pod::S::HTML
Pod::Simple::HTMLBatch => Pod::S::HTMLB
Pod::Simple::HTMLLegacy => Pod::S::HTMLL
Pod::Simple::LaTeX => Pod::S::LaTeX
Pod::Simple::LinkSection => Pod::S::LS
Pod::Simple::Methody => Pod::S::M
Pod::Simple::Progress => Pod::S::P
Pod::Simple::PullParser => Pod::S::PP
Pod::Simple::PullParserEndToken => Pod::S::PPEndT
Pod::Simple::PullParserStartToken => Pod::S::PPST
Pod::Simple::PullParserTextToken => Pod::S::PPTT
Pod::Simple::PullParserToken => Pod::S::PPT
Pod::Simple::RTF => Pod::S::RTF
Pod::Simple::Search => Pod::S::S
Pod::Simple::SimpleTree => Pod::S::ST
Pod::Simple::Text => Pod::S::T
Pod::Simple::Text::Termcap => Pod::S::T::T
Pod::Simple::TextContent => Pod::S::TC
Pod::Simple::TiedOutFH => Pod::S::TOutFH
Pod::Simple::Transcode => *undef*
Pod::Simple::TranscodeDumb => Pod::S::TD
Pod::Simple::TranscodeSmart => Pod::S::TS
Pod::Simple::Wiki => Pod::S::W
Pod::Simple::XHTML => Pod::S::XHTML
Pod::Simple::XMLOutStream => Pod::S::XMLOutS
Pod::Site => *undef*
Pod::Spelling => *undef*
Pod::Strip => *undef*
Pod::Text => Pod::T
Pod::Text::Color => Pod::T::C
Pod::Text::Overstrike => Pod::T::O
Pod::Text::Termcap => Pod::T::T
Pod::Tidy => *undef*
Pod::Usage => Pod::U
Pod::Wrap => Pod::W
Poe::Wheel::Spawner => Poe::W::S
Pointy::Counter => *undef*
Pony::Object => *undef*
PoolController => *undef*
Port::Selector => *undef*
PostScript::DecodeGlyphName => PS::DGN
PostScript::File => PS::F
PostScript::Font => *undef*
PostScript::Simple => PS::S
Postfix::Parse::Mailq => P::P::M
Power::Outlet => *undef*
PowerShell => PS
Preproc::Tiny => *undef*
Probe::Perl => *undef*
Proc::Background => *undef*
Proc::CPUUsage => P::CPUU
Proc::ChildError => P::CE
Proc::Daemon => *undef*
Proc::Daemon::Prefork => P::D::P
Proc::FastSpawn => P::FS
Proc::Find => *undef*
Proc::Find::Parents => P::F::P
Proc::Fork => *undef*
Proc::Fork::Control => P::F::C
Proc::Guard => *undef*
Proc::PID::File => P::PID::F
Proc::PersistentControl => *undef*
Proc::ProcessTable => P::PT
Proc::ProcessTableLight => P::PTL
Proc::Reliable => *undef*
Proc::Simple => *undef*
Proc::Swarm => *undef*
Proc::SyncExec => P::SE
Proc::Wait3 => P::W3
Process::Async => *undef*
Process::Child::Leash => P::C::L
Process::Pipeline => *undef*
Process::Results => *undef*
Process::Status => *undef*
Progress::Any => P::Any
Progress::Any::Output::Callback => P::Any::O::C
Progress::Any::Output::LogAny => P::Any::O::LogAny
Progress::Any::Output::TermProgressBarColor => P::Any::O::TPBarC
Progress::Any::Output::TermSpin => P::Any::O::TS
ProjectBuilder => PB
Protocol::ACME => P::ACME
Protocol::CassandraCQL => P::CCQL
Protocol::IRC => *undef*
Protocol::MTProto => P::MTP
Protocol::OSC => P::OSC
Protocol::Redis => *undef*
Protocol::SOCKS => P::SOCKS
Protocol::SocketIO => P::SIO
Protocol::UWSGI => P::UWSGI
Protocol::WebSocket => P::WebS
Puppet::Tidy => *undef*
QML::File => QML::F
Queue::Priority => Q::P
Quote::Code => Q::C
R::Setup => R::S
RBAC::Tiny => RBAC::T
RDF::NS::Curated => RDF::NS::C
RDF::Prefixes => RDF::P
REST::Client => REST::C
RNA::HairpinFigure => RNA::HF
RPC::ExtDirect => RPC::ExtD
RPM::Packager => RPM::P
RPi::WiringPi::Constant => RPi::WPi::C
RRD::Editor => RRD::E
RSS::From::Twitter => RSS::F::T
RTF::Tokenizer => RTF::T
Race::Condition => R::C
Rand::Urandom => R::U
Random::PoissonDisc => R::PD
Random::Set => R::Set
Readonly::XS => R::XS
ReadonlyX => RX
Reconcile::Accounts::Vin => R::A::Vin
Reddit::Client => *undef*
Redis::AOF::Tail::File => R::AOF::T::F
RedisDB::Parser => RDB::P
Ref::Util => Ref::U
Regexp::Assemble => R::A
Regexp::CharClasses => R::CC
Regexp::CharClasses::Helper => R::CC::H
Regexp::Debugger => R::D
Regexp::EN::NumVerbage => R::EN::NumV
Regexp::ERE => R::ERE
Regexp::ID::NumVerbage => R::ID::NumV
Regexp::IPv4 => R::IPv4
Regexp::IPv6 => R::IPv6
Regexp::Lexer => R::L
Regexp::Parser => R::P
Regexp::Pattern => *undef*
Regexp::Pattern::CPAN => R::P::CPAN
Regexp::Pattern::Twitter => R::P::T
Regexp::Pattern::YouTube => R::P::YouT
Regexp::RegGrp => R::RegGrp
Regexp::SAR => R::SAR
Regexp::Stringify => *undef*
Regexp::Util => *undef*
Regexp::Wildcards => R::W
Release::Util::Git => R::U::Git
Religion::Bible::Reference => R::B::R
Religion::Islam::Qibla => R::I::Q
Remember::Anything::AsPath => R::A::AsP
ReplaceMultiple => RM
Require::Hook => R::H
Require::Hook::DzilBuild => R::H::DB
Require::Hook::MetaCPAN => R::H::MCPAN
Require::Hook::Noop => R::H::N
Require::HookChain => R::HC
Rest::Client::Builder => R::C::B
Return::MultiLevel => R::ML
Return::Type => R::T
Return::Value => R::V
Rex::IO::Client => Rex::IO::C
RiveScript => RS
Roku::ECP => R::ECP
Role::EventEmitter => R::EE
Role::Tiny => *undef*
Role::TinyCommons => R::TC
Role::TinyCommons::CSel => R::TC::CSel
Role::TinyCommons::Tree => R::TC::T
Roman::Unicode => *undef*
Rose::Object => R::O
Rose::URI => R::URI
Router::Boom => R::B
Router::Pygmy => *undef*
Router::Resource => R::R
Router::Simple => *undef*
Router::Simple::Reversible => R::S::R
Routes::Tiny => *undef*
Run::Parts => Run::P
SDBM_File => SDBM_F
SHARYANTO::Utils => SHARYANTO::U
SMS::ClickSend => SMS::CS
SMS::MessageBird => SMS::MB
SMS::Send => SMS::S
SMS::Send::AT::SmsAt => SMS::S::AT::SmsAt
SMS::Send::AT::TMobile => SMS::S::AT::TM
SMS::Send::BR::Facilitamovel => SMS::S::BR::F
SMS::Send::BulkSMS => SMS::S::BSMS
SMS::Send::ClickSend => SMS::S::CS
SMS::Send::DeviceGsm => SMS::S::DGsm
SMS::Send::Driver::WebService => SMS::S::D::WebS
SMS::Send::KR::APIStore => SMS::S::KR::APIS
SMS::Send::Kannel::SMSbox => SMS::S::K::SMS
SMS::Send::MessageBird => SMS::S::MB
SMS::Send::NANP::Raco_TMO => SMS::S::NANP::RTMO
SMS::Send::NANP::TextPower => SMS::S::NANP::TP
SMS::Send::Orange::ContactEveryone => SMS::S::O::CE
SMS::Send::Sergel::Simple::HTTP => SMS::S::S::S::HTTP
SMS::Send::Telenor => SMS::S::T
SMS::Send::Tellustalk => *undef*
SMS::Server::Tools => *undef*
SNA::Network => SNA::N
SQL::Composer => SQL::C
SQL::Concrete => *undef*
SQL::Interpol => SQL::I
SQL::NamedPlaceholder => SQL::NP
SQL::QueryBuilder::Flex => SQL::QB::F
SQL::QueryBuilder::WebApi => SQL::QB::WebApi
SQL::Statement::Functions::ArgMinMax => SQL::S::F::ArgMinMax
SQL::Statement::Functions::Date => SQL::S::F::D
SQL::Statement::Functions::Logic => SQL::S::F::L
SQL::Steno => SQL::S
SQL::Yapp => SQL::Y
SVG::Graph => SVG::G
SVG::Graph::Kit => SVG::G::Kit
SVG::Parser => SVG::P
SVG::Sparkline => SVG::S
SVG::SpriteMaker => SVG::SM
SVN::Access => SVN::A
SWISH::API::More => SWISH::API::M
SWISH::Filter => SWISH::F
Safe::Caller => S::C
Safe::Isa => S::Isa
Sah::Examples => Sah::E
Sah::Schemas => Sah::S
Sah::Schemas::CPANMeta => Sah::S::CPANM
Sah::Schemas::Collection => Sah::S::C
Sah::Schemas::DefHash => Sah::S::DefH
Sah::Schemas::Email => Sah::S::E
Sah::Schemas::Examples => *undef*
Sah::Schemas::Int => Sah::S::Int
Sah::Schemas::Net => Sah::S::Net
Sah::Schemas::Path => Sah::S::P
Sah::Schemas::Perl => *undef*
Sah::Schemas::Riap => Sah::S::R
Sah::Schemas::Twitter => Sah::S::T
Sah::Schemas::URL => Sah::S::URL
Sah::Schemas::YouTube => Sah::S::YouT
Salvation::UpdateGvFLAGS => S::UGvFLAGS
Scalar::Classify => *undef*
Scalar::IfDefined => S::IfD
Scalar::LockRefType => S::LRefT
Scalar::Util => S::U
Scalar::Util::LooksLikeNumber => S::U::LLN
Scalar::Util::Numeric => S::U::N
Scalar::Util::Numeric::PP => S::U::N::PP
Scalar::Validation => S::V
Scalar::Watcher => S::W
Schedule::Cron::Events => S::C::E
Scope::Context => *undef*
Scope::Guard => S::G
Scope::OnExit => S::OnE
Scope::OnExit::Wrap => S::OnE::W
Scope::Upper => *undef*
Script::NeedsRestart => S::NR
SeaBASS::File => SeaBASS::F
Search::Binary => S::B
Search::ByPrefix => S::ByP
Search::Dict => S::D
Search::MultiMatch => S::MM
Search::QueryParser => S::QP
SelectSaver => SS
SelfLoader => SL
Sereal::Dclone => *undef*
Sereal::Decoder => *undef*
Sereal::Encoder => S::E
Sereal::Splitter => S::S
Session::Token => S::T
Set::Crontab => Set::C
Set::CrossProduct => Set::CP
Set::DynamicGroups => Set::DG
Set::Functional => Set::F
Set::IntSpan => Set::IntS
Set::Intersection => Set::I
Set::Product => Set::P
Set::Product::XS => Set::P::XS
Set::Relation => Set::R
Set::Scalar => Set::S
Set::Similarity => *undef*
Set::Similarity::BV => Set::S::BV
Set::Similarity::CosinePP => Set::S::CPP
Set::Tiny => Set::T
Shardcache::Client => *undef*
Shell::Completer => *undef*
Shell::Config::Generate => S::C::G
Shell::GetEnv => S::GetEnv
Shell::Guess => *undef*
Shell::POSIX::Select => S::POSIX::S
Shell::Perl => S::P
Shell::Tools => *undef*
ShellCompleter::Util => SC::U
ShellQuote::Any::Tiny => SQ::Any::T
Short::Url => S::Url
Sidekick::Check => *undef*
Sidekick::Check::Plugin::Defined => S::C::P::D
Sidekick::Check::Plugin::Filled => S::C::P::F
Siebel::AssertOS => S::AOS
Signal::Mask => S::M
Signal::Unsafe => *undef*
SimString::Wrapper => SimS::W
Simple::Accessor => S::A
Simple::IPInfo => S::IPI
Simple::Timer => *undef*
SimpleCall::ChartDirector => SC::CD
SimpleDBI => SDBI
SimpleR::Reshape => SR::R
SimpleR::Reshape::ChartData => SR::R::CD
SimpleR::Stat => SR::S
Slurm::Sacctmgr => *undef*
Slurm::Sshare => *undef*
Smart::Comments => *undef*
Smart::Comments::Log4perl => S::C::Log4
Smart::Match => *undef*
Snapforce::API => S::API
Socket6 => S6
Socket::MsgHdr => S::MsgHdr
Software::GenoScan => S::GS
Software::License => S::L
Software::License::CCpack => S::L::CC
Software::License::ISC => S::L::ISC
Software::License::PD => S::L::PD
SolarBeam => SB
Sort-MergeSort => S-MS
Sort::ByExample => S::ByE
Sort::BySpec => S::ByS
Sort::DataTypes => S::DT
Sort::Half::Maker => S::H::M
Sort::Hash => S::H
Sort::HashKeys => S::HK
Sort::Key => S::Key
Sort::Key::Radix => S::Key::R
Sort::Key::Top => S::Key::Top
Sort::Naturally => S::N
Sort::Naturally::XS => S::N::XS
Sort::Sub => S::Sub
Sort::TSort => S::TS
Sort::Versions => *undef*
Sort::strverscmp => S::s
Sphinx::Config => *undef*
Sphinx::Config::Builder => S::C::B
Sphinx::XMLpipe2 => S::XML2
Spreadsheet::CSV => S::CSV
Spreadsheet::GenerateXLSX => S::GXLSX
Spreadsheet::HTML => S::HTML
Spreadsheet::ParseExcel => S::PE
Spreadsheet::ParseExcel::Simple => S::PE::S
Spreadsheet::ParseXLSX => S::PXLSX
Spreadsheet::Read => S::R
Spreadsheet::SimpleExcel => S::SE
Spreadsheet::WriteExcel => S::WE
Spreadsheet::WriteExcel::Simple => S::WE::S
Spreadsheet::XLSX => S::XLSX
Spreadsheet::XlateExcel => S::XE
Starlink::AST => S::AST
Statistics::ChiSquare => S::ChiS
Statistics::Descriptive => *undef*
Statistics::Descriptive::LogScale => S::D::LogS
Statistics::Discrete => *undef*
Statistics::Distributions => *undef*
Statistics::Frequency => S::F
Statistics::Lite => *undef*
Statistics::RankCorrelation => S::RC
Statistics::Sampler::Multinomial => S::S::M
Statistics::Shannon => *undef*
Statistics::Simpson => *undef*
Statistics::Standard_Normal => S::SN
Statistics::Swoop => *undef*
Statistics::TopK => S::TopK
Statistics::WeightedSelection => S::WS
Storable::AMF => S::AMF
Str::Filter => Str::F
Stream::Buffered => *undef*
String::Any::Extensions => S::Any::E
String::BooleanSimple => S::BS
String::BufferStack => *undef*
String::CRC32 => S::CRC32
String::Clean => *undef*
String::CommonPrefix => S::CP
String::Compare::Length => S::C::L
String::Copyright => *undef*
String::Cushion => *undef*
String::DiffLine => S::DL
String::Dirify => *undef*
String::Elide::Lines => S::E::L
String::Elide::Parts => S::E::P
String::Errf => *undef*
String::Escape => *undef*
String::FilenameStatic => S::FS
String::Flogger => *undef*
String::Flogger::Patch::UseDataDmp => S::F::P::UseDDmp
String::Flogger::Patch::UseDataDump => S::F::P::UseDD
String::Format => *undef*
String::Formatter => *undef*
String::FriendlyID => S::FID
String::Glob::Permute => S::G::P
String::HexConvert => S::HexC
String::Ident => S::I
String::Indent => *undef*
String::InterpolatedVariables => S::IV
String::JS => S::JS
String::LCSS => S::LCSS
String::LineNumber => S::LN
String::Multibyte => *undef*
String::Normal => *undef*
String::Pad => S::Pad
String::Parity => *undef*
String::Perl::Warnings => S::P::W
String::PerlIdentifier => S::PI
String::PerlQuote => S::PQ
String::PictureFormat => S::PF
String::ProgressBar => S::PBar
String::Random => *undef*
String::Range::Expand => S::R::E
String::RewritePrefix => S::RP
String::ShellQuote => S::SQ
String::Similex => *undef*
String::Snip => *undef*
String::Sprintf => *undef*
String::Substitution => *undef*
String::Tagged => *undef*
String::Tagged::HTML => S::T::HTML
String::Template => *undef*
String::Tokenizer => *undef*
String::Trim => *undef*
String::Trim::More => S::T::M
String::Truncate => *undef*
String::UTF8::MD5 => S::UTF8::MD5
String::Unescape => *undef*
String::UnicodeUTF8 => S::UUTF8
String::Unquotemeta => *undef*
String::Util => *undef*
String::Validator::Common => S::V::C
String::Wildcard::Bash => S::W::B
String::Wildcard::DOS => S::W::DOS
String::Wildcard::SQL => S::W::SQL
Struct::Diff => *undef*
Struct::Dumb => *undef*
Struct::Path => *undef*
Sub::ArgShortcut => Sub::ArgS
Sub::Attributes => Sub::A
Sub::Chain => Sub::C
Sub::Chain::Group => Sub::C::G
Sub::Current => *undef*
Sub::Delete => Sub::D
Sub::Disable => *undef*
Sub::Exporter => Sub::E
Sub::Exporter::ForMethods => Sub::E::ForM
Sub::Exporter::GlobExporter => Sub::E::GE
Sub::Exporter::Progressive => Sub::E::P
Sub::Exporter::Simple => Sub::E::S
Sub::Identify => Sub::I
Sub::Import => *undef*
Sub::Infix => *undef*
Sub::Info => *undef*
Sub::Install => *undef*
Sub::Iterator => *undef*
Sub::Metadata => Sub::M
Sub::Mutate => *undef*
Sub::Name => Sub::N
Sub::Override => Sub::O
Sub::Quote => Sub::Q
Sub::Recursive => Sub::R
Sub::Trigger::Lock => Sub::T::L
Sub::Uplevel => Sub::U
Sub::Util => *undef*
Sub::Versions => Sub::V
Sub::WhenBodied => Sub::WB
SugarSync::API => SS::API
Swagger2 => S2
Switch::Reftype => *undef*
Symbol::Get => S::Get
Symbol::Move => *undef*
Syntax::Construct => *undef*
Syntax::Highlight::CSS => S::H::CSS
Syntax::Highlight::Engine::Kate => S::H::E::K
Syntax::Highlight::HTML => S::H::HTML
Syntax::Highlight::Perl::Improved => S::H::P::I
Syntax::Keyword::Gather => S::K::G
Syntax::Keyword::RawQuote => S::K::RawQ
Sys::CpuAffinity => Sys::CpuA
Sys::CpuLoadX => Sys::CpuLX
Sys::Filesystem => Sys::F
Sys::Filesystem::MountPoint => Sys::F::MP
Sys::HostAddr => Sys::HA
Sys::HostIP => Sys::HIP
Sys::Hostname => Sys::H
Sys::Hostname::FQDN => Sys::H::FQDN
Sys::Hostname::Long => Sys::H::L
Sys::MemInfo => Sys::MemI
Sys::Mmap => Sys::M
Sys::Prctl => Sys::P
Sys::Run::Safer => Sys::Run::S
Sys::Sendfile => Sys::S
Sys::SigAction => Sys::SigA
Sys::Simple => *undef*
Sys::Syscall => *undef*
Sys::Syslog => *undef*
Sys::Syslog::Win32 => Sys::S::Win32
SysV::Init::Service => SysV::I::S
System::Daemon => *undef*
System::Info => *undef*
System::Process => *undef*
TAP::Base => TAP::B
TAP::DOM::Waivers => TAP::DOM::W
TAP::Formatter::BambooExtended => TAP::F::BE
TAP::Formatter::Base => TAP::F::B
TAP::Formatter::Color => TAP::F::C
TAP::Formatter::Console => *undef*
TAP::Formatter::Console::ParallelSession => TAP::F::C::PS
TAP::Formatter::Console::Session => TAP::F::C::S
TAP::Formatter::Diffable => TAP::F::D
TAP::Formatter::File => TAP::F::F
TAP::Formatter::File::Session => TAP::F::F::S
TAP::Formatter::Session => TAP::F::S
TAP::Harness => TAP::H
TAP::Harness::Archive => TAP::H::A
TAP::Harness::Env => TAP::H::Env
TAP::Harness::JUnit => TAP::H::JU
TAP::Harness::Restricted => TAP::H::R
TAP::Object => TAP::O
TAP::Parser => TAP::P
TAP::Parser::Aggregator => TAP::P::A
TAP::Parser::Grammar => TAP::P::G
TAP::Parser::Iterator => TAP::P::I
TAP::Parser::Iterator::Array => TAP::P::I::A
TAP::Parser::Iterator::Process => TAP::P::I::P
TAP::Parser::Iterator::Stream => TAP::P::I::S
TAP::Parser::IteratorFactory => TAP::P::IF
TAP::Parser::Multiplexer => TAP::P::M
TAP::Parser::Result => TAP::P::R
TAP::Parser::Result::Bailout => TAP::P::R::B
TAP::Parser::Result::Comment => TAP::P::R::C
TAP::Parser::Result::Plan => TAP::P::R::P
TAP::Parser::Result::Pragma => *undef*
TAP::Parser::Result::Test => TAP::P::R::T
TAP::Parser::Result::Unknown => TAP::P::R::U
TAP::Parser::Result::Version => TAP::P::R::V
TAP::Parser::Result::YAML => TAP::P::R::YAML
TAP::Parser::ResultFactory => TAP::P::RF
TAP::Parser::Scheduler => TAP::P::S
TAP::Parser::Scheduler::Job => TAP::P::S::Job
TAP::Parser::Scheduler::Spinner => TAP::P::S::S
TAP::Parser::Source => *undef*
TAP::Parser::SourceHandler => TAP::P::SH
TAP::Parser::SourceHandler::Executable => TAP::P::SH::E
TAP::Parser::SourceHandler::File => TAP::P::SH::F
TAP::Parser::SourceHandler::Handle => TAP::P::SH::H
TAP::Parser::SourceHandler::MyTAP => TAP::P::SH::MyTAP
TAP::Parser::SourceHandler::Perl => TAP::P::SH::P
TAP::Parser::SourceHandler::RawTAP => TAP::P::SH::RawTAP
TAP::Parser::SourceHandler::pgTAP => TAP::P::SH::pgTAP
TAP::Parser::YAMLish::Reader => TAP::P::YAML::R
TAP::Parser::YAMLish::Writer => TAP::P::YAML::W
TOML::Dumper => TOML::D
TOML::Parser => TOML::P
TSQL::Common::Regexp => TSQL::C::R
TSQL::SplitStatement => TSQL::SS
Table::Readable => T::R
TableDef => TDef
Tag::Reader::Perl => Tag::R::P
Tags::Element => T::E
Tags::Output::Indent => T::O::I
Tags::Output::LibXML => T::O::LibXML
Tags::Output::PYX => T::O::PYX
Tags::Output::Structure => T::O::S
Taint::Runtime => *undef*
Taint::Util => T::U
Task::BINGOS::Bootstrap => T::BINGOS::B
Task::Catalyst => T::C
Task::Error::Pure => T::E::P
Task::Kensho => T::K
Task::Kensho::Async => T::K::A
Task::Kensho::CLI => T::K::CLI
Task::Kensho::Config => T::K::C
Task::Kensho::DBDev => T::K::DBDev
Task::Kensho::Dates => T::K::D
Task::Kensho::Email => T::K::E
Task::Kensho::ExcelCSV => T::K::ECSV
Task::Kensho::Exceptions => *undef*
Task::Kensho::Hackery => T::K::H
Task::Kensho::Logging => T::K::L
Task::Kensho::ModuleDev => T::K::MDev
Task::Kensho::OOP => T::K::OOP
Task::Kensho::Scalability => T::K::S
Task::Kensho::Testing => T::K::T
Task::Kensho::Toolchain => *undef*
Task::Kensho::WebCrawling => T::K::WebC
Task::Kensho::WebDev => T::K::WebDev
Task::Kensho::XML => T::K::XML
Task::Moose => T::M
Task::POE::IRC => T::POE::IRC
Task::POE::Simple::TCPIP::Services => T::POE::S::TCPIP::S
Task::Tags => T::T
Task::Weaken => T::W
Taxon::Parse => T::P
TeX::Hyphen => TeX::H
TeX::XDV::Parse => TeX::XDV::P
TeamCity::Message => TC::M
Telegram::Bot => T::Bot
Template::Alloy => T::A
Template::Liquid => T::L
Template::LiquidX::Tag::Dump => T::LX::Tag::D
Template::LiquidX::Tag::Include => T::LX::Tag::I
Template::Perlish => *undef*
Template::Plugin::Meta::Interpolate => T::P::M::I
Template::Recall => *undef*
Template::Resolver => *undef*
Template::Tiny => *undef*
TemplateRex => TRex
Term::ANSIColor => T::ANSIC
Term::ANSIColor::Print => T::ANSIC::P
Term::CallEditor => T::CE
Term::Cap => T::Cap
Term::Chrome => *undef*
Term::Complete => *undef*
Term::Detect::Software => T::D::S
Term::EditorEdit => T::EE
Term::Encoding => *undef*
Term::Highlight => T::H
Term::ProgressBar => T::PBar
Term::ProgressBar::Quiet => T::PBar::Q
Term::ProgressBar::Simple => T::PBar::S
Term::ReadLine => T::RL
Term::ReadLine::Event => T::RL::E
Term::ReadPassword => T::RP
Term::ReadPassword::Win32 => T::RP::Win32
Term::Screen => T::S
Term::Shell::MultiCmd => T::S::MCmd
Term::Size => *undef*
Term::Size::Any => T::S::Any
Term::Size::Perl => T::S::P
Term::Sk => T::Sk
Term::Spinner::Color => T::S::C
Term::Table => *undef*
Term::Title => *undef*
Term::TtyWrite => T::TtyW
Term::UI => T::UI
Term::Vspark => T::V
Test2 => T2
Test2::API => T2::API
Test2::API::Breakage => T2::API::B
Test2::API::Context => T2::API::C
Test2::API::Instance => T2::API::I
Test2::API::Stack => T2::API::S
Test2::Event => T2::E
Test2::Event::Bail => T2::E::B
Test2::Event::Diag => T2::E::D
Test2::Event::Encoding => T2::E::E
Test2::Event::Exception => *undef*
Test2::Event::Generic => T2::E::G
Test2::Event::Info => T2::E::I
Test2::Event::Note => T2::E::N
Test2::Event::Ok => T2::E::Ok
Test2::Event::Plan => T2::E::P
Test2::Event::Skip => T2::E::S
Test2::Event::Subtest => *undef*
Test2::Event::TAP::Version => T2::E::TAP::V
Test2::Event::Waiting => T2::E::W
Test2::Formatter => T2::F
Test2::Formatter::TAP => T2::F::TAP
Test2::Hub => T2::Hub
Test2::Hub::Interceptor => T2::Hub::I
Test2::Hub::Interceptor::Terminator => T2::Hub::I::T
Test2::Hub::Subtest => T2::Hub::S
Test2::IPC => T2::IPC
Test2::IPC::Driver => T2::IPC::D
Test2::IPC::Driver::Files => T2::IPC::D::F
Test2::Tools::Tiny => T2::T::T
Test2::Util => T2::U
Test2::Util::ExternalMeta => T2::U::EM
Test2::Util::HashBase => T2::U::HB
Test2::Util::Trace => T2::U::T
Test::API => T::API
Test::Abortable => *undef*
Test::AllModules => T::AllM
Test::Approximate => *undef*
Test::Assertions => *undef*
Test::Async::HTTP => T::A::HTTP
Test::Base => T::B
Test::BinaryData => T::BD
Test::BrewBuild => T::BB
Test::BrewBuild::Plugin::TestAgainst => T::BB::P::TA
Test::Builder => *undef*
Test::Builder::Formatter => T::B::F
Test::Builder::IO::Scalar => T::B::IO::S
Test::Builder::Module => T::B::M
Test::Builder::Tester => T::B::T
Test::Builder::Tester::Color => T::B::T::C
Test::Builder::TodoDiag => T::B::TD
Test::CChecker => T::CC
Test::CGI::External => T::CGI::E
Test::CPAN::Changes::ReallyStrict => T::CPAN::C::RS
Test::CPAN::Meta => T::CPAN::M
Test::CPAN::Meta::JSON => T::CPAN::M::JSON
Test::CPAN::Meta::YAML => T::CPAN::M::YAML
Test::Carp => *undef*
Test::CheckDeps => T::CD
Test::CheckManifest => T::CM
Test::ClassAPI => T::CAPI
Test::Classy => *undef*
Test::Clustericious::Blocking => T::C::B
Test::Cmd => T::Cmd
Test::Command => *undef*
Test::Command::Simple => T::C::S
Test::ConsistentVersion => T::CV
Test::DBGp => T::DBGp
Test::Data => T::D
Test::DataDirs => T::DD
Test::Deep => *undef*
Test::Deep::ArrayEachNotEmpty => T::D::AENotE
Test::Deep::Filter => T::D::F
Test::Deep::Fuzzy => *undef*
Test::Deep::JWT => T::D::JWT
Test::Deep::Matcher => T::D::M
Test::Deep::NumberTolerant => T::D::NT
Test::Deep::Type => T::D::T
Test::Deep::URI => T::D::URI
Test::Deep::UnorderedPairs => T::D::UP
Test::Deep::YAML => T::D::YAML
Test::DeepMock => T::DM
Test::Dependencies => *undef*
Test::Differences => *undef*
Test::Dir => T::Dir
Test::Dist::VersionSync => T::D::VS
Test::DistManifest => *undef*
Test::Distribution => *undef*
Test::Doctest => *undef*
Test::EOF => T::EOF
Test::EOL => T::EOL
Test::Easy => *undef*
Test::Effects => *undef*
Test::Env => T::Env
Test::Excel => *undef*
Test::Exception => *undef*
Test::Exception::LessClever => T::E::LC
Test::Exit => *undef*
Test::Expect => *undef*
Test::Exports => *undef*
Test::FITesque => T::FIT
Test::FailWarnings => T::FW
Test::Fatal => T::F
Test::File => *undef*
Test::File::Contents => T::F::C
Test::Filename => *undef*
Test::Fixme => *undef*
Test::Fork => *undef*
Test::HTML::Differences => T::HTML::D
Test::HTTP::MockServer => T::HTTP::MS
Test::HTTP::Server => T::HTTP::S
Test::HTTP::Server::Simple => T::HTTP::S::S
Test::Harness => *undef*
Test::HasVersion => T::HasV
Test::HexDifferences => T::HexD
Test::HexString => T::HexS
Test::ISBN => T::ISBN
Test::Identity => T::I
Test::InDistDir => T::InDDir
Test::Inter => *undef*
Test::Internet => *undef*
Test::Is => T::Is
Test::JSON => T::JSON
Test::JSON::Meta => T::JSON::M
Test::JSON::Schema::Acceptance => T::JSON::S::A
Test::LeakTrace => T::LT
Test::Lib => T::Lib
Test::Lives => *undef*
Test::LongString => T::LS
Test::Manifest => *undef*
Test::Memory::Cycle => T::M::C
Test::MemoryGrowth => T::MG
Test::MethodFixtures => T::MF
Test::Mock::Cmd => T::M::Cmd
Test::Mock::HTTP::Tiny => T::M::HTTP::T
Test::Mock::LWP => T::M::LWP
Test::Mock::LWP::Dispatch => T::M::LWP::D
Test::Mock::Simple => T::M::S
Test::MockModule => T::MM
Test::MockObject => T::MO
Test::MockPackages => T::MP
Test::MockRandom => T::MR
Test::MockTime => T::MT
Test::Mojibake => *undef*
Test::Mojo::More => T::M::M
Test::Mojo::Role::Debug => T::M::R::D
Test::Mojo::Role::ElementCounter => T::M::R::EC
Test::Mojo::Role::SubmitForm => T::M::R::SF
Test::Mojo::Role::TestDeep => T::M::R::TD
Test::Mojo::Session => *undef*
Test::Mojo::Trim => T::M::T
Test::Mojo::WithRoles => T::M::WR
Test::MonkeyMock => *undef*
Test::More => *undef*
Test::More::UTF8 => T::M::UTF8
Test::Most => *undef*
Test::Needs => T::N
Test::NewVersion => T::NewV
Test::Nginx => *undef*
Test::NoMalware => T::NoM
Test::NoSmartComments => T::NoSC
Test::NoTabs => T::NoT
Test::NoTravisEncVars => T::NoTEncV
Test::NoWarnings => T::NoW
Test::Number::Delta => T::N::D
Test::Object => T::O
Test::Output => *undef*
Test::POE::Client::TCP => T::POE::C::TCP
Test::POE::Server::TCP => T::POE::S::TCP
Test::Parse::Crontab::Simple => T::P::C::S
Test::PerlTidy => T::PT
Test::Pod => T::Pod
Test::Pod::Content => T::Pod::C
Test::Pod::Coverage => *undef*
Test::Pod::No404s => T::Pod::No404s
Test::Portability::Files => T::P::F
Test::PureASCII => T::PASCII
Test::RandomCheck => T::RC
Test::Refcount => *undef*
Test::Regexp => *undef*
Test::Regression => *undef*
Test::Reporter => *undef*
Test::Reporter::Transport::Metabase => T::R::T::M
Test::Reporter::Transport::Socket => T::R::T::S
Test::Requires => *undef*
Test::Requires::Git => T::R::Git
Test::RequiresInternet => T::RI
Test::Resub => *undef*
Test::Retry => *undef*
Test::RunValgrind => T::RunV
Test::SSH => T::SSH
Test::Script => *undef*
Test::Script::Run => T::S::Run
Test::SetupTeardown => T::ST
Test::SharedFork => T::SF
Test::SharedObject => T::SO
Test::Signature => *undef*
Test::Simple => *undef*
Test::Skip::UnlessExistsExecutable => T::S::UEE
Test::SubCalls => T::SubC
Test::Subunits => *undef*
Test::Synopsis => *undef*
Test::Tabs => *undef*
Test::Taint => *undef*
Test::TempDir::Tiny => T::TDir::T
Test::TestCoverage => T::TC
Test::Tester => *undef*
Test::Tester::Capture => T::T::C
Test::Tester::CaptureRunner => T::T::CR
Test::Tester::Delegate => T::T::D
Test::Time => *undef*
Test::Time::At => T::T::At
Test::Timer => *undef*
Test::Toolbox => *undef*
Test::TrailingSpace => T::TS
Test::Trap => *undef*
Test::Type => *undef*
Test::URI => T::URI
Test::Unit::Lite => T::U::L
Test::UnixExit => T::UE
Test::UseAllModules => T::UseAllM
Test::Valgrind => *undef*
Test::VariousBits => T::VB
Test::Vars => *undef*
Test::Version => *undef*
Test::VirtualModule => T::VM
Test::Wait => *undef*
Test::Warn => *undef*
Test::Warnings => *undef*
Test::Without::Module => T::W::M
Test::XML => T::XML
Test::XML::Ordered => T::XML::O
Test::XML::Simple => T::XML::S
Test::XPath => T::XP
Test::YAML => T::YAML
Test::YAML::Meta => T::YAML::M
Test::YAML::Valid => T::YAML::V
Test::use::ok => T::use::ok
Test::utf8 => T::utf8
TestML => TML
Text::ANSI::Util => T::ANSI::U
Text::APL => T::APL
Text::ASCIIPipe => T::ASCIIP
Text::ASCIITable => T::ASCIIT
Text::Abbrev => *undef*
Text::Affixes => *undef*
Text::Aligner => *undef*
Text::Amuse => *undef*
Text::Amuse::Preprocessor => T::A::P
Text::Autoformat => *undef*
Text::Balanced => *undef*
Text::Banner => *undef*
Text::BibTeX => T::BibTeX
Text::CSV => T::CSV
Text::CSV::Easy => T::CSV::E
Text::CSV::Encoded => *undef*
Text::CSV::Flatten => T::CSV::F
Text::CSV::Hashify => T::CSV::H
Text::CSV::Slurp => T::CSV::S
Text::CSV_XS => T::CSV_XS
Text::Caml => *undef*
Text::CharWidth => T::CW
Text::CleanFragment => T::CF
Text::Clip => *undef*
Text::DSV => T::DSV
Text::Demoroniser => *undef*
Text::Dice => *undef*
Text::Diff => *undef*
Text::ECSV => T::ECSV
Text::FIGlet => T::FIG
Text::Find::Scalar => T::F::S
Text::FindIndent => T::FI
Text::Format => *undef*
Text::FormatTable => T::FT
Text::Fragment => *undef*
Text::Frundis => *undef*
Text::Fuzzy => *undef*
Text::Fy::Utils => T::Fy::U
Text::German => T::G
Text::Glob => *undef*
Text::Greeking => *undef*
Text::Guess::Language => T::G::L
Text::Guess::Script => T::G::S
Text::Haml => *undef*
Text::Head => *undef*
Text::HikiDoc => T::HDoc
Text::Hyphen => *undef*
Text::Hyphen::RU => T::H::RU
Text::Hyphen::TR => T::H::TR
Text::Iconv => *undef*
Text::LTSV::Liner => T::LTSV::L
Text::Levenshtein => *undef*
Text::Levenshtein::Damerau::XS => T::L::D::XS
Text::Levenshtein::Flexible => T::L::F
Text::Levenshtein::XS => T::L::XS
Text::LevenshteinXS => T::LXS
Text::Lorem::Moretext => T::L::M
Text::Markdown => *undef*
Text::Markdown::PerlExtensions => T::M::PE
Text::MediawikiFormat => *undef*
Text::Metaphone => *undef*
Text::MicroMason => *undef*
Text::MicroTemplate => *undef*
Text::Morse => *undef*
Text::MostFreqKDistance => T::MFKD
Text::MultiMarkdown => *undef*
Text::NSP => T::NSP
Text::Naming::Convention => T::N::C
Text::NeatTemplate => T::NT
Text::Ngram => *undef*
Text::NonWideChar::Util => T::NonWC::U
Text::Numbers::100 => T::N::100
Text::NumericData => T::ND
Text::Outdent => *undef*
Text::OutputFilter => T::OF
Text::PDF => T::PDF
Text::PRN::Slurp => T::PRN::S
Text::Pangram => *undef*
Text::ParseWords => T::PW
Text::Quoted => T::Q
Text::RecordParser => *undef*
Text::Reflow => *undef*
Text::Reform => *undef*
Text::RewriteRules => T::RR
Text::Sequence => *undef*
Text::Shinobi => *undef*
Text::Shorten => *undef*
Text::Similarity => *undef*
Text::SimpleTable => *undef*
Text::Slugify => *undef*
Text::Soundex => *undef*
Text::SpanningTable => *undef*
Text::SpeedyFx => T::SFx
Text::Sprintf::Zenkaku => T::S::Z
Text::Starfish => *undef*
Text::TFIDF => T::TFIDF
Text::Table => *undef*
Text::Table::Any => T::T::Any
Text::Table::CSV => T::T::CSV
Text::Table::HTML => T::T::HTML
Text::Table::HTML::DataTables => T::T::HTML::DT
Text::Table::Org => T::T::Org
Text::Table::Paragraph => T::T::P
Text::Table::Tiny => T::T::T
Text::Table::TinyColor => T::T::TC
Text::Tabs => *undef*
Text::TabularDisplay => T::TD
Text::Template => *undef*
Text::TestBase => T::TB
Text::Textile => *undef*
Text::Todo => *undef*
Text::Trac2GFM => T::T2GFM
Text::Transliterator => *undef*
Text::Trim => *undef*
Text::Unaccent::PurePerl => T::U::PP
Text::Undiacritic => *undef*
Text::Unicode::Equivalents => T::U::E
Text::Unidecode => *undef*
Text::Util => *undef*
Text::VCardFast => T::VCF
Text::Variations => *undef*
Text::VisualWidth => T::VW
Text::WagnerFischer => T::WF
Text::WagnerFischer::Armenian => T::WF::A
Text::WikiFormat => *undef*
Text::Wrap => *undef*
Text::WrapProp => T::WP
Text::Wrapper => *undef*
Text::XLogfile => T::XL
Text::ZPL => T::ZPL
Text::sprintfn => T::s
Text::vFile::asData => T::vF::asD
TheBat::Read_TBB => TheBat::RTBB
Thread::Cleanup => *undef*
Thread::Queue => *undef*
Thread::Queue::MaxSize => T::Q::MaxS
Thread::Queue::Priority => T::Q::P
Thread::Semaphore => *undef*
Thread::SigMask => T::SigM
Thread::Suspend => *undef*
Throw::Back => *undef*
Ticketmaster::API => *undef*
Tie::AliasHash => Tie::AH
Tie::Array => Tie::A
Tie::Array::Cavity => Tie::A::C
Tie::Autotie => *undef*
Tie::CPHash => Tie::CPH
Tie::Cache => Tie::C
Tie::Cache::LRU => Tie::C::LRU
Tie::ConfigFile => Tie::CF
Tie::DiskUsage => Tie::DU
Tie::EncryptedHash => Tie::EH
Tie::File => Tie::F
Tie::File::Indexed => Tie::F::I
Tie::Function => *undef*
Tie::Handle => Tie::H
Tie::Handle::Filter => Tie::H::F
Tie::Handle::Offset => Tie::H::O
Tie::Hash => *undef*
Tie::Hash::Attribute => Tie::H::A
Tie::Hash::Cannabinol => Tie::H::C
Tie::Hash::Check => *undef*
Tie::Hash::LRU => Tie::H::LRU
Tie::Hash::NamedCapture => Tie::H::NC
Tie::Hash::Vivify => Tie::H::V
Tie::InSecureHash => Tie::InSH
Tie::IxHash => Tie::IxH
Tie::LLHash => Tie::LLH
Tie::Memoize => Tie::M
Tie::RefHash => Tie::RefH
Tie::RegexpHash => Tie::RH
Tie::Scalar => Tie::S
Tie::Scalar::Callback => Tie::S::C
Tie::Scalar::Ratio => Tie::S::R
Tie::Scalar::Sticky => Tie::S::S
Tie::Simple => *undef*
Tie::StdHandle => Tie::StdH
Tie::StringArray => Tie::SA
Tie::SubstrHash => Tie::SH
Tie::Timely => Tie::T
Tie::ToObject => Tie::ToO
Tie::Util => Tie::U
Time::C => *undef*
Time::Consts => *undef*
Time::Crontab => *undef*
Time::Date => *undef*
Time::DayOfWeek => T::DayOfW
Time::DoAfter => T::DoA
Time::Duration => *undef*
Time::Duration::Concise::Localize => T::D::C::L
Time::Duration::Parse => T::D::P
Time::Duration::Parse::AsHash => T::D::P::AsH
Time::Duration::Parse::More => T::D::P::M
Time::Duration::es => T::D::es
Time::Duration::fr => T::D::fr
Time::ETA => T::ETA
Time::Elapse => *undef*
Time::Fake => *undef*
Time::HiRes => T::HiRes
Time::HiRes::Sleep::Until => T::HiRes::S::U
Time::HiRes::Value => T::HiRes::V
Time::Interval => *undef*
Time::Limit => *undef*
Time::List => *undef*
Time::Local => *undef*
Time::Moment => *undef*
Time::Monotonic => *undef*
Time::OlsonTZ::Data => T::OTZ::D
Time::Out => T::Out
Time::ParseDate => T::PD
Time::Period => *undef*
Time::Piece => *undef*
Time::Piece::MySQL => T::P::MySQL
Time::Piece::Over24 => T::P::O24
Time::Precise => *undef*
Time::Profiler => *undef*
Time::Progress => *undef*
Time::Seconds => *undef*
Time::Slideshow => *undef*
Time::Stopwatch => *undef*
Time::TAI::Simple => T::TAI::S
Time::TZOffset => T::TZO
Time::Timecode => *undef*
Time::Tiny => *undef*
Time::Tzfile => *undef*
Time::Warp => *undef*
Time::Zone::Olson => T::Z::O
Time::gmtime => T::g
Time::localtime => T::l
Time::timegm => T::t
Time::tm => T::tm
Time::y2038 => T::y2038
TimeSeries::AdaptiveFilter => TS::AF
Timeout::Self => *undef*
Timer::Simple => *undef*
Tk::Browser => Tk::B
Travel::Status::DE::VRR => T::S::DE::VRR
Tree::AVL => T::AVL
Tree::BK => T::BK
Tree::Binary => *undef*
Tree::Create::Callback => T::C::C
Tree::Create::DepthFirst => T::C::DF
Tree::Create::Size => *undef*
Tree::DAG_Node => T::DAG_N
Tree::Dump => *undef*
Tree::FromFS => T::FFS
Tree::FromStruct => T::FS
Tree::FromText => *undef*
Tree::Object => *undef*
Tree::ObjectXS => T::OXS
Tree::R => *undef*
Tree::RB => T::RB
Tree::Simple => *undef*
Tree::Simple::View => T::S::V
Tree::Simple::VisitorFactory => T::S::VF
Tree::SizeBalanced => T::SB
Tree::ToFS => T::ToFS
Tree::ToText => T::ToT
Try::Catch => Try::C
Try::Tiny => Try::T
Try::Tiny::NoDie => Try::T::NoDie
Try::Tiny::Retry => Try::T::R
Try::Tiny::Warnings => Try::T::W
Tunein::Streams => *undef*
Type::API => *undef*
Type::Tie => T::Tie
Type::Tiny => *undef*
Type::Tiny::XS => T::T::XS
Types::Core => *undef*
Types::Digest => *undef*
Types::Numbers => *undef*
Types::Path::Tiny => T::P::T
Types::PerlVersion => T::PV
Types::SQL => T::SQL
Types::Serialiser => *undef*
Types::UUID => T::UUID
UI::Bowdlator::Filter => UI::B::F
UI::Dialog => UI::D
UI::Dialog::Util::MenuControl => UI::D::U::MC
UI::KeyboardLayout => UI::KL
UNIVERSAL::Object => UNIVERSAL::O
UNIVERSAL::require => UNIVERSAL::r
UNIVERSAL::to_yaml => UNIVERSAL::t
URI::Builder => URI::B
URI::Encode => URI::E
URI::Encode::XS => URI::E::XS
URI::Escape::XS => *undef*
URI::Fetch => URI::F
URI::Find => *undef*
URI::Find::Delimited => URI::F::D
URI::Find::Simple => URI::F::S
URI::Find::UTF8 => URI::F::UTF8
URI::Find::UTF8::ExtraCharacters => URI::F::UTF8::EC
URI::Nested => URI::N
URI::Normalize => *undef*
URI::Query => URI::Q
URI::Query::FromHash => URI::Q::FH
URI::Template => URI::T
URI::Title => *undef*
URI::URL::AddQueryParam => URI::URL::AddQP
URI::XSEscape => URI::XSE
URI::cpan => URI::c
URI::imaps => URI::i
URI::redis => URI::r
URL::Encode => URL::E
URL::Encode::XS => URL::E::XS
URL::Exists => *undef*
UUID::Random => UUID::R
UUID::Tiny => UUID::T
Ubic::Watchdog::Notice => U::W::N
Ufal::MorphoDiTa => U::MDiTa
Ufal::NameTag => U::NTag
Ufal::Parsito => U::P
Ufal::UDPipe => U::UDP
UnQLite => UnQL
Unicode::BiDiRule => U::BiDiR
Unicode::Block => U::B
Unicode::Block::List => U::B::L
Unicode::CaseFold => U::CF
Unicode::Casing => U::C
Unicode::Char => *undef*
Unicode::CharWidth => U::CW
Unicode::CheckUTF8 => U::CUTF8
Unicode::CheckUTF8::PP => U::CUTF8::PP
Unicode::Collate => *undef*
Unicode::Collate::CJK::Big5 => U::C::CJK::Big5
Unicode::Collate::CJK::GB2312 => U::C::CJK::GB2312
Unicode::Collate::CJK::JISX0208 => U::C::CJK::JISX0208
Unicode::Collate::CJK::Korean => U::C::CJK::K
Unicode::Collate::CJK::Pinyin => U::C::CJK::P
Unicode::Collate::CJK::Stroke => U::C::CJK::S
Unicode::Collate::CJK::Zhuyin => U::C::CJK::Z
Unicode::Collate::Locale => U::C::L
Unicode::Diacritic::Strip => U::D::S
Unicode::Homoglyph => U::H
Unicode::Map => U::Map
Unicode::Map8 => U::Map8
Unicode::MapUTF8 => U::MapUTF8
Unicode::Normalize => U::N
Unicode::Properties => *undef*
Unicode::Security => U::S
Unicode::String => *undef*
Unicode::Stringprep => *undef*
Unicode::Truncate => U::T
Unicode::UCD => U::UCD
Unicode::UTF8 => U::UTF8
UnicodeOperators => UO
Unix::Groups => U::G
Unix::Mgt => U::Mgt
Unix::PID => U::PID
Unix::Passwd::File => U::P::F
Unix::SearchPathGuess => U::SPG
Unix::Sysexits => *undef*
Unix::Syslog => *undef*
Unix::Uptime => U::U
Unix::setuid => U::s
Update::Immutable => U::I
User::Identity => *undef*
User::grent => U::g
User::pwent => U::p
Util::CommandLine => U::CL
VCS::Lite => VCS::L
VM::EC2::Instance::Located => VM::EC2::I::L
VMS::DCLsym => VMS::DCL
VMS::Filespec => VMS::F
VMS::Stdio => VMS::S
Validate::Tiny => V::T
Validate::Yubikey => V::Y
Value::Object => V::O
Variable::Disposition => V::D
Variable::Magic => V::M
Variable::Temp => *undef*
Verilog::Readmem => V::R
Verilog::VCD => V::VCD
Version::Compare => V::C
Version::Monotonic => *undef*
Version::Next => V::N
Version::Requirements => *undef*
Version::Util => V::U
Video::Delay => *undef*
Video::Pattern => V::P
Videosubs::WebVTT => V::WebVTT
Videosubs::WebVTTBlock => V::WebVTTB
WWW-Crawler-Mojo => WWW-C-M
WWW-Flatten => WWW-F
WWW-Scraper-ISBN-LOC_Driver => WWW-S-ISBN-LOC_D
WWW::Alexa::TrafficRank => WWW::A::TR
WWW::BackpackTF => WWW::BTF
WWW::Baidu::ZhanZhang => WWW::B::ZZ
WWW::Cache::Google => WWW::C::G
WWW::ClickSource => WWW::CS
WWW::Codeguard => WWW::C
WWW::Correios::PrecoPrazo => WWW::C::PP
WWW::Crab::Client => WWW::C::C
WWW::Datafinder => WWW::D
WWW::Dict::Leo::Org => WWW::D::Leo::Org
WWW::DistroWatch::ReleaseInfo => WWW::DW::RI
WWW::Douban => *undef*
WWW::Foreman::API => WWW::F::API
WWW::Form::UrlEncoded => WWW::F::UrlE
WWW::Form::UrlEncoded::XS => WWW::F::UrlE::XS
WWW::Freebox => WWW::F
WWW::Google::AutoSuggest => WWW::G::AS
WWW::Google::PageRank => WWW::G::PR
WWW::Google::Translate => WWW::G::T
WWW::KeenIO => WWW::KIO
WWW::KrispyKreme::HotLight => WWW::KK::HotL
WWW::Lengthen => WWW::L
WWW::Marvel => WWW::M
WWW::Mechanize::FormFiller => WWW::M::FF
WWW::MelbourneBikeShare => WWW::MBS
WWW::MovieReviews::NYT => WWW::MR::NYT
WWW::OpenSVN => WWW::OSVN
WWW::PAUSE::Simple => WWW::PAUSE::S
WWW::PagerDuty => WWW::PD
WWW::Pastebin::Base::Retrieve => WWW::P::B::R
WWW::Pastebin::PastebinCa::Retrieve => WWW::P::PCa::R
WWW::Pastebin::Sprunge => WWW::P::S
WWW::Postmark => WWW::P
WWW::PushBullet => WWW::PB
WWW::RabbitMQ::Broker => WWW::RMQ::B
WWW::RobotRules => WWW::RR
WWW::Scraper::ISBN => WWW::S::ISBN
WWW::Session => WWW::S
WWW::Shorten => *undef*
WWW::Shorten::5gp => WWW::S::5gp
WWW::Shorten::Akari => WWW::S::A
WWW::Shorten::Digg => WWW::S::D
WWW::Shorten::Naver => WWW::S::N
WWW::Shorten::NotLong => WWW::S::NotL
WWW::Shorten::OneShortLink => WWW::S::OneSL
WWW::Shorten::SapoPuny => WWW::S::SP
WWW::Shorten::Shorl => WWW::S::S
WWW::Shorten::Simple => *undef*
WWW::Shorten::SnipURL => WWW::S::SURL
WWW::Shorten::URLchen => WWW::S::URL
WWW::Sitemap::Simple => *undef*
WWW::Splunk => *undef*
WWW::SuperMan => WWW::SMan
WWW::UsePerl::Journal => WWW::UseP::J
WWW::UsePerl::Journal::Thread => WWW::UseP::J::T
WWW::Wikipedia::LangTitles => WWW::W::LT
WWW::Wolfram::DataDrop => WWW::W::DD
WWW::Yandex::Catalog::LookupSite => WWW::Y::C::LS
WWW::Yotpo => WWW::Y
WWW::YouTube::Download => WWW::YouT::D
WWW::canihazip => WWW::c
WWW::curlmyip => *undef*
WWW::hmaip => WWW::h
WWW::ipinfo => WWW::i
WeakRef => WRef
Web::ChromeLogger => Web::CL
Web::Detect => Web::D
Web::Feed => Web::F
Web::Reactor => Web::R
Web::Sitemap => Web::S
WebColors => WebC
WebDriver::Tiny => WebD::T
WebService::2Captcha => WebS::2C
WebService::Amazon::IAM => WebS::A::IAM
WebService::Antigate => WebS::A
WebService::Ares => *undef*
WebService::Async::UserAgent => WebS::A::UA
WebService::Careerjet => WebS::C
WebService::Desk => WebS::D
WebService::Fake => WebS::F
WebService::Freebox => *undef*
WebService::Freesound => *undef*
WebService::GarminConnect => WebS::GC
WebService::Google::Voice::SendSMS => WebS::G::V::SSMS
WebService::ILS => WebS::ILS
WebService::Kramerius::API4 => WebS::K::API4
WebService::LiveJournal => WebS::LJ
WebService::MODIS => WebS::MODIS
WebService::Mandrill => WebS::M
WebService::MorphIO => WebS::MIO
WebService::MyAffiliates => WebS::MyA
WebService::Ooyala => WebS::O
WebService::Pandora => WebS::P
WebService::Rakuten::API => WebS::R::API
WebService::SSLLabs => WebS::SSLL
WebService::Saasu => WebS::S
WebService::Scaleway => *undef*
WebService::SendInBlue => WebS::SInB
WebService::Shippo => *undef*
WebService::Sift => *undef*
WebService::Solr::Tiny => WebS::S::T
WebService::VirusTotal => WebS::VT
WebService::Xero => WebS::X
WebService::Yamli => WebS::Y
WebShortcutUtil => WebSU
WebVTTBlock => WebVTTB
Webservice::Shipment => W::S
WikiText => WT
Win32API::File => Win32API::F
Win32API::File::inc::ExtUtils::Myconst2perl => Win32API::F::inc::ExtU::M2
Windows1252 => W1252
Windows1258 => W1258
WordList => WL
WordList::BEW::Betawi => WL::BEW::B
WordList::CPAN::PAUSEIDs => WL::CPAN::PAUSEIDs
WordList::EN::CountryNames => WL::EN::CN
WordList::EN::Enable => WL::EN::E
WordList::EN::SGB => WL::EN::SGB
WordList::FR::ODS3::7To8 => WL::FR::ODS3::7To8
WordList::FR::WiktionaryES => WL::FR::WES
WordList::ID::KBBI => WL::ID::KBBI
WordList::Phrase::EN::Idiom::Wiktionary => WL::P::EN::I::W
WordList::Phrase::EN::Proverb::TWW => WL::P::EN::P::TWW
WordList::Phrase::EN::Proverb::Wiktionary => WL::P::EN::P::W
WordList::Phrase::FR::Idiom::Wiktionary => WL::P::FR::I::W
WordList::Phrase::FR::Proverb::ProverbesFrancais => WL::P::FR::P::PF
WordList::Phrase::FR::Proverb::Wikiquote => WL::P::FR::P::W
WordList::Phrase::FR::Proverb::Wiktionary => *undef*
WordList::Phrase::ID::Proverb::KBBI => WL::P::ID::P::KBBI
WordList::Phrase::JV::Proverb::PeribahasaNet => WL::P::JV::P::PNet
WordList::Phrase::SU::Proverb::PeribahasaNet => WL::P::SU::P::PNet
WordList::Phrase::ZH::CCIC => WL::P::ZH::CCIC
WordList::Phrase::ZH::Idiom::ChineseTools => WL::P::ZH::I::CT
WordList::Phrase::ZH::Idiom::Wiktionary => WL::P::ZH::I::W
WordList::Phrase::ZH::Proverb::Wiktionary => WL::P::ZH::P::W
WordList::SU::LTIS => WL::SU::LTIS
WordList::Test::Empty => WL::T::E
WordList::Test::Unicode::Currency => WL::T::U::C
WordList::ZH::HSK => WL::ZH::HSK
WordPress::Plugin::WallFlower => WP::P::WF
Worlogog::Incident => W::I
Worlogog::Restart => W::R
X11::Muralis => X11::M
X11::WMCtrl => X11::WMC
X::Tiny => X::T
XBase => XB
XML::Amazon => XML::A
XML::Atom::SimpleFeed => XML::A::SF
XML::Bare => XML::B
XML::Builder => *undef*
XML::CanonicalizeXML => XML::CXML
XML::CommonNS => XML::CNS
XML::CompactTree::XS => XML::CT::XS
XML::DT::Sequence => XML::DT::S
XML::DTDParser => XML::DTDP
XML::DoubleEncodedEntities => XML::DEE
XML::Dumper => XML::D
XML::Entities => XML::E
XML::Filter::BufferText => XML::F::BT
XML::Filter::DOMFilter::LibXML => XML::F::DOMF::LibXML
XML::Flow => XML::F
XML::Generator::PerlData => XML::G::PD
XML::Handler::Trees => XML::H::T
XML::Hash::XS => XML::H::XS
XML::LibXML::Debugging => XML::LibXML::D
XML::LibXML::Devel::SetLineNumber => XML::LibXML::D::SetLN
XML::LibXML::Iterator => XML::LibXML::I
XML::LibXML::LazyBuilder => XML::LibXML::LB
XML::LibXML::PrettyPrint => XML::LibXML::PP
XML::LibXML::QuerySelector => XML::LibXML::QS
XML::LibXML::Simple => XML::LibXML::S
XML::LibXML::jQuery => XML::LibXML::jQ
XML::Merge => XML::M
XML::MinWriter => XML::MinW
XML::Namespace => XML::N
XML::NamespaceFactory => XML::NF
XML::NamespaceSupport => XML::NS
XML::NmapParser => XML::NP
XML::NodeFilter => *undef*
XML::Parsepp => XML::P
XML::Parsepp::Testgen => XML::P::T
XML::Parser => *undef*
XML::Parser::EasyTree => XML::P::ET
XML::Parser::Lite => XML::P::L
XML::Parser::Lite::Tree => XML::P::L::T
XML::Parser::Style::IxTree => XML::P::S::IxT
XML::Perl => *undef*
XML::Printer::ESCPOS => XML::P::ESCPOS
XML::Quick => XML::Q
XML::RPC::CustomUA => XML::RPC::CUA
XML::SAX::Base => XML::SAX::B
XML::SAX::Expat => XML::SAX::E
XML::SAX::Writer => XML::SAX::W
XML::Saxtract => XML::S
XML::SemanticDiff => XML::SD
XML::Simple => *undef*
XML::Simple::Sorted => XML::S::S
XML::Smart => *undef*
XML::Spice => *undef*
XML::Stream => *undef*
XML::Structured => *undef*
XML::Tidy => XML::T
XML::Tidy::Tiny => XML::T::T
XML::TreePP => XML::TPP
XML::Twig => *undef*
XML::Writer => XML::W
XML::Writer::Simple => XML::W::S
XML::WriterX::Simple => XML::WX::S
XML::XPath => XML::XP
XMLRPC::Fast => XMLRPC::F
XMail::Ctrl => XM::C
XS::APItest => XS::API
XS::Object::Magic => XS::O::M
XS::Typemap => XS::T
XSLoader => XSL
YAML::LoadBundle => YAML::LB
YAML::Shell => YAML::S
YAML::Syck => *undef*
YAML::Tiny => YAML::T
YAML::Tiny::Color => YAML::T::C
YAPC::Russia => YAPC::R
ZHOUYI::ZhanPu => ZHOUYI::ZPu
ZMQ::Constants => ZMQ::C
Zabbix::Check => Z::C
Zodiac::Chinese::Table => Z::C::T
Zodiac::Tiny => Z::T
Zwoelf::Hash::Union => Z::H::U
asterisk-perl => a-p
autobox::Core => a::C
autodie::Scope::Guard => a::S::G
autodie::Scope::GuardStack => a::S::GS
autodie::Util => a::U
autodie::exception => a::e
autodie::exception::system => a::e::s
autodie::hints => a::h
autodie::skip => a::s
business::bban => b::b
cPanel::RESTivus => cP::REST
cPanel::SyncUtil => cP::SU
common::sense => c::s
constant::Atom => c::A
constant::defer => c::d
constant::lexical => c::l
constant::tiny => c::t
cpan::listchanges => *undef*
cpan::outdated => c::o
encoding::warnings => e::w
ex::constant::vars => ex::c::v
exported::constants => e::c
if::Pragmas => if::P
inc::latest => inc::l
lib::byversion => lib::b
lib::filter => lib::f
lib::noop => lib::n
lib::prereqs::only => lib::p::o
lib::projectroot => lib::p
lib::with::preamble => lib::w::p
libwww::perl => l::p
libxml-perl => l-p
local::lib => l::lib
match::simple => m::s
match::simple::XS => m::s::XS
namespace::clean::xs => n::c::xs
overload::numbers => o::n
pod2pdf => pod2
re::engine::Lua => re::e::Lua
re::engine::Plugin => re::e::P
return::thence => r::t
simpleXMLParse => sXMLP
subs::parallel => s::p
threads::lite => t::l
threads::posix => t::p
threads::shared => t::s
unicore::Name => u::N
version::regex => v::r
warnings::illegalproto => w::i
warnings::lock => w::l
warnings::regex::recompile => w::r::r
warnings::register => w::r
xml::binddata => xml::b
yEd::Document => yEd::D
yesssSMS => ySMS
# Acme::TLDR v0.004, Perl 5.026000, /home/cpan4/install/bin/perl
t/00-load.t .................. ok
t/release-cpan-changes.t ..... skipped: these tests are for release candidate testing
t/10-check.t ................. ok
t/release-distmeta.t ......... skipped: these tests are for release candidate testing
t/release-kwalitee.t ......... skipped: these tests are for release candidate testing
t/release-dist-manifest.t .... skipped: these tests are for release candidate testing
t/release-minimum-version.t .. skipped: these tests are for release candidate testing
t/release-mojibake.t ......... skipped: these tests are for release candidate testing
t/release-no-tabs.t .......... skipped: these tests are for release candidate testing
t/release-pod-coverage.t ..... skipped: these tests are for release candidate testing
t/release-pod-linkcheck.t .... skipped: these tests are for release candidate testing
t/release-pod-syntax.t ....... skipped: these tests are for release candidate testing
t/release-portability.t ...... skipped: these tests are for release candidate testing
t/release-test-version.t ..... skipped: these tests are for release candidate testing
t/release-unused-vars.t ...... skipped: these tests are for release candidate testing
All tests successful.
Files=18, Tests=4, 4 wallclock secs ( 0.13 usr 0.04 sys + 6.59 cusr 1.02 csys = 7.78 CPU)
Result: PASS
------------------------------
PREREQUISITES
------------------------------
Prerequisite modules loaded:
requires:
Module Need Have
------------------- ---- ----------
File::HomeDir 0 1.002
List::MoreUtils 0 0.419
Module::CoreList 0 5.20170420
build_requires:
Module Need Have
------------------- ---- ----------
ExtUtils::MakeMaker 0 7.24
configure_requires:
Module Need Have
------------------- ---- ----------
ExtUtils::MakeMaker 6.30 7.24
------------------------------
ENVIRONMENT AND OTHER CONTEXT
------------------------------
Environment variables:
AUTOMATED_TESTING = 1
HARNESS_OPTIONS = j3
LANG = en_US.UTF-8
PATH = /usr/local/bin:/usr/bin:/bin:/usr/local/games:/usr/games
PERL5LIB =
PERL5OPT =
PERL5_CPANPLUS_IS_RUNNING = 19261
PERL5_CPAN_IS_RUNNING = 19261
PERL5_CPAN_IS_RUNNING_IN_RECURSION = 28789,19261
PERL_CR_SMOKER_CURRENT = Acme-TLDR-0.004
PERL_CR_SMOKER_RUNONCE = 1
PERL_EXTUTILS_AUTOINSTALL = --defaultdeps
PERL_MM_USE_DEFAULT = 1
PERL_USE_UNSAFE_INC = 0
SHELL = /bin/bash
TERM = putty-256color
Perl special variables (and OS-specific diagnostics, for MSWin32):
$^X = /home/cpan4/install/bin/perl
$UID/$EUID = 1005 / 1005
$GID = 1005 1005
$EGID = 1005 1005
Perl module toolchain versions installed:
Module Have
------------------- --------
CPAN 2.16
CPAN::Meta 2.150010
Cwd 3.62
ExtUtils::CBuilder 0.280224
ExtUtils::Command 7.24
ExtUtils::Install 2.04
ExtUtils::MakeMaker 7.24
ExtUtils::Manifest 1.70
ExtUtils::ParseXS 3.34
File::Spec 3.62
JSON 2.91_04
JSON::PP 2.27400
Module::Build 0.4222
Module::Signature n/a
Parse::CPAN::Meta 2.150010
Test::Harness 3.39
Test::More 1.302081
YAML 1.23
YAML::Syck 1.29
version 0.9917
--
Summary of my perl5 (revision 5 version 26 subversion 0) configuration:
Commit id: f57d8456e7b8d6b2dad0bb49899cfdc68007b794
Platform:
osname=linux
osvers=3.16.0-4-amd64
archname=x86_64-linux-thread-multi
uname='linux digitalis 3.16.0-4-amd64 #1 smp debian 3.16.36-1+deb8u2 (2016-10-19) x86_64 gnulinux '
config_args='-Dusedevel -DDEBUGGING -Dusethreads -Dprefix=/home/cpan4/install -Uversiononly -des'
hint=recommended
useposix=true
d_sigaction=define
useithreads=define
usemultiplicity=define
use64bitint=define
use64bitall=define
uselongdouble=undef
usemymalloc=n
default_inc_excludes_dot=define
bincompat5005=undef
Compiler:
cc='cc'
ccflags ='-D_REENTRANT -D_GNU_SOURCE -fwrapv -DDEBUGGING -fno-strict-aliasing -pipe -fstack-protector-strong -I/usr/local/include -D_LARGEFILE_SOURCE -D_FILE_OFFSET_BITS=64 -D_FORTIFY_SOURCE=2'
optimize='-O2 -g'
cppflags='-D_REENTRANT -D_GNU_SOURCE -fwrapv -DDEBUGGING -fno-strict-aliasing -pipe -fstack-protector-strong -I/usr/local/include'
ccversion=''
gccversion='4.9.2'
gccosandvers=''
intsize=4
longsize=8
ptrsize=8
doublesize=8
byteorder=12345678
doublekind=3
d_longlong=define
longlongsize=8
d_longdbl=define
longdblsize=16
longdblkind=3
ivtype='long'
ivsize=8
nvtype='double'
nvsize=8
Off_t='off_t'
lseeksize=8
alignbytes=8
prototype=define
Linker and Libraries:
ld='cc'
ldflags =' -fstack-protector-strong -L/usr/local/lib'
libpth=/usr/local/lib /usr/lib/gcc/x86_64-linux-gnu/4.9/include-fixed /usr/include/x86_64-linux-gnu /usr/lib /lib/x86_64-linux-gnu /lib/../lib /usr/lib/x86_64-linux-gnu /usr/lib/../lib /lib /lib64 /usr/lib64
libs=-lpthread -lnsl -ldl -lm -lcrypt -lutil -lc
perllibs=-lpthread -lnsl -ldl -lm -lcrypt -lutil -lc
libc=libc-2.19.so
so=so
useshrplib=false
libperl=libperl.a
gnulibc_version='2.19'
Dynamic Linking:
dlsrc=dl_dlopen.xs
dlext=so
d_dlsymun=undef
ccdlflags='-Wl,-E'
cccdlflags='-fPIC'
lddlflags='-shared -O2 -g -L/usr/local/lib -fstack-protector-strong'
Characteristics of this binary (from libperl):
Compile-time options:
DEBUGGING
HAS_TIMES
MULTIPLICITY
PERLIO_LAYERS
PERL_COPY_ON_WRITE
PERL_DONT_CREATE_GVSV
PERL_IMPLICIT_CONTEXT
PERL_MALLOC_WRAP
PERL_OP_PARENT
PERL_PRESERVE_IVUV
PERL_TRACK_MEMPOOL
PERL_USE_DEVEL
USE_64_BIT_ALL
USE_64_BIT_INT
USE_ITHREADS
USE_LARGE_FILES
USE_LOCALE
USE_LOCALE_COLLATE
USE_LOCALE_CTYPE
USE_LOCALE_NUMERIC
USE_LOCALE_TIME
USE_PERLIO
USE_PERL_ATOF
USE_REENTRANT_API
Built under linux
Compiled at Apr 11 2017 21:41:00
%ENV:
PERL5LIB=""
PERL5OPT=""
PERL5_CPANPLUS_IS_RUNNING="19261"
PERL5_CPAN_IS_RUNNING="19261"
PERL5_CPAN_IS_RUNNING_IN_RECURSION="28789,19261"
PERL_CR_SMOKER_CURRENT="Acme-TLDR-0.004"
PERL_CR_SMOKER_RUNONCE="1"
PERL_EXTUTILS_AUTOINSTALL="--defaultdeps"
PERL_MM_USE_DEFAULT="1"
PERL_USE_UNSAFE_INC="0"
@INC:
/home/cpan4/install/lib/perl5/site_perl/5.26.0/x86_64-linux-thread-multi
/home/cpan4/install/lib/perl5/site_perl/5.26.0
/home/cpan4/install/lib/perl5/5.26.0/x86_64-linux-thread-multi
/home/cpan4/install/lib/perl5/5.26.0