Benchmark-Perl-Formance-Analyzer v0.009 Perl 5 v5.28.0 amd64-freebsd

Status
Pass
From
Slaven Rezić (SREZIC)
Dist
Benchmark-Perl-Formance-Analyzer v0.009
Platform
Perl 5 v5.28.0 amd64-freebsd
Date
2019-04-26 22:42:55
ID
a23c62a6-6874-11e9-92fb-b3151f24ea8f
This distribution has been tested as part of the CPAN Testers
project, supporting the Perl programming language.  See
http://wiki.cpantesters.org/ for more information or email
questions to cpan-testers-discuss@perl.org


--
Dear Steffen Schwigon,

This is a computer-generated report for Benchmark-Perl-Formance-Analyzer-0.009
on perl 5.28.0, created by CPAN-Reporter-1.2018.

Thank you for uploading your work to CPAN.  Congratulations!
All tests were successful.

Sections of this report:

    * Tester comments
    * Program output
    * Prerequisites
    * Environment and other context

------------------------------
TESTER COMMENTS
------------------------------

Additional comments from tester:

none provided

------------------------------
PROGRAM OUTPUT
------------------------------

Output from '/usr/bin/make test':

Skip blib/lib/auto/share/dist/Benchmark-Perl-Formance-Analyzer/chartqueries/pts2019-f/07lists.push-FASTMODE.json (unchanged)
Skip blib/lib/auto/share/dist/Benchmark-Perl-Formance-Analyzer/chartqueries/pts2019-f/nbody-FASTMODE.json (unchanged)
Skip blib/lib/auto/share/dist/Benchmark-Perl-Formance-Analyzer/chartqueries/classic2015/MatrixReal.det.030.json (unchanged)
Skip blib/lib/auto/share/dist/Benchmark-Perl-Formance-Analyzer/chartqueries/classic2015/create-query-files (unchanged)
Skip blib/lib/auto/share/dist/Benchmark-Perl-Formance-Analyzer/chartqueries/perlformance-f/shootout.json (unchanged)
Skip blib/lib/auto/share/dist/Benchmark-Perl-Formance-Analyzer/chartqueries/classic2015/MatrixReal.inverse.030.json (unchanged)
Skip blib/lib/auto/share/dist/Benchmark-Perl-Formance-Analyzer/chartqueries/classic2015/Rx.regexes.fieldsplit1.json (unchanged)
Skip blib/lib/auto/share/dist/Benchmark-Perl-Formance-Analyzer/chartqueries/classic2015-f/Shootout.spectralnorm-FASTMODE.json (unchanged)
Skip blib/lib/auto/share/dist/Benchmark-Perl-Formance-Analyzer/chartqueries/perlformance/rxmicro-code-literal.json (unchanged)
Skip blib/lib/auto/share/dist/Benchmark-Perl-Formance-Analyzer/chartqueries/perlformance-f/shootout-nbody.json (unchanged)
Skip blib/lib/auto/share/dist/Benchmark-Perl-Formance-Analyzer/chartqueries/pts2019/perlformance.perl5.MatrixReal.det_LR.005.json (unchanged)
Skip blib/lib/auto/share/dist/Benchmark-Perl-Formance-Analyzer/chartqueries/pts2019-f/fannkuch-FASTMODE.json (unchanged)
Skip blib/lib/auto/share/dist/Benchmark-Perl-Formance-Analyzer/chartqueries/classic2015/ThreadsShared.threadstorm.json (unchanged)
Skip blib/lib/auto/share/dist/Benchmark-Perl-Formance-Analyzer/chartqueries/perlformance/shootout-spectralnorm.json (unchanged)
Skip blib/lib/auto/share/dist/Benchmark-Perl-Formance-Analyzer/chartqueries/classic2015-f/Shootout.nbody-FASTMODE.json (unchanged)
Skip blib/lib/auto/share/dist/Benchmark-Perl-Formance-Analyzer/chartqueries/pts2019/perlformance.perl5.PerlCritic.upstream.json (unchanged)
Skip blib/lib/auto/share/dist/Benchmark-Perl-Formance-Analyzer/chartqueries/pts2019/perlformance.perl5.RxMicro.precompile-access.json (unchanged)
Skip blib/lib/auto/share/dist/Benchmark-Perl-Formance-Analyzer/chartqueries/perlformance-f/spamassassin-salearn-ham2.json (unchanged)
Skip blib/lib/auto/share/dist/Benchmark-Perl-Formance-Analyzer/chartqueries/perlformance/shootout-fannkuch.json (unchanged)
Skip blib/lib/auto/share/dist/Benchmark-Perl-Formance-Analyzer/chartqueries/pts2019/perlformance.perl5.Shootout.mandelbrot.json (unchanged)
Skip blib/lib/auto/share/dist/Benchmark-Perl-Formance-Analyzer/chartqueries/classic2015/AccessorsClassMethodMaker.get.json (unchanged)
Skip blib/lib/auto/share/dist/Benchmark-Perl-Formance-Analyzer/chartqueries/classic2015-f/Rx.regexes.fieldsplit1-FASTMODE.json (unchanged)
Skip blib/lib/auto/share/dist/Benchmark-Perl-Formance-Analyzer/chartqueries/classic2015-f/AccessorsClassAccessorFast.set-FASTMODE.json (unchanged)
Skip blib/lib/auto/share/dist/Benchmark-Perl-Formance-Analyzer/chartqueries/perlformance-f/shootout-binarytrees.json (unchanged)
Skip blib/lib/auto/share/dist/Benchmark-Perl-Formance-Analyzer/chartqueries/perlstone2015/regex.split2.json (unchanged)
Skip blib/lib/auto/share/dist/Benchmark-Perl-Formance-Analyzer/chartqueries/classic2015-f/AccessorsMoose.get-FASTMODE.json (unchanged)
Skip blib/lib/auto/share/dist/Benchmark-Perl-Formance-Analyzer/chartqueries/classic2015-f/Accessorsarray.set-FASTMODE.json (unchanged)
Skip blib/lib/auto/share/dist/Benchmark-Perl-Formance-Analyzer/chartqueries/classic2015/Mem.copy.json (unchanged)
Skip blib/lib/auto/share/dist/Benchmark-Perl-Formance-Analyzer/chartqueries/perlstone2015/05regex.fixedstr.json (unchanged)
Skip blib/lib/auto/share/dist/Benchmark-Perl-Formance-Analyzer/chartqueries/perlformance/accessors-class-xsaccessor-array.json (unchanged)
Skip blib/lib/auto/share/dist/Benchmark-Perl-Formance-Analyzer/chartqueries/pts2019/perlformance.perl5.Shootout.fannkuch.json (unchanged)
Skip blib/lib/auto/share/dist/Benchmark-Perl-Formance-Analyzer/chartqueries/pts2019/perlformance.perl5.RxMicro.runtime-compile.json (unchanged)
Skip blib/lib/auto/share/dist/Benchmark-Perl-Formance-Analyzer/chartqueries/pts2019-f/perlformance.perl5.MatrixReal.matrix_squared.005-FASTMODE.json (unchanged)
Skip blib/lib/auto/share/dist/Benchmark-Perl-Formance-Analyzer/chartqueries/perlformance/rxmicro.json (unchanged)
Skip blib/lib/auto/share/dist/Benchmark-Perl-Formance-Analyzer/chartqueries/pts2019/perlformance.perl5.DPath.dpath.json (unchanged)
Skip blib/lib/auto/share/dist/Benchmark-Perl-Formance-Analyzer/chartqueries/pts2019/fasta.json (unchanged)
Skip blib/lib/auto/share/dist/Benchmark-Perl-Formance-Analyzer/chartqueries/classic2015/AccessorsClassXSAccessor.set.json (unchanged)
Skip blib/lib/auto/share/dist/Benchmark-Perl-Formance-Analyzer/chartqueries/perlformance/accessors-class-xsaccessor.json (unchanged)
Skip blib/lib/auto/share/dist/Benchmark-Perl-Formance-Analyzer/chartqueries/perlstone2015/fib.json (unchanged)
Skip blib/lib/auto/share/dist/Benchmark-Perl-Formance-Analyzer/chartqueries/perlformance-f/rxmicro-code-runtime.json (unchanged)
Skip blib/lib/auto/share/dist/Benchmark-Perl-Formance-Analyzer/chartqueries/pts2019-f/perlformance.perl5.Shootout.pidigits-FASTMODE.json (unchanged)
Skip blib/lib/auto/share/dist/Benchmark-Perl-Formance-Analyzer/chartqueries/perlformance-f/dpath.json (unchanged)
Skip blib/lib/auto/share/dist/Benchmark-Perl-Formance-Analyzer/chartqueries/pts2019/05regex.fixedstr.json (unchanged)
Skip blib/lib/auto/share/dist/Benchmark-Perl-Formance-Analyzer/chartqueries/perlstone2015/fasta.json (unchanged)
Skip blib/lib/auto/share/dist/Benchmark-Perl-Formance-Analyzer/chartqueries/perlformance-f/matrix-det-lr.json (unchanged)
Skip blib/lib/auto/share/dist/Benchmark-Perl-Formance-Analyzer/chartqueries/classic2015/TEMPLATE (unchanged)
Skip blib/lib/auto/share/dist/Benchmark-Perl-Formance-Analyzer/chartqueries/perlformance-f/p6std.json (unchanged)
Skip blib/lib/auto/share/dist/Benchmark-Perl-Formance-Analyzer/chartqueries/pts2019-f/perlformance.perl5.Shootout.nbody-FASTMODE.json (unchanged)
Skip blib/lib/auto/share/dist/Benchmark-Perl-Formance-Analyzer/chartqueries/perlformance-f/threads.json (unchanged)
Skip blib/lib/auto/share/dist/Benchmark-Perl-Formance-Analyzer/chartqueries/pts2019/perlformance.perl5.MatrixReal.matrix_times_itself.005.json (unchanged)
Skip blib/lib/auto/share/dist/Benchmark-Perl-Formance-Analyzer/chartqueries/pts2019-f/04control.blocks1-FASTMODE.json (unchanged)
Skip blib/lib/auto/share/dist/Benchmark-Perl-Formance-Analyzer/chartqueries/classic2015-f/DPath.dpath-FASTMODE.json (unchanged)
Skip blib/lib/auto/share/dist/Benchmark-Perl-Formance-Analyzer/chartqueries/pts2019-f/01overview.opmix1-FASTMODE.json (unchanged)
Skip blib/lib/auto/share/dist/Benchmark-Perl-Formance-Analyzer/chartqueries/perlformance-f/accessors-class-methodmaker.json (unchanged)
Skip blib/lib/auto/share/dist/Benchmark-Perl-Formance-Analyzer/chartqueries/classic2015/FibMoose.json (unchanged)
Skip blib/lib/auto/share/dist/Benchmark-Perl-Formance-Analyzer/chartqueries/pts2019/regex.code_runtime.json (unchanged)
Skip blib/lib/auto/share/dist/Benchmark-Perl-Formance-Analyzer/chartqueries/perlformance-f/mem-copy.json (unchanged)
Skip blib/lib/auto/share/dist/Benchmark-Perl-Formance-Analyzer/chartqueries/pts2019/METRICLIST (unchanged)
Skip blib/lib/auto/share/dist/Benchmark-Perl-Formance-Analyzer/chartqueries/pts2019/perlformance.perl5.P6STD.viv.json (unchanged)
Skip blib/lib/auto/share/dist/Benchmark-Perl-Formance-Analyzer/chartqueries/perlstone2015-f/METRICLIST (unchanged)
Skip blib/lib/auto/share/dist/Benchmark-Perl-Formance-Analyzer/chartqueries/classic2015/RxMicro.code-runtime.json (unchanged)
Skip blib/lib/auto/share/dist/Benchmark-Perl-Formance-Analyzer/chartqueries/pts2019/perlformance.perl5.MatrixReal.matrix_squared.005.json (unchanged)
Skip blib/lib/auto/share/dist/Benchmark-Perl-Formance-Analyzer/chartqueries/classic2015-f/RxMicro.precompile-access-FASTMODE.json (unchanged)
Skip blib/lib/auto/share/dist/Benchmark-Perl-Formance-Analyzer/chartqueries/classic2015/AccessorsClassAccessor.get.json (unchanged)
Skip blib/lib/auto/share/dist/Benchmark-Perl-Formance-Analyzer/chartqueries/classic2015-f/FibOO-FASTMODE.json (unchanged)
Skip blib/lib/auto/share/dist/Benchmark-Perl-Formance-Analyzer/chartqueries/pts2019-f/create-query-files (unchanged)
Skip blib/lib/auto/share/dist/Benchmark-Perl-Formance-Analyzer/chartqueries/classic2015-f/MatrixReal.matrix_times_itself.030-FASTMODE.json (unchanged)
Skip blib/lib/auto/share/dist/Benchmark-Perl-Formance-Analyzer/chartqueries/classic2015/MatrixReal.det_LR.030.json (unchanged)
Skip blib/lib/auto/share/dist/Benchmark-Perl-Formance-Analyzer/chartqueries/perlformance-f/fibonacci-oo.json (unchanged)
Skip blib/lib/auto/share/dist/Benchmark-Perl-Formance-Analyzer/chartqueries/classic2015/AccessorsHash.get.json (unchanged)
Skip blib/lib/auto/share/dist/Benchmark-Perl-Formance-Analyzer/chartqueries/pts2019/perlformance.perl5.Shootout.spectralnorm.json (unchanged)
Skip blib/lib/auto/share/dist/Benchmark-Perl-Formance-Analyzer/chartqueries/classic2015/Accessorsarray.get.json (unchanged)
Skip blib/lib/auto/share/dist/Benchmark-Perl-Formance-Analyzer/chartqueries/classic2015-f/AccessorsMoose.set-FASTMODE.json (unchanged)
Skip blib/lib/auto/share/dist/Benchmark-Perl-Formance-Analyzer/chartqueries/pts2019/perlformance.perl5.Shootout.revcomp.json (unchanged)
Skip blib/lib/auto/share/dist/Benchmark-Perl-Formance-Analyzer/chartqueries/pts2019-f/09data.a_alloc-FASTMODE.json (unchanged)
Skip blib/lib/auto/share/dist/Benchmark-Perl-Formance-Analyzer/chartqueries/pts2019/fannkuch.json (unchanged)
Skip blib/lib/auto/share/dist/Benchmark-Perl-Formance-Analyzer/chartqueries/perlstone2015-f/01overview.opmix2-FASTMODE.json (unchanged)
Skip blib/lib/auto/share/dist/Benchmark-Perl-Formance-Analyzer/chartqueries/pts2019/perlformance.perl5.Shootout.binarytrees.json (unchanged)
Skip blib/lib/auto/share/dist/Benchmark-Perl-Formance-Analyzer/chartqueries/classic2015/Shootout.pidigits.json (unchanged)
Skip blib/lib/auto/share/dist/Benchmark-Perl-Formance-Analyzer/chartqueries/classic2015-f/P6STD.viv-FASTMODE.json (unchanged)
Skip blib/lib/auto/share/dist/Benchmark-Perl-Formance-Analyzer/chartqueries/perlformance-f/mem.json (unchanged)
Skip blib/lib/auto/share/dist/Benchmark-Perl-Formance-Analyzer/chartqueries/pts2019/perlformance.perl5.RxMicro.code-literal.json (unchanged)
Skip blib/lib/auto/share/dist/Benchmark-Perl-Formance-Analyzer/chartqueries/classic2015-f/Threads.threadstorm-FASTMODE.json (unchanged)
Skip blib/lib/auto/share/dist/Benchmark-Perl-Formance-Analyzer/chartqueries/classic2015/FibMouse.json (unchanged)
Skip blib/lib/auto/share/dist/Benchmark-Perl-Formance-Analyzer/chartqueries/classic2015-f/AccessorsMouse.get-FASTMODE.json (unchanged)
Skip blib/lib/auto/share/dist/Benchmark-Perl-Formance-Analyzer/chartqueries/perlformance-f/accessors-hash.json (unchanged)
Skip blib/lib/auto/share/dist/Benchmark-Perl-Formance-Analyzer/chartqueries/perlstone2015-f/regex.runtime_comp-FASTMODE.json (unchanged)
Skip blib/lib/auto/share/dist/Benchmark-Perl-Formance-Analyzer/chartqueries/perlformance/shootout-nbody.json (unchanged)
Skip blib/lib/auto/share/dist/Benchmark-Perl-Formance-Analyzer/chartqueries/pts2019/binarytrees.json (unchanged)
Skip blib/lib/auto/share/dist/Benchmark-Perl-Formance-Analyzer/chartqueries/pts2019-f/regex.code_literal-FASTMODE.json (unchanged)
Skip blib/lib/auto/share/dist/Benchmark-Perl-Formance-Analyzer/chartqueries/perlformance/mem-copy.json (unchanged)
Skip blib/lib/auto/share/dist/Benchmark-Perl-Formance-Analyzer/chartqueries/perlformance/dpath.json (unchanged)
Skip blib/lib/auto/share/dist/Benchmark-Perl-Formance-Analyzer/chartqueries/classic2015/AccessorsMoose.get.json (unchanged)
Skip blib/lib/auto/share/dist/Benchmark-Perl-Formance-Analyzer/chartqueries/perlstone2015-f/fib-FASTMODE.json (unchanged)
Skip blib/lib/auto/share/dist/Benchmark-Perl-Formance-Analyzer/chartqueries/pts2019/perlformance.perl5.Threads.threadstorm.json (unchanged)
Skip blib/lib/auto/share/dist/Benchmark-Perl-Formance-Analyzer/chartqueries/perlstone2015-f/regex.backtrack-FASTMODE.json (unchanged)
Skip blib/lib/auto/share/dist/Benchmark-Perl-Formance-Analyzer/chartqueries/pts2019-f/perlformance.perl5.RxMicro.precompile-access-FASTMODE.json (unchanged)
Skip blib/lib/auto/share/dist/Benchmark-Perl-Formance-Analyzer/chartqueries/classic2015/Threads.threadstorm.json (unchanged)
Skip blib/lib/auto/share/dist/Benchmark-Perl-Formance-Analyzer/chartqueries/perlstone2015-f/05regex.fixedstr-FASTMODE.json (unchanged)
Skip blib/lib/auto/share/dist/Benchmark-Perl-Formance-Analyzer/chartqueries/perlformance/p6std-viv.json (unchanged)
Skip blib/lib/auto/share/dist/Benchmark-Perl-Formance-Analyzer/chartqueries/perlstone2015-f/09data.a_copy-FASTMODE.json (unchanged)
Skip blib/lib/auto/share/dist/Benchmark-Perl-Formance-Analyzer/chartqueries/pts2019/perlformance.perl5.Prime.math_primality.json (unchanged)
Skip blib/lib/auto/share/dist/Benchmark-Perl-Formance-Analyzer/chartqueries/pts2019/perlformance.perl5.MatrixReal.det.005.json (unchanged)
Skip blib/lib/auto/share/dist/Benchmark-Perl-Formance-Analyzer/chartqueries/pts2019-f/perlformance.perl5.RxMicro.runtime-compile-FASTMODE.json (unchanged)
Skip blib/lib/auto/share/dist/Benchmark-Perl-Formance-Analyzer/chartqueries/pts2019-f/perlformance.perl5.Threads.threadstorm-FASTMODE.json (unchanged)
Skip blib/lib/auto/share/dist/Benchmark-Perl-Formance-Analyzer/chartqueries/pts2019/perlformance.perl5.FibOOSig.json (unchanged)
Skip blib/lib/auto/share/dist/Benchmark-Perl-Formance-Analyzer/chartqueries/perlformance/accessors-battle-of-the-mooses.json (unchanged)
Skip blib/lib/auto/share/dist/Benchmark-Perl-Formance-Analyzer/chartqueries/perlstone2015-f/regex.split1-FASTMODE.json (unchanged)
Skip blib/lib/auto/share/dist/Benchmark-Perl-Formance-Analyzer/chartqueries/perlstone2015-f/create-query-files (unchanged)
Skip blib/lib/auto/share/dist/Benchmark-Perl-Formance-Analyzer/chartqueries/classic2015/MatrixReal.matrix_times_itself.030.json (unchanged)
Skip blib/lib/auto/share/dist/Benchmark-Perl-Formance-Analyzer/chartqueries/classic2015/Shootout.regexdna.json (unchanged)
Skip blib/lib/auto/share/dist/Benchmark-Perl-Formance-Analyzer/chartqueries/perlstone2015-f/TEMPLATE (unchanged)
Skip blib/lib/auto/share/dist/Benchmark-Perl-Formance-Analyzer/chartqueries/pts2019/perlformance.perl5.FibMouse.json (unchanged)
Skip blib/lib/auto/share/dist/Benchmark-Perl-Formance-Analyzer/chartqueries/classic2015/AccessorsClassAccessorFast.get.json (unchanged)
Skip blib/lib/auto/share/dist/Benchmark-Perl-Formance-Analyzer/chartqueries/classic2015-f/AccessorsClassXSAccessor.set-FASTMODE.json (unchanged)
Skip blib/lib/auto/share/dist/Benchmark-Perl-Formance-Analyzer/chartqueries/perlstone2015-f/regex.code_literal-FASTMODE.json (unchanged)
Skip blib/lib/auto/share/dist/Benchmark-Perl-Formance-Analyzer/chartqueries/perlformance-f/fibonacci.json (unchanged)
Skip blib/lib/auto/share/dist/Benchmark-Perl-Formance-Analyzer/chartqueries/perlstone2015-f/04control.blocks1-FASTMODE.json (unchanged)
Skip blib/lib/auto/share/dist/Benchmark-Perl-Formance-Analyzer/chartqueries/perlstone2015/regex.code_literal.json (unchanged)
Skip blib/lib/auto/share/dist/Benchmark-Perl-Formance-Analyzer/chartqueries/classic2015/Mem.allocate.json (unchanged)
Skip blib/lib/auto/share/dist/Benchmark-Perl-Formance-Analyzer/chartqueries/classic2015/DPath.dpath.json (unchanged)
Skip blib/lib/auto/share/dist/Benchmark-Perl-Formance-Analyzer/chartqueries/perlformance/fibonacci-mouse.json (unchanged)
Skip blib/lib/auto/share/dist/Benchmark-Perl-Formance-Analyzer/chartqueries/classic2015/AccessorsClassAccessorFast.set.json (unchanged)
Skip blib/lib/auto/share/dist/Benchmark-Perl-Formance-Analyzer/chartqueries/classic2015-f/P6STD.makeviv-FASTMODE.json (unchanged)
Skip blib/lib/auto/share/dist/Benchmark-Perl-Formance-Analyzer/chartqueries/perlformance-f/regex-split1.json (unchanged)
Skip blib/lib/auto/share/dist/Benchmark-Perl-Formance-Analyzer/chartqueries/perlformance-f/fibonacci-mouse.json (unchanged)
Skip blib/lib/auto/share/dist/Benchmark-Perl-Formance-Analyzer/chartqueries/pts2019/perlformance.perl5.RxMicro.code-runtime.json (unchanged)
Skip blib/lib/auto/share/dist/Benchmark-Perl-Formance-Analyzer/chartqueries/perlformance-f/matrix-invert_LR.json (unchanged)
Skip blib/lib/auto/share/dist/Benchmark-Perl-Formance-Analyzer/chartqueries/pts2019/perlformance.perl5.SpamAssassin.salearn.ham.json (unchanged)
Skip blib/lib/auto/share/dist/Benchmark-Perl-Formance-Analyzer/chartqueries/pts2019-f/regex.backtrack-FASTMODE.json (unchanged)
Skip blib/lib/auto/share/dist/Benchmark-Perl-Formance-Analyzer/chartqueries/pts2019/01overview.opmix2.json (unchanged)
Skip blib/lib/auto/share/dist/Benchmark-Perl-Formance-Analyzer/chartqueries/perlformance/spamassassin-salearn-spam.json (unchanged)
Skip blib/lib/auto/share/dist/Benchmark-Perl-Formance-Analyzer/chartqueries/perlformance-f/p6std-viv.json (unchanged)
Skip blib/lib/auto/share/dist/Benchmark-Perl-Formance-Analyzer/chartqueries/perlstone2015/mandelbrot.json (unchanged)
Skip blib/lib/auto/share/dist/Benchmark-Perl-Formance-Analyzer/chartqueries/perlformance-f/accessors-battle-of-the-raptors.json (unchanged)
Skip blib/lib/auto/share/dist/Benchmark-Perl-Formance-Analyzer/chartqueries/classic2015/Rx.regexes.fieldsplit2.json (unchanged)
Skip blib/lib/auto/share/dist/Benchmark-Perl-Formance-Analyzer/chartqueries/perlformance/regex-split2.json (unchanged)
Skip blib/lib/auto/share/dist/Benchmark-Perl-Formance-Analyzer/chartqueries/classic2015/AccessorsMouse.get.json (unchanged)
Skip blib/lib/auto/share/dist/Benchmark-Perl-Formance-Analyzer/chartqueries/classic2015/SpamAssassin.salearn.spam2.json (unchanged)
Skip blib/lib/auto/share/dist/Benchmark-Perl-Formance-Analyzer/chartqueries/classic2015-f/Shootout.knucleotide-FASTMODE.json (unchanged)
Skip blib/lib/auto/share/dist/Benchmark-Perl-Formance-Analyzer/chartqueries/pts2019/04control.blocks1.json (unchanged)
Skip blib/lib/auto/share/dist/Benchmark-Perl-Formance-Analyzer/chartqueries/pts2019/perlformance.perl5.Shootout.pidigits.json (unchanged)
Skip blib/lib/auto/share/dist/Benchmark-Perl-Formance-Analyzer/chartqueries/pts2019-f/perlformance.perl5.Rx.regexes.fieldsplit1-FASTMODE.json (unchanged)
Skip blib/lib/auto/share/dist/Benchmark-Perl-Formance-Analyzer/chartqueries/classic2015/Shootout.fasta.json (unchanged)
Skip blib/lib/auto/share/dist/Benchmark-Perl-Formance-Analyzer/chartqueries/perlformance-f/shootout-regexdna.json (unchanged)
Skip blib/lib/auto/share/dist/Benchmark-Perl-Formance-Analyzer/chartqueries/pts2019-f/04control.blocks2-FASTMODE.json (unchanged)
Skip blib/lib/auto/share/dist/Benchmark-Perl-Formance-Analyzer/chartqueries/perlformance/shootout-mandelbrot.json (unchanged)
Skip blib/lib/auto/share/dist/Benchmark-Perl-Formance-Analyzer/chartqueries/pts2019-f/spectralnorm-FASTMODE.json (unchanged)
Skip blib/lib/auto/share/dist/Benchmark-Perl-Formance-Analyzer/chartqueries/classic2015/Shootout.knucleotide.json (unchanged)
Skip blib/lib/auto/share/dist/Benchmark-Perl-Formance-Analyzer/chartqueries/pts2019/perlformance.perl5.ThreadsShared.threadstorm.json (unchanged)
Skip blib/lib/auto/share/dist/Benchmark-Perl-Formance-Analyzer/chartqueries/pts2019-f/perlformance.perl5.Shootout.fasta-FASTMODE.json (unchanged)
Skip blib/lib/auto/share/dist/Benchmark-Perl-Formance-Analyzer/chartqueries/pts2019-f/perlformance.perl5.Fib-FASTMODE.json (unchanged)
Skip blib/lib/auto/share/dist/Benchmark-Perl-Formance-Analyzer/chartqueries/classic2015-f/SpamAssassin.salearn.ham-FASTMODE.json (unchanged)
Skip blib/lib/auto/share/dist/Benchmark-Perl-Formance-Analyzer/chartqueries/classic2015/AccessorsMoo.set.json (unchanged)
Skip blib/lib/auto/share/dist/Benchmark-Perl-Formance-Analyzer/chartqueries/perlstone2015/regexdna.json (unchanged)
Skip blib/lib/auto/share/dist/Benchmark-Perl-Formance-Analyzer/chartqueries/classic2015-f/FibOOSig-FASTMODE.json (unchanged)
Skip blib/lib/auto/share/dist/Benchmark-Perl-Formance-Analyzer/chartqueries/classic2015/AccessorsHash.set.json (unchanged)
Skip blib/lib/auto/share/dist/Benchmark-Perl-Formance-Analyzer/chartqueries/classic2015-f/AccessorsMoo.set-FASTMODE.json (unchanged)
Skip blib/lib/auto/share/dist/Benchmark-Perl-Formance-Analyzer/chartqueries/classic2015-f/FibMouse-FASTMODE.json (unchanged)
Skip blib/lib/auto/share/dist/Benchmark-Perl-Formance-Analyzer/chartqueries/classic2015/RxMicro.precompile-access.json (unchanged)
Skip blib/lib/auto/share/dist/Benchmark-Perl-Formance-Analyzer/chartqueries/pts2019-f/perlformance.perl5.RxMicro.code-runtime-FASTMODE.json (unchanged)
Skip blib/lib/auto/share/dist/Benchmark-Perl-Formance-Analyzer/chartqueries/pts2019/perlformance.perl5.RxCmp.POSIX.json (unchanged)
Skip blib/lib/auto/share/dist/Benchmark-Perl-Formance-Analyzer/chartqueries/perlformance-f/accessors-mouse.json (unchanged)
Skip blib/lib/auto/share/dist/Benchmark-Perl-Formance-Analyzer/chartqueries/perlformance-f/fibonacci-function.json (unchanged)
Skip blib/lib/auto/share/dist/Benchmark-Perl-Formance-Analyzer/chartqueries/pts2019-f/09data.a_copy-FASTMODE.json (unchanged)
Skip blib/lib/auto/share/dist/Benchmark-Perl-Formance-Analyzer/chartqueries/perlstone2015/09data.a_alloc.json (unchanged)
Skip blib/lib/auto/share/dist/Benchmark-Perl-Formance-Analyzer/chartqueries/perlformance-f/shootout-fasta.json (unchanged)
Skip blib/lib/auto/share/dist/Benchmark-Perl-Formance-Analyzer/chartqueries/pts2019/regex.backtrack.json (unchanged)
Skip blib/lib/auto/share/dist/Benchmark-Perl-Formance-Analyzer/chartqueries/pts2019-f/perlformance.perl5.RxCmp.Lua-FASTMODE.json (unchanged)
Skip blib/lib/auto/share/dist/Benchmark-Perl-Formance-Analyzer/chartqueries/perlformance/fibonacci.json (unchanged)
Skip blib/lib/auto/share/dist/Benchmark-Perl-Formance-Analyzer/chartqueries/pts2019-f/regex.code_runtime-FASTMODE.json (unchanged)
Skip blib/lib/auto/share/dist/Benchmark-Perl-Formance-Analyzer/chartqueries/perlformance-f/accessors-battle-of-the-mooses.json (unchanged)
Skip blib/lib/auto/share/dist/Benchmark-Perl-Formance-Analyzer/chartqueries/perlformance-f/accessors.json (unchanged)
Skip blib/lib/auto/share/dist/Benchmark-Perl-Formance-Analyzer/chartqueries/pts2019/regex.runtime_comp.json (unchanged)
Skip blib/lib/auto/share/dist/Benchmark-Perl-Formance-Analyzer/chartqueries/classic2015-f/Shootout.mandelbrot-FASTMODE.json (unchanged)
Skip blib/lib/auto/share/dist/Benchmark-Perl-Formance-Analyzer/chartqueries/common/METRICLIST-FASTMODE (unchanged)
Skip blib/lib/auto/share/dist/Benchmark-Perl-Formance-Analyzer/chartqueries/perlformance-f/regex-split2.json (unchanged)
Skip blib/lib/auto/share/dist/Benchmark-Perl-Formance-Analyzer/chartqueries/classic2015/Shootout.mandelbrot.json (unchanged)
Skip blib/lib/auto/share/dist/Benchmark-Perl-Formance-Analyzer/chartqueries/pts2019-f/fasta-FASTMODE.json (unchanged)
Skip blib/lib/auto/share/dist/Benchmark-Perl-Formance-Analyzer/chartqueries/pts2019-f/perlformance.perl5.Mem.copy-FASTMODE.json (unchanged)
Skip blib/lib/auto/share/dist/Benchmark-Perl-Formance-Analyzer/chartqueries/pts2019-f/perlformance.perl5.P6STD.makeviv-FASTMODE.json (unchanged)
Skip blib/lib/auto/share/dist/Benchmark-Perl-Formance-Analyzer/chartqueries/common/METRICLIST (unchanged)
Skip blib/lib/auto/share/dist/Benchmark-Perl-Formance-Analyzer/chartqueries/classic2015-f/AccessorsClassMethodMaker.set-FASTMODE.json (unchanged)
Skip blib/lib/auto/share/dist/Benchmark-Perl-Formance-Analyzer/chartqueries/perlformance-f/fibonacci-oosig.json (unchanged)
Skip blib/lib/auto/share/dist/Benchmark-Perl-Formance-Analyzer/chartqueries/pts2019/TEMPLATE (unchanged)
Skip blib/lib/auto/share/dist/Benchmark-Perl-Formance-Analyzer/chartqueries/classic2015/AccessorsMoose.set.json (unchanged)
Skip blib/lib/auto/share/dist/Benchmark-Perl-Formance-Analyzer/chartqueries/pts2019/regex.precomp_access.json (unchanged)
Skip blib/lib/auto/share/dist/Benchmark-Perl-Formance-Analyzer/chartqueries/classic2015-f/AccessorsClassXSAccessorArray.get-FASTMODE.json (unchanged)
Skip blib/lib/auto/share/dist/Benchmark-Perl-Formance-Analyzer/chartqueries/perlformance-f/shootout-fannkuch.json (unchanged)
Skip blib/lib/auto/share/dist/Benchmark-Perl-Formance-Analyzer/chartqueries/perlformance/accessors-class-accessor.json (unchanged)
Skip blib/lib/auto/share/dist/Benchmark-Perl-Formance-Analyzer/chartqueries/perlformance-f/spamassassin-salearn-ham.json (unchanged)
Skip blib/lib/auto/share/dist/Benchmark-Perl-Formance-Analyzer/chartqueries/pts2019/regex.code_literal.json (unchanged)
Skip blib/lib/auto/share/dist/Benchmark-Perl-Formance-Analyzer/chartqueries/perlformance-f/fibonacci-moose.json (unchanged)
Skip blib/lib/auto/share/dist/Benchmark-Perl-Formance-Analyzer/chartqueries/pts2019-f/perlformance.perl5.FibMouse-FASTMODE.json (unchanged)
Skip blib/lib/auto/share/dist/Benchmark-Perl-Formance-Analyzer/chartqueries/perlformance-f/matrix-det.json (unchanged)
Skip blib/lib/auto/share/dist/Benchmark-Perl-Formance-Analyzer/chartqueries/perlformance/fibonacci-moose.json (unchanged)
Skip blib/lib/auto/share/dist/Benchmark-Perl-Formance-Analyzer/chartqueries/classic2015/MatrixReal.invert_LR.030.json (unchanged)
Skip blib/lib/auto/share/dist/Benchmark-Perl-Formance-Analyzer/chartqueries/classic2015-f/RxMicro.runtime-compile-FASTMODE.json (unchanged)
Skip blib/lib/auto/share/dist/Benchmark-Perl-Formance-Analyzer/chartqueries/classic2015/Shootout.spectralnorm.json (unchanged)
Skip blib/lib/auto/share/dist/Benchmark-Perl-Formance-Analyzer/chartqueries/classic2015/RxMicro.code-literal.json (unchanged)
Skip blib/lib/auto/share/dist/Benchmark-Perl-Formance-Analyzer/chartqueries/perlformance-f/p6std-makeviv.json (unchanged)
Skip blib/lib/auto/share/dist/Benchmark-Perl-Formance-Analyzer/chartqueries/perlstone2015/nbody.json (unchanged)
Skip blib/lib/auto/share/dist/Benchmark-Perl-Formance-Analyzer/chartqueries/perlformance-f/mem-allocate.json (unchanged)
Skip blib/lib/auto/share/dist/Benchmark-Perl-Formance-Analyzer/chartqueries/perlstone2015-f/fannkuch-FASTMODE.json (unchanged)
Skip blib/lib/auto/share/dist/Benchmark-Perl-Formance-Analyzer/chartqueries/pts2019-f/perlformance.perl5.Shootout.spectralnorm-FASTMODE.json (unchanged)
Skip blib/lib/auto/share/dist/Benchmark-Perl-Formance-Analyzer/chartqueries/classic2015-f/MatrixReal.det_LR.030-FASTMODE.json (unchanged)
Skip blib/lib/auto/share/dist/Benchmark-Perl-Formance-Analyzer/chartqueries/perlformance/shootout.json (unchanged)
Skip blib/lib/auto/share/dist/Benchmark-Perl-Formance-Analyzer/chartqueries/classic2015/P6STD.makeviv.json (unchanged)
Skip blib/lib/auto/share/dist/Benchmark-Perl-Formance-Analyzer/chartqueries/pts2019/perlformance.perl5.Fib.json (unchanged)
Skip blib/lib/auto/share/dist/Benchmark-Perl-Formance-Analyzer/chartqueries/perlformance/shootout-binarytrees.json (unchanged)
Skip blib/lib/auto/share/dist/Benchmark-Perl-Formance-Analyzer/chartqueries/common/create-query-files (unchanged)
Skip blib/lib/auto/share/dist/Benchmark-Perl-Formance-Analyzer/chartqueries/pts2019-f/perlformance.perl5.SpamAssassin.salearn.ham-FASTMODE.json (unchanged)
Skip blib/lib/auto/share/dist/Benchmark-Perl-Formance-Analyzer/chartqueries/perlformance-f/accessors-class-accessor-fast.json (unchanged)
Skip blib/lib/auto/share/dist/Benchmark-Perl-Formance-Analyzer/chartqueries/perlformance/accessors-moo.json (unchanged)
Skip blib/lib/auto/share/dist/Benchmark-Perl-Formance-Analyzer/chartqueries/pts2019/perlformance.perl5.Rx.regexes.fieldsplit2.json (unchanged)
Skip blib/lib/auto/share/dist/Benchmark-Perl-Formance-Analyzer/chartqueries/pts2019/perlformance.perl5.Shootout.knucleotide.json (unchanged)
Skip blib/lib/auto/share/dist/Benchmark-Perl-Formance-Analyzer/chartqueries/pts2019/perlformance.perl5.RegexpCommonTS.json (unchanged)
Skip blib/lib/auto/share/dist/Benchmark-Perl-Formance-Analyzer/chartqueries/classic2015-f/Rx.regexes.fieldsplit2-FASTMODE.json (unchanged)
Skip blib/lib/auto/share/dist/Benchmark-Perl-Formance-Analyzer/chartqueries/classic2015-f/MatrixReal.to_negative_one.030-FASTMODE.json (unchanged)
Skip blib/lib/auto/share/dist/Benchmark-Perl-Formance-Analyzer/chartqueries/pts2019-f/README-THIS-IS-AUTOGENERATED (unchanged)
Skip blib/lib/auto/share/dist/Benchmark-Perl-Formance-Analyzer/chartqueries/classic2015-f/FibMoose-FASTMODE.json (unchanged)
Skip blib/lib/auto/share/dist/Benchmark-Perl-Formance-Analyzer/chartqueries/pts2019-f/perlformance.perl5.Shootout.revcomp-FASTMODE.json (unchanged)
Skip blib/lib/auto/share/dist/Benchmark-Perl-Formance-Analyzer/chartqueries/perlformance/matrix.json (unchanged)
Skip blib/lib/auto/share/dist/Benchmark-Perl-Formance-Analyzer/chartqueries/perlstone2015-f/07lists.unshift-FASTMODE.json (unchanged)
Skip blib/lib/auto/share/dist/Benchmark-Perl-Formance-Analyzer/chartqueries/classic2015-f/AccessorsMouse.set-FASTMODE.json (unchanged)
Skip blib/lib/auto/share/dist/Benchmark-Perl-Formance-Analyzer/chartqueries/pts2019-f/binarytrees-FASTMODE.json (unchanged)
Skip blib/lib/auto/share/dist/Benchmark-Perl-Formance-Analyzer/chartqueries/pts2019-f/perlformance.perl5.DPath.dpath-FASTMODE.json (unchanged)
Skip blib/lib/auto/share/dist/Benchmark-Perl-Formance-Analyzer/templates/google-chart-area_multi.tt (unchanged)
Skip blib/lib/auto/share/dist/Benchmark-Perl-Formance-Analyzer/chartqueries/perlformance/accessors-battle-of-the-raptors.json (unchanged)
Skip blib/lib/auto/share/dist/Benchmark-Perl-Formance-Analyzer/chartqueries/classic2015/AccessorsClassAccessor.set.json (unchanged)
Skip blib/lib/auto/share/dist/Benchmark-Perl-Formance-Analyzer/chartqueries/pts2019-f/perlformance.perl5.ThreadsShared.threadstorm-FASTMODE.json (unchanged)
Skip blib/lib/auto/share/dist/Benchmark-Perl-Formance-Analyzer/chartqueries/perlstone2015-f/binarytrees-FASTMODE.json (unchanged)
Skip blib/lib/auto/share/dist/Benchmark-Perl-Formance-Analyzer/chartqueries/perlformance/accessors-array.json (unchanged)
Skip blib/lib/auto/share/dist/Benchmark-Perl-Formance-Analyzer/chartqueries/classic2015-f/README-THIS-IS-AUTOGENERATED (unchanged)
Skip blib/lib/auto/share/dist/Benchmark-Perl-Formance-Analyzer/chartqueries/perlstone2015/01overview.opmix2.json (unchanged)
Skip blib/lib/auto/share/dist/Benchmark-Perl-Formance-Analyzer/chartqueries/perlformance-f/accessors-moose.json (unchanged)
Skip blib/lib/auto/share/dist/Benchmark-Perl-Formance-Analyzer/chartqueries/perlstone2015-f/01overview.opmix1-FASTMODE.json (unchanged)
Skip blib/lib/auto/share/dist/Benchmark-Perl-Formance-Analyzer/chartqueries/perlstone2015/README-THIS-IS-AUTOGENERATED (unchanged)
Skip blib/lib/auto/share/dist/Benchmark-Perl-Formance-Analyzer/chartqueries/perlformance/mem-allocate.json (unchanged)
Skip blib/lib/auto/share/dist/Benchmark-Perl-Formance-Analyzer/chartqueries/pts2019-f/perlformance.perl5.Shootout.knucleotide-FASTMODE.json (unchanged)
Skip blib/lib/auto/share/dist/Benchmark-Perl-Formance-Analyzer/chartqueries/pts2019/perlformance.perl5.RxCmp.native.json (unchanged)
Skip blib/lib/auto/share/dist/Benchmark-Perl-Formance-Analyzer/chartqueries/perlstone2015-f/nbody-FASTMODE.json (unchanged)
Skip blib/lib/auto/share/dist/Benchmark-Perl-Formance-Analyzer/templates/google-chart-area.tt (unchanged)
Skip blib/lib/auto/share/dist/Benchmark-Perl-Formance-Analyzer/chartqueries/perlformance/matrix-det.json (unchanged)
Skip blib/lib/auto/share/dist/Benchmark-Perl-Formance-Analyzer/chartqueries/pts2019/perlformance.perl5.RxMicro.runtime-compile-nocache.json (unchanged)
Skip blib/lib/auto/share/dist/Benchmark-Perl-Formance-Analyzer/chartqueries/classic2015/MatrixReal.matrix_squared.030.json (unchanged)
Skip blib/lib/auto/share/dist/Benchmark-Perl-Formance-Analyzer/chartqueries/classic2015-f/AccessorsClassAccessorFast.get-FASTMODE.json (unchanged)
Skip blib/lib/auto/share/dist/Benchmark-Perl-Formance-Analyzer/chartqueries/pts2019-f/perlformance.perl5.FibOOSig-FASTMODE.json (unchanged)
Skip blib/lib/auto/share/dist/Benchmark-Perl-Formance-Analyzer/chartqueries/pts2019-f/perlformance.perl5.Rx.regexes.pathological-FASTMODE.json (unchanged)
Skip blib/lib/auto/share/dist/Benchmark-Perl-Formance-Analyzer/chartqueries/perlstone2015-f/README-THIS-IS-AUTOGENERATED (unchanged)
Skip blib/lib/auto/share/dist/Benchmark-Perl-Formance-Analyzer/chartqueries/classic2015/README-THIS-IS-AUTOGENERATED (unchanged)
Skip blib/lib/auto/share/dist/Benchmark-Perl-Formance-Analyzer/chartqueries/pts2019-f/perlformance.perl5.P6STD.viv-FASTMODE.json (unchanged)
Skip blib/lib/auto/share/dist/Benchmark-Perl-Formance-Analyzer/chartqueries/classic2015/Accessorsarray.set.json (unchanged)
Skip blib/lib/auto/share/dist/Benchmark-Perl-Formance-Analyzer/chartqueries/pts2019/spectralnorm.json (unchanged)
Skip blib/lib/auto/share/dist/Benchmark-Perl-Formance-Analyzer/chartqueries/pts2019/07lists.unshift.json (unchanged)
Skip blib/lib/auto/share/dist/Benchmark-Perl-Formance-Analyzer/chartqueries/pts2019/perlformance.perl5.P6STD.makeviv.json (unchanged)
Skip blib/lib/auto/share/dist/Benchmark-Perl-Formance-Analyzer/chartqueries/pts2019-f/perlformance.perl5.MatrixReal.to_negative_one.005-FASTMODE.json (unchanged)
Skip blib/lib/auto/share/dist/Benchmark-Perl-Formance-Analyzer/chartqueries/perlformance/matrix-det-lr.json (unchanged)
Skip blib/lib/auto/share/dist/Benchmark-Perl-Formance-Analyzer/chartqueries/pts2019-f/05regex.fixedstr-FASTMODE.json (unchanged)
Skip blib/lib/auto/share/dist/Benchmark-Perl-Formance-Analyzer/chartqueries/perlformance/shootout-fasta.json (unchanged)
Skip blib/lib/auto/share/dist/Benchmark-Perl-Formance-Analyzer/chartqueries/pts2019/perlformance.perl5.MatrixReal.inverse.005.json (unchanged)
Skip blib/lib/auto/share/dist/Benchmark-Perl-Formance-Analyzer/chartqueries/classic2015/METRICLIST (unchanged)
Skip blib/lib/auto/share/dist/Benchmark-Perl-Formance-Analyzer/chartqueries/perlstone2015/04control.blocks1.json (unchanged)
Skip blib/lib/auto/share/dist/Benchmark-Perl-Formance-Analyzer/chartqueries/pts2019/09data.a_copy.json (unchanged)
Skip blib/lib/auto/share/dist/Benchmark-Perl-Formance-Analyzer/chartqueries/pts2019/perlformance.perl5.Shootout.regexdna.json (unchanged)
Skip blib/lib/auto/share/dist/Benchmark-Perl-Formance-Analyzer/chartqueries/pts2019-f/perlformance.perl5.Prime.math_primality-FASTMODE.json (unchanged)
Skip blib/lib/auto/share/dist/Benchmark-Perl-Formance-Analyzer/chartqueries/pts2019-f/regexdna-FASTMODE.json (unchanged)
Skip blib/lib/auto/share/dist/Benchmark-Perl-Formance-Analyzer/chartqueries/perlformance/accessors-hash.json (unchanged)
Skip blib/lib/auto/share/dist/Benchmark-Perl-Formance-Analyzer/chartqueries/classic2015-f/AccessorsClassMethodMaker.get-FASTMODE.json (unchanged)
Skip blib/lib/auto/share/dist/Benchmark-Perl-Formance-Analyzer/chartqueries/classic2015/SpamAssassin.salearn.ham2.json (unchanged)
Skip blib/lib/auto/share/dist/Benchmark-Perl-Formance-Analyzer/chartqueries/perlformance/matrix-times-itself.json (unchanged)
Skip blib/lib/auto/share/dist/Benchmark-Perl-Formance-Analyzer/chartqueries/classic2015-f/Shootout.fasta-FASTMODE.json (unchanged)
Skip blib/lib/auto/share/dist/Benchmark-Perl-Formance-Analyzer/chartqueries/pts2019/perlformance.perl5.MatrixReal.invert_LR.005.json (unchanged)
Skip blib/lib/auto/share/dist/Benchmark-Perl-Formance-Analyzer/chartqueries/common/README-THIS-IS-AUTOGENERATED (unchanged)
Skip blib/lib/auto/share/dist/Benchmark-Perl-Formance-Analyzer/chartqueries/classic2015-f/AccessorsClassXSAccessorArray.set-FASTMODE.json (unchanged)
Skip blib/lib/auto/share/dist/Benchmark-Perl-Formance-Analyzer/chartqueries/pts2019/perlformance.perl5.RxCmp.Lua.json (unchanged)
Skip blib/lib/auto/share/dist/Benchmark-Perl-Formance-Analyzer/chartqueries/perlformance/matrix-invert_LR.json (unchanged)
Skip blib/lib/auto/share/dist/Benchmark-Perl-Formance-Analyzer/chartqueries/classic2015-f/AccessorsObjectTinyRW.set-FASTMODE.json (unchanged)
Skip blib/lib/auto/share/dist/Benchmark-Perl-Formance-Analyzer/chartqueries/perlformance/spamassassin-salearn-spam2.json (unchanged)
Skip blib/lib/auto/share/dist/Benchmark-Perl-Formance-Analyzer/chartqueries/pts2019/perlformance.perl5.FibMoose.json (unchanged)
Skip blib/lib/auto/share/dist/Benchmark-Perl-Formance-Analyzer/chartqueries/pts2019/perlformance.perl5.Shootout.nbody.json (unchanged)
Skip blib/lib/auto/share/dist/Benchmark-Perl-Formance-Analyzer/chartqueries/classic2015-f/ThreadsShared.threadstorm-FASTMODE.json (unchanged)
Skip blib/lib/auto/share/dist/Benchmark-Perl-Formance-Analyzer/chartqueries/pts2019/nbody.json (unchanged)
Skip blib/lib/auto/share/dist/Benchmark-Perl-Formance-Analyzer/chartqueries/perlformance/fibonacci-function.json (unchanged)
Skip blib/lib/auto/share/dist/Benchmark-Perl-Formance-Analyzer/chartqueries/pts2019/perlformance.perl5.MatrixReal.to_negative_one.005.json (unchanged)
Skip blib/lib/auto/share/dist/Benchmark-Perl-Formance-Analyzer/chartqueries/classic2015-f/TEMPLATE (unchanged)
Skip blib/lib/auto/share/dist/Benchmark-Perl-Formance-Analyzer/chartqueries/pts2019-f/perlformance.perl5.RxCmp.POSIX-FASTMODE.json (unchanged)
Skip blib/lib/auto/share/dist/Benchmark-Perl-Formance-Analyzer/chartqueries/perlformance/accessors-class-methodmaker.json (unchanged)
Skip blib/lib/auto/share/dist/Benchmark-Perl-Formance-Analyzer/chartqueries/classic2015-f/Shootout.pidigits-FASTMODE.json (unchanged)
Skip blib/lib/auto/share/dist/Benchmark-Perl-Formance-Analyzer/chartqueries/pts2019-f/perlformance.perl5.FibMoose-FASTMODE.json (unchanged)
Skip blib/lib/auto/share/dist/Benchmark-Perl-Formance-Analyzer/chartqueries/perlstone2015/09data.a_copy.json (unchanged)
Skip blib/lib/auto/share/dist/Benchmark-Perl-Formance-Analyzer/chartqueries/perlformance-f/spamassassin-salearn-spam2.json (unchanged)
Skip blib/lib/auto/share/dist/Benchmark-Perl-Formance-Analyzer/chartqueries/pts2019/09data.a_alloc.json (unchanged)
Skip blib/lib/auto/share/dist/Benchmark-Perl-Formance-Analyzer/chartqueries/perlformance/accessors-moose.json (unchanged)
Skip blib/lib/auto/share/dist/Benchmark-Perl-Formance-Analyzer/chartqueries/pts2019-f/perlformance.perl5.PerlCritic.upstream-FASTMODE.json (unchanged)
Skip blib/lib/auto/share/dist/Benchmark-Perl-Formance-Analyzer/chartqueries/classic2015-f/SpamAssassin.salearn.spam2-FASTMODE.json (unchanged)
Skip blib/lib/auto/share/dist/Benchmark-Perl-Formance-Analyzer/chartqueries/perlformance/accessors-object-tiny-rw.json (unchanged)
Skip blib/lib/auto/share/dist/Benchmark-Perl-Formance-Analyzer/chartqueries/pts2019/perlformance.perl5.Rx.regexes.fieldsplit1.json (unchanged)
Skip blib/lib/auto/share/dist/Benchmark-Perl-Formance-Analyzer/chartqueries/pts2019/create-query-files (unchanged)
Skip blib/lib/auto/share/dist/Benchmark-Perl-Formance-Analyzer/chartqueries/perlstone2015/regex.runtime_comp_nocache.json (unchanged)
Skip blib/lib/auto/share/dist/Benchmark-Perl-Formance-Analyzer/chartqueries/pts2019-f/TEMPLATE (unchanged)
Skip blib/lib/auto/share/dist/Benchmark-Perl-Formance-Analyzer/chartqueries/pts2019-f/perlformance.perl5.RxCmp.native-FASTMODE.json (unchanged)
Skip blib/lib/auto/share/dist/Benchmark-Perl-Formance-Analyzer/chartqueries/classic2015/SpamAssassin.salearn.ham.json (unchanged)
Skip blib/lib/auto/share/dist/Benchmark-Perl-Formance-Analyzer/chartqueries/pts2019-f/METRICLIST (unchanged)
Skip blib/lib/auto/share/dist/Benchmark-Perl-Formance-Analyzer/chartqueries/pts2019/perlformance.perl5.FibOO.json (unchanged)
Skip blib/lib/auto/share/dist/Benchmark-Perl-Formance-Analyzer/chartqueries/perlstone2015/07lists.unshift.json (unchanged)
Skip blib/lib/auto/share/dist/Benchmark-Perl-Formance-Analyzer/chartqueries/perlformance/p6std-makeviv.json (unchanged)
Skip blib/lib/auto/share/dist/Benchmark-Perl-Formance-Analyzer/chartqueries/classic2015/Shootout.fannkuch.json (unchanged)
Skip blib/lib/auto/share/dist/Benchmark-Perl-Formance-Analyzer/chartqueries/perlformance-f/matrix.json (unchanged)
Skip blib/lib/auto/share/dist/Benchmark-Perl-Formance-Analyzer/chartqueries/perlformance/matrix-to-negative-one.json (unchanged)
Skip blib/lib/auto/share/dist/Benchmark-Perl-Formance-Analyzer/chartqueries/perlformance-f/shootout-pidigits.json (unchanged)
Skip blib/lib/auto/share/dist/Benchmark-Perl-Formance-Analyzer/chartqueries/perlformance/accessors-mouse.json (unchanged)
Skip blib/lib/auto/share/dist/Benchmark-Perl-Formance-Analyzer/chartqueries/perlstone2015-f/regex.code_runtime-FASTMODE.json (unchanged)
Skip blib/lib/auto/share/dist/Benchmark-Perl-Formance-Analyzer/chartqueries/perlformance-f/accessors-array.json (unchanged)
Skip blib/lib/auto/share/dist/Benchmark-Perl-Formance-Analyzer/chartqueries/classic2015/AccessorsObjectTinyRW.get.json (unchanged)
Skip blib/lib/auto/share/dist/Benchmark-Perl-Formance-Analyzer/chartqueries/pts2019-f/perlformance.perl5.RxMicro.runtime-compile-nocache-FASTMODE.json (unchanged)
Skip blib/lib/auto/share/dist/Benchmark-Perl-Formance-Analyzer/chartqueries/classic2015-f/AccessorsClassAccessor.set-FASTMODE.json (unchanged)
Skip blib/lib/auto/share/dist/Benchmark-Perl-Formance-Analyzer/chartqueries/perlformance/regex-split1.json (unchanged)
Skip blib/lib/auto/share/dist/Benchmark-Perl-Formance-Analyzer/chartqueries/pts2019-f/regex.split1-FASTMODE.json (unchanged)
Skip blib/lib/auto/share/dist/Benchmark-Perl-Formance-Analyzer/chartqueries/perlstone2015-f/regexdna-FASTMODE.json (unchanged)
Skip blib/lib/auto/share/dist/Benchmark-Perl-Formance-Analyzer/chartqueries/pts2019-f/perlformance.perl5.MatrixReal.matrix_times_itself.005-FASTMODE.json (unchanged)
Skip blib/lib/auto/share/dist/Benchmark-Perl-Formance-Analyzer/chartqueries/perlstone2015/fannkuch.json (unchanged)
Skip blib/lib/auto/share/dist/Benchmark-Perl-Formance-Analyzer/chartqueries/classic2015-f/Mem.copy-FASTMODE.json (unchanged)
Skip blib/lib/auto/share/dist/Benchmark-Perl-Formance-Analyzer/chartqueries/perlformance/threads.json (unchanged)
Skip blib/lib/auto/share/dist/Benchmark-Perl-Formance-Analyzer/chartqueries/pts2019-f/perlformance.perl5.Rx.regexes.fieldsplit2-FASTMODE.json (unchanged)
Skip blib/lib/auto/share/dist/Benchmark-Perl-Formance-Analyzer/chartqueries/perlformance-f/accessors-class-xsaccessor-array.json (unchanged)
Skip blib/lib/auto/share/dist/Benchmark-Perl-Formance-Analyzer/chartqueries/perlstone2015-f/regex.split2-FASTMODE.json (unchanged)
Skip blib/lib/auto/share/dist/Benchmark-Perl-Formance-Analyzer/chartqueries/classic2015-f/AccessorsHash.set-FASTMODE.json (unchanged)
Skip blib/lib/auto/share/dist/Benchmark-Perl-Formance-Analyzer/chartqueries/pts2019-f/perlformance.perl5.Shootout.fannkuch-FASTMODE.json (unchanged)
Skip blib/lib/auto/share/dist/Benchmark-Perl-Formance-Analyzer/chartqueries/pts2019/perlformance.perl5.Mem.allocate.json (unchanged)
Skip blib/lib/auto/share/dist/Benchmark-Perl-Formance-Analyzer/chartqueries/classic2015-f/RxMicro.code-runtime-FASTMODE.json (unchanged)
Skip blib/lib/auto/share/dist/Benchmark-Perl-Formance-Analyzer/chartqueries/pts2019/07lists.push.json (unchanged)
Skip blib/lib/auto/share/dist/Benchmark-Perl-Formance-Analyzer/chartqueries/classic2015/FibOO.json (unchanged)
Skip blib/lib/auto/share/dist/Benchmark-Perl-Formance-Analyzer/chartqueries/pts2019-f/regex.split2-FASTMODE.json (unchanged)
Skip blib/lib/auto/share/dist/Benchmark-Perl-Formance-Analyzer/chartqueries/perlformance/rxmicro-precompile-access.json (unchanged)
Skip blib/lib/auto/share/dist/Benchmark-Perl-Formance-Analyzer/chartqueries/perlstone2015/create-query-files (unchanged)
Skip blib/lib/auto/share/dist/Benchmark-Perl-Formance-Analyzer/chartqueries/pts2019-f/regex.runtime_comp-FASTMODE.json (unchanged)
Skip blib/lib/auto/share/dist/Benchmark-Perl-Formance-Analyzer/chartqueries/classic2015/RxMicro.runtime-compile.json (unchanged)
Skip blib/lib/auto/share/dist/Benchmark-Perl-Formance-Analyzer/chartqueries/perlstone2015/regex.runtime_comp.json (unchanged)
Skip blib/lib/auto/share/dist/Benchmark-Perl-Formance-Analyzer/chartqueries/classic2015-f/RxMicro.code-literal-FASTMODE.json (unchanged)
Skip blib/lib/auto/share/dist/Benchmark-Perl-Formance-Analyzer/chartqueries/classic2015-f/Rx.regexes.pathological-FASTMODE.json (unchanged)
Skip blib/lib/auto/share/dist/Benchmark-Perl-Formance-Analyzer/chartqueries/classic2015-f/AccessorsObjectTinyRW.get-FASTMODE.json (unchanged)
Skip blib/lib/auto/share/dist/Benchmark-Perl-Formance-Analyzer/chartqueries/pts2019-f/perlformance.perl5.Shootout.binarytrees-FASTMODE.json (unchanged)
Skip blib/lib/auto/share/dist/Benchmark-Perl-Formance-Analyzer/chartqueries/classic2015/AccessorsClassMethodMaker.set.json (unchanged)
Skip blib/lib/auto/share/dist/Benchmark-Perl-Formance-Analyzer/chartqueries/perlformance-f/regex-pathological.json (unchanged)
Skip blib/lib/auto/share/dist/Benchmark-Perl-Formance-Analyzer/chartqueries/pts2019/perlformance.perl5.Shootout.fasta.json (unchanged)
Skip blib/lib/auto/share/dist/Benchmark-Perl-Formance-Analyzer/chartqueries/perlstone2015-f/regex.precomp_access-FASTMODE.json (unchanged)
Skip blib/lib/auto/share/dist/Benchmark-Perl-Formance-Analyzer/chartqueries/classic2015/AccessorsMoo.get.json (unchanged)
Skip blib/lib/auto/share/dist/Benchmark-Perl-Formance-Analyzer/chartqueries/classic2015-f/create-query-files (unchanged)
Skip blib/lib/auto/share/dist/Benchmark-Perl-Formance-Analyzer/chartqueries/pts2019/perlformance.perl5.Rx.regexes.pathological.json (unchanged)
Skip blib/lib/auto/share/dist/Benchmark-Perl-Formance-Analyzer/chartqueries/classic2015-f/SpamAssassin.salearn.ham2-FASTMODE.json (unchanged)
Skip blib/lib/auto/share/dist/Benchmark-Perl-Formance-Analyzer/chartqueries/pts2019/perlformance.perl5.PerlCritic.bundled.json (unchanged)
Skip blib/lib/auto/share/dist/Benchmark-Perl-Formance-Analyzer/chartqueries/classic2015-f/AccessorsClassAccessor.get-FASTMODE.json (unchanged)
Skip blib/lib/auto/share/dist/Benchmark-Perl-Formance-Analyzer/chartqueries/perlstone2015-f/07lists.push-FASTMODE.json (unchanged)
Skip blib/lib/auto/share/dist/Benchmark-Perl-Formance-Analyzer/chartqueries/perlformance-f/matrix-times-itself.json (unchanged)
Skip blib/lib/auto/share/dist/Benchmark-Perl-Formance-Analyzer/chartqueries/perlformance/accessors.json (unchanged)
Skip blib/lib/auto/share/dist/Benchmark-Perl-Formance-Analyzer/chartqueries/pts2019-f/07lists.unshift-FASTMODE.json (unchanged)
Skip blib/lib/auto/share/dist/Benchmark-Perl-Formance-Analyzer/chartqueries/perlformance-f/regex.json (unchanged)
Skip blib/lib/auto/share/dist/Benchmark-Perl-Formance-Analyzer/chartqueries/classic2015/Rx.regexes.pathological.json (unchanged)
Skip blib/lib/auto/share/dist/Benchmark-Perl-Formance-Analyzer/chartqueries/perlstone2015-f/09data.a_alloc-FASTMODE.json (unchanged)
Skip blib/lib/auto/share/dist/Benchmark-Perl-Formance-Analyzer/chartqueries/pts2019/README-THIS-IS-AUTOGENERATED (unchanged)
Skip blib/lib/auto/share/dist/Benchmark-Perl-Formance-Analyzer/chartqueries/perlformance/spamassassin-salearn-ham.json (unchanged)
Skip blib/lib/auto/share/dist/Benchmark-Perl-Formance-Analyzer/chartqueries/pts2019/regexdna.json (unchanged)
Skip blib/lib/auto/share/dist/Benchmark-Perl-Formance-Analyzer/chartqueries/pts2019-f/perlformance.perl5.MatrixReal.inverse.005-FASTMODE.json (unchanged)
Skip blib/lib/auto/share/dist/Benchmark-Perl-Formance-Analyzer/chartqueries/pts2019/01overview.opmix1.json (unchanged)
Skip blib/lib/auto/share/dist/Benchmark-Perl-Formance-Analyzer/chartqueries/perlstone2015/METRICLIST (unchanged)
Skip blib/lib/auto/share/dist/Benchmark-Perl-Formance-Analyzer/chartqueries/perlstone2015/regex.split1.json (unchanged)
Skip blib/lib/auto/share/dist/Benchmark-Perl-Formance-Analyzer/chartqueries/perlformance/rxmicro-code-runtime.json (unchanged)
Skip blib/lib/auto/share/dist/Benchmark-Perl-Formance-Analyzer/chartqueries/perlformance-f/accessors-class-xsaccessor.json (unchanged)
Skip blib/lib/auto/share/dist/Benchmark-Perl-Formance-Analyzer/chartqueries/pts2019-f/perlformance.perl5.PerlCritic.bundled-FASTMODE.json (unchanged)
Skip blib/lib/auto/share/dist/Benchmark-Perl-Formance-Analyzer/chartqueries/perlformance/shootout-pidigits.json (unchanged)
Skip blib/lib/auto/share/dist/Benchmark-Perl-Formance-Analyzer/chartqueries/classic2015/Fib.json (unchanged)
Skip blib/lib/auto/share/dist/Benchmark-Perl-Formance-Analyzer/chartqueries/perlformance/shootout-regexdna.json (unchanged)
Skip blib/lib/auto/share/dist/Benchmark-Perl-Formance-Analyzer/chartqueries/perlformance-f/matrix-to-negative-one.json (unchanged)
Skip blib/lib/auto/share/dist/Benchmark-Perl-Formance-Analyzer/chartqueries/perlformance-f/accessors-moo.json (unchanged)
Skip blib/lib/auto/share/dist/Benchmark-Perl-Formance-Analyzer/chartqueries/perlformance-f/shootout-spectralnorm.json (unchanged)
Skip blib/lib/auto/share/dist/Benchmark-Perl-Formance-Analyzer/chartqueries/perlformance-f/shootout-mandelbrot.json (unchanged)
Skip blib/lib/auto/share/dist/Benchmark-Perl-Formance-Analyzer/chartqueries/perlformance/matrix-squared.json (unchanged)
Skip blib/lib/auto/share/dist/Benchmark-Perl-Formance-Analyzer/chartqueries/perlstone2015-f/regex.runtime_comp_nocache-FASTMODE.json (unchanged)
Skip blib/lib/auto/share/dist/Benchmark-Perl-Formance-Analyzer/chartqueries/pts2019-f/fib-FASTMODE.json (unchanged)
Skip blib/lib/auto/share/dist/Benchmark-Perl-Formance-Analyzer/chartqueries/perlformance-f/matrix-squared.json (unchanged)
Skip blib/lib/auto/share/dist/Benchmark-Perl-Formance-Analyzer/chartqueries/perlformance/regex.json (unchanged)
Skip blib/lib/auto/share/dist/Benchmark-Perl-Formance-Analyzer/chartqueries/perlformance/fibonacci-oo.json (unchanged)
Skip blib/lib/auto/share/dist/Benchmark-Perl-Formance-Analyzer/chartqueries/perlformance/spamassassin.json (unchanged)
Skip blib/lib/auto/share/dist/Benchmark-Perl-Formance-Analyzer/chartqueries/pts2019-f/01overview.opmix2-FASTMODE.json (unchanged)
Skip blib/lib/auto/share/dist/Benchmark-Perl-Formance-Analyzer/chartqueries/perlformance-f/matrix-inverse.json (unchanged)
Skip blib/lib/auto/share/dist/Benchmark-Perl-Formance-Analyzer/chartqueries/perlstone2015-f/04control.blocks2-FASTMODE.json (unchanged)
Skip blib/lib/auto/share/dist/Benchmark-Perl-Formance-Analyzer/chartqueries/classic2015/AccessorsClassXSAccessorArray.set.json (unchanged)
Skip blib/lib/auto/share/dist/Benchmark-Perl-Formance-Analyzer/chartqueries/classic2015/FibOOSig.json (unchanged)
Skip blib/lib/auto/share/dist/Benchmark-Perl-Formance-Analyzer/chartqueries/classic2015-f/AccessorsClassXSAccessor.get-FASTMODE.json (unchanged)
Skip blib/lib/auto/share/dist/Benchmark-Perl-Formance-Analyzer/chartqueries/perlformance-f/rxmicro-code-literal.json (unchanged)
Skip blib/lib/auto/share/dist/Benchmark-Perl-Formance-Analyzer/chartqueries/classic2015-f/MatrixReal.inverse.030-FASTMODE.json (unchanged)
Skip blib/lib/auto/share/dist/Benchmark-Perl-Formance-Analyzer/chartqueries/perlstone2015/04control.blocks2.json (unchanged)
Skip blib/lib/auto/share/dist/Benchmark-Perl-Formance-Analyzer/chartqueries/pts2019-f/perlformance.perl5.FibOO-FASTMODE.json (unchanged)
Skip blib/lib/auto/share/dist/Benchmark-Perl-Formance-Analyzer/chartqueries/classic2015-f/SpamAssassin.salearn.spam-FASTMODE.json (unchanged)
Skip blib/lib/auto/share/dist/Benchmark-Perl-Formance-Analyzer/chartqueries/perlformance-f/rxmicro.json (unchanged)
Skip blib/lib/auto/share/dist/Benchmark-Perl-Formance-Analyzer/chartqueries/perlstone2015/07lists.push.json (unchanged)
Skip blib/lib/auto/share/dist/Benchmark-Perl-Formance-Analyzer/chartqueries/pts2019-f/perlformance.perl5.MatrixReal.det.005-FASTMODE.json (unchanged)
Skip blib/lib/auto/share/dist/Benchmark-Perl-Formance-Analyzer/chartqueries/perlstone2015/regex.code_runtime.json (unchanged)
Skip blib/lib/auto/share/dist/Benchmark-Perl-Formance-Analyzer/chartqueries/pts2019/perlformance.perl5.Mem.copy.json (unchanged)
Skip blib/lib/auto/share/dist/Benchmark-Perl-Formance-Analyzer/chartqueries/classic2015/AccessorsClassXSAccessorArray.get.json (unchanged)
Skip blib/lib/auto/share/dist/Benchmark-Perl-Formance-Analyzer/chartqueries/pts2019-f/perlformance.perl5.MatrixReal.det_LR.005-FASTMODE.json (unchanged)
Skip blib/lib/auto/share/dist/Benchmark-Perl-Formance-Analyzer/chartqueries/classic2015/Shootout.binarytrees.json (unchanged)
Skip blib/lib/auto/share/dist/Benchmark-Perl-Formance-Analyzer/chartqueries/perlformance/mem.json (unchanged)
Skip blib/lib/auto/share/dist/Benchmark-Perl-Formance-Analyzer/chartqueries/perlformance-f/rxmicro-precompile-access.json (unchanged)
Skip blib/lib/auto/share/dist/Benchmark-Perl-Formance-Analyzer/chartqueries/perlformance-f/shootout-knucleotide.json (unchanged)
Skip blib/lib/auto/share/dist/Benchmark-Perl-Formance-Analyzer/chartqueries/perlformance/regex-pathological.json (unchanged)
Skip blib/lib/auto/share/dist/Benchmark-Perl-Formance-Analyzer/chartqueries/perlformance/rxmicro-runtime-compile-nocache.json (unchanged)
Skip blib/lib/auto/share/dist/Benchmark-Perl-Formance-Analyzer/chartqueries/classic2015/MatrixReal.to_negative_one.030.json (unchanged)
Skip blib/lib/auto/share/dist/Benchmark-Perl-Formance-Analyzer/chartqueries/pts2019/04control.blocks2.json (unchanged)
Skip blib/lib/auto/share/dist/Benchmark-Perl-Formance-Analyzer/chartqueries/classic2015-f/METRICLIST (unchanged)
Skip blib/lib/auto/share/dist/Benchmark-Perl-Formance-Analyzer/chartqueries/perlformance/rxmicro-runtime-compile.json (unchanged)
Skip blib/lib/auto/share/dist/Benchmark-Perl-Formance-Analyzer/chartqueries/classic2015/RxMicro.runtime-compile-nocache.json (unchanged)
Skip blib/lib/auto/share/dist/Benchmark-Perl-Formance-Analyzer/chartqueries/classic2015/AccessorsObjectTinyRW.set.json (unchanged)
Skip blib/lib/auto/share/dist/Benchmark-Perl-Formance-Analyzer/chartqueries/classic2015-f/MatrixReal.invert_LR.030-FASTMODE.json (unchanged)
Skip blib/lib/auto/share/dist/Benchmark-Perl-Formance-Analyzer/chartqueries/classic2015-f/MatrixReal.matrix_squared.030-FASTMODE.json (unchanged)
Skip blib/lib/auto/share/dist/Benchmark-Perl-Formance-Analyzer/chartqueries/perlformance-f/spamassassin.json (unchanged)
Skip blib/lib/auto/share/dist/Benchmark-Perl-Formance-Analyzer/chartqueries/pts2019-f/perlformance.perl5.Shootout.mandelbrot-FASTMODE.json (unchanged)
Skip blib/lib/auto/share/dist/Benchmark-Perl-Formance-Analyzer/chartqueries/pts2019-f/regex.runtime_comp_nocache-FASTMODE.json (unchanged)
Skip blib/lib/auto/share/dist/Benchmark-Perl-Formance-Analyzer/chartqueries/classic2015-f/AccessorsHash.get-FASTMODE.json (unchanged)
Skip blib/lib/auto/share/dist/Benchmark-Perl-Formance-Analyzer/chartqueries/perlformance-f/accessors-object-tiny-rw.json (unchanged)
Skip blib/lib/auto/share/dist/Benchmark-Perl-Formance-Analyzer/chartqueries/pts2019/mandelbrot.json (unchanged)
Skip blib/lib/auto/share/dist/Benchmark-Perl-Formance-Analyzer/chartqueries/perlstone2015-f/mandelbrot-FASTMODE.json (unchanged)
Skip blib/lib/auto/share/dist/Benchmark-Perl-Formance-Analyzer/chartqueries/classic2015-f/Mem.allocate-FASTMODE.json (unchanged)
Skip blib/lib/auto/share/dist/Benchmark-Perl-Formance-Analyzer/chartqueries/classic2015-f/Shootout.binarytrees-FASTMODE.json (unchanged)
Skip blib/lib/auto/share/dist/Benchmark-Perl-Formance-Analyzer/chartqueries/perlstone2015/01overview.opmix1.json (unchanged)
Skip blib/lib/auto/share/dist/Benchmark-Perl-Formance-Analyzer/chartqueries/perlformance/fibonacci-oosig.json (unchanged)
Skip blib/lib/auto/share/dist/Benchmark-Perl-Formance-Analyzer/chartqueries/perlformance/accessors-class-accessor-fast.json (unchanged)
Skip blib/lib/auto/share/dist/Benchmark-Perl-Formance-Analyzer/chartqueries/classic2015/P6STD.viv.json (unchanged)
Skip blib/lib/auto/share/dist/Benchmark-Perl-Formance-Analyzer/chartqueries/perlformance/matrix-inverse.json (unchanged)
Skip blib/lib/auto/share/dist/Benchmark-Perl-Formance-Analyzer/chartqueries/perlstone2015/regex.backtrack.json (unchanged)
Skip blib/lib/auto/share/dist/Benchmark-Perl-Formance-Analyzer/chartqueries/classic2015-f/MatrixReal.det.030-FASTMODE.json (unchanged)
Skip blib/lib/auto/share/dist/Benchmark-Perl-Formance-Analyzer/chartqueries/classic2015-f/Shootout.fannkuch-FASTMODE.json (unchanged)
Skip blib/lib/auto/share/dist/Benchmark-Perl-Formance-Analyzer/chartqueries/pts2019-f/mandelbrot-FASTMODE.json (unchanged)
Skip blib/lib/auto/share/dist/Benchmark-Perl-Formance-Analyzer/chartqueries/pts2019/regex.split2.json (unchanged)
Skip blib/lib/auto/share/dist/Benchmark-Perl-Formance-Analyzer/chartqueries/perlstone2015-f/spectralnorm-FASTMODE.json (unchanged)
Skip blib/lib/auto/share/dist/Benchmark-Perl-Formance-Analyzer/chartqueries/pts2019-f/perlformance.perl5.RxMicro.code-literal-FASTMODE.json (unchanged)
Skip blib/lib/auto/share/dist/Benchmark-Perl-Formance-Analyzer/chartqueries/perlstone2015/regex.precomp_access.json (unchanged)
Skip blib/lib/auto/share/dist/Benchmark-Perl-Formance-Analyzer/chartqueries/classic2015-f/RxMicro.runtime-compile-nocache-FASTMODE.json (unchanged)
Skip blib/lib/auto/share/dist/Benchmark-Perl-Formance-Analyzer/chartqueries/classic2015-f/Accessorsarray.get-FASTMODE.json (unchanged)
Skip blib/lib/auto/share/dist/Benchmark-Perl-Formance-Analyzer/chartqueries/perlformance/p6std.json (unchanged)
Skip blib/lib/auto/share/dist/Benchmark-Perl-Formance-Analyzer/templates/google-chart-line.tt (unchanged)
Skip blib/lib/auto/share/dist/Benchmark-Perl-Formance-Analyzer/chartqueries/perlstone2015/binarytrees.json (unchanged)
Skip blib/lib/auto/share/dist/Benchmark-Perl-Formance-Analyzer/chartqueries/classic2015/AccessorsMouse.set.json (unchanged)
Skip blib/lib/auto/share/dist/Benchmark-Perl-Formance-Analyzer/chartqueries/pts2019-f/perlformance.perl5.Shootout.regexdna-FASTMODE.json (unchanged)
Skip blib/lib/auto/share/dist/Benchmark-Perl-Formance-Analyzer/chartqueries/pts2019-f/perlformance.perl5.MatrixReal.invert_LR.005-FASTMODE.json (unchanged)
Skip blib/lib/auto/share/dist/Benchmark-Perl-Formance-Analyzer/chartqueries/classic2015-f/AccessorsMoo.get-FASTMODE.json (unchanged)
Skip blib/lib/auto/share/dist/Benchmark-Perl-Formance-Analyzer/chartqueries/pts2019-f/regex.precomp_access-FASTMODE.json (unchanged)
Skip blib/lib/auto/share/dist/Benchmark-Perl-Formance-Analyzer/chartqueries/pts2019/regex.split1.json (unchanged)
Skip blib/lib/auto/share/dist/Benchmark-Perl-Formance-Analyzer/chartqueries/perlstone2015-f/fasta-FASTMODE.json (unchanged)
Skip blib/lib/auto/share/dist/Benchmark-Perl-Formance-Analyzer/chartqueries/classic2015-f/Shootout.regexdna-FASTMODE.json (unchanged)
Skip blib/lib/auto/share/dist/Benchmark-Perl-Formance-Analyzer/chartqueries/pts2019/fib.json (unchanged)
Skip blib/lib/auto/share/dist/Benchmark-Perl-Formance-Analyzer/chartqueries/perlformance/spamassassin-salearn-ham2.json (unchanged)
Skip blib/lib/auto/share/dist/Benchmark-Perl-Formance-Analyzer/chartqueries/perlformance-f/rxmicro-runtime-compile-nocache.json (unchanged)
Skip blib/lib/auto/share/dist/Benchmark-Perl-Formance-Analyzer/chartqueries/perlstone2015/spectralnorm.json (unchanged)
Skip blib/lib/auto/share/dist/Benchmark-Perl-Formance-Analyzer/chartqueries/perlformance/shootout-knucleotide.json (unchanged)
Skip blib/lib/auto/share/dist/Benchmark-Perl-Formance-Analyzer/chartqueries/perlstone2015/TEMPLATE (unchanged)
Skip blib/lib/auto/share/dist/Benchmark-Perl-Formance-Analyzer/chartqueries/classic2015/Shootout.nbody.json (unchanged)
Skip blib/lib/auto/share/dist/Benchmark-Perl-Formance-Analyzer/chartqueries/classic2015/AccessorsClassXSAccessor.get.json (unchanged)
Skip blib/lib/auto/share/dist/Benchmark-Perl-Formance-Analyzer/chartqueries/perlformance-f/spamassassin-salearn-spam.json (unchanged)
Skip blib/lib/auto/share/dist/Benchmark-Perl-Formance-Analyzer/chartqueries/perlformance-f/accessors-class-accessor.json (unchanged)
Skip blib/lib/auto/share/dist/Benchmark-Perl-Formance-Analyzer/chartqueries/common/TEMPLATE (unchanged)
Skip blib/lib/auto/share/dist/Benchmark-Perl-Formance-Analyzer/chartqueries/pts2019-f/perlformance.perl5.Mem.allocate-FASTMODE.json (unchanged)
Skip blib/lib/auto/share/dist/Benchmark-Perl-Formance-Analyzer/chartqueries/pts2019/regex.runtime_comp_nocache.json (unchanged)
Skip blib/lib/auto/share/dist/Benchmark-Perl-Formance-Analyzer/chartqueries/classic2015-f/Fib-FASTMODE.json (unchanged)
Skip blib/lib/auto/share/dist/Benchmark-Perl-Formance-Analyzer/chartqueries/classic2015/SpamAssassin.salearn.spam.json (unchanged)
Skip blib/lib/auto/share/dist/Benchmark-Perl-Formance-Analyzer/chartqueries/pts2019-f/perlformance.perl5.RegexpCommonTS-FASTMODE.json (unchanged)
Skip blib/lib/auto/share/dist/Benchmark-Perl-Formance-Analyzer/chartqueries/perlformance-f/rxmicro-runtime-compile.json (unchanged)
PERL_DL_NONLAZY=1 "/usr/perl5.28.0p/bin/perl5.28.0" "-MExtUtils::Command::MM" "-MTest::Harness" "-e" "undef *Test::Harness::Switches; test_harness(0, 'blib/lib', 'blib/arch')" t/*.t
t/00-compile.t ............ ok
t/author-eol.t ............ skipped: these tests are for testing by the author
t/author-no-tabs.t ........ skipped: these tests are for testing by the author
t/author-pod-syntax.t ..... skipped: these tests are for testing by the author
t/release-pod-coverage.t .. skipped: these tests are for release candidate testing
All tests successful.
Files=5, Tests=3,  8 wallclock secs ( 0.04 usr  0.04 sys +  2.66 cusr  2.75 csys =  5.49 CPU)
Result: PASS

------------------------------
PREREQUISITES
------------------------------

Prerequisite modules loaded:

requires:

    Module                                    Need  Have    
    ----------------------------------------- ----- --------
    BenchmarkAnything::Evaluations            0     0.003   
    BenchmarkAnything::Storage::Frontend::Lib 0     0.022   
    Data::DPath                               0     0.57    
    Data::Dumper                              0     2.170   
    Data::Structure::Util                     0     0.16    
    File::Basename                            0     2.85    
    File::Find::Rule                          0     0.34    
    File::HomeDir                             0     1.004   
    File::ShareDir                            0     1.116   
    File::Slurper                             0     0.012   
    JSON                                      0     2.97001 
    Moose                                     0     2.2011  
    MooseX::Getopt::Usage                     0     0.24    
    MooseX::Getopt::Usage::Role::Man          0     0.24    
    namespace::clean                          0     0.27    
    perl                                      5.010 5.028000
    strict                                    0     1.11    
    Template                                  0     2.28    
    TryCatch                                  0     1.003002
    version                                   0.77  0.9923  
    warnings                                  0     1.42    

build_requires:

    Module                                    Need  Have    
    ----------------------------------------- ----- --------
    blib                                      1.01  1.07    
    ExtUtils::MakeMaker                       0     7.34    
    File::Spec                                0     3.74    
    IO::Handle                                0     1.39    
    IPC::Open3                                0     1.20    
    Test::More                                0     1.302162

configure_requires:

    Module                                    Need  Have    
    ----------------------------------------- ----- --------
    ExtUtils::MakeMaker                       0     7.34    
    File::ShareDir::Install                   0.06  0.13    


------------------------------
ENVIRONMENT AND OTHER CONTEXT
------------------------------

Environment variables:

    PATH = /usr/local/bin:/usr/bin:/bin:/usr/local/sbin:/usr/sbin:/sbin:/home/cpansand/bin/sh:/home/cpansand/bin:/usr/games:/home/cpansand/devel:/usr/home/eserte/src/srezic-misc/scripts
    PERL5LIB = /home/cpansand/.cpan/build/2019042622/TryCatch-1.003002-1/blib/arch:/home/cpansand/.cpan/build/2019042622/TryCatch-1.003002-1/blib/lib:/home/cpansand/.cpan/build/2019042622/Scope-Upper-0.31-1/blib/arch:/home/cpansand/.cpan/build/2019042622/Scope-Upper-0.31-1/blib/lib:/home/cpansand/.cpan/build/2019042622/Parse-Method-Signatures-1.003019-1/blib/arch:/home/cpansand/.cpan/build/2019042622/Parse-Method-Signatures-1.003019-1/blib/lib:/home/cpansand/.cpan/build/2019042622/MooseX-Types-Structured-0.36-1/blib/arch:/home/cpansand/.cpan/build/2019042622/MooseX-Types-Structured-0.36-1/blib/lib:/home/cpansand/.cpan/build/2019042622/B-Hooks-OP-PPAddr-0.06-1/blib/arch:/home/cpansand/.cpan/build/2019042622/B-Hooks-OP-PPAddr-0.06-1/blib/lib:/home/cpansand/.cpan/build/2019042622/MooseX-Getopt-Usage-0.24-1/blib/arch:/home/cpansand/.cpan/build/2019042622/MooseX-Getopt-Usage-0.24-1/blib/lib:/home/cpansand/.cpan/build/2019042622/BenchmarkAnything-Storage-Frontend-Lib-0.022-1/blib/arch:/home/cpansand/.cpan/build/2019042622/BenchmarkAnything-Storage-Frontend-Lib-0.022-1/blib/lib:/home/cpansand/.cpan/build/2019042622/BenchmarkAnything-Storage-Backend-SQL-0.024-1/blib/arch:/home/cpansand/.cpan/build/2019042622/BenchmarkAnything-Storage-Backend-SQL-0.024-1/blib/lib:/home/cpansand/.cpan/build/2019042622/BenchmarkAnything-Storage-Search-Elasticsearch-0.004-1/blib/arch:/home/cpansand/.cpan/build/2019042622/BenchmarkAnything-Storage-Search-Elasticsearch-0.004-1/blib/lib:/home/cpansand/.cpan/build/2019042622/Search-Elasticsearch-6.00-1/blib/arch:/home/cpansand/.cpan/build/2019042622/Search-Elasticsearch-6.00-1/blib/lib:/home/cpansand/.cpan/build/2019042622/Log-Any-Adapter-Callback-0.09-1/blib/arch:/home/cpansand/.cpan/build/2019042622/Log-Any-Adapter-Callback-0.09-1/blib/lib:/home/cpansand/.cpan/build/2019042622/BenchmarkAnything-Schema-0.004-1/blib/arch:/home/cpansand/.cpan/build/2019042622/BenchmarkAnything-Schema-0.004-1/blib/lib:/home/cpansand/.cpan/build/2019042622/TAP-DOM-0.14-1/blib/arch:/home/cpansand/.cpan/build/2019042622/TAP-DOM-0.14-1/blib/lib:/home/cpansand/.cpan/build/2019042622/JSON-Schema-0.016-1/blib/arch:/home/cpansand/.cpan/build/2019042622/JSON-Schema-0.016-1/blib/lib:/home/cpansand/.cpan/build/2019042622/JSON-Hyper-0.011-1/blib/arch:/home/cpansand/.cpan/build/2019042622/JSON-Hyper-0.011-1/blib/lib:/home/cpansand/.cpan/build/2019042622/HTTP-Link-Parser-0.200-1/blib/arch:/home/cpansand/.cpan/build/2019042622/HTTP-Link-Parser-0.200-1/blib/lib:/home/cpansand/.cpan/build/2019042622/Config-INI-Serializer-0.002-1/blib/arch:/home/cpansand/.cpan/build/2019042622/Config-INI-Serializer-0.002-1/blib/lib:/home/cpansand/.cpan/build/2019042622/App-Rad-1.05-1/blib/arch:/home/cpansand/.cpan/build/2019042622/App-Rad-1.05-1/blib/lib:/home/cpansand/.cpan/build/2019042622/BenchmarkAnything-Evaluations-0.003-1/blib/arch:/home/cpansand/.cpan/build/2019042622/BenchmarkAnything-Evaluations-0.003-1/blib/lib:/home/cpansand/.cpan/build/2019042622/Music-FretboardDiagram-0.1202-1/blib/arch:/home/cpansand/.cpan/build/2019042622/Music-FretboardDiagram-0.1202-1/blib/lib:/home/cpansand/.cpan/build/2019042622/Music-Chord-Namer-0.01-1/blib/arch:/home/cpansand/.cpan/build/2019042622/Music-Chord-Namer-0.01-1/blib/lib:/home/cpansand/.cpan/build/2019042622/Object-Import-1.006-1/blib/arch:/home/cpansand/.cpan/build/2019042622/Object-Import-1.006-1/blib/lib:/home/cpansand/.cpan/build/2019042622/Inline-Pdlapp-2.019106-1/blib/arch:/home/cpansand/.cpan/build/2019042622/Inline-Pdlapp-2.019106-1/blib/lib:/home/cpansand/.cpan/build/2019042622/Devel-PPPort-3.46-1/blib/arch:/home/cpansand/.cpan/build/2019042622/Devel-PPPort-3.46-1/blib/lib:/home/cpansand/.cpan/build/2019042622/Astro-Coord-ECI-TLE-Iridium-0.120-1/blib/arch:/home/cpansand/.cpan/build/2019042622/Astro-Coord-ECI-TLE-Iridium-0.120-1/blib/lib
    PERL5OPT = 
    PERL5_CPANPLUS_IS_RUNNING = 22480
    PERL5_CPAN_IS_RUNNING = 22480
    PERL5_CPAN_IS_RUNNING_IN_RECURSION = 3890,22480
    PERL_BATCH = yes
    PERL_CANARY_STABILITY_NOPROMPT = 1
    PERL_CPAN_REPORTER_CONFIG = /var/tmp/cpansmoker-1023/2019042622/cpanreporter_000_config.ini
    PERL_EXTUTILS_AUTOINSTALL = --defaultdeps
    PERL_USE_UNSAFE_INC = 1
    SHELL = /bin/sh
    TMPDIR = /var/tmp/cpansmoker-1023/2019042622

Perl special variables (and OS-specific diagnostics, for MSWin32):

    $^X = /usr/perl5.28.0p/bin/perl5.28.0
    $UID/$EUID = 1023 / 1023
    $GID = 1023 1023
    $EGID = 1023 1023

Perl module toolchain versions installed:

    Module              Have    
    ------------------- --------
    CPAN                2.20    
    CPAN::Meta          2.150010
    Cwd                 3.74    
    ExtUtils::CBuilder  0.280231
    ExtUtils::Command   7.34    
    ExtUtils::Install   2.14    
    ExtUtils::MakeMaker 7.34    
    ExtUtils::Manifest  1.70    
    ExtUtils::ParseXS   3.39    
    File::Spec          3.74    
    JSON                2.97001 
    JSON::PP            2.97001 
    Module::Build       0.4224  
    Module::Signature   0.83    
    Parse::CPAN::Meta   2.150010
    Test::Harness       3.42    
    Test::More          1.302162
    YAML                1.26    
    YAML::Syck          1.31    
    version             0.9923  


--

Summary of my perl5 (revision 5 version 28 subversion 0) configuration:
   
  Platform:
    osname=freebsd
    osvers=13.0-current
    archname=amd64-freebsd
    uname='freebsd cloud2.bbbike.org 13.0-current freebsd 13.0-current 265606d643e(master) generic amd64 '
    config_args='-ds -e -Dprefix=/usr/perl5.28.0p -Dcf_email=srezic@cpan.org -Doptimize=-O2 -pipe'
    hint=recommended
    useposix=true
    d_sigaction=define
    useithreads=undef
    usemultiplicity=undef
    use64bitint=define
    use64bitall=define
    uselongdouble=undef
    usemymalloc=n
    default_inc_excludes_dot=define
    bincompat5005=undef
  Compiler:
    cc='cc'
    ccflags ='-DHAS_FPSETMASK -DHAS_FLOATINGPOINT_H -fno-strict-aliasing -pipe -fstack-protector-strong -I/usr/local/include -D_FORTIFY_SOURCE=2'
    optimize='-O2 -pipe'
    cppflags='-DHAS_FPSETMASK -DHAS_FLOATINGPOINT_H -fno-strict-aliasing -pipe -fstack-protector-strong -I/usr/local/include'
    ccversion=''
    gccversion='4.2.1 Compatible FreeBSD Clang 6.0.1 (tags/RELEASE_601/final 335540)'
    gccosandvers=''
    intsize=4
    longsize=8
    ptrsize=8
    doublesize=8
    byteorder=12345678
    doublekind=3
    d_longlong=define
    longlongsize=8
    d_longdbl=define
    longdblsize=16
    longdblkind=3
    ivtype='long'
    ivsize=8
    nvtype='double'
    nvsize=8
    Off_t='off_t'
    lseeksize=8
    alignbytes=8
    prototype=define
  Linker and Libraries:
    ld='cc'
    ldflags ='-pthread -Wl,-E  -fstack-protector-strong -L/usr/local/lib'
    libpth=/usr/lib /usr/local/lib /usr/lib/clang/6.0.1/lib /usr/lib
    libs=-lpthread -ldl -lm -lcrypt -lutil -lc
    perllibs=-lpthread -ldl -lm -lcrypt -lutil -lc
    libc=
    so=so
    useshrplib=false
    libperl=libperl.a
    gnulibc_version=''
  Dynamic Linking:
    dlsrc=dl_dlopen.xs
    dlext=so
    d_dlsymun=undef
    ccdlflags=' '
    cccdlflags='-DPIC -fPIC'
    lddlflags='-shared  -L/usr/local/lib -fstack-protector-strong'


Characteristics of this binary (from libperl): 
  Compile-time options:
    HAS_TIMES
    PERLIO_LAYERS
    PERL_COPY_ON_WRITE
    PERL_DONT_CREATE_GVSV
    PERL_MALLOC_WRAP
    PERL_OP_PARENT
    PERL_PRESERVE_IVUV
    USE_64_BIT_ALL
    USE_64_BIT_INT
    USE_LARGE_FILES
    USE_LOCALE
    USE_LOCALE_COLLATE
    USE_LOCALE_CTYPE
    USE_LOCALE_NUMERIC
    USE_LOCALE_TIME
    USE_PERLIO
    USE_PERL_ATOF
  Built under freebsd
  Compiled at Oct 27 2018 08:31:21
  %ENV:
    PERL5LIB="/home/cpansand/.cpan/build/2019042622/TryCatch-1.003002-1/blib/arch:/home/cpansand/.cpan/build/2019042622/TryCatch-1.003002-1/blib/lib:/home/cpansand/.cpan/build/2019042622/Scope-Upper-0.31-1/blib/arch:/home/cpansand/.cpan/build/2019042622/Scope-Upper-0.31-1/blib/lib:/home/cpansand/.cpan/build/2019042622/Parse-Method-Signatures-1.003019-1/blib/arch:/home/cpansand/.cpan/build/2019042622/Parse-Method-Signatures-1.003019-1/blib/lib:/home/cpansand/.cpan/build/2019042622/MooseX-Types-Structured-0.36-1/blib/arch:/home/cpansand/.cpan/build/2019042622/MooseX-Types-Structured-0.36-1/blib/lib:/home/cpansand/.cpan/build/2019042622/B-Hooks-OP-PPAddr-0.06-1/blib/arch:/home/cpansand/.cpan/build/2019042622/B-Hooks-OP-PPAddr-0.06-1/blib/lib:/home/cpansand/.cpan/build/2019042622/MooseX-Getopt-Usage-0.24-1/blib/arch:/home/cpansand/.cpan/build/2019042622/MooseX-Getopt-Usage-0.24-1/blib/lib:/home/cpansand/.cpan/build/2019042622/BenchmarkAnything-Storage-Frontend-Lib-0.022-1/blib/arch:/home/cpansand/.cpan/build/2019042622/BenchmarkAnything-Storage-Frontend-Lib-0.022-1/blib/lib:/home/cpansand/.cpan/build/2019042622/BenchmarkAnything-Storage-Backend-SQL-0.024-1/blib/arch:/home/cpansand/.cpan/build/2019042622/BenchmarkAnything-Storage-Backend-SQL-0.024-1/blib/lib:/home/cpansand/.cpan/build/2019042622/BenchmarkAnything-Storage-Search-Elasticsearch-0.004-1/blib/arch:/home/cpansand/.cpan/build/2019042622/BenchmarkAnything-Storage-Search-Elasticsearch-0.004-1/blib/lib:/home/cpansand/.cpan/build/2019042622/Search-Elasticsearch-6.00-1/blib/arch:/home/cpansand/.cpan/build/2019042622/Search-Elasticsearch-6.00-1/blib/lib:/home/cpansand/.cpan/build/2019042622/Log-Any-Adapter-Callback-0.09-1/blib/arch:/home/cpansand/.cpan/build/2019042622/Log-Any-Adapter-Callback-0.09-1/blib/lib:/home/cpansand/.cpan/build/2019042622/BenchmarkAnything-Schema-0.004-1/blib/arch:/home/cpansand/.cpan/build/2019042622/BenchmarkAnything-Schema-0.004-1/blib/lib:/home/cpansand/.cpan/build/2019042622/TAP-DOM-0.14-1/blib/arch:/home/cpansand/.cpan/build/2019042622/TAP-DOM-0.14-1/blib/lib:/home/cpansand/.cpan/build/2019042622/JSON-Schema-0.016-1/blib/arch:/home/cpansand/.cpan/build/2019042622/JSON-Schema-0.016-1/blib/lib:/home/cpansand/.cpan/build/2019042622/JSON-Hyper-0.011-1/blib/arch:/home/cpansand/.cpan/build/2019042622/JSON-Hyper-0.011-1/blib/lib:/home/cpansand/.cpan/build/2019042622/HTTP-Link-Parser-0.200-1/blib/arch:/home/cpansand/.cpan/build/2019042622/HTTP-Link-Parser-0.200-1/blib/lib:/home/cpansand/.cpan/build/2019042622/Config-INI-Serializer-0.002-1/blib/arch:/home/cpansand/.cpan/build/2019042622/Config-INI-Serializer-0.002-1/blib/lib:/home/cpansand/.cpan/build/2019042622/App-Rad-1.05-1/blib/arch:/home/cpansand/.cpan/build/2019042622/App-Rad-1.05-1/blib/lib:/home/cpansand/.cpan/build/2019042622/BenchmarkAnything-Evaluations-0.003-1/blib/arch:/home/cpansand/.cpan/build/2019042622/BenchmarkAnything-Evaluations-0.003-1/blib/lib:/home/cpansand/.cpan/build/2019042622/Music-FretboardDiagram-0.1202-1/blib/arch:/home/cpansand/.cpan/build/2019042622/Music-FretboardDiagram-0.1202-1/blib/lib:/home/cpansand/.cpan/build/2019042622/Music-Chord-Namer-0.01-1/blib/arch:/home/cpansand/.cpan/build/2019042622/Music-Chord-Namer-0.01-1/blib/lib:/home/cpansand/.cpan/build/2019042622/Object-Import-1.006-1/blib/arch:/home/cpansand/.cpan/build/2019042622/Object-Import-1.006-1/blib/lib:/home/cpansand/.cpan/build/2019042622/Inline-Pdlapp-2.019106-1/blib/arch:/home/cpansand/.cpan/build/2019042622/Inline-Pdlapp-2.019106-1/blib/lib:/home/cpansand/.cpan/build/2019042622/Devel-PPPort-3.46-1/blib/arch:/home/cpansand/.cpan/build/2019042622/Devel-PPPort-3.46-1/blib/lib:/home/cpansand/.cpan/build/2019042622/Astro-Coord-ECI-TLE-Iridium-0.120-1/blib/arch:/home/cpansand/.cpan/build/2019042622/Astro-Coord-ECI-TLE-Iridium-0.120-1/blib/lib"
    PERL5OPT=""
    PERL5_CPANPLUS_IS_RUNNING="22480"
    PERL5_CPAN_IS_RUNNING="22480"
    PERL5_CPAN_IS_RUNNING_IN_RECURSION="3890,22480"
    PERL_BATCH="yes"
    PERL_CANARY_STABILITY_NOPROMPT="1"
    PERL_CPAN_REPORTER_CONFIG="/var/tmp/cpansmoker-1023/2019042622/cpanreporter_000_config.ini"
    PERL_EXTUTILS_AUTOINSTALL="--defaultdeps"
    PERL_USE_UNSAFE_INC="1"
  @INC:
    /home/cpansand/.cpan/build/2019042622/TryCatch-1.003002-1/blib/arch
    /home/cpansand/.cpan/build/2019042622/TryCatch-1.003002-1/blib/lib
    /home/cpansand/.cpan/build/2019042622/Scope-Upper-0.31-1/blib/arch
    /home/cpansand/.cpan/build/2019042622/Scope-Upper-0.31-1/blib/lib
    /home/cpansand/.cpan/build/2019042622/Parse-Method-Signatures-1.003019-1/blib/arch
    /home/cpansand/.cpan/build/2019042622/Parse-Method-Signatures-1.003019-1/blib/lib
    /home/cpansand/.cpan/build/2019042622/MooseX-Types-Structured-0.36-1/blib/arch
    /home/cpansand/.cpan/build/2019042622/MooseX-Types-Structured-0.36-1/blib/lib
    /home/cpansand/.cpan/build/2019042622/B-Hooks-OP-PPAddr-0.06-1/blib/arch
    /home/cpansand/.cpan/build/2019042622/B-Hooks-OP-PPAddr-0.06-1/blib/lib
    /home/cpansand/.cpan/build/2019042622/MooseX-Getopt-Usage-0.24-1/blib/arch
    /home/cpansand/.cpan/build/2019042622/MooseX-Getopt-Usage-0.24-1/blib/lib
    /home/cpansand/.cpan/build/2019042622/BenchmarkAnything-Storage-Frontend-Lib-0.022-1/blib/arch
    /home/cpansand/.cpan/build/2019042622/BenchmarkAnything-Storage-Frontend-Lib-0.022-1/blib/lib
    /home/cpansand/.cpan/build/2019042622/BenchmarkAnything-Storage-Backend-SQL-0.024-1/blib/arch
    /home/cpansand/.cpan/build/2019042622/BenchmarkAnything-Storage-Backend-SQL-0.024-1/blib/lib
    /home/cpansand/.cpan/build/2019042622/BenchmarkAnything-Storage-Search-Elasticsearch-0.004-1/blib/arch
    /home/cpansand/.cpan/build/2019042622/BenchmarkAnything-Storage-Search-Elasticsearch-0.004-1/blib/lib
    /home/cpansand/.cpan/build/2019042622/Search-Elasticsearch-6.00-1/blib/arch
    /home/cpansand/.cpan/build/2019042622/Search-Elasticsearch-6.00-1/blib/lib
    /home/cpansand/.cpan/build/2019042622/Log-Any-Adapter-Callback-0.09-1/blib/arch
    /home/cpansand/.cpan/build/2019042622/Log-Any-Adapter-Callback-0.09-1/blib/lib
    /home/cpansand/.cpan/build/2019042622/BenchmarkAnything-Schema-0.004-1/blib/arch
    /home/cpansand/.cpan/build/2019042622/BenchmarkAnything-Schema-0.004-1/blib/lib
    /home/cpansand/.cpan/build/2019042622/TAP-DOM-0.14-1/blib/arch
    /home/cpansand/.cpan/build/2019042622/TAP-DOM-0.14-1/blib/lib
    /home/cpansand/.cpan/build/2019042622/JSON-Schema-0.016-1/blib/arch
    /home/cpansand/.cpan/build/2019042622/JSON-Schema-0.016-1/blib/lib
    /home/cpansand/.cpan/build/2019042622/JSON-Hyper-0.011-1/blib/arch
    /home/cpansand/.cpan/build/2019042622/JSON-Hyper-0.011-1/blib/lib
    /home/cpansand/.cpan/build/2019042622/HTTP-Link-Parser-0.200-1/blib/arch
    /home/cpansand/.cpan/build/2019042622/HTTP-Link-Parser-0.200-1/blib/lib
    /home/cpansand/.cpan/build/2019042622/Config-INI-Serializer-0.002-1/blib/arch
    /home/cpansand/.cpan/build/2019042622/Config-INI-Serializer-0.002-1/blib/lib
    /home/cpansand/.cpan/build/2019042622/App-Rad-1.05-1/blib/arch
    /home/cpansand/.cpan/build/2019042622/App-Rad-1.05-1/blib/lib
    /home/cpansand/.cpan/build/2019042622/BenchmarkAnything-Evaluations-0.003-1/blib/arch
    /home/cpansand/.cpan/build/2019042622/BenchmarkAnything-Evaluations-0.003-1/blib/lib
    /home/cpansand/.cpan/build/2019042622/Music-FretboardDiagram-0.1202-1/blib/arch
    /home/cpansand/.cpan/build/2019042622/Music-FretboardDiagram-0.1202-1/blib/lib
    /home/cpansand/.cpan/build/2019042622/Music-Chord-Namer-0.01-1/blib/arch
    /home/cpansand/.cpan/build/2019042622/Music-Chord-Namer-0.01-1/blib/lib
    /home/cpansand/.cpan/build/2019042622/Object-Import-1.006-1/blib/arch
    /home/cpansand/.cpan/build/2019042622/Object-Import-1.006-1/blib/lib
    /home/cpansand/.cpan/build/2019042622/Inline-Pdlapp-2.019106-1/blib/arch
    /home/cpansand/.cpan/build/2019042622/Inline-Pdlapp-2.019106-1/blib/lib
    /home/cpansand/.cpan/build/2019042622/Devel-PPPort-3.46-1/blib/arch
    /home/cpansand/.cpan/build/2019042622/Devel-PPPort-3.46-1/blib/lib
    /home/cpansand/.cpan/build/2019042622/Astro-Coord-ECI-TLE-Iridium-0.120-1/blib/arch
    /home/cpansand/.cpan/build/2019042622/Astro-Coord-ECI-TLE-Iridium-0.120-1/blib/lib
    /usr/perl5.28.0p/lib/site_perl/5.28.0/amd64-freebsd
    /usr/perl5.28.0p/lib/site_perl/5.28.0
    /usr/perl5.28.0p/lib/5.28.0/amd64-freebsd
    /usr/perl5.28.0p/lib/5.28.0
    .