Report for HTTP-Message-6.06

Back
From: metabase:user:30f4dfbe-2aae-11df-837a-5e0a49663a4f
Subject: PASS HTTP-Message-6.06 v5.20.0 SunOS/Solaris
Date: 2014-05-28T21:04:18Z

This distribution has been tested as part of the CPAN Testers
project, supporting the Perl programming language.  See
http://wiki.cpantesters.org/ for more information or email
questions to cpan-testers-discuss@perl.org


--
Dear Gisle Aas,

This is a computer-generated report for HTTP-Message-6.06
on perl 5.20.0, created by CPAN-Reporter-1.2011.

Thank you for uploading your work to CPAN.  Congratulations!
All tests were successful.

Sections of this report:

    * Tester comments
    * Program output
    * Prerequisites
    * Environment and other context

------------------------------
TESTER COMMENTS
------------------------------

Additional comments from tester:

none provided

------------------------------
PROGRAM OUTPUT
------------------------------

Output from '/usr/bin/make test':

PERL_DL_NONLAZY=1 /home/njh/perl5/perlbrew/perls/perl-5.20.0/bin/perl "-MExtUtils::Command::MM" "-MTest::Harness" "-e" "undef *Test::Harness::Switches; test_harness(0, 'blib/lib', 'blib/arch')" t/*.t
t/common-req.t .......... ok
t/headers-auth.t ........ ok
t/headers-etag.t ........ ok
t/headers-util.t ........ ok
t/headers.t ............. ok
t/http-config.t ......... ok
t/message-charset.t ..... ok
t/message-decode-xml.t .. ok
t/message-old.t ......... ok
t/message-parts.t ....... ok
t/message.t ............. ok
t/request.t ............. ok
t/response.t ............ ok
t/status-old.t .......... ok
t/status.t .............. ok
All tests successful.
Files=15, Tests=554,  1 wallclock secs ( 0.14 usr  0.05 sys +  1.01 cusr  0.20 csys =  1.40 CPU)
Result: PASS

------------------------------
PREREQUISITES
------------------------------

Prerequisite modules loaded:

requires:

    Module                     Need     Have    
    -------------------------- -------- --------
    Compress::Raw::Zlib        0        2.065   
    Encode                     2.21     2.60    
    Encode::Locale             1        1.03    
    HTTP::Date                 6        6.02    
    IO::Compress::Bzip2        2.021    2.064   
    IO::Compress::Deflate      0        2.064   
    IO::Compress::Gzip         0        2.064   
    IO::HTML                   0        1.00    
    IO::Uncompress::Bunzip2    2.021    2.064   
    IO::Uncompress::Gunzip     0        2.064   
    IO::Uncompress::Inflate    0        2.064   
    IO::Uncompress::RawInflate 0        2.064   
    LWP::MediaTypes            6        6.02    
    MIME::Base64               2.1      3.14    
    MIME::QuotedPrint          0        3.13    
    perl                       5.008001 5.020000
    URI                        1.10     1.60    

build_requires:

    Module                     Need     Have    
    -------------------------- -------- --------
    ExtUtils::MakeMaker        0        6.98    

configure_requires:

    Module                     Need     Have    
    -------------------------- -------- --------
    ExtUtils::MakeMaker        0        6.98    


------------------------------
ENVIRONMENT AND OTHER CONTEXT
------------------------------

Environment variables:

    LANG = en_US.UTF-8
    LC_ALL = 
    LC_COLLATE = 
    LC_CTYPE = 
    LC_MESSAGES = 
    LC_MONETARY = 
    LC_NUMERIC = 
    LC_TIME = 
    PATH = /home/njh/perl5/perlbrew/bin:/home/njh/perl5/perlbrew/perls/perl-5.20.0/bin:/opt/csw/gnu:/usr/local/bin:/home/njh/bin:/usr/bin:/bin:/opt/solarisstudio12.3/bin:/opt/csw/bin
    PERL5LIB = 
    PERL5OPT = 
    PERL5_CPANPLUS_IS_RUNNING = 25886
    PERL5_CPAN_IS_RUNNING = 25886
    PERLBREW_BASHRC_VERSION = 0.66
    PERLBREW_HOME = /home/njh/.perlbrew
    PERLBREW_MANPATH = /home/njh/perl5/perlbrew/perls/perl-5.20.0/man
    PERLBREW_PATH = /home/njh/perl5/perlbrew/bin:/home/njh/perl5/perlbrew/perls/perl-5.20.0/bin
    PERLBREW_PERL = perl-5.20.0
    PERLBREW_ROOT = /home/njh/perl5/perlbrew
    PERLBREW_VERSION = 0.66
    SHELL = /usr/bin/bash
    TERM = xterm

Perl special variables (and OS-specific diagnostics, for MSWin32):

    $^X = /home/njh/perl5/perlbrew/perls/perl-5.20.0/bin/perl
    $UID/$EUID = 1000 / 1000
    $GID = 1000 1000 10
    $EGID = 1000 1000 10

Perl module toolchain versions installed:

    Module              Have    
    ------------------- --------
    CPAN                2.05    
    CPAN::Meta          2.140640
    Cwd                 3.47    
    ExtUtils::CBuilder  0.280216
    ExtUtils::Command   1.18    
    ExtUtils::Install   1.67    
    ExtUtils::MakeMaker 6.98    
    ExtUtils::Manifest  1.63    
    ExtUtils::ParseXS   3.24    
    File::Spec          3.47    
    JSON                n/a     
    JSON::PP            2.27203 
    Module::Build       0.4205  
    Module::Signature   n/a     
    Parse::CPAN::Meta   1.4414  
    Test::Harness       3.30    
    Test::More          1.001002
    YAML                n/a     
    YAML::Syck          1.27    
    version             0.9908  


--

Summary of my perl5 (revision 5 version 20 subversion 0) configuration:
   
  Platform:
    osname=solaris, osvers=2.11, archname=i86pc-solaris-thread-multi
    uname='sunos solaris 5.11 11.0 i86pc i386 i86pc solaris '
    config_args='-de -Dprefix=/home/njh/perl5/perlbrew/perls/perl-5.20.0 -Duseithreads -Dusemultiplicity -Accflags=-O -v -xstrconst -D__EXTENSIONS__ -I/usr/local/include -native -Aeval:scriptdir=/home/njh/perl5/perlbrew/perls/perl-5.20.0/bin'
    hint=recommended, useposix=true, d_sigaction=define
    useithreads=define, usemultiplicity=define
    use64bitint=undef, use64bitall=undef, uselongdouble=undef
    usemymalloc=n, bincompat5005=undef
  Compiler:
    cc='cc', ccflags ='-D_REENTRANT -O -v -xstrconst -D__EXTENSIONS__ -I/usr/local/include -native -D_LARGEFILE_SOURCE -D_FILE_OFFSET_BITS=64 -DPERL_USE_SAFE_PUTENV',
    optimize='-O',
    cppflags='-D_REENTRANT -O -v -xstrconst -D__EXTENSIONS__ -I/usr/local/include -native'
    ccversion='Sun C 5.12 SunOS_i386 2011/11/16', gccversion='', gccosandvers=''
    intsize=4, longsize=4, ptrsize=4, doublesize=8, byteorder=1234
    d_longlong=define, longlongsize=8, d_longdbl=define, longdblsize=12
    ivtype='long', ivsize=4, nvtype='double', nvsize=8, Off_t='off_t', lseeksize=8
    alignbytes=4, prototype=define
  Linker and Libraries:
    ld='cc', ldflags =' -L/usr/lib -L/usr/ccs/lib -L/opt/solarisstudio12.3/prod/lib/sse2 -L/opt/solarisstudio12.3/prod/lib -L/lib -L/usr/gnu/lib '
    libpth=/usr/lib /usr/ccs/lib /opt/solarisstudio12.3/prod/lib/sse2 /opt/solarisstudio12.3/prod/lib /lib /usr/gnu/lib
    libs=-lsocket -lnsl -lgdbm -ldl -lm -lpthread -lc
    perllibs=-lsocket -lnsl -ldl -lm -lpthread -lc
    libc=/lib/libc.so, so=so, useshrplib=false, libperl=libperl.a
    gnulibc_version=''
  Dynamic Linking:
    dlsrc=dl_dlopen.xs, dlext=so, d_dlsymun=undef, ccdlflags=' '
    cccdlflags='-KPIC', lddlflags='-G -L/usr/lib -L/usr/ccs/lib -L/opt/solarisstudio12.3/prod/lib/sse2 -L/opt/solarisstudio12.3/prod/lib -L/lib -L/usr/gnu/lib'


Characteristics of this binary (from libperl): 
  Compile-time options: HAS_TIMES MULTIPLICITY PERLIO_LAYERS
                        PERL_DONT_CREATE_GVSV
                        PERL_HASH_FUNC_ONE_AT_A_TIME_HARD
                        PERL_IMPLICIT_CONTEXT PERL_MALLOC_WRAP
                        PERL_NEW_COPY_ON_WRITE PERL_PRESERVE_IVUV
                        PERL_USE_SAFE_PUTENV USE_ITHREADS USE_LARGE_FILES
                        USE_LOCALE USE_LOCALE_COLLATE USE_LOCALE_CTYPE
                        USE_LOCALE_NUMERIC USE_PERLIO USE_PERL_ATOF
                        USE_REENTRANT_API
  Built under solaris
  Compiled at May 28 2014 13:45:44
  %ENV:
    PERL5LIB=""
    PERL5OPT=""
    PERL5_CPANPLUS_IS_RUNNING="25886"
    PERL5_CPAN_IS_RUNNING="25886"
    PERLBREW_BASHRC_VERSION="0.66"
    PERLBREW_HOME="/home/njh/.perlbrew"
    PERLBREW_MANPATH="/home/njh/perl5/perlbrew/perls/perl-5.20.0/man"
    PERLBREW_PATH="/home/njh/perl5/perlbrew/bin:/home/njh/perl5/perlbrew/perls/perl-5.20.0/bin"
    PERLBREW_PERL="perl-5.20.0"
    PERLBREW_ROOT="/home/njh/perl5/perlbrew"
    PERLBREW_VERSION="0.66"
  @INC:
    /home/njh/perl5/perlbrew/perls/perl-5.20.0/lib/site_perl/5.20.0/i86pc-solaris-thread-multi
    /home/njh/perl5/perlbrew/perls/perl-5.20.0/lib/site_perl/5.20.0
    /home/njh/perl5/perlbrew/perls/perl-5.20.0/lib/5.20.0/i86pc-solaris-thread-multi
    /home/njh/perl5/perlbrew/perls/perl-5.20.0/lib/5.20.0
    .