Math-MPFR v4.35 Perl 5 v5.20.0 amd64-freebsd

Status
Pass
From
Slaven Rezić
Dist
Math-MPFR v4.35
Platform
Perl 5 v5.20.0 amd64-freebsd
Date
2025-02-23 14:51:15
ID
a20089f0-f1f5-11ef-8ba3-5a246e8775ea
This distribution has been tested as part of the CPAN Testers
project, supporting the Perl programming language.  See
http://wiki.cpantesters.org/ for more information or email
questions to cpan-testers-discuss@perl.org


--
Dear Sisyphus,

This is a computer-generated report for Math-MPFR-4.35
on perl 5.20.0, created by CPAN-Reporter-1.2019.

Thank you for uploading your work to CPAN.  Congratulations!
All tests were successful.

Sections of this report:

    * Tester comments
    * Program output
    * Prerequisites
    * Environment and other context

------------------------------
TESTER COMMENTS
------------------------------

Additional comments from tester:

none provided

------------------------------
PROGRAM OUTPUT
------------------------------

Output from '/usr/bin/make test':

"/usr/perl5.20.0/bin/perl5.20.0" -MExtUtils::Command::MM -e 'cp_nonempty' -- MPFR.bs blib/arch/auto/Math/MPFR/MPFR.bs 644
"/usr/perl5.20.0/bin/perl5.20.0" -MExtUtils::Command::MM -e 'cp_nonempty' -- Prec.bs ../blib/arch/auto/Math/MPFR/Prec/Prec.bs 644
"/usr/perl5.20.0/bin/perl5.20.0" -MExtUtils::Command::MM -e 'cp_nonempty' -- Random.bs ../blib/arch/auto/Math/MPFR/Random/Random.bs 644
"/usr/perl5.20.0/bin/perl5.20.0" -MExtUtils::Command::MM -e 'cp_nonempty' -- V.bs ../blib/arch/auto/Math/MPFR/V/V.bs 644
"/usr/perl5.20.0/bin/perl5.20.0" -MExtUtils::Command::MM -e 'cp_nonempty' -- Prec.bs ../blib/arch/auto/Math/MPFR/Prec/Prec.bs 644
No tests defined for Math::MPFR::Prec extension.
"/usr/perl5.20.0/bin/perl5.20.0" -MExtUtils::Command::MM -e 'cp_nonempty' -- Random.bs ../blib/arch/auto/Math/MPFR/Random/Random.bs 644
No tests defined for Math::MPFR::Random extension.
"/usr/perl5.20.0/bin/perl5.20.0" -MExtUtils::Command::MM -e 'cp_nonempty' -- V.bs ../blib/arch/auto/Math/MPFR/V/V.bs 644
No tests defined for Math::MPFR::V extension.
PERL_DL_NONLAZY=1 "/usr/perl5.20.0/bin/perl5.20.0" "-MExtUtils::Command::MM" "-MTest::Harness" "-e" "undef *Test::Harness::Switches; test_harness(0, 'blib/lib', 'blib/arch')" t/*.t

GMP Header version (major): 5
GMP Header version (minor): 1
GMP Header version (patchlevel): 3
GMP CC: cc -std=gnu99
GMP CFLAGS: -O2 -pipe -fstack-protector -fno-strict-aliasing
MPFR Header version (major): 3
MPFR Header version (minor): 1
MPFR Header version (patchlevel): 2
t/_1aaa_v.t ...................... ok

# Using Math::MPFR version     4.35
# MPFR_VERSION is              196866
# Using mpfr library version   3.1.2
# Using gmp library version    5.1.3
# GMP_LIMB_BITS is             64
# GMP_NAIL_BITS is             0
# __GMP__CFLAGS is             -O2 -pipe -fstack-protector -fno-strict-aliasing
# __GMP__CC is                 cc -std=gnu99
# sizeof mpfr_exp_t:           8 bytes
# sizeof mpfr_prec_t:          8 bytes
# has _WIN32_BIZARRE_INFNAN:   0
# has MPFR_PV_NV_BUG:          0
# has WIN32_FMT_BUG:           0
# has _Float16                 0
# Machine appears to be little-endian
# Byte Order: 12345678
# mpfr library built WITH thread safety
# mpfr library built WITHOUT _Decimal64 support
# mpfr library built WITHOUT gmp internals
# mpfr library thresholds file: default
t/_1basic.t ...................... ok
Skipping test 3 - no long double support
t/_2exp.t ........................ ok
t/_Float16.t ..................... ok
Skipping for 5.020000 - the aim here is to detect any recent changes,
                        not to concern ourselves with old behaviour.
t/_itsa.t ........................ ok
t/anomaly.t ...................... ok
t/anytoa.t ....................... ok
t/atonum.t ....................... ok

 Skipping tests 2 to 3 - nothing else to check
t/atonv.t ........................ ok
t/base_conversion.t .............. ok
t/bessel.t ....................... ok
t/buildopt.t ..................... ok

byteorder: 12345678
$Config{longdblkind} not defined for this build of perl 5.020000
HAVE_IEEE_754_LONG_DOUBLE is 0
HAVE_EXTENDED_PRECISION_LONG_DOUBLE is 0
t/bytes.t ........................ ok
t/cmp_uj_sj.t .................... ok
MPFR_VERSION: 196866
MPFR_VERSION_STRING: 3.1.2
t/compound.t ..................... ok

FYI:
 DBL_DIG = 15

FYI:
 LDBL_DIG = 18

FYI:
 FLT128_DIG not defined
t/constants.t .................... ok

 Skipping all tests - Math::MPFR not built with MPFR_WANT_DECIMAL64 defined
t/D64_LD.t ....................... ok

 Skipping all tests - Math::MPFR not built with MPFR_WANT_DECIMAL_FLOATS defined
t/decimal128_conv.t .............. ok

 Skipping all tests - Math::MPFR not built with MPFR_WANT_DECIMAL_FLOATS defined
t/decimal64_conv.t ............... ok
 Unable to validate decimalize() results.
 check_exact_decimal() requires mpfr-3.1.6 or later.
 Math::MPFR was built against mpfr-3.1.2. at t/decimalize.t line 194.
check_exact_decimal() requires mpfr-3.1.6 or later
t/decimalize.t ................... ok
t/div_by_zero.t .................. ok

Skipping all tests - not a Double-Double build
t/DoubleDouble.t ................. ok

not a Double-Double build.
LDBL_MANT_DIG is 64
t/DoubleDouble2.t ................ ok

Skipping all tests - they require mpfr-3.1.6 or later
t/doubletoa.t .................... ok
t/exceptions.t ................... ok
 Skipping - these tests require mpfr-4.0.0
 or later, but we have only mpfr-3.1.2
t/faithful_rounding.t ............ ok
t/flags.t ........................ ok

 Skipping all tests: __float128 tests not applicable to this build of perl
t/float128_conv.t ................ ok

 skipping all tests - nvtype is not __float128
t/float128_subnormal.t ........... ok
t/get_IV.t ....................... ok
t/get_NV.t ....................... ok
t/grandom.t ...................... ok
t/hex_fmt.t ...................... ok
t/infnan_str.t ................... ok
t/inits.t ........................ ok
t/integer_string.t ............... ok
t/lngamma_bug.t .................. ok
Skipping all tests - Math::LongDouble not found
t/LongDouble.t ................... ok

 Skipping tests 19 and 20 - requires mpfr-4.0.0 or later
t/MPFR_RND.t ..................... ok
 Skipping - these tests require mpfr-4.0.0
 or later, but we have only mpfr-3.1.2
t/mpfrtoa.t ...................... ok
Skipping dragon_test() checks - mpfr-3.1.6 (or later) required
t/mpfrtoa_precisions.t ........... ok
t/nan_cmp.t ...................... ok

 Skipping all tests - nvtype is double
t/native_float128.t .............. ok
t/neg_zero_bug.t ................. ok
t/new.t .......................... ok

 Skipping tests 9 to 23 for this version of the mpfr library

 Skipping tests 35 & 36 - nothing to test
t/new_in_4.0.0.t ................. ok

 Skipping tests 2 & 3 - we don't have mpfr-4.1.0 or later

 Skipping tests 9 & 10 - we don't have mpfr-4.1.0 or later
t/new_in_4.1.0.t ................. ok
t/new_pow_log_exp.t .............. ok
ISSUE_19550 not set
t/NOK_and_POK.t .................. ok
Skipping test 5 - no 'long long' support
t/not_zero.t ..................... ok
t/numtoa.t ....................... ok
t/NV_overloading.t ............... ok
t/nvtoa.t ........................ skipped: nvtoa.t utilizes Math::MPFR functionality that requires mpfr-3.1.6
t/nvtoa2.t ....................... skipped: nvtoa2.t utilizes Math::MPFR functionality that requires mpfr-3.1.6
t/nvtoa3.t ....................... skipped: Perl's string to NV assignment is unreliable
t/nvtoa_dd.t ..................... skipped: nvtoa.t utilizes Math::MPFR functionality that requires mpfr-3.1.6
t/nvtoa_subnormal.t .............. ok
t/out_str.t ...................... ok
t/overload.t ..................... ok
t/overload_cmp_q.t ............... ok
t/overload_cmp_z.t ............... ok
t/overload_cross_class.t ......... ok

 Skipping all tests - can't pass __float128 type
t/overload_float128.t ............ ok
t/overload_math_gmp.t ............ ok
Skipping Math::GMPz tests - Math-GMPz-0.63 or later is require; have only 0.62 at t/overload_mod.t line 106.
Skipping Math::GMPzqtests - Math-GMPq-0.58 or later is require; have only 0.57 at t/overload_mod.t line 138.
t/overload_mod.t ................. ok
t/overload_shift.t ............... ok
t/overload_switch.t .............. ok
t/overloadex.t ................... ok
t/P_specifier.t .................. ok

Test::Pod version: 1.52

Pod::Simple version: 3.45
t/pod.t .......................... ok
t/printf.t ....................... ok

 MPFR_PV_NV_BUG set to 0
t/PV_NV_BUG.t .................... ok
t/q_arith.t ...................... ok
t/random2.t ...................... ok
t/random3.t ...................... ok
t/remainder.t .................... ok
t/Rmpfr_asinu.t .................. ok
t/Rmpfr_fmod_ui.t ................ ok
t/Rmpfr_get_q.t .................. ok
t/Rmpfr_q_div_and_Rmpfr_z_div.t .. ok
t/Rmpfr_rec_root.t ............... ok
t/Rmpfr_rootn_ui.t ............... ok
t/Rmpfr_sinu.t ................... ok

 # Minimum allowed exponent: -4611686018427387903
 # Current minimum exponent: -1073741823

 Skipping test 34 - Rmpfr_get_emin() != Rmpfr_get_emin_min()
Skipping test 125 - __float128 not supported
Skipping test 126 - long double not supported
t/rndna.t ........................ ok

 # Minimum allowed exponent: -4611686018427387903
 # Current minimum exponent: -1073741823
Skipping test 125 - __float128 not supported
Skipping test 126 - long double not supported
t/rndna2.t ....................... ok
t/ryu_checks.t ................... ok

Using *_set_ui,*_set_si _cmp_ui and cmp_si functions
t/set_IV.t ....................... ok

Using mpfr*_set_d and mpfr_cmp_d functions
t/set_NV.t ....................... ok
t/set_str.t ...................... ok
t/sign.t ......................... ok
t/sizes.t ........................ ok
t/snprintf.t ..................... ok
t/sprintf.t ...................... ok
t/subnormal_doubles.t ............ ok

Calling Rmpfr_free_cache()
t/sum.t .......................... ok
Skipping test 53: Rmpfr_random2 no longer implemented
t/test1.t ........................ ok
t/test2.t ........................ ok
t/test3.t ........................ ok
t/test4.t ........................ ok
Skipping all tests: ithreads not available with this build of perl
t/tls.t .......................... ok
Skipping all tests: ithreads not available with this build of perl
t/tls_flags.t .................... ok
t/trig.t ......................... ok
t/trigamma.t ..................... ok
t/TRmpfr_out_str.t ............... ok
t/underflow.t .................... ok
long long int support is absent
Skipping test 4 - nothing to test
t/use64bitint.t .................. ok
Skipping test 2 - nothing to test
Skipping test 3 - nothing to test
Skipping test 4 - no long double support
Skipping test 6 - no long double support
Skipping test 7 - no long double support
Skipping test 8 - no long double support
Skipping test 9 - no long double support
Skipping test 10 - no long double support
t/uselongdouble.t ................ ok

 No tests here - just output (if any) from any configuration
 probing that was done during the 'perl Makefile.PL' step

checklib.exe: Found the mpfr and gmp libraries
try_64 build: have_d64.in: In function 'main':
have_d64.in:2: error: decimal floating point not supported for this target

try_128 build: have_d128.in: In function 'main':
have_d128.in:2: error: decimal floating point not supported for this target



try_flt128 build: /usr/bin/ld: cannot find -lquadmath

t/view_config.t .................. ok
All tests successful.
Files=108, Tests=8574,  8 wallclock secs ( 0.62 usr  0.27 sys +  5.70 cusr  0.98 csys =  7.56 CPU)
Result: PASS

------------------------------
PREREQUISITES
------------------------------

Prerequisite modules loaded:

requires:

    Module              Need Have    
    ------------------- ---- --------
    Test::More          0.88 1.302209

build_requires:

    Module              Need Have    
    ------------------- ---- --------
    ExtUtils::MakeMaker 0    7.70    

configure_requires:

    Module              Need Have    
    ------------------- ---- --------
    ExtUtils::MakeMaker 0    7.70    


------------------------------
ENVIRONMENT AND OTHER CONTEXT
------------------------------

Environment variables:

    LC_ALL = de_DE.ISO8859-1
    PATH = /usr/local/bin:/usr/bin:/bin:/usr/local/sbin:/usr/sbin:/sbin:/home/cpansand/bin/freebsd9.3:/home/cpansand/bin/sh:/home/cpansand/bin:/usr/games:/home/cpansand/devel:/usr/home/eserte/src/srezic-misc/scripts
    PERL5LIB = 
    PERL5OPT = 
    PERL5_CPANPLUS_IS_RUNNING = 23358
    PERL5_CPAN_IS_RUNNING = 23358
    PERL5_CPAN_IS_RUNNING_IN_RECURSION = 22644,23358
    PERLDOC = -MPod::Perldoc::ToTextOverstrike
    PERL_BATCH = yes
    PERL_CANARY_STABILITY_NOPROMPT = 1
    PERL_CPAN_REPORTER_CONFIG = /var/tmp/cpansmoker-1023/2025022314/cpanreporter_000_config.ini
    PERL_EXTUTILS_AUTOINSTALL = --defaultdeps
    PERL_USE_UNSAFE_INC = 1
    SHELL = /usr/local/bin/zsh
    TERM = screen
    TMPDIR = /var/tmp/cpansmoker-1023/2025022314

Perl special variables (and OS-specific diagnostics, for MSWin32):

    $^X = /usr/perl5.20.0/bin/perl5.20.0
    $UID/$EUID = 1023 / 1023
    $GID = 1023 1023
    $EGID = 1023 1023

Perl module toolchain versions installed:

    Module              Have    
    ------------------- --------
    CPAN                2.37    
    CPAN::Meta          2.150010
    Cwd                 3.75    
    ExtUtils::CBuilder  0.280236
    ExtUtils::Command   7.70    
    ExtUtils::Install   2.22    
    ExtUtils::MakeMaker 7.70    
    ExtUtils::Manifest  1.75    
    ExtUtils::ParseXS   3.51    
    File::Spec          3.75    
    JSON                4.10    
    JSON::PP            4.16    
    Module::Build       0.4234  
    Module::Signature   0.89    
    Parse::CPAN::Meta   2.150010
    Test2               1.302209
    Test::Harness       3.50    
    Test::More          1.302209
    YAML                1.30    
    YAML::Syck          1.34    
    version             0.9932  


--

Summary of my perl5 (revision 5 version 20 subversion 0) configuration:
   
  Platform:
    osname=freebsd, osvers=9.2-release-p4, archname=amd64-freebsd
    uname='freebsd cvrsnica-freebsd-92 9.2-release-p4 freebsd 9.2-release-p4 #0: tue apr 8 18:08:22 utc 2014 root@amd64-builder.daemonology.net:usrobjusrsrcsysgeneric amd64 '
    config_args='-ds -e -Dprefix=/usr/perl5.20.0'
    hint=recommended, useposix=true, d_sigaction=define
    useithreads=undef, usemultiplicity=undef
    use64bitint=define, use64bitall=define, uselongdouble=undef
    usemymalloc=n, bincompat5005=undef
  Compiler:
    cc='cc', ccflags ='-DHAS_FPSETMASK -DHAS_FLOATINGPOINT_H -fno-strict-aliasing -pipe -fstack-protector -I/usr/local/include',
    optimize='-O',
    cppflags='-DHAS_FPSETMASK -DHAS_FLOATINGPOINT_H -fno-strict-aliasing -pipe -fstack-protector -I/usr/local/include'
    ccversion='', gccversion='4.2.1 20070831 patched [FreeBSD]', gccosandvers=''
    intsize=4, longsize=8, ptrsize=8, doublesize=8, byteorder=12345678
    d_longlong=define, longlongsize=8, d_longdbl=define, longdblsize=16
    ivtype='long', ivsize=8, nvtype='double', nvsize=8, Off_t='off_t', lseeksize=8
    alignbytes=8, prototype=define
  Linker and Libraries:
    ld='cc', ldflags ='-Wl,-E  -fstack-protector -L/usr/local/lib'
    libpth=/usr/lib /usr/local/lib /usr/include/gcc/4.2 /usr/lib
    libs=-lgdbm -lm -lcrypt -lutil -lc
    perllibs=-lm -lcrypt -lutil -lc
    libc=, so=so, useshrplib=false, libperl=libperl.a
    gnulibc_version=''
  Dynamic Linking:
    dlsrc=dl_dlopen.xs, dlext=so, d_dlsymun=undef, ccdlflags=' '
    cccdlflags='-DPIC -fPIC', lddlflags='-shared  -L/usr/local/lib -fstack-protector'


Characteristics of this binary (from libperl): 
  Compile-time options: HAS_TIMES PERLIO_LAYERS PERL_DONT_CREATE_GVSV
                        PERL_HASH_FUNC_ONE_AT_A_TIME_HARD PERL_MALLOC_WRAP
                        PERL_NEW_COPY_ON_WRITE PERL_PRESERVE_IVUV
                        USE_64_BIT_ALL USE_64_BIT_INT USE_LARGE_FILES
                        USE_LOCALE USE_LOCALE_COLLATE USE_LOCALE_CTYPE
                        USE_LOCALE_NUMERIC USE_PERLIO USE_PERL_ATOF
  Built under freebsd
  Compiled at May 27 2014 13:55:26
  %ENV:
    PERL5LIB=""
    PERL5OPT=""
    PERL5_CPANPLUS_IS_RUNNING="23358"
    PERL5_CPAN_IS_RUNNING="23358"
    PERL5_CPAN_IS_RUNNING_IN_RECURSION="22644,23358"
    PERLDOC="-MPod::Perldoc::ToTextOverstrike"
    PERL_BATCH="yes"
    PERL_CANARY_STABILITY_NOPROMPT="1"
    PERL_CPAN_REPORTER_CONFIG="/var/tmp/cpansmoker-1023/2025022314/cpanreporter_000_config.ini"
    PERL_EXTUTILS_AUTOINSTALL="--defaultdeps"
    PERL_USE_UNSAFE_INC="1"
  @INC:
    /usr/perl5.20.0/lib/site_perl/5.20.0/amd64-freebsd
    /usr/perl5.20.0/lib/site_perl/5.20.0
    /usr/perl5.20.0/lib/5.20.0/amd64-freebsd
    /usr/perl5.20.0/lib/5.20.0
    .