Report for MooseX-SimpleConfig-0.11

Back
From: metabase:user:30977d10-2aae-11df-837a-5e0a49663a4f
Subject: PASS MooseX-SimpleConfig-0.11 v5.24.0 SunOS/Solaris
Date: 2016-12-24T17:15:56Z

This distribution has been tested as part of the CPAN Testers
project, supporting the Perl programming language.  See
http://wiki.cpantesters.org/ for more information or email
questions to cpan-testers-discuss@perl.org


--
Dear Karen Etheridge,

This is a computer-generated report for MooseX-SimpleConfig-0.11
on perl 5.24.0, created by CPAN-Reporter-1.2018.

Thank you for uploading your work to CPAN.  Congratulations!
All tests were successful.

Sections of this report:

    * Tester comments
    * Program output
    * Prerequisites
    * Environment and other context

------------------------------
TESTER COMMENTS
------------------------------

Additional comments from tester:

this report is from an automated smoke testing program
and was not reviewed by a human for accuracy

------------------------------
PROGRAM OUTPUT
------------------------------

Output from '/usr/bin/make test':

PERL_DL_NONLAZY=1 "/home/stro/perl/5.24.0/bin/perl" "-MExtUtils::Command::MM" "-MTest::Harness" "-e" "undef *Test::Harness::Switches; test_harness(0, 'blib/lib', 'blib/arch')" t/*.t
# 
# Versions for all modules listed in MYMETA.json (including optional ones):
# 
# === Configure Requires ===
# 
#     Module               Want  Have
#     ------------------- ----- -----
#     Module::Build::Tiny 0.039 0.039
# 
# === Build Requires ===
# 
#     Module              Want Have
#     ------------------- ---- ----
#     ExtUtils::MakeMaker  any 7.24
# 
# === Test Requires ===
# 
#     Module                Want     Have
#     --------------------- ---- --------
#     ExtUtils::MakeMaker    any     7.24
#     File::Spec             any     3.63
#     File::Spec::Functions  any     3.63
#     File::Temp             any   0.2304
#     Moose                  any   2.1807
#     Test::Fatal            any    0.014
#     Test::More            0.88 1.302071
#     lib                    any     0.63
#     strict                 any     1.11
#     warnings               any     1.36
# 
# === Test Recommends ===
# 
#     Module         Want     Have
#     ---------- -------- --------
#     CPAN::Meta 2.120900 2.150005
# 
# === Runtime Requires ===
# 
#     Module                 Want   Have
#     ---------------------- ---- ------
#     Config::Any            0.13   0.27
#     Moose::Role             any 2.1807
#     MooseX::ConfigFromFile  any   0.14
# 
# === Other Modules ===
# 
#     Module               Want Have
#     -------------------- ---- ----
#     Dist::CheckConflicts  any 0.11
# 
t/00-report-prereqs.t .. ok
t/01use.t .............. ok
t/10simple.t ........... ok
t/11default.t .......... ok
t/12config_any_args.t .. ok
t/multiple.t ........... ok
t/zzz-check-breaks.t ... ok
All tests successful.
Files=7, Tests=31,  5 wallclock secs ( 0.04 usr  0.02 sys +  3.11 cusr  0.37 csys =  3.54 CPU)
Result: PASS

------------------------------
PREREQUISITES
------------------------------

Prerequisite modules loaded:

requires:

    Module                 Need     Have    
    ---------------------- -------- --------
    Config::Any            0.13     0.27    
    Moose::Role            0        2.1807  
    MooseX::ConfigFromFile 0        0.14    
    perl                   5.006    5.024000

build_requires:

    Module                 Need     Have    
    ---------------------- -------- --------
    ExtUtils::MakeMaker    0        7.24    
    File::Spec             0        3.63    
    File::Spec::Functions  0        3.63    
    File::Temp             0        0.2304  
    lib                    0        0.63    
    Moose                  0        2.1807  
    strict                 0        1.11    
    Test::Fatal            0        0.014   
    Test::More             0.88     1.302071
    warnings               0        1.36    

configure_requires:

    Module                 Need     Have    
    ---------------------- -------- --------
    Module::Build::Tiny    0.039    0.039   
    perl                   5.004    5.024000

opt_build_requires:

    Module                 Need     Have    
    ---------------------- -------- --------
    CPAN::Meta             2.120900 2.150005


------------------------------
ENVIRONMENT AND OTHER CONTEXT
------------------------------

Environment variables:

    AUTOMATED_TESTING = 1
    LANG = en_US.UTF-8
    PATH = /usr/gnu/bin:/usr/bin:/usr/sbin:/sbin:/usr/sfw/bin:
    PERL5LIB = 
    PERL5OPT = 
    PERL5_CPANPLUS_IS_RUNNING = 29440
    PERL5_CPAN_IS_RUNNING = 29440
    PERL5_CPAN_IS_RUNNING_IN_RECURSION = 6659,29440
    PERL_CR_SMOKER_CURRENT = Catalyst-Runtime-5.90114
    PERL_EXTUTILS_AUTOINSTALL = --defaultdeps
    PERL_MM_USE_DEFAULT = 1
    SHELL = /bin/bash
    TERM = xterm

Perl special variables (and OS-specific diagnostics, for MSWin32):

    $^X = /home/stro/perl/5.24.0/bin/perl
    $UID/$EUID = 101 / 101
    $GID = 10 10
    $EGID = 10 10

Perl module toolchain versions installed:

    Module              Have    
    ------------------- --------
    CPAN                2.14    
    CPAN::Meta          2.150005
    Cwd                 3.63    
    ExtUtils::CBuilder  0.280225
    ExtUtils::Command   7.24    
    ExtUtils::Install   2.04    
    ExtUtils::MakeMaker 7.24    
    ExtUtils::Manifest  1.70    
    ExtUtils::ParseXS   3.31    
    File::Spec          3.63    
    JSON                2.90    
    JSON::PP            2.27300 
    Module::Build       0.4220  
    Module::Signature   n/a     
    Parse::CPAN::Meta   1.4417  
    Test::Harness       3.36    
    Test::More          1.302071
    YAML                1.21    
    YAML::Syck          1.29    
    version             0.9916  


--

Summary of my perl5 (revision 5 version 24 subversion 0) configuration:
   
  Platform:
    osname=solaris, osvers=2.11, archname=i86pc-solaris
    uname='sunos vm-openindiana-001 5.11 illumos-2816291 i86pc i386 i86pc '
    config_args='-Dcc=gcc'
    hint=recommended, useposix=true, d_sigaction=define
    useithreads=undef, usemultiplicity=undef
    use64bitint=undef, use64bitall=undef, uselongdouble=undef
    usemymalloc=n, bincompat5005=undef
  Compiler:
    cc='gcc', ccflags ='-fno-strict-aliasing -pipe -I/usr/gnu/include -D_LARGEFILE_SOURCE -D_FILE_OFFSET_BITS=64 -DPERL_USE_SAFE_PUTENV',
    optimize='-O',
    cppflags='-fno-strict-aliasing -pipe -I/usr/gnu/include'
    ccversion='', gccversion='3.4.3 (csl-sol210-3_4-20050802)', gccosandvers='solaris2.11'
    intsize=4, longsize=4, ptrsize=4, doublesize=8, byteorder=1234, doublekind=3
    d_longlong=define, longlongsize=8, d_longdbl=define, longdblsize=12, longdblkind=3
    ivtype='long', ivsize=4, nvtype='double', nvsize=8, Off_t='off_t', lseeksize=8
    alignbytes=4, prototype=define
  Linker and Libraries:
    ld='gcc', ldflags =' -L/usr/gnu/lib '
    libpth=/usr/gcc/3.4/lib /usr/lib /usr/gnu/lib /usr/ccs/lib
    libs=-lpthread -lsocket -lnsl -lgdbm -ldb -ldl -lm -lc
    perllibs=-lpthread -lsocket -lnsl -ldl -lm -lc
    libc=/lib/libc.so, so=so, useshrplib=true, libperl=libperl.so
    gnulibc_version=''
  Dynamic Linking:
    dlsrc=dl_dlopen.xs, dlext=so, d_dlsymun=undef, ccdlflags='  -R /home/stro/perl/5.24.0/lib/5.24.0/i86pc-solaris/CORE'
    cccdlflags='-fPIC', lddlflags='-shared -L/usr/gnu/lib'


Characteristics of this binary (from libperl): 
  Compile-time options: HAS_TIMES PERLIO_LAYERS PERL_COPY_ON_WRITE
                        PERL_DONT_CREATE_GVSV
                        PERL_HASH_FUNC_ONE_AT_A_TIME_HARD PERL_MALLOC_WRAP
                        PERL_PRESERVE_IVUV PERL_USE_SAFE_PUTENV
                        USE_LARGE_FILES USE_LOCALE USE_LOCALE_COLLATE
                        USE_LOCALE_CTYPE USE_LOCALE_NUMERIC USE_LOCALE_TIME
                        USE_PERLIO USE_PERL_ATOF
  Built under solaris
  Compiled at Dec 23 2016 13:07:54
  %ENV:
    PERL5LIB=""
    PERL5OPT=""
    PERL5_CPANPLUS_IS_RUNNING="29440"
    PERL5_CPAN_IS_RUNNING="29440"
    PERL5_CPAN_IS_RUNNING_IN_RECURSION="6659,29440"
    PERL_CR_SMOKER_CURRENT="Catalyst-Runtime-5.90114"
    PERL_EXTUTILS_AUTOINSTALL="--defaultdeps"
    PERL_MM_USE_DEFAULT="1"
  @INC:
    /home/stro/perl/5.24.0/lib/site_perl/5.24.0/i86pc-solaris
    /home/stro/perl/5.24.0/lib/site_perl/5.24.0
    /home/stro/perl/5.24.0/lib/5.24.0/i86pc-solaris
    /home/stro/perl/5.24.0/lib/5.24.0
    .