Report for Carp-Source-1.101420

Back
From: metabase:user:8286d1fc-3d52-11e2-9ec4-cb9cdd236785
Subject: PASS Carp-Source-1.101420 v5.11.1 GNU/Linux
Date: 2012-12-25T03:31:56Z

This distribution has been tested as part of the CPAN Testers
project, supporting the Perl programming language.  See
http://wiki.cpantesters.org/ for more information or email
questions to cpan-testers-discuss@perl.org


--
Dear Marcel Gruenauer,

This is a computer-generated report for Carp-Source-1.101420
on perl 5.11.1, created by CPAN-Reporter-1.2007.

Thank you for uploading your work to CPAN.  Congratulations!
All tests were successful.

Sections of this report:

    * Tester comments
    * Program output
    * Prerequisites
    * Environment and other context

------------------------------
TESTER COMMENTS
------------------------------

Additional comments from tester:

this report is from an automated smoke testing program
and was not reviewed by a human for accuracy

------------------------------
PROGRAM OUTPUT
------------------------------

Output from '/usr/bin/make test':

PERL_DL_NONLAZY=1 /opt/perl-5.11.1/bin/perl "-MExtUtils::Command::MM" "-e" "test_harness(0, 'blib/lib', 'blib/arch')" t/*.t
[19:31:44] t/00-compile.t ............... ok      495 ms
# Testing with Perl 5.011001, /opt/perl-5.11.1/bin/perl
#     Carp version is 1.26
#     English version is 1.04
#     Exporter version is 5.67
#     ExtUtils::MakeMaker version is 6.62
#     File::Find version is 1.14
#     File::Temp version is 0.22
#     Scalar::Util version is 1.25
#     Term::ANSIColor version is 3.02
#     Test::Differences version is 0.61
#     Test::More version is 0.98
#     utf8 version is 1.07
[19:31:45] t/000-report-versions.t ...... ok      686 ms
[19:31:45] t/01_context.t ............... ok      200 ms
[19:31:45] t/02_with_options.t .......... ok      213 ms
[19:31:45] t/author-critic.t ............ skipped: Test::Perl::Critic required to criticise code
[19:31:45] t/release-check-changes.t .... skipped: Test::CheckChanges required for testing changes
[19:31:45] t/release-dist-manifest.t .... skipped: Test::DistManifest required for testing the manifest
[19:31:46] t/release-distmeta.t ......... skipped: Test::CPAN::Meta required for testing META.yml
[19:31:46] t/release-has-version.t ...... skipped: Test::HasVersion required for testing version numbers
[19:31:46] t/release-kwalitee.t ......... skipped: Test::Kwalitee required for testing kwalitee
[19:31:46] t/release-minimum-version.t .. skipped: Test::MinimumVersion required for testing minimum versions
[19:31:47] t/release-pod-coverage.t ..... skipped: Pod::Coverage::TrustPod required for testing POD coverage
[19:31:48] t/release-pod-spell.t ........ skipped: Pod::Wordlist:hanekomu required for testing POD spelling
[19:31:48] t/release-pod-syntax.t ....... ok      356 ms
[19:31:49] t/release-portability.t ...... skipped: Test::Portability::Files required for testing portability
[19:31:49] t/release-synopsis.t ......... skipped: Test::Synopsis required for testing synopses
[19:31:49] t/release-unused-vars.t ...... skipped: Test::Vars required for testing unused vars
[19:31:49]
All tests successful.
Files=17, Tests=17,  6 wallclock secs ( 0.18 usr  0.04 sys +  2.44 cusr  0.44 csys =  3.10 CPU)
Result: PASS

------------------------------
PREREQUISITES
------------------------------

Prerequisite modules loaded:

requires:

    Module              Need Have
    ------------------- ---- ----
    Exporter            0    5.67
    Term::ANSIColor     0    3.02
    utf8                0    1.07

build_requires:

    Module              Need Have
    ------------------- ---- ----
    Carp                0    1.26
    English             0    1.04
    File::Find          0    1.14
    File::Temp          0    0.22
    Scalar::Util        0    1.25
    Test::Differences   0    0.61
    Test::More          0.94 0.98

configure_requires:

    Module              Need Have
    ------------------- ---- ----
    ExtUtils::MakeMaker 6.31 6.62


------------------------------
ENVIRONMENT AND OTHER CONTEXT
------------------------------

Environment variables:

    AUTHOR_TESTING = 1
    AUTOMATED_TESTING = 1
    LANG = en_US.UTF-8
    PATH = /usr/lib/qt-3.3/bin:/usr/kerberos/sbin:/usr/kerberos/bin:/usr/lib/ccache:/usr/local/sbin:/usr/local/bin:/sbin:/bin:/usr/sbin:/usr/bin:/usr/X11R6/bin:/usr/lib/alliance/bin:/root/bin:/usr/lib/alliance/bin
    PERL5LIB = /root/.cpan/build/Carp-Notify-1.10-krAxDr/blib/arch:/root/.cpan/build/Carp-Notify-1.10-krAxDr/blib/lib:/root/.cpan/build/Carp-Fix-1_25-1.000001-Bvw8du/blib/arch:/root/.cpan/build/Carp-Fix-1_25-1.000001-Bvw8du/blib/lib:/root/.cpan/build/Carp-Ensure-0.23-YpAMIn/blib/arch:/root/.cpan/build/Carp-Ensure-0.23-YpAMIn/blib/lib:/root/.cpan/build/Carp-Clan-Share-0.013-TeDzU1/blib/arch:/root/.cpan/build/Carp-Clan-Share-0.013-TeDzU1/blib/lib:/root/.cpan/build/Carp-Clan-6.04-wWncNz/blib/arch:/root/.cpan/build/Carp-Clan-6.04-wWncNz/blib/lib:/root/.cpan/build/Carp-Assert-More-1.14-6XrwXc/blib/arch:/root/.cpan/build/Carp-Assert-More-1.14-6XrwXc/blib/lib:/root/.cpan/build/Carp-Assert-0.20-a32HSo/blib/arch:/root/.cpan/build/Carp-Assert-0.20-a32HSo/blib/lib:/root/.cpan/build/Carp-1.26-_EfvzB/blib/arch:/root/.cpan/build/Carp-1.26-_EfvzB/blib/lib
    PERL5OPT = 
    PERL5_CPANPLUS_IS_RUNNING = 8190
    PERL5_CPAN_IS_RUNNING = 8190
    PERL5_CPAN_IS_RUNNING_IN_RECURSION = 1752,8190
    PERL_MM_USE_DEFAULT = 1
    PERL_TEST_POD = 0
    PERL_TEST_POD_COVERAGE = 0
    SHELL = /bin/bash
    TERM = xterm

Perl special variables (and OS-specific diagnostics, for MSWin32):

    $^X = /opt/perl-5.11.1/bin/perl
    $UID/$EUID = 0 / 0
    $GID = 0 0 1 2 3 4 6 10
    $EGID = 0 0 1 2 3 4 6 10

Perl module toolchain versions installed:

    Module              Have    
    ------------------- --------
    CPAN                1.9800  
    CPAN::Meta          2.120921
    Cwd                 3.33    
    ExtUtils::CBuilder  0.280205
    ExtUtils::Command   1.17    
    ExtUtils::Install   1.54    
    ExtUtils::MakeMaker 6.62    
    ExtUtils::Manifest  1.61    
    ExtUtils::ParseXS   3.18    
    File::Spec          3.33    
    JSON                2.53    
    JSON::PP            2.27200 
    Module::Build       0.4003  
    Module::Signature   n/a     
    Parse::CPAN::Meta   1.4404  
    Test::Harness       3.25    
    Test::More          0.98    
    YAML                0.84    
    YAML::Syck          1.22    
    version             0.9901  


--

Summary of my perl5 (revision 5 version 11 subversion 1) configuration:
   
  Platform:
    osname=linux, osvers=2.6.18-1.2798.fc6, archname=i686-linux-thread-multi-64int-ld
    uname='linux localhost.localdomain 2.6.18-1.2798.fc6 #1 smp mon oct 16 14:54:20 edt 2006 i686 i686 i386 gnulinux '
    config_args='-Dcc=gcc -Dprefix=/opt/perl-5.11.1 -DDEBUGGING'
    hint=recommended, useposix=true, d_sigaction=define
    useithreads=define, usemultiplicity=define
    useperlio=define, d_sfio=undef, uselargefiles=define, usesocks=undef
    use64bitint=define, use64bitall=undef, uselongdouble=define
    usemymalloc=y, bincompat5005=undef
  Compiler:
    cc='gcc', ccflags ='-D_REENTRANT -D_GNU_SOURCE -DDEBUGGING -fno-strict-aliasing -pipe -fstack-protector -I/usr/local/include -D_LARGEFILE_SOURCE -D_FILE_OFFSET_BITS=64',
    optimize='-O2 -g',
    cppflags='-D_REENTRANT -D_GNU_SOURCE -DDEBUGGING -fno-strict-aliasing -pipe -fstack-protector -I/usr/local/include'
    ccversion='', gccversion='4.1.2 20070626 (Red Hat 4.1.2-13)', gccosandvers=''
    intsize=4, longsize=4, ptrsize=4, doublesize=8, byteorder=12345678
    d_longlong=define, longlongsize=8, d_longdbl=define, longdblsize=12
    ivtype='long long', ivsize=8, nvtype='long double', nvsize=12, Off_t='off_t', lseeksize=8
    alignbytes=4, prototype=define
  Linker and Libraries:
    ld='gcc', ldflags =' -fstack-protector -L/usr/local/lib'
    libpth=/usr/local/lib /lib /usr/lib
    libs=-lnsl -ldb -ldl -lm -lcrypt -lutil -lpthread -lc
    perllibs=-lnsl -ldl -lm -lcrypt -lutil -lpthread -lc
    libc=/lib/libc-2.5.so, so=so, useshrplib=true, libperl=libperl.so
    gnulibc_version='2.5'
  Dynamic Linking:
    dlsrc=dl_dlopen.xs, dlext=so, d_dlsymun=undef, ccdlflags='-Wl,-E -Wl,-rpath,/opt/perl-5.11.1/lib/5.11.1/i686-linux-thread-multi-64int-ld/CORE'
    cccdlflags='-fPIC', lddlflags='-shared -O2 -g -L/usr/local/lib -fstack-protector'


Characteristics of this binary (from libperl): 
  Compile-time options: DEBUGGING MULTIPLICITY MYMALLOC PERL_DONT_CREATE_GVSV
                        PERL_IMPLICIT_CONTEXT PERL_MAD PERL_MALLOC_WRAP
                        PERL_TRACK_MEMPOOL USE_64_BIT_INT USE_FAST_STDIO
                        USE_ITHREADS USE_LARGE_FILES USE_LONG_DOUBLE
                        USE_PERLIO USE_REENTRANT_API
  Built under linux
  Compiled at Dec 12 2012 01:24:57
  %ENV:
    PERL5LIB="/root/.cpan/build/Carp-Notify-1.10-krAxDr/blib/arch:/root/.cpan/build/Carp-Notify-1.10-krAxDr/blib/lib:/root/.cpan/build/Carp-Fix-1_25-1.000001-Bvw8du/blib/arch:/root/.cpan/build/Carp-Fix-1_25-1.000001-Bvw8du/blib/lib:/root/.cpan/build/Carp-Ensure-0.23-YpAMIn/blib/arch:/root/.cpan/build/Carp-Ensure-0.23-YpAMIn/blib/lib:/root/.cpan/build/Carp-Clan-Share-0.013-TeDzU1/blib/arch:/root/.cpan/build/Carp-Clan-Share-0.013-TeDzU1/blib/lib:/root/.cpan/build/Carp-Clan-6.04-wWncNz/blib/arch:/root/.cpan/build/Carp-Clan-6.04-wWncNz/blib/lib:/root/.cpan/build/Carp-Assert-More-1.14-6XrwXc/blib/arch:/root/.cpan/build/Carp-Assert-More-1.14-6XrwXc/blib/lib:/root/.cpan/build/Carp-Assert-0.20-a32HSo/blib/arch:/root/.cpan/build/Carp-Assert-0.20-a32HSo/blib/lib:/root/.cpan/build/Carp-1.26-_EfvzB/blib/arch:/root/.cpan/build/Carp-1.26-_EfvzB/blib/lib"
    PERL5OPT=""
    PERL5_CPANPLUS_IS_RUNNING="8190"
    PERL5_CPAN_IS_RUNNING="8190"
    PERL5_CPAN_IS_RUNNING_IN_RECURSION="1752,8190"
    PERL_MM_USE_DEFAULT="1"
    PERL_TEST_POD="0"
    PERL_TEST_POD_COVERAGE="0"
  @INC:
    /root/.cpan/build/Carp-Notify-1.10-krAxDr/blib/arch
    /root/.cpan/build/Carp-Notify-1.10-krAxDr/blib/lib
    /root/.cpan/build/Carp-Fix-1_25-1.000001-Bvw8du/blib/arch
    /root/.cpan/build/Carp-Fix-1_25-1.000001-Bvw8du/blib/lib
    /root/.cpan/build/Carp-Ensure-0.23-YpAMIn/blib/arch
    /root/.cpan/build/Carp-Ensure-0.23-YpAMIn/blib/lib
    /root/.cpan/build/Carp-Clan-Share-0.013-TeDzU1/blib/arch
    /root/.cpan/build/Carp-Clan-Share-0.013-TeDzU1/blib/lib
    /root/.cpan/build/Carp-Clan-6.04-wWncNz/blib/arch
    /root/.cpan/build/Carp-Clan-6.04-wWncNz/blib/lib
    /root/.cpan/build/Carp-Assert-More-1.14-6XrwXc/blib/arch
    /root/.cpan/build/Carp-Assert-More-1.14-6XrwXc/blib/lib
    /root/.cpan/build/Carp-Assert-0.20-a32HSo/blib/arch
    /root/.cpan/build/Carp-Assert-0.20-a32HSo/blib/lib
    /root/.cpan/build/Carp-1.26-_EfvzB/blib/arch
    /root/.cpan/build/Carp-1.26-_EfvzB/blib/lib
    /opt/perl-5.11.1/lib/site_perl/5.11.1/i686-linux-thread-multi-64int-ld
    /opt/perl-5.11.1/lib/site_perl/5.11.1
    /opt/perl-5.11.1/lib/5.11.1/i686-linux-thread-multi-64int-ld
    /opt/perl-5.11.1/lib/5.11.1
    .