Report for Sys-Filesystem-1.405

Back
From: metabase:user:320bfe00-2aae-11df-837a-5e0a49663a4f
Subject: PASS Sys-Filesystem-1.405 v5.18.1 GNU/Linux
Date: 2013-12-26T13:42:59Z

This distribution has been tested as part of the CPAN Testers
project, supporting the Perl programming language.  See
http://wiki.cpantesters.org/ for more information or email
questions to cpan-testers-discuss@perl.org


--
Dear Jens Rehsack,

This is a computer-generated report for Sys-Filesystem-1.405
on perl 5.18.1, created by CPAN-Reporter-1.2010.

Thank you for uploading your work to CPAN.  Congratulations!
All tests were successful.

Sections of this report:

    * Tester comments
    * Program output
    * Prerequisites
    * Environment and other context

------------------------------
TESTER COMMENTS
------------------------------

Additional comments from tester:

this report is from an automated smoke testing program
and was not reviewed by a human for accuracy

------------------------------
PROGRAM OUTPUT
------------------------------

Output from '/usr/bin/make test':

PERL_DL_NONLAZY=1 /tmp/basesmoker-reloperl-9EWR/bin/perl "-MExtUtils::Command::MM" "-MTest::Harness" "-e" "undef *Test::Harness::Switches; test_harness(0, 'blib/lib', 'blib/arch')" t/*.t xt/*.t
# Testing Sys::Filesystem 1.405, Perl 5.018001 (/tmp/basesmoker-reloperl-9EWR/bin/perl) on linux-3.10-3-amd64
t/01_load.t ...... ok
# filesystem - mounted - special - device - options - format - volume - label - type
# / - 1 - 0 - /dev/mapper/k83-root - rw,relatime,discard,errors=remount-ro,data=ordered - ext4 - 1 - 1 - ext4
# /boot - 1 - 0 - /dev/sda1 - rw,relatime,errors=continue - ext2 - 1 - 1 - ext2
# /dev - 1 - 0 - udev - rw,relatime,size=10240k,nr_inodes=2037695,mode=755 - devtmpfs - 1 - 1 - devtmpfs
# /dev/pts - 1 - 1 - devpts - rw,nosuid,noexec,relatime,gid=5,mode=620,ptmxmode=000 - devpts - 1 - 1 - devpts
# /home - 1 - 0 - /dev/mapper/k83-home - rw,relatime,discard,data=ordered - ext4 - 1 - 1 - ext4
# /home/ftp - 1 - 0 - 192.168.0.85:/home/ftp - rw,nosuid,nodev,noatime,nodiratime,vers=3,rsize=32768,wsize=32768,namlen=255,acregmin=300,acregmax=300,acdirmin=300,acdirmax=300,hard,proto=tcp,timeo=600,retrans=2,sec=sys,mountaddr=192.168.0.85,mountvers=3,mountport=42643,mountproto=tcp,local_lock=none,addr=192.168.0.85 - nfs - 1 - 1 - nfs
# /home/sand - 1 - 0 - 192.168.0.85:/home/sand - rw,nosuid,nodev,noatime,nodiratime,vers=3,rsize=32768,wsize=32768,namlen=255,acregmin=300,acregmax=300,acdirmin=300,acdirmax=300,hard,proto=tcp,timeo=600,retrans=2,sec=sys,mountaddr=192.168.0.85,mountvers=3,mountport=42643,mountproto=tcp,local_lock=none,addr=192.168.0.85 - nfs - 1 - 1 - nfs
# /media/cdrom0 - 0 - 0 - /dev/sr0 - user,noauto -  - 1 - 1 - udf,iso9660
# /media/usb0 - 0 - 0 - /dev/sdb1 - rw,user,noauto -  - 1 - 1 - auto
# /media/usb1 - 0 - 0 - /dev/sdb2 - rw,user,noauto -  - 1 - 1 - auto
# /mnt/iozone - 1 - 0 - 192.168.0.85:/home/iozone - rw,relatime,vers=3,rsize=8192,wsize=8192,namlen=255,hard,proto=tcp,timeo=600,retrans=2,sec=sys,mountaddr=192.168.0.85,mountvers=3,mountport=49553,mountproto=udp,local_lock=none,addr=192.168.0.85 - nfs - 1 - 1 - nfs
# /proc - 1 - 1 - proc - rw,nosuid,nodev,noexec,relatime - proc - 1 - 1 - proc
# /proc/sys/fs/binfmt_misc - 1 - 1 - binfmt_misc - rw,nosuid,nodev,noexec,relatime - binfmt_misc - 1 - 1 - binfmt_misc
# /run - 1 - 1 - tmpfs - rw,nosuid,noexec,relatime,size=1630704k,mode=755 - tmpfs - 1 - 1 - tmpfs
# /run/lock - 1 - 1 - tmpfs - rw,nosuid,nodev,noexec,relatime,size=5120k - tmpfs - 1 - 1 - tmpfs
# /run/shm - 1 - 1 - tmpfs - rw,nosuid,nodev,noexec,relatime,size=3261400k - tmpfs - 1 - 1 - tmpfs
# /sys - 1 - 1 - sysfs - rw,nosuid,nodev,noexec,relatime - sysfs - 1 - 1 - sysfs
# /sys/fs/cgroup - 1 - 1 - none - rw,relatime,size=4k,mode=755 - tmpfs - 1 - 1 - tmpfs
# /sys/fs/cgroup/systemd - 1 - 0 - systemd - rw,nosuid,nodev,noexec,relatime,name=systemd - cgroup - 1 - 1 - cgroup
# /sys/fs/fuse/connections - 1 - 1 - fusectl - rw,relatime - fusectl - 1 - 1 - fusectl
# /tmp - 1 - 1 - tmpfs - rw,nosuid,nodev,relatime,size=12582912k - tmpfs - 1 - 1 - tmpfs
# /var/lib/nfs/rpc_pipefs - 1 - 0 - rpc_pipefs - rw,relatime - rpc_pipefs - 1 - 1 - rpc_pipefs
# none - 0 - 1 - /dev/mapper/k83-swap_1 - sw -  - 1 - 1 - swap
t/02_basic.t ..... ok
t/03_whereami.t .. ok
t/04_special.t ... ok
All tests successful.

Test Summary Report
-------------------
t/03_whereami.t (Wstat: 0 Tests: 3 Failed: 0)
  TODO passed:   2-3
Files=4, Tests=243,  0 wallclock secs ( 0.03 usr  0.01 sys +  0.17 cusr  0.02 csys =  0.23 CPU)
Result: PASS

------------------------------
PREREQUISITES
------------------------------

Prerequisite modules loaded:

requires:

    Module              Need     Have    
    ------------------- -------- --------
    Carp                0        1.32    
    FindBin             0        1.51    
    IO                  0        1.28    
    IPC::Cmd            0.80     0.90    
    Module::Pluggable   4.8      4.8     
    Params::Util        1.00     1.07    
    perl                5.008001 5.018001

build_requires:

    Module              Need     Have    
    ------------------- -------- --------
    Test::More          0.9      1.001002

configure_requires:

    Module              Need     Have    
    ------------------- -------- --------
    Carp                0        1.32    
    ExtUtils::MakeMaker 0        6.84    
    FindBin             0        1.51    
    IO                  0        1.28    
    IPC::Cmd            0.80     0.90    
    Module::Pluggable   4.8      4.8     
    Params::Util        1.00     1.07    
    perl                5.008001 5.018001


------------------------------
ENVIRONMENT AND OTHER CONTEXT
------------------------------

Environment variables:

    AUTOMATED_TESTING = 1
    LANG = en_US.UTF-8
    LANGUAGE = en_US:en
    PATH = /usr/lib/ccache:/home/sand/bin:/usr/local/bin:/usr/lib/ccache:/usr/bin:/bin:/usr/bin/X11:/usr/games:/usr/local/perl/bin:/usr/X11/bin:/sbin:/usr/sbin
    PERL5LIB = /tmp/loop_over_bdir-25912-rwE6Lx/Sepia-0.992-qGVL0Z/blib/arch:/tmp/loop_over_bdir-25912-rwE6Lx/Sepia-0.992-qGVL0Z/blib/lib:/tmp/loop_over_bdir-25912-rwE6Lx/ProjectBuilder-0.12.2-AEMpCA/blib/arch:/tmp/loop_over_bdir-25912-rwE6Lx/ProjectBuilder-0.12.2-AEMpCA/blib/lib:/tmp/loop_over_bdir-25912-rwE6Lx/Encode-IBM-0.11-MacMZ3/blib/arch:/tmp/loop_over_bdir-25912-rwE6Lx/Encode-IBM-0.11-MacMZ3/blib/lib:/tmp/loop_over_bdir-25912-rwE6Lx/FusionInventory-Agent-2.3.4-X_YwX2/blib/arch:/tmp/loop_over_bdir-25912-rwE6Lx/FusionInventory-Agent-2.3.4-X_YwX2/blib/lib
    PERL5OPT = 
    PERL5_CPANPLUS_IS_RUNNING = 4413
    PERL5_CPAN_IS_RUNNING = 4413
    PERL_MM_USE_DEFAULT = 1
    SHELL = /usr/bin/zsh
    TERM = screen

Perl special variables (and OS-specific diagnostics, for MSWin32):

    $^X = /tmp/basesmoker-reloperl-9EWR/bin/perl
    $UID/$EUID = 1005 / 1005
    $GID = 1005 1005
    $EGID = 1005 1005

Perl module toolchain versions installed:

    Module              Have    
    ------------------- --------
    CPAN                2.00    
    CPAN::Meta          2.133380
    Cwd                 3.40    
    ExtUtils::CBuilder  0.280212
    ExtUtils::Command   1.17    
    ExtUtils::Install   1.59    
    ExtUtils::MakeMaker 6.84    
    ExtUtils::Manifest  1.63    
    ExtUtils::ParseXS   3.22    
    File::Spec          3.40    
    JSON                2.90    
    JSON::PP            2.27203 
    Module::Build       0.4203  
    Module::Signature   0.73    
    Parse::CPAN::Meta   1.4409  
    Test::Harness       3.30    
    Test::More          1.001002
    YAML                0.88    
    YAML::Syck          1.27    
    version             0.9904  


--

Summary of my perl5 (revision 5 version 18 subversion 1) configuration:
  Commit id: 75c3005ee5b6ece3ad3c827cb300945f672c2bd1
  Platform:
    osname=linux, osvers=3.10-3-amd64, archname=x86_64-linux-thread-multi
    uname='linux k83 3.10-3-amd64 #1 smp debian 3.10.11-1 (2013-09-10) x86_64 gnulinux '
    config_args='-Dprefix=/home/sand/src/perl/repoperls/installed-perls/perl/v5.18.1/9980 -Dmyhostname=k83 -Dinstallusrbinperl=n -Uversiononly -Dusedevel -des -Ui_db -Duseithreads -Uuselongdouble -DDEBUGGING=-g'
    hint=recommended, useposix=true, d_sigaction=define
    useithreads=define, usemultiplicity=define
    useperlio=define, d_sfio=undef, uselargefiles=define, usesocks=undef
    use64bitint=define, use64bitall=define, uselongdouble=undef
    usemymalloc=n, bincompat5005=undef
  Compiler:
    cc='cc', ccflags ='-D_REENTRANT -D_GNU_SOURCE -fno-strict-aliasing -pipe -fstack-protector -I/usr/local/include -D_LARGEFILE_SOURCE -D_FILE_OFFSET_BITS=64',
    optimize='-O2 -g',
    cppflags='-D_REENTRANT -D_GNU_SOURCE -fno-strict-aliasing -pipe -fstack-protector -I/usr/local/include'
    ccversion='', gccversion='4.8.2', gccosandvers=''
    intsize=4, longsize=8, ptrsize=8, doublesize=8, byteorder=12345678
    d_longlong=define, longlongsize=8, d_longdbl=define, longdblsize=16
    ivtype='long', ivsize=8, nvtype='double', nvsize=8, Off_t='off_t', lseeksize=8
    alignbytes=8, prototype=define
  Linker and Libraries:
    ld='cc', ldflags =' -fstack-protector -L/usr/local/lib'
    libpth=/usr/local/lib /lib/x86_64-linux-gnu /lib/../lib /usr/lib/x86_64-linux-gnu /usr/lib/../lib /lib /usr/lib
    libs=-lnsl -lgdbm -ldb -ldl -lm -lcrypt -lutil -lpthread -lc -lgdbm_compat
    perllibs=-lnsl -ldl -lm -lcrypt -lutil -lpthread -lc
    libc=, so=so, useshrplib=false, libperl=libperl.a
    gnulibc_version='2.17'
  Dynamic Linking:
    dlsrc=dl_dlopen.xs, dlext=so, d_dlsymun=undef, ccdlflags='-Wl,-E'
    cccdlflags='-fPIC', lddlflags='-shared -O2 -g -L/usr/local/lib -fstack-protector'


Characteristics of this binary (from libperl): 
  Compile-time options: HAS_TIMES MULTIPLICITY PERLIO_LAYERS
                        PERL_DONT_CREATE_GVSV
                        PERL_HASH_FUNC_ONE_AT_A_TIME_HARD
                        PERL_IMPLICIT_CONTEXT PERL_MALLOC_WRAP
                        PERL_PRESERVE_IVUV PERL_SAWAMPERSAND PERL_USE_DEVEL
                        USE_64_BIT_ALL USE_64_BIT_INT USE_ITHREADS
                        USE_LARGE_FILES USE_LOCALE USE_LOCALE_COLLATE
                        USE_LOCALE_CTYPE USE_LOCALE_NUMERIC USE_PERLIO
                        USE_PERL_ATOF USE_REENTRANT_API
  Built under linux
  Compiled at Dec 25 2013 16:43:04
  %ENV:
    PERL5LIB="/tmp/loop_over_bdir-25912-rwE6Lx/Sepia-0.992-qGVL0Z/blib/arch:/tmp/loop_over_bdir-25912-rwE6Lx/Sepia-0.992-qGVL0Z/blib/lib:/tmp/loop_over_bdir-25912-rwE6Lx/ProjectBuilder-0.12.2-AEMpCA/blib/arch:/tmp/loop_over_bdir-25912-rwE6Lx/ProjectBuilder-0.12.2-AEMpCA/blib/lib:/tmp/loop_over_bdir-25912-rwE6Lx/Encode-IBM-0.11-MacMZ3/blib/arch:/tmp/loop_over_bdir-25912-rwE6Lx/Encode-IBM-0.11-MacMZ3/blib/lib:/tmp/loop_over_bdir-25912-rwE6Lx/FusionInventory-Agent-2.3.4-X_YwX2/blib/arch:/tmp/loop_over_bdir-25912-rwE6Lx/FusionInventory-Agent-2.3.4-X_YwX2/blib/lib"
    PERL5OPT=""
    PERL5_CPANPLUS_IS_RUNNING="4413"
    PERL5_CPAN_IS_RUNNING="4413"
    PERL_MM_USE_DEFAULT="1"
  @INC:
    /tmp/loop_over_bdir-25912-rwE6Lx/Sepia-0.992-qGVL0Z/blib/arch
    /tmp/loop_over_bdir-25912-rwE6Lx/Sepia-0.992-qGVL0Z/blib/lib
    /tmp/loop_over_bdir-25912-rwE6Lx/ProjectBuilder-0.12.2-AEMpCA/blib/arch
    /tmp/loop_over_bdir-25912-rwE6Lx/ProjectBuilder-0.12.2-AEMpCA/blib/lib
    /tmp/loop_over_bdir-25912-rwE6Lx/Encode-IBM-0.11-MacMZ3/blib/arch
    /tmp/loop_over_bdir-25912-rwE6Lx/Encode-IBM-0.11-MacMZ3/blib/lib
    /tmp/loop_over_bdir-25912-rwE6Lx/FusionInventory-Agent-2.3.4-X_YwX2/blib/arch
    /tmp/loop_over_bdir-25912-rwE6Lx/FusionInventory-Agent-2.3.4-X_YwX2/blib/lib
    /home/sand/src/perl/repoperls/installed-perls/perl/v5.18.1/9980/lib/site_perl/5.18.1/x86_64-linux-thread-multi
    /home/sand/src/perl/repoperls/installed-perls/perl/v5.18.1/9980/lib/site_perl/5.18.1
    /home/sand/src/perl/repoperls/installed-perls/perl/v5.18.1/9980/lib/5.18.1/x86_64-linux-thread-multi
    /home/sand/src/perl/repoperls/installed-perls/perl/v5.18.1/9980/lib/5.18.1
    .