Report for Pod-Weaver-Section-CollectWithIntro-0.001

Back
From: metabase:user:abb254b2-3be8-11e3-8d94-cfb689d8bafa
Subject: PASS Pod-Weaver-Section-CollectWithIntro-0.001 v5.8.9 GNU/Linux
Date: 2013-10-23T18:40:47Z

This distribution has been tested as part of the CPAN Testers
project, supporting the Perl programming language.  See
http://wiki.cpantesters.org/ for more information or email
questions to cpan-testers-discuss@perl.org


--
Dear RSRCHBOY,

This is a computer-generated report for Pod-Weaver-Section-CollectWithIntro-0.001
on perl 5.8.9, created by App::cpanminus::reporter 0.10 (1.7001).

Thank you for uploading your work to CPAN.  Congratulations!
All tests were successful.

Sections of this report:

    * Tester comments
    * Program output
    * Prerequisites
    * Environment and other context

------------------------------
TESTER COMMENTS
------------------------------

Additional comments from tester:

none provided

------------------------------
PROGRAM OUTPUT
------------------------------

Output from '':

Building and testing Pod-Weaver-Section-CollectWithIntro-0.001
cp lib/Pod/Weaver/Section/CollectWithIntro.pm blib/lib/Pod/Weaver/Section/CollectWithIntro.pm
Manifying blib/man3/Pod::Weaver::Section::CollectWithIntro.3
PERL_DL_NONLAZY=1 /root/perl5/perlbrew/perls/perl-5.8.9/bin/perl "-MExtUtils::Command::MM" "-MTest::Harness" "-e" "undef *Test::Harness::Switches; test_harness(0, 'blib/lib', 'blib/arch')" t/*.t
t/00-compile.t .................. ok
# 
# 
# Generated by Dist::Zilla::Plugin::ReportVersions::Tiny v1.08
# perl: 5.008009 (wanted 5.006) on linux from /root/perl5/perlbrew/perls/perl-5.8.9/bin/perl
# 
# ExtUtils::MakeMaker                           => 6.8        (want 6.30)   
# File::Find                                    => 1.13       (want any version)
# File::Temp                                    => 0.2304     (want any version)
# Moose                                         => 2.1005     (want any version)
# Moose::Autobox                                => 0.13       (want 0.10)   
# PPI                                           => 1.215      (want any version)
# Pod::Coverage::TrustPod                       => 0.100002   (want any version)
# Pod::Elemental                                => 0.102363   (want any version)
# Pod::Elemental::Element::Pod5::Ordinary       => 0.102363   (want any version)
# Pod::Elemental::Selectors                     => 0.102363   (want any version)
# Pod::Elemental::Transformer::Nester           => 0.102363   (want any version)
# Pod::Elemental::Transformer::Pod5             => 0.102363   (want any version)
# Pod::Weaver                                   => 3.101640   (want any version)
# Pod::Weaver::Section::Collect                 => 3.101640   (want any version)
# Test::Differences                             => 0.61       (want any version)
# Test::More                                    => 0.99       (want 0.88)   
# Test::Pod                                     => 1.48       (want 1.41)   
# Test::Pod::Coverage                           => 1.08       (want 1.08)   
# aliased                                       => 0.31       (want any version)
# autobox::Core                                 => 1.27       (want any version)
# namespace::autoclean                          => 0.14       (want any version)
# strict                                        => 1.03       (want any version)
# version                                       => 0.9904     (want 0.9901) 
# warnings                                      => 1.05_01    (want any version)
# 
# Thanks for using my code.  I hope it works for you.
# If not, please try and include this output in the bug report.
# That will help me reproduce the issue and solve your problem.
# 
t/000-report-versions-tiny.t .... ok
t/author-pod-spell.t ............ skipped: these tests are for testing by the author
t/basic.t ....................... ok
t/release-consistent-version.t .. skipped: these tests are for release candidate testing
t/release-eol.t ................. skipped: these tests are for release candidate testing
t/release-has-version.t ......... skipped: these tests are for release candidate testing
t/release-no-smart-comments.t ... skipped: these tests are for release candidate testing
t/release-no-tabs.t ............. skipped: these tests are for release candidate testing
t/release-pod-coverage.t ........ skipped: these tests are for release candidate testing
t/release-pod-syntax.t .......... skipped: these tests are for release candidate testing
t/release-portability.t ......... skipped: these tests are for release candidate testing
All tests successful.
Files=12, Tests=3,  4 wallclock secs ( 0.06 usr  0.07 sys +  3.65 cusr  0.40 csys =  4.18 CPU)
Result: PASS

------------------------------
PREREQUISITES
------------------------------

Prerequisite modules loaded:

runtime:

    Module                                  Need  Have    
    --------------------------------------- ----- --------
    aliased                                 0     0.31    
    autobox::Core                           0     1.27    
    Moose                                   0     2.1005  
    namespace::autoclean                    0     0.14    
    perl                                    5.006 5.008009
    Pod::Elemental::Element::Pod5::Ordinary 0     0.102363
    Pod::Weaver::Section::Collect           0     3.101640

configure:

    Module                                  Need  Have    
    --------------------------------------- ----- --------
    ExtUtils::MakeMaker                     6.30  6.80    


------------------------------
ENVIRONMENT AND OTHER CONTEXT
------------------------------

Environment variables:

    LANG = en_US.UTF-8
    PATH = /root/perl5/perlbrew/bin:/root/perl5/perlbrew/perls/perl-5.8.9/bin:/usr/local/sbin:/usr/local/bin:/usr/sbin:/usr/bin:/sbin:/bin:/usr/games
    PERLBREW_BASHRC_VERSION = 0.66
    PERLBREW_HOME = /root/.perlbrew
    PERLBREW_MANPATH = /root/perl5/perlbrew/perls/perl-5.8.9/man
    PERLBREW_PATH = /root/perl5/perlbrew/bin:/root/perl5/perlbrew/perls/perl-5.8.9/bin
    PERLBREW_PERL = perl-5.8.9
    PERLBREW_ROOT = /root/perl5/perlbrew
    PERLBREW_VERSION = 0.66
    SHELL = /bin/bash
    TERM = xterm

Perl special variables (and OS-specific diagnostics, for MSWin32):

    EGID = 0 0
    EUID = 0
    EXECUTABLE_NAME = /root/perl5/perlbrew/perls/perl-5.8.9/bin/perl
    GID = 0 0
    UID = 0

Perl module toolchain versions installed:

    Module              Have    
    ------------------- --------
    CPAN                2.00    
    CPAN::Meta          2.132830
    Cwd                 3.40    
    ExtUtils::CBuilder  0.280212
    ExtUtils::Command   1.16    
    ExtUtils::Install   1.54    
    ExtUtils::MakeMaker 6.80    
    ExtUtils::Manifest  1.60    
    ExtUtils::ParseXS   3.22    
    File::Spec          3.40    
    JSON                2.61    
    JSON::PP            2.27203 
    Module::Build       0.4007  
    Module::Signature   0.73    
    Parse::CPAN::Meta   1.4409  
    Test::Harness       3.29    
    Test::More          0.99    
    YAML                0.84    
    YAML::Syck          1.27    
    version             0.9904  


--

Summary of my perl5 (revision 5 version 8 subversion 9) configuration:
  Platform:
    osname=linux, osvers=3.10.13-jb1, archname=i686-linux
    uname='linux localhost 3.10.13-jb1 #3 smp fri oct 4 11:51:31 cest 2013 i686 i686 i386 gnulinux '
    config_args='-de -Dprefix=/root/perl5/perlbrew/perls/perl-5.8.9 -Aeval:scriptdir=/root/perl5/perlbrew/perls/perl-5.8.9/bin'
    hint=recommended, useposix=true, d_sigaction=define
    usethreads=undef use5005threads=undef useithreads=undef usemultiplicity=undef
    useperlio=define d_sfio=undef uselargefiles=define usesocks=undef
    use64bitint=undef use64bitall=undef uselongdouble=undef
    usemymalloc=n, bincompat5005=undef
  Compiler:
    cc='cc', ccflags ='-fno-strict-aliasing -pipe -I/usr/local/include -D_LARGEFILE_SOURCE -D_FILE_OFFSET_BITS=64',
    optimize='-O2',
    cppflags='-fno-strict-aliasing -pipe -I/usr/local/include'
    ccversion='', gccversion='4.6.3', gccosandvers=''
    intsize=4, longsize=4, ptrsize=4, doublesize=8, byteorder=1234
    d_longlong=define, longlongsize=8, d_longdbl=define, longdblsize=12
    ivtype='long', ivsize=4, nvtype='double', nvsize=8, Off_t='off_t', lseeksize=8
    alignbytes=4, prototype=define
  Linker and Libraries:
    ld='cc', ldflags =' -L/usr/local/lib'
    libpth=/usr/local/lib /lib/i386-linux-gnu /lib/../lib /usr/lib/i386-linux-gnu /usr/lib/../lib /lib /usr/lib
    libs=-lnsl -ldl -lm -lcrypt -lutil -lc
    perllibs=-lnsl -ldl -lm -lcrypt -lutil -lc
    libc=, so=so, useshrplib=false, libperl=libperl.a
    gnulibc_version='2.15'
  Dynamic Linking:
    dlsrc=dl_dlopen.xs, dlext=so, d_dlsymun=undef, ccdlflags='-Wl,-E'
    cccdlflags='-fPIC', lddlflags='-shared -O2 -L/usr/local/lib'


Characteristics of this binary (from libperl): 
  Compile-time options: PERL_MALLOC_WRAP USE_FAST_STDIO USE_LARGE_FILES
                        USE_PERLIO
  Built under linux
  Compiled at Oct 23 2013 15:31:43
  %ENV:
    PERLBREW_BASHRC_VERSION="0.66"
    PERLBREW_HOME="/root/.perlbrew"
    PERLBREW_MANPATH="/root/perl5/perlbrew/perls/perl-5.8.9/man"
    PERLBREW_PATH="/root/perl5/perlbrew/bin:/root/perl5/perlbrew/perls/perl-5.8.9/bin"
    PERLBREW_PERL="perl-5.8.9"
    PERLBREW_ROOT="/root/perl5/perlbrew"
    PERLBREW_VERSION="0.66"
  @INC:
    /root/perl5/perlbrew/perls/perl-5.8.9/lib/5.8.9/i686-linux
    /root/perl5/perlbrew/perls/perl-5.8.9/lib/5.8.9
    /root/perl5/perlbrew/perls/perl-5.8.9/lib/site_perl/5.8.9/i686-linux
    /root/perl5/perlbrew/perls/perl-5.8.9/lib/site_perl/5.8.9
    .