Back
From: metabase:user:30f4dfbe-2aae-11df-837a-5e0a49663a4f
Subject: PASS Interpolation-0.74 v5.16.3 SunOS/Solaris
Date: 2015-11-16T07:14:10Z
This distribution has been tested as part of the CPAN Testers
project, supporting the Perl programming language. See
http://wiki.cpantesters.org/ for more information or email
questions to cpan-testers-discuss@perl.org
--
Dear Jan Krynicky,
This is a computer-generated report for Interpolation-0.74
on perl 5.16.3, created by CPAN-Reporter-1.2014.
Thank you for uploading your work to CPAN. Congratulations!
All tests were successful.
Sections of this report:
* Tester comments
* Program output
* Prerequisites
* Environment and other context
------------------------------
TESTER COMMENTS
------------------------------
Additional comments from tester:
this report is from an automated smoke testing program
and was not reviewed by a human for accuracy
------------------------------
PROGRAM OUTPUT
------------------------------
Output from './Build test':
# Testing Interpolation 0.74, Perl 5.016003, /export/home/njh/perl5/perlbrew/perls/perl-5.16.3/bin/perl5.16.3
t/1.import.t ........... ok
# Testing Interpolation 0.74, Perl 5.016003, /export/home/njh/perl5/perlbrew/perls/perl-5.16.3/bin/perl5.16.3
t/2.builtin.t .......... ok
# Testing Interpolation 0.74, Perl 5.016003, /export/home/njh/perl5/perlbrew/perls/perl-5.16.3/bin/perl5.16.3
t/3.custom_types.t ..... ok
# Testing Interpolation 0.74, Perl 5.016003, /export/home/njh/perl5/perlbrew/perls/perl-5.16.3/bin/perl5.16.3
t/4.tie_to_lexicals.t .. ok
All tests successful.
Files=4, Tests=158, 1 wallclock secs ( 0.04 usr 0.03 sys + 0.09 cusr 0.04 csys = 0.20 CPU)
Result: PASS
------------------------------
PREREQUISITES
------------------------------
Prerequisite modules loaded:
build_requires:
Module Need Have
------------- -------- --------
Test::More 0 1.001014
configure_requires:
Module Need Have
------------- -------- --------
Module::Build 0.340201 0.4214
------------------------------
ENVIRONMENT AND OTHER CONTEXT
------------------------------
Environment variables:
AUTOMATED_TESTING = 1
LANG = en_US.utf8
LC_ALL =
LC_COLLATE =
LC_CTYPE =
LC_MESSAGES =
LC_MONETARY =
LC_NUMERIC =
LC_TIME =
PATH = /export/home/njh/perl5/perlbrew/bin:/export/home/njh/perl5/perlbrew/perls/perl-5.16.3/bin:/export/home/njh/perl5/perlbrew/bin:/export/home/njh/perl5/perlbrew/perls/perl-5.23.3/bin:::/export/home/njh/bin:/usr/local/bin:/usr/bin:/usr/sbin
PERL5LIB = /export/home/njh/.cpan/build/File-Find-Rule-0.33-4fhrYQ/blib/arch:/export/home/njh/.cpan/build/File-Find-Rule-0.33-4fhrYQ/blib/lib:/export/home/njh/.cpan/build/Number-Compare-0.03-60c6mp/blib/arch:/export/home/njh/.cpan/build/Number-Compare-0.03-60c6mp/blib/lib:/export/home/njh/.cpan/build/List-Compare-0.53-IgiP_0/blib/arch:/export/home/njh/.cpan/build/List-Compare-0.53-IgiP_0/blib/lib:/export/home/njh/.cpan/build/File-Slurp-9999.19-FTl4wz/blib/arch:/export/home/njh/.cpan/build/File-Slurp-9999.19-FTl4wz/blib/lib:/export/home/njh/.cpan/build/String-CamelCase-0.02-JNVS2Z/blib/arch:/export/home/njh/.cpan/build/String-CamelCase-0.02-JNVS2Z/blib/lib:/export/home/njh/.cpan/build/Carp-Always-0.13-U1wsiI/blib/arch:/export/home/njh/.cpan/build/Carp-Always-0.13-U1wsiI/blib/lib
PERL5OPT =
PERL5_CPANPLUS_IS_RUNNING = 19869
PERL5_CPAN_IS_RUNNING = 19869
PERL5_MINISMOKEBOX = 0.58
PERLBREW_BASHRC_VERSION = 0.73
PERLBREW_HOME = /export/home/njh/.perlbrew
PERLBREW_LIB =
PERLBREW_MANPATH = /export/home/njh/perl5/perlbrew/perls/perl-5.16.3/man
PERLBREW_PATH = /export/home/njh/perl5/perlbrew/bin:/export/home/njh/perl5/perlbrew/perls/perl-5.16.3/bin
PERLBREW_PERL = perl-5.16.3
PERLBREW_ROOT = /export/home/njh/perl5/perlbrew
PERLBREW_VERSION = 0.73
PERL_EXTUTILS_AUTOINSTALL = --defaultdeps
PERL_LOCAL_LIB_ROOT =
PERL_MM_USE_DEFAULT = 1
SHELL = /usr/bin/bash
TERM = xterm
TMPDIR = /tmp
Perl special variables (and OS-specific diagnostics, for MSWin32):
$^X = /export/home/njh/perl5/perlbrew/perls/perl-5.16.3/bin/perl5.16.3
$UID/$EUID = 100 / 100
$GID = 10 10
$EGID = 10 10
Perl module toolchain versions installed:
Module Have
------------------- --------
CPAN 2.10
CPAN::Meta 2.150005
Cwd 3.47
ExtUtils::CBuilder 0.280223
ExtUtils::Command 1.20
ExtUtils::Install 2.04
ExtUtils::MakeMaker 7.04
ExtUtils::Manifest 1.70
ExtUtils::ParseXS 3.24
File::Spec 3.47
JSON 2.90
JSON::PP 2.27300
Module::Build 0.4214
Module::Signature n/a
Parse::CPAN::Meta 1.4417
Test::Harness 3.35
Test::More 1.001014
YAML 1.15
YAML::Syck 1.29
version 0.99
--
Summary of my perl5 (revision 5 version 16 subversion 3) configuration:
Platform:
osname=solaris, osvers=2.11, archname=i86pc-solaris-thread-multi
uname='sunos solaris11.bandsman.co.uk 5.11 11.2 i86pc i386 i86pc '
config_args='-de -Dprefix=/export/home/njh/perl5/perlbrew/perls/perl-5.16.3 -Duseithreads -Dusemultiplicity -Dusedevel -Accflags=-O2 -W -Wformat=2 -Wswitch -Wshadow -Wwrite-strings -Wuninitialized -Wall -pipe -mtune=native -march=native -fomit-frame-pointer -msse2 -msse -mmmx -mfpmath=sse -D_FORTIFY_SOURCE=2 -Wpointer-arith -Wstrict-prototypes -fstack-protector -Wstack-protector -Wextra -Wbad-function-cast -Wcast-align -Wcast-qual -Wdisabled-optimization -Wendif-labels -Wfloat-equal -Wformat-nonliteral -Winline -Wmissing-declarations -Wmissing-prototypes -Wnested-externs -Wpointer-arith -Wundef -Wformat-security -ftree-vectorize -Acc=gcc -Aeval:scriptdir=/export/home/njh/perl5/perlbrew/perls/perl-5.16.3/bin'
hint=recommended, useposix=true, d_sigaction=define
useithreads=define, usemultiplicity=define
useperlio=define, d_sfio=undef, uselargefiles=define, usesocks=undef
use64bitint=undef, use64bitall=undef, uselongdouble=undef
usemymalloc=n, bincompat5005=undef
Compiler:
cc=' gcc', ccflags ='-D_REENTRANT -O2 -W -Wformat=2 -Wswitch -Wshadow -Wwrite-strings -Wuninitialized -Wall -pipe -mtune=native -march=native -fomit-frame-pointer -msse2 -msse -mmmx -mfpmath=sse -D_FORTIFY_SOURCE=2 -Wpointer-arith -Wstrict-prototypes -fstack-protector -Wstack-protector -Wextra -Wbad-function-cast -Wcast-align -Wcast-qual -Wdisabled-optimization -Wendif-labels -Wfloat-equal -Wformat-nonliteral -Winline -Wmissing-declarations -Wmissing-prototypes -Wnested-externs -Wpointer-arith -Wundef -Wformat-security -ftree-vectorize -fno-strict-aliasing -I/usr/gnu/include -D_LARGEFILE_SOURCE -D_FILE_OFFSET_BITS=64 -DPERL_USE_SAFE_PUTENV',
optimize='-O',
cppflags='-D_REENTRANT -O2 -W -Wformat=2 -Wswitch -Wshadow -Wwrite-strings -Wuninitialized -Wall -pipe -mtune=native -march=native -fomit-frame-pointer -msse2 -msse -mmmx -mfpmath=sse -D_FORTIFY_SOURCE=2 -Wpointer-arith -Wstrict-prototypes -fstack-protector -Wstack-protector -Wextra -Wbad-function-cast -Wcast-align -Wcast-qual -Wdisabled-optimization -Wendif-labels -Wfloat-equal -Wformat-nonliteral -Winline -Wmissing-declarations -Wmissing-prototypes -Wnested-externs -Wpointer-arith -Wundef -Wformat-security -ftree-vectorize -fno-strict-aliasing -I/usr/gnu/include'
ccversion='', gccversion='4.8.2', gccosandvers=''
intsize=4, longsize=4, ptrsize=4, doublesize=8, byteorder=1234
d_longlong=define, longlongsize=8, d_longdbl=define, longdblsize=12
ivtype='long', ivsize=4, nvtype='double', nvsize=8, Off_t='off_t', lseeksize=8
alignbytes=4, prototype=define
Linker and Libraries:
ld=' gcc', ldflags =' -fstack-protector -L/usr/gnu/lib '
libpth=/usr/gnu/lib /usr/lib /usr/ccs/lib
libs=-lsocket -lnsl -lgdbm -ldb -ldl -lm -lpthread -lc
perllibs=-lsocket -lnsl -ldl -lm -lpthread -lc
libc=/lib/libc.so, so=so, useshrplib=false, libperl=libperl.a
gnulibc_version=''
Dynamic Linking:
dlsrc=dl_dlopen.xs, dlext=so, d_dlsymun=undef, ccdlflags=' '
cccdlflags='-fPIC', lddlflags='-shared -L/usr/gnu/lib -fstack-protector'
Characteristics of this binary (from libperl):
Compile-time options: HAS_TIMES MULTIPLICITY PERLIO_LAYERS
PERL_DONT_CREATE_GVSV PERL_IMPLICIT_CONTEXT
PERL_MALLOC_WRAP PERL_PRESERVE_IVUV PERL_USE_DEVEL
PERL_USE_SAFE_PUTENV USE_ITHREADS USE_LARGE_FILES
USE_LOCALE USE_LOCALE_COLLATE USE_LOCALE_CTYPE
USE_LOCALE_NUMERIC USE_PERLIO USE_PERL_ATOF
USE_REENTRANT_API
Locally applied patches:
Devel::PatchPerl 1.34
Built under solaris
Compiled at May 3 2015 10:27:58
%ENV:
PERL5LIB="/export/home/njh/.cpan/build/File-Find-Rule-0.33-4fhrYQ/blib/arch:/export/home/njh/.cpan/build/File-Find-Rule-0.33-4fhrYQ/blib/lib:/export/home/njh/.cpan/build/Number-Compare-0.03-60c6mp/blib/arch:/export/home/njh/.cpan/build/Number-Compare-0.03-60c6mp/blib/lib:/export/home/njh/.cpan/build/List-Compare-0.53-IgiP_0/blib/arch:/export/home/njh/.cpan/build/List-Compare-0.53-IgiP_0/blib/lib:/export/home/njh/.cpan/build/File-Slurp-9999.19-FTl4wz/blib/arch:/export/home/njh/.cpan/build/File-Slurp-9999.19-FTl4wz/blib/lib:/export/home/njh/.cpan/build/String-CamelCase-0.02-JNVS2Z/blib/arch:/export/home/njh/.cpan/build/String-CamelCase-0.02-JNVS2Z/blib/lib:/export/home/njh/.cpan/build/Carp-Always-0.13-U1wsiI/blib/arch:/export/home/njh/.cpan/build/Carp-Always-0.13-U1wsiI/blib/lib"
PERL5OPT=""
PERL5_CPANPLUS_IS_RUNNING="19869"
PERL5_CPAN_IS_RUNNING="19869"
PERL5_MINISMOKEBOX="0.58"
PERLBREW_BASHRC_VERSION="0.73"
PERLBREW_HOME="/export/home/njh/.perlbrew"
PERLBREW_LIB=""
PERLBREW_MANPATH="/export/home/njh/perl5/perlbrew/perls/perl-5.16.3/man"
PERLBREW_PATH="/export/home/njh/perl5/perlbrew/bin:/export/home/njh/perl5/perlbrew/perls/perl-5.16.3/bin"
PERLBREW_PERL="perl-5.16.3"
PERLBREW_ROOT="/export/home/njh/perl5/perlbrew"
PERLBREW_VERSION="0.73"
PERL_EXTUTILS_AUTOINSTALL="--defaultdeps"
PERL_LOCAL_LIB_ROOT=""
PERL_MM_USE_DEFAULT="1"
@INC:
/export/home/njh/.cpan/build/File-Find-Rule-0.33-4fhrYQ/blib/arch
/export/home/njh/.cpan/build/File-Find-Rule-0.33-4fhrYQ/blib/lib
/export/home/njh/.cpan/build/Number-Compare-0.03-60c6mp/blib/arch
/export/home/njh/.cpan/build/Number-Compare-0.03-60c6mp/blib/lib
/export/home/njh/.cpan/build/List-Compare-0.53-IgiP_0/blib/arch
/export/home/njh/.cpan/build/List-Compare-0.53-IgiP_0/blib/lib
/export/home/njh/.cpan/build/File-Slurp-9999.19-FTl4wz/blib/arch
/export/home/njh/.cpan/build/File-Slurp-9999.19-FTl4wz/blib/lib
/export/home/njh/.cpan/build/String-CamelCase-0.02-JNVS2Z/blib/arch
/export/home/njh/.cpan/build/String-CamelCase-0.02-JNVS2Z/blib/lib
/export/home/njh/.cpan/build/Carp-Always-0.13-U1wsiI/blib/arch
/export/home/njh/.cpan/build/Carp-Always-0.13-U1wsiI/blib/lib
/export/home/njh/perl5/perlbrew/perls/perl-5.16.3/lib/site_perl/5.16.3/i86pc-solaris-thread-multi
/export/home/njh/perl5/perlbrew/perls/perl-5.16.3/lib/site_perl/5.16.3
/export/home/njh/perl5/perlbrew/perls/perl-5.16.3/lib/5.16.3/i86pc-solaris-thread-multi
/export/home/njh/perl5/perlbrew/perls/perl-5.16.3/lib/5.16.3
.