Report for App-rlibperl-0.700

Back
From: metabase:user:30f0bd62-2aae-11df-837a-5e0a49663a4f
Subject: PASS App-rlibperl-0.700 v5.12.4 NetBSD
Date: 2011-12-21T17:38:45Z

This distribution has been tested as part of the CPAN Testers
project, supporting the Perl programming language.  See
http://wiki.cpantesters.org/ for more information or email
questions to cpan-testers-discuss@perl.org


--
Dear Randy Stauner,

This is a computer-generated report for App-rlibperl-0.700
on perl 5.12.4, created by CPAN-Reporter-1.2002.

Thank you for uploading your work to CPAN.  Congratulations!
All tests were successful.

Sections of this report:

    * Tester comments
    * Program output
    * Prerequisites
    * Environment and other context

------------------------------
TESTER COMMENTS
------------------------------

Additional comments from tester:

this report is from an automated smoke testing program
and was not reviewed by a human for accuracy

------------------------------
PROGRAM OUTPUT
------------------------------

Output from '/usr/bin/make test':

PERL_DL_NONLAZY=1 /home/sts/cpansmoke/perl-5.12.4/bin/perl "-MExtUtils::Command::MM" "-e" "test_harness(0, 'blib/lib', 'blib/arch')" t/*.t
t/00-compile.t ................ ok
# 
# 
# perl: v5.12.4 (wanted 5.006) on netbsd from /home/sts/cpansmoke/perl-5.12.4/bin/perl
# 
# Config                                        => <undef>    (want any version)
# Cwd                                           => 3.33       (want any version)
# Exporter                                      => 5.64_01    (want any version)
# ExtUtils::MakeMaker                           => 6.56       (want 6.30)   
# File::Copy                                    => 2.18       (want any version)
# File::Find                                    => 1.15       (want any version)
# File::Path                                    => 2.08_01    (want any version)
# File::Spec::Functions                         => 3.33       (want any version)
# File::Temp                                    => 0.22       (want any version)
# FindBin                                       => 1.50       (want any version)
# Test::More                                    => 0.98       (want 0.88)   
# strict                                        => 1.04       (want any version)
# warnings                                      => 1.09       (want any version)
# 
# Thanks for using my code.  I hope it works for you.
# If not, please try and include this output in the bug report.
# That will help me reproduce the issue and solve you problem.
# 
t/000-report-versions-tiny.t .. ok
t/pipe.t ...................... ok
t/rbinperl.t .................. ok
t/rlibperl.t .................. ok
t/shebang.t ................... ok
All tests successful.
Files=6, Tests=15,  4 wallclock secs ( 0.06 usr  0.08 sys +  1.90 cusr  0.89 csys =  2.93 CPU)
Result: PASS

------------------------------
PREREQUISITES
------------------------------

Prerequisite modules loaded:

requires:

    Module                Need  Have    
    --------------------- ----- --------
    Config                0     0       
    File::Spec::Functions 0     3.33    
    FindBin               0     1.50    
    perl                  5.006 5.012004
    strict                0     1.04    
    warnings              0     1.09    

build_requires:

    Module                Need  Have    
    --------------------- ----- --------
    Cwd                   0     3.33    
    Exporter              0     5.64_01 
    File::Copy            0     2.18    
    File::Find            0     1.15    
    File::Path            0     2.08_01 
    File::Temp            0     0.22    
    Test::More            0.88  0.98    

configure_requires:

    Module                Need  Have    
    --------------------- ----- --------
    ExtUtils::MakeMaker   6.30  6.56    


------------------------------
ENVIRONMENT AND OTHER CONTEXT
------------------------------

Environment variables:

    AUTOMATED_TESTING = 1
    PATH = /home/sts/bin:/bin:/sbin:/usr/bin:/usr/sbin:/usr/X11R7/bin:/usr/X11R6/bin:/usr/pkg/bin:/usr/pkg/sbin:/usr/games:/usr/local/bin:/usr/local/sbin
    PERL5LIB = 
    PERL5OPT = 
    PERL5_CPANPLUS_IS_RUNNING = 24797
    PERL5_CPAN_IS_RUNNING = 24797
    PERL5_CPAN_IS_RUNNING_IN_RECURSION = 17080,24797
    PERL_CR_SMOKER_CURRENT = App-rlibperl-0.700
    PERL_EXTUTILS_AUTOINSTALL = --defaultdeps
    PERL_MM_USE_DEFAULT = 1
    SHELL = /usr/pkg/bin/bash
    TERM = screen
    TMPDIR = /home/sts/cpansmoke/tmp

Perl special variables (and OS-specific diagnostics, for MSWin32):

    $^X = /home/sts/cpansmoke/perl-5.12.4/bin/perl
    $UID/$EUID = 1000 / 1000
    $GID = 100 100 0
    $EGID = 100 100 0

Perl module toolchain versions installed:

    Module              Have    
    ------------------- --------
    CPAN                1.9800  
    CPAN::Meta          2.110930
    Cwd                 3.33    
    ExtUtils::CBuilder  0.280202
    ExtUtils::Command   1.16    
    ExtUtils::Install   1.55    
    ExtUtils::MakeMaker 6.56    
    ExtUtils::Manifest  1.57    
    ExtUtils::ParseXS   2.21    
    File::Spec          3.33    
    JSON                2.53    
    JSON::PP            2.27200 
    Module::Build       0.3800  
    Module::Signature   n/a     
    Parse::CPAN::Meta   1.4401  
    Test::Harness       3.23    
    Test::More          0.98    
    YAML                0.73    
    YAML::Syck          n/a     
    version             0.91    


--

Summary of my perl5 (revision 5 version 12 subversion 4) configuration:
   
  Platform:
    osname=netbsd, osvers=5.1, archname=i386-netbsd-thread-multi
    uname='netbsd cpansmoke2 5.1 netbsd 5.1 (xen3_domu) #0: sun nov 7 14:54:55 utc 2010 builds@b6.netbsd.org:homebuildsabnetbsd-5-1-releasei386201011061943z-objhomebuildsabnetbsd-5-1-releasesrcsysarchi386compilexen3_domu i386 '
    config_args='-des -Dusethreads -Dprefix=/home/sts/cpansmoke/perl-5.12.4'
    hint=recommended, useposix=true, d_sigaction=define
    useithreads=define, usemultiplicity=define
    useperlio=define, d_sfio=undef, uselargefiles=define, usesocks=undef
    use64bitint=undef, use64bitall=undef, uselongdouble=undef
    usemymalloc=y, bincompat5005=undef
  Compiler:
    cc='cc', ccflags ='-fno-strict-aliasing -pipe -fstack-protector -I/usr/pkg/include',
    optimize='-O',
    cppflags='-fno-strict-aliasing -pipe -fstack-protector -I/usr/pkg/include'
    ccversion='', gccversion='4.1.3 20080704 prerelease (NetBSD nb2 20081120)', gccosandvers=''
    intsize=4, longsize=4, ptrsize=4, doublesize=8, byteorder=1234
    d_longlong=define, longlongsize=8, d_longdbl=define, longdblsize=12
    ivtype='long', ivsize=4, nvtype='double', nvsize=8, Off_t='off_t', lseeksize=8
    alignbytes=4, prototype=define
  Linker and Libraries:
    ld='cc', ldflags =' -Wl,-rpath,/usr/pkg/lib -Wl,-rpath,/usr/local/lib -fstack-protector -L/usr/pkg/lib'
    libpth=/usr/pkg/lib /lib /usr/lib
    libs=-lm -lcrypt -lutil -lc -lposix -lpthread
    perllibs=-lm -lcrypt -lutil -lc -lposix -lpthread
    libc=/lib/libc.so, so=so, useshrplib=false, libperl=libperl.a
    gnulibc_version=''
  Dynamic Linking:
    dlsrc=dl_dlopen.xs, dlext=so, d_dlsymun=undef, ccdlflags='-Wl,-E '
    cccdlflags='-DPIC -fPIC ', lddlflags='--whole-archive -shared  -L/usr/pkg/lib -fstack-protector'


Characteristics of this binary (from libperl): 
  Compile-time options: MULTIPLICITY MYMALLOC PERL_DONT_CREATE_GVSV
                        PERL_IMPLICIT_CONTEXT USE_ITHREADS USE_LARGE_FILES
                        USE_PERLIO USE_PERL_ATOF USE_REENTRANT_API
  Built under netbsd
  Compiled at Jun 24 2011 21:23:41
  %ENV:
    PERL5LIB=""
    PERL5OPT=""
    PERL5_CPANPLUS_IS_RUNNING="24797"
    PERL5_CPAN_IS_RUNNING="24797"
    PERL5_CPAN_IS_RUNNING_IN_RECURSION="17080,24797"
    PERL_CR_SMOKER_CURRENT="App-rlibperl-0.700"
    PERL_EXTUTILS_AUTOINSTALL="--defaultdeps"
    PERL_MM_USE_DEFAULT="1"
  @INC:
    /home/sts/cpansmoke/perl-5.12.4/lib/site_perl/5.12.4/i386-netbsd-thread-multi
    /home/sts/cpansmoke/perl-5.12.4/lib/site_perl/5.12.4
    /home/sts/cpansmoke/perl-5.12.4/lib/5.12.4/i386-netbsd-thread-multi
    /home/sts/cpansmoke/perl-5.12.4/lib/5.12.4
    .