Report for Net-Jabber-1.30

Back
From: metabase:user:313dc9fe-2aae-11df-837a-5e0a49663a4f
Subject: PASS Net-Jabber-1.30 v5.14.2 GNU/Linux
Date: 2011-11-10T20:07:35Z

This distribution has been tested as part of the CPAN Testers
project, supporting the Perl programming language.  See
http://wiki.cpantesters.org/ for more information or email
questions to cpan-testers-discuss@perl.org


--
Dear Ryan Eatmon,

This is a computer-generated report for Net-Jabber-1.30
on perl 5.14.2, created by CPAN-Reporter-1.2002.

Thank you for uploading your work to CPAN.  Congratulations!
All tests were successful.

Sections of this report:

    * Tester comments
    * Program output
    * Prerequisites
    * Environment and other context

------------------------------
TESTER COMMENTS
------------------------------

Additional comments from tester:

this report is from an automated smoke testing program
and was not reviewed by a human for accuracy

------------------------------
PROGRAM OUTPUT
------------------------------

Output from '/usr/bin/make test':

PERL_DL_NONLAZY=1 /home/perl5142/perl/perl "-MExtUtils::Command::MM" "-e" "test_harness(0, 'blib/lib', 'blib/arch')" t/*.t
Use of uninitialized value $args{"file"} in lc at /home/perl5142/.cpan/build/Net-Jabber-1.30-Igr5h0/blib/lib/Net/Jabber/Debug.pm line 157.
t/1_load.t .................... ok
Use of uninitialized value $args{"file"} in lc at /home/perl5142/.cpan/build/Net-Jabber-1.30-Igr5h0/blib/lib/Net/Jabber/Debug.pm line 157.
t/2_client.t .................. ok
Use of uninitialized value $args{"file"} in lc at /home/perl5142/.cpan/build/Net-Jabber-1.30-Igr5h0/blib/lib/Net/Jabber/Debug.pm line 157.
t/iq.t ........................ ok
Use of uninitialized value $args{"file"} in lc at /home/perl5142/.cpan/build/Net-Jabber-1.30-Igr5h0/blib/lib/Net/Jabber/Debug.pm line 157.
t/jid.t ....................... ok
Use of uninitialized value $args{"file"} in lc at /home/perl5142/.cpan/build/Net-Jabber-1.30-Igr5h0/blib/lib/Net/Jabber/Debug.pm line 157.
t/message.t ................... ok
Use of uninitialized value $args{"file"} in lc at /home/perl5142/.cpan/build/Net-Jabber-1.30-Igr5h0/blib/lib/Net/Jabber/Debug.pm line 157.
t/parse_x_data.t .............. ok
Use of uninitialized value $args{"file"} in lc at /home/perl5142/.cpan/build/Net-Jabber-1.30-Igr5h0/blib/lib/Net/Jabber/Debug.pm line 157.
t/parse_x_delay.t ............. ok
Use of uninitialized value $args{"file"} in lc at /home/perl5142/.cpan/build/Net-Jabber-1.30-Igr5h0/blib/lib/Net/Jabber/Debug.pm line 157.
t/presence.t .................. ok
Use of uninitialized value $args{"file"} in lc at /home/perl5142/.cpan/build/Net-Jabber-1.30-Igr5h0/blib/lib/Net/Jabber/Debug.pm line 157.
t/protocol_definenamespace.t .. ok
Use of uninitialized value $args{"file"} in lc at /home/perl5142/.cpan/build/Net-Jabber-1.30-Igr5h0/blib/lib/Net/Jabber/Debug.pm line 157.
t/protocol_muc.t .............. ok
Use of uninitialized value $args{"file"} in lc at /home/perl5142/.cpan/build/Net-Jabber-1.30-Igr5h0/blib/lib/Net/Jabber/Debug.pm line 157.
t/protocol_rpc.t .............. ok
Use of uninitialized value $args{"file"} in lc at /home/perl5142/.cpan/build/Net-Jabber-1.30-Igr5h0/blib/lib/Net/Jabber/Debug.pm line 157.
t/query_agent.t ............... ok
Use of uninitialized value $args{"file"} in lc at /home/perl5142/.cpan/build/Net-Jabber-1.30-Igr5h0/blib/lib/Net/Jabber/Debug.pm line 157.
t/query_agents.t .............. ok
Use of uninitialized value $args{"file"} in lc at /home/perl5142/.cpan/build/Net-Jabber-1.30-Igr5h0/blib/lib/Net/Jabber/Debug.pm line 157.
t/query_auth.t ................ ok
Use of uninitialized value $args{"file"} in lc at /home/perl5142/.cpan/build/Net-Jabber-1.30-Igr5h0/blib/lib/Net/Jabber/Debug.pm line 157.
t/query_autoupdate.t .......... ok
Use of uninitialized value $args{"file"} in lc at /home/perl5142/.cpan/build/Net-Jabber-1.30-Igr5h0/blib/lib/Net/Jabber/Debug.pm line 157.
t/query_browse.t .............. ok
Use of uninitialized value $args{"file"} in lc at /home/perl5142/.cpan/build/Net-Jabber-1.30-Igr5h0/blib/lib/Net/Jabber/Debug.pm line 157.
t/query_bytestreams.t ......... ok
Use of uninitialized value $args{"file"} in lc at /home/perl5142/.cpan/build/Net-Jabber-1.30-Igr5h0/blib/lib/Net/Jabber/Debug.pm line 157.
t/query_commands.t ............ ok
Use of uninitialized value $args{"file"} in lc at /home/perl5142/.cpan/build/Net-Jabber-1.30-Igr5h0/blib/lib/Net/Jabber/Debug.pm line 157.
t/query_conference.t .......... ok
Use of uninitialized value $args{"file"} in lc at /home/perl5142/.cpan/build/Net-Jabber-1.30-Igr5h0/blib/lib/Net/Jabber/Debug.pm line 157.
t/query_disco_info.t .......... ok
Use of uninitialized value $args{"file"} in lc at /home/perl5142/.cpan/build/Net-Jabber-1.30-Igr5h0/blib/lib/Net/Jabber/Debug.pm line 157.
t/query_disco_items.t ......... ok
Use of uninitialized value $args{"file"} in lc at /home/perl5142/.cpan/build/Net-Jabber-1.30-Igr5h0/blib/lib/Net/Jabber/Debug.pm line 157.
t/query_featureneg.t .......... ok
Use of uninitialized value $args{"file"} in lc at /home/perl5142/.cpan/build/Net-Jabber-1.30-Igr5h0/blib/lib/Net/Jabber/Debug.pm line 157.
t/query_filter.t .............. ok
Use of uninitialized value $args{"file"} in lc at /home/perl5142/.cpan/build/Net-Jabber-1.30-Igr5h0/blib/lib/Net/Jabber/Debug.pm line 157.
t/query_gateway.t ............. ok
Use of uninitialized value $args{"file"} in lc at /home/perl5142/.cpan/build/Net-Jabber-1.30-Igr5h0/blib/lib/Net/Jabber/Debug.pm line 157.
t/query_last.t ................ ok
Use of uninitialized value $args{"file"} in lc at /home/perl5142/.cpan/build/Net-Jabber-1.30-Igr5h0/blib/lib/Net/Jabber/Debug.pm line 157.
t/query_muc_admin.t ........... ok
Use of uninitialized value $args{"file"} in lc at /home/perl5142/.cpan/build/Net-Jabber-1.30-Igr5h0/blib/lib/Net/Jabber/Debug.pm line 157.
t/query_oob.t ................. ok
Use of uninitialized value $args{"file"} in lc at /home/perl5142/.cpan/build/Net-Jabber-1.30-Igr5h0/blib/lib/Net/Jabber/Debug.pm line 157.
t/query_pass.t ................ ok
Use of uninitialized value $args{"file"} in lc at /home/perl5142/.cpan/build/Net-Jabber-1.30-Igr5h0/blib/lib/Net/Jabber/Debug.pm line 157.
t/query_pubsub.t .............. ok
Use of uninitialized value $args{"file"} in lc at /home/perl5142/.cpan/build/Net-Jabber-1.30-Igr5h0/blib/lib/Net/Jabber/Debug.pm line 157.
t/query_pubsub_event.t ........ ok
Use of uninitialized value $args{"file"} in lc at /home/perl5142/.cpan/build/Net-Jabber-1.30-Igr5h0/blib/lib/Net/Jabber/Debug.pm line 157.
t/query_pubsub_owner.t ........ ok
Use of uninitialized value $args{"file"} in lc at /home/perl5142/.cpan/build/Net-Jabber-1.30-Igr5h0/blib/lib/Net/Jabber/Debug.pm line 157.
t/query_register.t ............ ok
Use of uninitialized value $args{"file"} in lc at /home/perl5142/.cpan/build/Net-Jabber-1.30-Igr5h0/blib/lib/Net/Jabber/Debug.pm line 157.
t/query_roster.t .............. ok
Use of uninitialized value $args{"file"} in lc at /home/perl5142/.cpan/build/Net-Jabber-1.30-Igr5h0/blib/lib/Net/Jabber/Debug.pm line 157.
t/query_rpc.t ................. ok
Use of uninitialized value $args{"file"} in lc at /home/perl5142/.cpan/build/Net-Jabber-1.30-Igr5h0/blib/lib/Net/Jabber/Debug.pm line 157.
t/query_search.t .............. ok
Use of uninitialized value $args{"file"} in lc at /home/perl5142/.cpan/build/Net-Jabber-1.30-Igr5h0/blib/lib/Net/Jabber/Debug.pm line 157.
t/query_si.t .................. ok
Use of uninitialized value $args{"file"} in lc at /home/perl5142/.cpan/build/Net-Jabber-1.30-Igr5h0/blib/lib/Net/Jabber/Debug.pm line 157.
t/query_si_filetrans.t ........ ok
Use of uninitialized value $args{"file"} in lc at /home/perl5142/.cpan/build/Net-Jabber-1.30-Igr5h0/blib/lib/Net/Jabber/Debug.pm line 157.
t/query_soap.t ................ ok
Use of uninitialized value $args{"file"} in lc at /home/perl5142/.cpan/build/Net-Jabber-1.30-Igr5h0/blib/lib/Net/Jabber/Debug.pm line 157.
t/query_time.t ................ ok
Use of uninitialized value $args{"file"} in lc at /home/perl5142/.cpan/build/Net-Jabber-1.30-Igr5h0/blib/lib/Net/Jabber/Debug.pm line 157.
t/query_version.t ............. ok
Use of uninitialized value $args{"file"} in lc at /home/perl5142/.cpan/build/Net-Jabber-1.30-Igr5h0/blib/lib/Net/Jabber/Debug.pm line 157.
t/rawxml.t .................... ok
Use of uninitialized value $args{"file"} in lc at /home/perl5142/.cpan/build/Net-Jabber-1.30-Igr5h0/blib/lib/Net/Jabber/Debug.pm line 157.
t/x_autoupdate.t .............. ok
Use of uninitialized value $args{"file"} in lc at /home/perl5142/.cpan/build/Net-Jabber-1.30-Igr5h0/blib/lib/Net/Jabber/Debug.pm line 157.
t/x_conference.t .............. ok
Use of uninitialized value $args{"file"} in lc at /home/perl5142/.cpan/build/Net-Jabber-1.30-Igr5h0/blib/lib/Net/Jabber/Debug.pm line 157.
t/x_data.t .................... ok
Use of uninitialized value $args{"file"} in lc at /home/perl5142/.cpan/build/Net-Jabber-1.30-Igr5h0/blib/lib/Net/Jabber/Debug.pm line 157.
t/x_delay.t ................... ok
Use of uninitialized value $args{"file"} in lc at /home/perl5142/.cpan/build/Net-Jabber-1.30-Igr5h0/blib/lib/Net/Jabber/Debug.pm line 157.
t/x_encrypted.t ............... ok
Use of uninitialized value $args{"file"} in lc at /home/perl5142/.cpan/build/Net-Jabber-1.30-Igr5h0/blib/lib/Net/Jabber/Debug.pm line 157.
t/x_expire.t .................. ok
Use of uninitialized value $args{"file"} in lc at /home/perl5142/.cpan/build/Net-Jabber-1.30-Igr5h0/blib/lib/Net/Jabber/Debug.pm line 157.
t/x_muc.t ..................... ok
Use of uninitialized value $args{"file"} in lc at /home/perl5142/.cpan/build/Net-Jabber-1.30-Igr5h0/blib/lib/Net/Jabber/Debug.pm line 157.
t/x_muc_user.t ................ ok
Use of uninitialized value $args{"file"} in lc at /home/perl5142/.cpan/build/Net-Jabber-1.30-Igr5h0/blib/lib/Net/Jabber/Debug.pm line 157.
t/x_oob.t ..................... ok
Use of uninitialized value $args{"file"} in lc at /home/perl5142/.cpan/build/Net-Jabber-1.30-Igr5h0/blib/lib/Net/Jabber/Debug.pm line 157.
t/x_roster.t .................. ok
Use of uninitialized value $args{"file"} in lc at /home/perl5142/.cpan/build/Net-Jabber-1.30-Igr5h0/blib/lib/Net/Jabber/Debug.pm line 157.
t/x_signed.t .................. ok
All tests successful.
Files=52, Tests=3243, 18 wallclock secs ( 0.39 usr  0.15 sys +  6.92 cusr  0.75 csys =  8.21 CPU)
Result: PASS

------------------------------
PREREQUISITES
------------------------------

Prerequisite modules loaded:

requires:

    Module              Need Have   
    ------------------- ---- -------
    Digest::SHA1        1.02 2.13   
    XML::Stream         1.17 1.23   

build_requires:

    Module              Need Have   
    ------------------- ---- -------
    ExtUtils::MakeMaker 0    6.57_05


------------------------------
ENVIRONMENT AND OTHER CONTEXT
------------------------------

Environment variables:

    AUTOMATED_TESTING = 1
    LANG = en_US.UTF-8
    PATH = /usr/local/sbin:/usr/local/bin:/usr/sbin:/usr/bin:/sbin:/bin:/usr/games
    PERL5LIB = /home/perl5142/.cpan/build/XML-Stream-1.23-wInvny/blib/arch:/home/perl5142/.cpan/build/XML-Stream-1.23-wInvny/blib/lib:/home/perl5142/.cpan/build/Authen-SASL-2.15-zYkdpK/blib/arch:/home/perl5142/.cpan/build/Authen-SASL-2.15-zYkdpK/blib/lib:/home/perl5142/.cpan/build/Digest-HMAC-1.03-v8g5qL/blib/arch:/home/perl5142/.cpan/build/Digest-HMAC-1.03-v8g5qL/blib/lib:/home/perl5142/.cpan/build/Digest-SHA1-2.13-Oeg5zT/blib/arch:/home/perl5142/.cpan/build/Digest-SHA1-2.13-Oeg5zT/blib/lib
    PERL5OPT = 
    PERL5_CPANPLUS_IS_RUNNING = 9585
    PERL5_CPAN_IS_RUNNING = 9585
    PERL5_CPAN_IS_RUNNING_IN_RECURSION = 7145,9585
    PERL_CR_SMOKER_CURRENT = Net-Jabber-1.30
    PERL_EXTUTILS_AUTOINSTALL = --defaultdeps
    PERL_MM_USE_DEFAULT = 1
    SHELL = /bin/bash
    TERM = xterm

Perl special variables (and OS-specific diagnostics, for MSWin32):

    $^X = /home/perl5142/perl/perl
    $UID/$EUID = 1010 / 1010
    $GID = 1014 1014
    $EGID = 1014 1014

Perl module toolchain versions installed:

    Module              Have     
    ------------------- ---------
    CPAN                1.9600_01
    CPAN::Meta          2.110440 
    Cwd                 3.36     
    ExtUtils::CBuilder  0.280203 
    ExtUtils::Command   1.17     
    ExtUtils::Install   1.56     
    ExtUtils::MakeMaker 6.57_05  
    ExtUtils::Manifest  1.58     
    ExtUtils::ParseXS   2.2210   
    File::Spec          3.33     
    JSON                n/a      
    JSON::PP            2.27105  
    Module::Build       0.3800   
    Module::Signature   n/a      
    Parse::CPAN::Meta   1.4401   
    Test::Harness       3.23     
    Test::More          0.98     
    YAML                0.77     
    YAML::Syck          broken   
    version             0.94     


--

Summary of my perl5 (revision 5 version 14 subversion 2) configuration:
   
  Platform:
    osname=linux, osvers=2.6.38-8-generic-pae, archname=i686-linux
    uname='linux higgsboson 2.6.38-8-generic-pae #42-ubuntu smp mon apr 11 05:17:09 utc 2011 i686 i686 i386 gnulinux '
    config_args=''
    hint=recommended, useposix=true, d_sigaction=define
    useithreads=undef, usemultiplicity=undef
    useperlio=define, d_sfio=undef, uselargefiles=define, usesocks=undef
    use64bitint=undef, use64bitall=undef, uselongdouble=undef
    usemymalloc=n, bincompat5005=undef
  Compiler:
    cc='cc', ccflags ='-fno-strict-aliasing -pipe -fstack-protector -I/usr/local/include -D_LARGEFILE_SOURCE -D_FILE_OFFSET_BITS=64',
    optimize='-O2',
    cppflags='-fno-strict-aliasing -pipe -fstack-protector -I/usr/local/include'
    ccversion='', gccversion='4.5.2', gccosandvers=''
    intsize=4, longsize=4, ptrsize=4, doublesize=8, byteorder=1234
    d_longlong=define, longlongsize=8, d_longdbl=define, longdblsize=12
    ivtype='long', ivsize=4, nvtype='double', nvsize=8, Off_t='off_t', lseeksize=8
    alignbytes=4, prototype=define
  Linker and Libraries:
    ld='cc', ldflags =' -fstack-protector -L/usr/local/lib'
    libpth=/usr/local/lib /lib /usr/lib /usr/lib/i386-linux-gnu /usr/lib64
    libs=-lnsl -ldl -lm -lcrypt -lutil -lc -lrt
    perllibs=-lnsl -ldl -lm -lcrypt -lutil -lc -lrt
    libc=, so=so, useshrplib=false, libperl=libperl.a
    gnulibc_version='2.13'
  Dynamic Linking:
    dlsrc=dl_dlopen.xs, dlext=so, d_dlsymun=undef, ccdlflags='-Wl,-E'
    cccdlflags='-fPIC', lddlflags='-shared -O2 -L/usr/local/lib -fstack-protector'


Characteristics of this binary (from libperl): 
  Compile-time options: PERL_DONT_CREATE_GVSV PERL_MALLOC_WRAP
                        PERL_PRESERVE_IVUV USE_LARGE_FILES USE_PERLIO
                        USE_PERL_ATOF
  Built under linux
  Compiled at Oct 27 2011 16:21:12
  %ENV:
    PERL5LIB="/home/perl5142/.cpan/build/XML-Stream-1.23-wInvny/blib/arch:/home/perl5142/.cpan/build/XML-Stream-1.23-wInvny/blib/lib:/home/perl5142/.cpan/build/Authen-SASL-2.15-zYkdpK/blib/arch:/home/perl5142/.cpan/build/Authen-SASL-2.15-zYkdpK/blib/lib:/home/perl5142/.cpan/build/Digest-HMAC-1.03-v8g5qL/blib/arch:/home/perl5142/.cpan/build/Digest-HMAC-1.03-v8g5qL/blib/lib:/home/perl5142/.cpan/build/Digest-SHA1-2.13-Oeg5zT/blib/arch:/home/perl5142/.cpan/build/Digest-SHA1-2.13-Oeg5zT/blib/lib"
    PERL5OPT=""
    PERL5_CPANPLUS_IS_RUNNING="9585"
    PERL5_CPAN_IS_RUNNING="9585"
    PERL5_CPAN_IS_RUNNING_IN_RECURSION="7145,9585"
    PERL_CR_SMOKER_CURRENT="Net-Jabber-1.30"
    PERL_EXTUTILS_AUTOINSTALL="--defaultdeps"
    PERL_MM_USE_DEFAULT="1"
  @INC:
    /home/perl5142/.cpan/build/XML-Stream-1.23-wInvny/blib/arch
    /home/perl5142/.cpan/build/XML-Stream-1.23-wInvny/blib/lib
    /home/perl5142/.cpan/build/Authen-SASL-2.15-zYkdpK/blib/arch
    /home/perl5142/.cpan/build/Authen-SASL-2.15-zYkdpK/blib/lib
    /home/perl5142/.cpan/build/Digest-HMAC-1.03-v8g5qL/blib/arch
    /home/perl5142/.cpan/build/Digest-HMAC-1.03-v8g5qL/blib/lib
    /home/perl5142/.cpan/build/Digest-SHA1-2.13-Oeg5zT/blib/arch
    /home/perl5142/.cpan/build/Digest-SHA1-2.13-Oeg5zT/blib/lib
    /home/perl5142/perl/lib
    /home/perl5142/perl/lib
    .