Mojo-Redis2 v0.29 Perl 5 v5.10.1 x86_64-linux

Status
Pass
From
Slaven Rezić (SREZIC)
Dist
Mojo-Redis2 v0.29
Platform
Perl 5 v5.10.1 x86_64-linux
Date
2017-11-20 02:22:18
ID
a18d885c-cd99-11e7-a57e-eec4fd3b2ebf
This distribution has been tested as part of the CPAN Testers
project, supporting the Perl programming language.  See
http://wiki.cpantesters.org/ for more information or email
questions to cpan-testers-discuss@perl.org


--
Dear Dan Book,

This is a computer-generated report for Mojo-Redis2-0.29
on perl 5.10.1, created by CPAN-Reporter-1.2018.

Thank you for uploading your work to CPAN.  Congratulations!
All tests were successful.

Sections of this report:

    * Tester comments
    * Program output
    * Prerequisites
    * Environment and other context

------------------------------
TESTER COMMENTS
------------------------------

Additional comments from tester:

none provided

------------------------------
PROGRAM OUTPUT
------------------------------

Output from 'make test':

PERL_DL_NONLAZY=1 "/opt/perl-5.10.1/bin/perl5.10.1" "-MExtUtils::Command::MM" "-MTest::Harness" "-e" "undef *Test::Harness::Switches; test_harness(0, 'blib/lib', 'blib/arch')" t/*.t
t/00-basic.t .............. ok
t/all-basic-operations.t .. skipped: Failed to start redis-server: exit=2, signal=0, dump=0 at /home/cpansand/.cpan/build/2017112000/Mojo-Redis2-0.29-5/blib/lib/Mojo/Redis2/Server.pm line 90.
t/backend.t ............... skipped: Failed to start redis-server: exit=2, signal=0, dump=0 at /home/cpansand/.cpan/build/2017112000/Mojo-Redis2-0.29-5/blib/lib/Mojo/Redis2/Server.pm line 90.
t/basic-operations.t ...... skipped: Failed to start redis-server: exit=2, signal=0, dump=0 at /home/cpansand/.cpan/build/2017112000/Mojo-Redis2-0.29-5/blib/lib/Mojo/Redis2/Server.pm line 90.
t/blocking-operations.t ... skipped: Failed to start redis-server: exit=2, signal=0, dump=0 at /home/cpansand/.cpan/build/2017112000/Mojo-Redis2-0.29-5/blib/lib/Mojo/Redis2/Server.pm line 90.
t/bulk.t .................. skipped: Failed to start redis-server: exit=2, signal=0, dump=0 at /home/cpansand/.cpan/build/2017112000/Mojo-Redis2-0.29-5/blib/lib/Mojo/Redis2/Server.pm line 90.
t/client.t ................ skipped: Failed to start redis-server: exit=2, signal=0, dump=0 at /home/cpansand/.cpan/build/2017112000/Mojo-Redis2-0.29-5/blib/lib/Mojo/Redis2/Server.pm line 90.
t/config.t ................ skipped: Failed to start redis-server: exit=2, signal=0, dump=0 at /home/cpansand/.cpan/build/2017112000/Mojo-Redis2-0.29-5/blib/lib/Mojo/Redis2/Server.pm line 90.
t/connection-refused.t .... skipped: TEST_SLOW=1
Use of uninitialized value $userinfo[1] in length at /home/cpansand/.cpan/build/2017112000/Mojo-Redis2-0.29-5/blib/lib/Mojo/Redis2.pm line 144.
Use of uninitialized value $userinfo[1] in length at /home/cpansand/.cpan/build/2017112000/Mojo-Redis2-0.29-5/blib/lib/Mojo/Redis2.pm line 144.
Use of uninitialized value $userinfo[1] in length at /home/cpansand/.cpan/build/2017112000/Mojo-Redis2-0.29-5/blib/lib/Mojo/Redis2.pm line 144.
t/constructor.t ........... ok
t/disconnected.t .......... skipped: Failed to start redis-server: exit=2, signal=0, dump=0 at /home/cpansand/.cpan/build/2017112000/Mojo-Redis2-0.29-5/blib/lib/Mojo/Redis2/Server.pm line 90.
t/lite.t .................. skipped: Failed to start redis-server: exit=2, signal=0, dump=0 at /home/cpansand/.cpan/build/2017112000/Mojo-Redis2-0.29-5/blib/lib/Mojo/Redis2/Server.pm line 90.
t/protocol.t .............. ok
t/pubsub.t ................ skipped: Failed to start redis-server: exit=2, signal=0, dump=0 at /home/cpansand/.cpan/build/2017112000/Mojo-Redis2-0.29-5/blib/lib/Mojo/Redis2/Server.pm line 90.
t/scan-operations.t ....... skipped: Failed to start redis-server: exit=2, signal=0, dump=0 at /home/cpansand/.cpan/build/2017112000/Mojo-Redis2-0.29-5/blib/lib/Mojo/Redis2/Server.pm line 90.
t/start-server.t .......... ok
t/transaction.t ........... skipped: Failed to start redis-server: exit=2, signal=0, dump=0 at /home/cpansand/.cpan/build/2017112000/Mojo-Redis2-0.29-5/blib/lib/Mojo/Redis2/Server.pm line 90.
t/version.t ............... ok
All tests successful.
Files=18, Tests=43, 19 wallclock secs ( 0.04 usr  0.08 sys +  2.84 cusr  0.84 csys =  3.80 CPU)
Result: PASS

------------------------------
PREREQUISITES
------------------------------

Prerequisite modules loaded:

requires:

    Module              Need Have    
    ------------------- ---- --------
    Mojolicious         7.50 7.56    
    Protocol::Redis     1.0  1.0006  

build_requires:

    Module              Need Have    
    ------------------- ---- --------
    Test::More          0.88 1.302106

configure_requires:

    Module              Need Have    
    ------------------- ---- --------
    ExtUtils::MakeMaker 0    7.30    


------------------------------
ENVIRONMENT AND OTHER CONTEXT
------------------------------

Environment variables:

    LANG = en_US.UTF-8
    PATH = /usr/local/bin:/usr/bin:/bin:/usr/local/sbin:/usr/sbin:/sbin:/home/cpansand/bin/linux-gnu:/home/cpansand/bin/sh:/home/cpansand/bin:/usr/games:/home/cpansand/devel:/home/eserte/src/srezic-misc/scripts
    PERL5LIB = /home/cpansand/.cpan/build/2017112000/Test-Class-Moose-0.89-5/blib/arch:/home/cpansand/.cpan/build/2017112000/Test-Class-Moose-0.89-5/blib/lib:/home/cpansand/.cpan/build/2017112000/Image-PNG-Libpng-0.44_01-0/blib/arch:/home/cpansand/.cpan/build/2017112000/Image-PNG-Libpng-0.44_01-0/blib/lib
    PERL5OPT = 
    PERL5_CPANPLUS_IS_RUNNING = 8061
    PERL5_CPAN_IS_RUNNING = 8061
    PERL5_CPAN_IS_RUNNING_IN_RECURSION = 8016,8061
    PERLDOC = -MPod::Perldoc::ToTextOverstrike
    PERL_BATCH = yes
    PERL_CANARY_STABILITY_NOPROMPT = 1
    PERL_CPAN_REPORTER_CONFIG = /var/tmp/cpansmoker-1023/2017112000/cpanreporter_000_config.ini
    PERL_EXTUTILS_AUTOINSTALL = --defaultdeps
    SHELL = /bin/zsh
    TERM = screen
    TMPDIR = /var/tmp/cpansmoker-1023/2017112000

Perl special variables (and OS-specific diagnostics, for MSWin32):

    $^X = /opt/perl-5.10.1/bin/perl5.10.1
    $UID/$EUID = 1023 / 1023
    $GID = 1023 1023
    $EGID = 1023 1023

Perl module toolchain versions installed:

    Module              Have    
    ------------------- --------
    CPAN                2.16    
    CPAN::Meta          2.150010
    Cwd                 3.62    
    ExtUtils::CBuilder  0.280226
    ExtUtils::Command   7.30    
    ExtUtils::Install   2.06    
    ExtUtils::MakeMaker 7.30    
    ExtUtils::Manifest  1.70    
    ExtUtils::ParseXS   3.30    
    File::Spec          3.62    
    JSON                2.94    
    JSON::PP            2.94    
    Module::Build       0.4224  
    Module::Signature   0.81    
    Parse::CPAN::Meta   2.150010
    Test::Harness       3.39    
    Test::More          1.302106
    YAML                1.23    
    YAML::Syck          1.30    
    version             0.9918  


--

Summary of my perl5 (revision 5 version 10 subversion 1) configuration:
   
  Platform:
    osname=linux, osvers=2.6.32-696.3.1.el6.x86_64, archname=x86_64-linux
    uname='linux centos6 2.6.32-696.3.1.el6.x86_64 #1 smp tue may 30 19:52:55 utc 2017 x86_64 x86_64 x86_64 gnulinux '
    config_args='-ds -e -Dprefix=/opt/perl-5.10.1 -Dcf_email=srezic@cpan.org'
    hint=recommended, useposix=true, d_sigaction=define
    useithreads=undef, usemultiplicity=undef
    useperlio=define, d_sfio=undef, uselargefiles=define, usesocks=undef
    use64bitint=define, use64bitall=define, uselongdouble=undef
    usemymalloc=n, bincompat5005=undef
  Compiler:
    cc='cc', ccflags ='-fno-strict-aliasing -pipe -fstack-protector -I/usr/local/include -D_LARGEFILE_SOURCE -D_FILE_OFFSET_BITS=64',
    optimize='-O2',
    cppflags='-fno-strict-aliasing -pipe -fstack-protector -I/usr/local/include'
    ccversion='', gccversion='4.4.7 20120313 (Red Hat 4.4.7-18)', gccosandvers=''
    intsize=4, longsize=8, ptrsize=8, doublesize=8, byteorder=12345678
    d_longlong=define, longlongsize=8, d_longdbl=define, longdblsize=16
    ivtype='long', ivsize=8, nvtype='double', nvsize=8, Off_t='off_t', lseeksize=8
    alignbytes=8, prototype=define
  Linker and Libraries:
    ld='cc', ldflags =' -fstack-protector -L/usr/local/lib'
    libpth=/usr/local/lib /lib /usr/lib /lib64 /usr/lib64 /usr/local/lib64
    libs=-lnsl -lgdbm -ldb -ldl -lm -lcrypt -lutil -lc
    perllibs=-lnsl -ldl -lm -lcrypt -lutil -lc
    libc=, so=so, useshrplib=false, libperl=libperl.a
    gnulibc_version='2.12'
  Dynamic Linking:
    dlsrc=dl_dlopen.xs, dlext=so, d_dlsymun=undef, ccdlflags='-Wl,-E'
    cccdlflags='-fPIC', lddlflags='-shared -O2 -L/usr/local/lib -fstack-protector'


Characteristics of this binary (from libperl): 
  Compile-time options: PERL_DONT_CREATE_GVSV PERL_MALLOC_WRAP USE_64_BIT_ALL
                        USE_64_BIT_INT USE_LARGE_FILES USE_PERLIO
  Built under linux
  Compiled at Jun 24 2017 10:30:21
  %ENV:
    PERL5LIB="/home/cpansand/.cpan/build/2017112000/Test-Class-Moose-0.89-5/blib/arch:/home/cpansand/.cpan/build/2017112000/Test-Class-Moose-0.89-5/blib/lib:/home/cpansand/.cpan/build/2017112000/Image-PNG-Libpng-0.44_01-0/blib/arch:/home/cpansand/.cpan/build/2017112000/Image-PNG-Libpng-0.44_01-0/blib/lib"
    PERL5OPT=""
    PERL5_CPANPLUS_IS_RUNNING="8061"
    PERL5_CPAN_IS_RUNNING="8061"
    PERL5_CPAN_IS_RUNNING_IN_RECURSION="8016,8061"
    PERLDOC="-MPod::Perldoc::ToTextOverstrike"
    PERL_BATCH="yes"
    PERL_CANARY_STABILITY_NOPROMPT="1"
    PERL_CPAN_REPORTER_CONFIG="/var/tmp/cpansmoker-1023/2017112000/cpanreporter_000_config.ini"
    PERL_EXTUTILS_AUTOINSTALL="--defaultdeps"
  @INC:
    /home/cpansand/.cpan/build/2017112000/Test-Class-Moose-0.89-5/blib/arch
    /home/cpansand/.cpan/build/2017112000/Test-Class-Moose-0.89-5/blib/lib
    /home/cpansand/.cpan/build/2017112000/Image-PNG-Libpng-0.44_01-0/blib/arch
    /home/cpansand/.cpan/build/2017112000/Image-PNG-Libpng-0.44_01-0/blib/lib
    /opt/perl-5.10.1/lib/5.10.1/x86_64-linux
    /opt/perl-5.10.1/lib/5.10.1
    /opt/perl-5.10.1/lib/site_perl/5.10.1/x86_64-linux
    /opt/perl-5.10.1/lib/site_perl/5.10.1
    .