Data-Serializer v0.65 Perl 5 v5.41.11 amd64-freebsd
- Status
- Pass
- From
- Carlos Guevara
- Dist
-
Data-Serializer v0.65
- Platform
- Perl 5 v5.41.11 amd64-freebsd
- Date
- 2025-04-05 08:26:11
- ID
- a17baa92-11f7-11f0-9e5a-a6b2bc2f8f47
This distribution has been tested as part of the CPAN Testers
project, supporting the Perl programming language. See
http://wiki.cpantesters.org/ for more information or email
questions to cpan-testers-discuss@perl.org
--
Dear Neil A. Neely,
This is a computer-generated report for Data-Serializer-0.65
on perl 5.41.11, created by CPAN-Reporter-1.2020.
Thank you for uploading your work to CPAN. Congratulations!
All tests were successful.
Sections of this report:
* Tester comments
* Program output
* Prerequisites
* Environment and other context
------------------------------
TESTER COMMENTS
------------------------------
Additional comments from tester:
this report is from an automated smoke testing program
and was not reviewed by a human for accuracy
------------------------------
PROGRAM OUTPUT
------------------------------
Output from './Build test':
t/00-01-Signature.t ........... skipped: (no reason given)
These tests should not be running unless AUTHOR_TESTING=1 and/or RELEASE_TESTING=1!
t/00-02-Kwalitee.t ............ ok
t/01-01-Data-Dumper.t ......... ok
t/01-02-Data-Denter.t ......... skipped: Data::Denter not installed
t/01-03-Storable.t ............ ok
t/01-04-FreezeThaw.t .......... skipped: FreezeThaw not installed
t/01-05-Config-General.t ...... ok
t/01-06-YAML.t ................ ok
t/01-07-XML-Dumper.t .......... skipped: XML::Dumper not installed
t/01-08-PHP-Serialization.t ... skipped: PHP::Serialization not installed
t/01-09-XML-Simple.t .......... skipped: XML::Simple not installed
t/01-10-Data-Taxi.t ........... skipped: Data::Taxi not installed
t/01-11-YAML-Syck.t ........... ok
t/01-12-JSON.t ................ ok
t/01-13-JSON-Syck.t ........... ok
t/01-14-Bencode.t ............. skipped: Bencode not installed
t/01-15-Convert-Bencode.t ..... skipped: Convert::Bencode not installed
t/01-16-Convert-Bencode_XS.t .. skipped: Convert::Bencode_XS not installed
t/02-01-Orig-Raw.t ............ ok
t/02-02-Fast-Raw.t ............ ok
t/03-Non-Portable.t ........... ok
t/04-01-Compress-Zlib.t ....... ok
t/04-02-Compress-PPMd.t ....... skipped: compressppmd not installed
t/05-Encryption.t ............. skipped: encryption not installed
t/06-B64-Encoding.t ........... ok
t/07-01-MD5-Digest.t .......... skipped: md5 not installed
t/07-02-SHA1-Digest.t ......... skipped: sha1 not installed
t/07-03-SHA-256-Digest.t ...... skipped: sha-256 not installed
t/08-Store-Retrieve.t ......... ok
t/09-Feature-Combos.t ......... ok
t/10-01-Pod.t ................. ok
t/10-02-Pod-Coverage.t ........ ok
All tests successful.
Files=32, Tests=1132, 1 wallclock secs ( 0.05 usr 0.05 sys + 1.13 cusr 0.16 csys = 1.39 CPU)
Result: PASS
------------------------------
PREREQUISITES
------------------------------
Prerequisite modules loaded:
requires:
Module Need Have
------------- ---- --------
AutoLoader 0 5.74
Data::Dumper 2.08 2.192
Digest::SHA 0 6.04
Exporter 0 5.79
IO::File 0 1.55
build_requires:
Module Need Have
------------- ---- --------
File::Spec 0 3.94
IO::File 0 1.55
Test::More 0 1.302210
configure_requires:
Module Need Have
------------- ---- --------
Module::Build 0.35 0.4234
------------------------------
ENVIRONMENT AND OTHER CONTEXT
------------------------------
Environment variables:
AUTOMATED_TESTING = 1
DATE_MANIP_TEST_DM5 = 1
LANG = C.UTF-8
LC_ALL = C
NONINTERACTIVE_TESTING = 1
NO_NETWORK_TESTING = 1
PATH = /home/cpan/bin/perl/bin:/home/cpan/bin:/sbin:/bin:/usr/sbin:/usr/bin:/usr/local/sbin:/usr/local/bin:/home/cpan/bin
PERL5LIB =
PERL5OPT =
PERL5_CPANPLUS_IS_RUNNING = 60924
PERL5_CPAN_IS_RUNNING = 60924
PERL_MM_USE_DEFAULT = 1
PERL_USE_UNSAFE_INC = 1
SHELL = /usr/local/bin/bash
TERM = screen
TMPDIR = /home/cpan/tmp
Perl special variables (and OS-specific diagnostics, for MSWin32):
$^X = /home/cpan/bin/perl/bin/perl5.41.11
$UID/$EUID = 1002 / 1002
$GID = 1002 1002
$EGID = 1002 1002
Perl module toolchain versions installed:
Module Have
------------------- --------
CPAN 2.38
CPAN::Meta 2.150010
Cwd 3.94
ExtUtils::CBuilder 0.280240
ExtUtils::Command 7.72
ExtUtils::Install 2.22
ExtUtils::MakeMaker 7.72
ExtUtils::Manifest 1.75
ExtUtils::ParseXS 3.57
File::Spec 3.94
JSON 4.10
JSON::PP 4.16
Module::Build 0.4234
Module::Signature n/a
Parse::CPAN::Meta 2.150010
Test2 1.302210
Test::Harness 3.50
Test::More 1.302210
YAML 1.31
YAML::Syck 1.34
version 0.9933
--
Summary of my perl5 (revision 5 version 41 subversion 11) configuration:
Commit id: aed235e3259a92e37aea06ad8802a5f18abfc2f6
Platform:
osname=freebsd
osvers=14.2-release-p1
archname=amd64-freebsd
uname='freebsd cjg-freebsd14 14.2-release-p1 freebsd 14.2-release-p1 generic amd64 '
config_args='-des -Dprefix=/home/cpan/bin/perl -Dscriptdir=/home/cpan/bin/perl/bin -Dusedevel -Duse64bitall'
hint=recommended
useposix=true
d_sigaction=define
useithreads=undef
usemultiplicity=undef
use64bitint=define
use64bitall=define
uselongdouble=undef
usemymalloc=n
default_inc_excludes_dot=define
Compiler:
cc='cc'
ccflags ='-DHAS_FPSETMASK -DHAS_FLOATINGPOINT_H -DNO_POSIX_2008_LOCALE -fno-strict-aliasing -pipe -fstack-protector-strong -I/usr/local/include'
optimize='-O2'
cppflags='-DHAS_FPSETMASK -DHAS_FLOATINGPOINT_H -DNO_POSIX_2008_LOCALE -fno-strict-aliasing -pipe -fstack-protector-strong -I/usr/local/include'
ccversion=''
gccversion='FreeBSD Clang 18.1.6 (https://github.com/llvm/llvm-project.git llvmorg-18.1.6-0-g1118c2e05e67)'
gccosandvers=''
intsize=4
longsize=8
ptrsize=8
doublesize=8
byteorder=12345678
doublekind=3
d_longlong=define
longlongsize=8
d_longdbl=define
longdblsize=16
longdblkind=3
ivtype='long'
ivsize=8
nvtype='double'
nvsize=8
Off_t='off_t'
lseeksize=8
alignbytes=8
prototype=define
Linker and Libraries:
ld='cc'
ldflags ='-Wl,-E -fstack-protector-strong -L/usr/local/lib'
libpth=/usr/lib /usr/local/lib /usr/lib/clang/18/lib
libs=-lpthread -lgdbm -ldl -lm -lcrypt -lutil -lc
perllibs=-lpthread -ldl -lm -lcrypt -lutil -lc
libc=
so=so
useshrplib=false
libperl=libperl.a
gnulibc_version=''
Dynamic Linking:
dlsrc=dl_dlopen.xs
dlext=so
d_dlsymun=undef
ccdlflags=' '
cccdlflags='-DPIC -fPIC'
lddlflags='-shared -L/usr/local/lib -fstack-protector-strong'
Characteristics of this binary (from libperl):
Compile-time options:
HAS_LONG_DOUBLE
HAS_STRTOLD
HAS_TIMES
PERLIO_LAYERS
PERL_COPY_ON_WRITE
PERL_DONT_CREATE_GVSV
PERL_HASH_FUNC_SIPHASH13
PERL_HASH_USE_SBOX32
PERL_MALLOC_WRAP
PERL_OP_PARENT
PERL_PRESERVE_IVUV
PERL_USE_DEVEL
PERL_USE_SAFE_PUTENV
USE_64_BIT_ALL
USE_64_BIT_INT
USE_LARGE_FILES
USE_LOCALE
USE_LOCALE_COLLATE
USE_LOCALE_CTYPE
USE_LOCALE_NUMERIC
USE_LOCALE_TIME
USE_PERLIO
USE_PERL_ATOF
Built under freebsd
Compiled at Apr 4 2025 23:56:11
%ENV:
PERL5LIB=""
PERL5OPT=""
PERL5_CPANPLUS_IS_RUNNING="60924"
PERL5_CPAN_IS_RUNNING="60924"
PERL_MM_USE_DEFAULT="1"
PERL_USE_UNSAFE_INC="1"
@INC:
/home/cpan/bin/perl/lib/site_perl/5.41.11/amd64-freebsd
/home/cpan/bin/perl/lib/site_perl/5.41.11
/home/cpan/bin/perl/lib/5.41.11/amd64-freebsd
/home/cpan/bin/perl/lib/5.41.11
.