Log-Log4perl v1.57 Perl 5 v5.40.0 x86_64-linux

Status
Pass
From
Dan Book
Dist
Log-Log4perl v1.57
Platform
Perl 5 v5.40.0 x86_64-linux
Date
2024-06-11 06:05:40
ID
a166299e-27b8-11ef-a222-d33ec2ee0a1a
This distribution has been tested as part of the CPAN Testers
project, supporting the Perl programming language.  See
http://wiki.cpantesters.org/ for more information or email
questions to cpan-testers-discuss@perl.org


--
Dear ETJ,

This is a computer-generated report for Log-Log4perl-1.57
on perl 5.40.0, created by App::cpanminus::reporter 0.21 (1.7047).

Thank you for uploading your work to CPAN.  Congratulations!
All tests were successful.

Sections of this report:

    * Tester comments
    * Program output
    * Prerequisites
    * Environment and other context

------------------------------
TESTER COMMENTS
------------------------------

Additional comments from tester:

none provided

------------------------------
PROGRAM OUTPUT
------------------------------

Output from '':

Building and testing Log-Log4perl-1.57
cp lib/Log/Log4perl/Appender/Screen.pm blib/lib/Log/Log4perl/Appender/Screen.pm
cp lib/Log/Log4perl/InternalDebug.pm blib/lib/Log/Log4perl/InternalDebug.pm
cp lib/Log/Log4perl/Appender/String.pm blib/lib/Log/Log4perl/Appender/String.pm
cp lib/Log/Log4perl/Appender/Buffer.pm blib/lib/Log/Log4perl/Appender/Buffer.pm
cp lib/Log/Log4perl/Filter.pm blib/lib/Log/Log4perl/Filter.pm
cp lib/Log/Log4perl/Catalyst.pm blib/lib/Log/Log4perl/Catalyst.pm
cp lib/Log/Log4perl/Appender/File.pm blib/lib/Log/Log4perl/Appender/File.pm
cp lib/Log/Log4perl/Filter/MDC.pm blib/lib/Log/Log4perl/Filter/MDC.pm
cp lib/Log/Log4perl/Config/DOMConfigurator.pm blib/lib/Log/Log4perl/Config/DOMConfigurator.pm
cp lib/Log/Log4perl/Appender/RRDs.pm blib/lib/Log/Log4perl/Appender/RRDs.pm
cp lib/Log/Log4perl/Appender/Socket.pm blib/lib/Log/Log4perl/Appender/Socket.pm
cp lib/Log/Log4perl/Config/BaseConfigurator.pm blib/lib/Log/Log4perl/Config/BaseConfigurator.pm
cp lib/Log/Log4perl/Filter/Boolean.pm blib/lib/Log/Log4perl/Filter/Boolean.pm
cp lib/Log/Log4perl/Config/PropertyConfigurator.pm blib/lib/Log/Log4perl/Config/PropertyConfigurator.pm
cp lib/Log/Log4perl/Appender/Synchronized.pm blib/lib/Log/Log4perl/Appender/Synchronized.pm
cp lib/Log/Log4perl/Appender/Limit.pm blib/lib/Log/Log4perl/Appender/Limit.pm
cp lib/Log/Log4perl/Config/Watch.pm blib/lib/Log/Log4perl/Config/Watch.pm
cp lib/Log/Log4perl/Filter/LevelMatch.pm blib/lib/Log/Log4perl/Filter/LevelMatch.pm
cp lib/Log/Log4perl/JavaMap/ConsoleAppender.pm blib/lib/Log/Log4perl/JavaMap/ConsoleAppender.pm
cp lib/Log/Log4perl/Appender/ScreenColoredLevels.pm blib/lib/Log/Log4perl/Appender/ScreenColoredLevels.pm
cp lib/Log/Log4perl/Appender/TestBuffer.pm blib/lib/Log/Log4perl/Appender/TestBuffer.pm
cp lib/Log/Log4perl/Appender/TestFileCreeper.pm blib/lib/Log/Log4perl/Appender/TestFileCreeper.pm
cp lib/Log/Log4perl/Appender/DBI.pm blib/lib/Log/Log4perl/Appender/DBI.pm
cp lib/Log/Log4perl/DateFormat.pm blib/lib/Log/Log4perl/DateFormat.pm
cp lib/Log/Log4perl/JavaMap.pm blib/lib/Log/Log4perl/JavaMap.pm
cp lib/Log/Log4perl/Appender.pm blib/lib/Log/Log4perl/Appender.pm
cp lib/Log/Log4perl/Filter/StringMatch.pm blib/lib/Log/Log4perl/Filter/StringMatch.pm
cp lib/Log/Log4perl/Filter/LevelRange.pm blib/lib/Log/Log4perl/Filter/LevelRange.pm
cp lib/Log/Log4perl/FAQ.pm blib/lib/Log/Log4perl/FAQ.pm
cp lib/Log/Log4perl/Config.pm blib/lib/Log/Log4perl/Config.pm
cp lib/Log/Log4perl.pm blib/lib/Log/Log4perl.pm
cp lib/Log/Log4perl/Appender/TestArrayBuffer.pm blib/lib/Log/Log4perl/Appender/TestArrayBuffer.pm
cp lib/Log/Log4perl/Level.pm blib/lib/Log/Log4perl/Level.pm
cp lib/Log/Log4perl/Layout.pm blib/lib/Log/Log4perl/Layout.pm
cp lib/Log/Log4perl/JavaMap/FileAppender.pm blib/lib/Log/Log4perl/JavaMap/FileAppender.pm
cp lib/Log/Log4perl/Util/TimeTracker.pm blib/lib/Log/Log4perl/Util/TimeTracker.pm
cp lib/Log/Log4perl/JavaMap/NTEventLogAppender.pm blib/lib/Log/Log4perl/JavaMap/NTEventLogAppender.pm
cp lib/Log/Log4perl/Layout/NoopLayout.pm blib/lib/Log/Log4perl/Layout/NoopLayout.pm
cp lib/Log/Log4perl/Layout/SimpleLayout.pm blib/lib/Log/Log4perl/Layout/SimpleLayout.pm
cp lib/Log/Log4perl/JavaMap/TestBuffer.pm blib/lib/Log/Log4perl/JavaMap/TestBuffer.pm
cp lib/Log/Log4perl/MDC.pm blib/lib/Log/Log4perl/MDC.pm
cp lib/Log/Log4perl/Logger.pm blib/lib/Log/Log4perl/Logger.pm
cp lib/Log/Log4perl/NDC.pm blib/lib/Log/Log4perl/NDC.pm
cp lib/Log/Log4perl/Resurrector.pm blib/lib/Log/Log4perl/Resurrector.pm
cp lib/Log/Log4perl/Util/Semaphore.pm blib/lib/Log/Log4perl/Util/Semaphore.pm
cp lib/Log/Log4perl/JavaMap/SyslogAppender.pm blib/lib/Log/Log4perl/JavaMap/SyslogAppender.pm
cp lib/Log/Log4perl/Util.pm blib/lib/Log/Log4perl/Util.pm
cp lib/Log/Log4perl/JavaMap/JDBCAppender.pm blib/lib/Log/Log4perl/JavaMap/JDBCAppender.pm
cp lib/Log/Log4perl/Layout/PatternLayout/Multiline.pm blib/lib/Log/Log4perl/Layout/PatternLayout/Multiline.pm
cp lib/Log/Log4perl/Layout/PatternLayout.pm blib/lib/Log/Log4perl/Layout/PatternLayout.pm
cp lib/Log/Log4perl/JavaMap/RollingFileAppender.pm blib/lib/Log/Log4perl/JavaMap/RollingFileAppender.pm
cp eg/l4p-tmpl blib/script/l4p-tmpl
"/home/grinnz/.plenv/versions/5.40.0/bin/perl5.40.0" -MExtUtils::MY -e 'MY->fixin(shift)' -- blib/script/l4p-tmpl
Manifying 1 pod document
Manifying 28 pod documents
Manifying 23 pod documents
PERL_DL_NONLAZY=1 "/home/grinnz/.plenv/versions/5.40.0/bin/perl5.40.0" "-MExtUtils::Command::MM" "-MTest::Harness" "-e" "undef *Test::Harness::Switches; test_harness(0, 'blib/lib', 'blib/arch')" t/*.t
t/001Level.t .............. ok
t/002Logger.t ............. ok
t/003Layout-Rr.t .......... ok
t/003Layout.t ............. ok
t/004Config.t ............. ok
t/005Config-Perl.t ........ ok
t/006Config-Java.t ........ ok
t/007LogPrio.t ............ ok
t/008ConfCat.t ............ ok
t/009Deuce.t .............. ok
t/010JConsole.t ........... ok
t/011JFile.t .............. ok
t/012Deeper.t ............. ok
t/013Bench.t .............. skipped: set $ENV{LOG4PERL_BENCH} to a true value to run benchmarks, skipping...
t/014ConfErrs.t ........... ok
t/015fltmsg.t ............. ok
t/016Export.t ............. ok
t/017Watch.t .............. ok
t/018Init.t ............... ok
t/019Warn.t ............... ok
t/020Easy.t ............... ok
t/020Easy2.t .............. ok
t/021AppThres.t ........... ok
t/022Wrap.t ............... ok
t/023Date.t ............... ok
t/024WarnDieCarp.t ........ ok
t/025CustLevels.t ......... ok
t/026FileApp.t ............ ok
t/027Watch2.t ............. ok
t/027Watch3.t ............. ok
t/027Watch4.t ............. ok
t/028Additivity.t ......... ok
t/029SysWide.t ............ ok
t/030LDLevel.t ............ ok
t/031NDC.t ................ ok
t/032JRollFile.t .......... skipped: only with Log::Dispatch::FileRotate 1.10
t/033UsrCspec.t ........... ok
t/034DBI.t ................ skipped: Skipping as not got: DBI 1.607, DBD::CSV 0.33, SQL::Statement 1.20
t/035JDBCAppender.t ....... skipped: Skipping as not got: DBI 1.607, DBD::CSV 0.33, Log::Dispatch 0
t/036JSyslog.t ............ ok
t/037JWin32Event.t ........ skipped: only with Log::Dispatch::Win32EventLog
t/038XML-DOM1.t ........... skipped: only with XML::DOM > 1.29
t/039XML-DOM2.t ........... skipped: only with XML::DOM > 1.29
t/040Filter.t ............. ok
t/041SafeEval.t ........... ok
t/042SyncApp.t ............ skipped: - only with L4P_ALL_TESTS
t/043VarSubst.t ........... ok
t/044XML-Filter.t ......... skipped: only with XML::DOM > 1.29
t/045Composite.t .......... ok
t/046RRDs.t ............... skipped: (RRDs not installed)
t/048lwp.t ................ skipped: Only with 2.0 < LWP::UserAgent < 5.822
t/049Unhide.t ............. ok
t/050Buffer.t ............. ok
t/051Extra.t .............. ok
t/052Utf8.t ............... ok
t/053Resurrect.t .......... ok
t/054Subclass.t ........... ok
t/055AppDestroy.t ......... ok
t/056SyncApp2.t ........... skipped: - only with L4P_ALL_TESTS
t/057MsgChomp.t ........... ok
t/058Warnings.t ........... ok
t/059Wrapper.t ............ ok
t/060Initialized.t ........ ok
t/061Multiline.t .......... ok
t/062InitHash.t ........... ok
t/063LoggerRemove.t ....... ok
t/064RealClass.t .......... ok
t/065Undef.t .............. ok
t/066SQLite.t ............. ok
t/067Exception.t .......... ok
t/068MultilineIndented.t .. ok
t/069MoreMultiline.t ...... ok
t/070UTCDate.t ............ ok
All tests successful.
Files=73, Tests=729, 34 wallclock secs ( 0.36 usr  0.20 sys +  7.53 cusr  1.14 csys =  9.23 CPU)
Result: PASS

------------------------------
PREREQUISITES
------------------------------

Prerequisite modules loaded:

    No requirements found

------------------------------
ENVIRONMENT AND OTHER CONTEXT
------------------------------

Environment variables:

    LANG = en_US.UTF-8
    PATH = /home/grinnz/.plenv/versions/5.40.0/bin:/home/grinnz/.plenv/libexec:/home/grinnz/.plenv/plugins/perl-build/bin:/home/grinnz/.plenv/plugins/plenv-contrib/bin:/home/grinnz/.plenv/shims:/home/grinnz/.plenv/bin:/usr/local/cuda/bin:/home/grinnz/.plenv/bin:/usr/local/cuda/bin:/usr/local/bin:/usr/bin:/usr/local/sbin:/usr/sbin
    SHELL = /usr/bin/fish
    TERM = tmux-256color

Perl special variables (and OS-specific diagnostics, for MSWin32):

    EGID = 1000 10 26 135 974 1000
    EUID = 1000
    EXECUTABLE_NAME = /home/grinnz/.plenv/versions/5.40.0/bin/perl5.40.0
    GID = 1000 10 26 135 974 1000
    UID = 1000

Perl module toolchain versions installed:

    Module              Have    
    ------------------- --------
    CPAN                2.36    
    CPAN::Meta          2.150010
    Cwd                 3.90    
    ExtUtils::CBuilder  0.280240
    ExtUtils::Command   7.70    
    ExtUtils::Install   2.22    
    ExtUtils::MakeMaker 7.70    
    ExtUtils::Manifest  1.75    
    ExtUtils::ParseXS   3.51    
    File::Spec          3.90    
    JSON                4.10    
    JSON::PP            4.16    
    Module::Build       0.4234  
    Module::Signature   0.88    
    Parse::CPAN::Meta   2.150010
    Test::Harness       3.48    
    Test::More          1.302199
    YAML                1.31    
    YAML::Syck          1.34    
    version             0.9930  


--

Summary of my perl5 (revision 5 version 40 subversion 0) configuration:
   
  Platform:
    osname=linux
    osvers=6.3.8-200.fc38.x86_64
    archname=x86_64-linux
    uname='linux home.grinnz.com 6.3.8-200.fc38.x86_64 #1 smp preempt_dynamic thu jun 15 02:15:40 utc 2023 x86_64 gnulinux '
    config_args='-Dprefix=/home/grinnz/.plenv/versions/5.40.0 -de -Dversiononly -A'eval:scriptdir=/home/grinnz/.plenv/versions/5.40.0/bin''
    hint=recommended
    useposix=true
    d_sigaction=define
    useithreads=undef
    usemultiplicity=undef
    use64bitint=define
    use64bitall=define
    uselongdouble=undef
    usemymalloc=n
    default_inc_excludes_dot=define
  Compiler:
    cc='cc'
    ccflags ='-fwrapv -fno-strict-aliasing -pipe -fstack-protector-strong -I/usr/local/include -D_LARGEFILE_SOURCE -D_FILE_OFFSET_BITS=64 -D_FORTIFY_SOURCE=2'
    optimize='-O2'
    cppflags='-fwrapv -fno-strict-aliasing -pipe -fstack-protector-strong -I/usr/local/include'
    ccversion=''
    gccversion='13.2.1 20231011 (Red Hat 13.2.1-4)'
    gccosandvers=''
    intsize=4
    longsize=8
    ptrsize=8
    doublesize=8
    byteorder=12345678
    doublekind=3
    d_longlong=define
    longlongsize=8
    d_longdbl=define
    longdblsize=16
    longdblkind=3
    ivtype='long'
    ivsize=8
    nvtype='double'
    nvsize=8
    Off_t='off_t'
    lseeksize=8
    alignbytes=8
    prototype=define
  Linker and Libraries:
    ld='cc'
    ldflags =' -fstack-protector-strong -L/usr/local/lib'
    libpth=/usr/local/lib /usr/lib /usr/lib64 /usr/local/lib64
    libs=-lpthread -lgdbm -ldb -ldl -lm -lcrypt -lutil -lc -lgdbm_compat
    perllibs=-lpthread -ldl -lm -lcrypt -lutil -lc
    libc=/lib/../lib64/libc.so.6
    so=so
    useshrplib=false
    libperl=libperl.a
    gnulibc_version='2.37'
  Dynamic Linking:
    dlsrc=dl_dlopen.xs
    dlext=so
    d_dlsymun=undef
    ccdlflags='-Wl,-E'
    cccdlflags='-fPIC'
    lddlflags='-shared -O2 -L/usr/local/lib -fstack-protector-strong'


Characteristics of this binary (from libperl): 
  Compile-time options:
    HAS_LONG_DOUBLE
    HAS_STRTOLD
    HAS_TIMES
    PERLIO_LAYERS
    PERL_COPY_ON_WRITE
    PERL_DONT_CREATE_GVSV
    PERL_HASH_FUNC_SIPHASH13
    PERL_HASH_USE_SBOX32
    PERL_MALLOC_WRAP
    PERL_OP_PARENT
    PERL_PRESERVE_IVUV
    PERL_USE_SAFE_PUTENV
    USE_64_BIT_ALL
    USE_64_BIT_INT
    USE_LARGE_FILES
    USE_LOCALE
    USE_LOCALE_COLLATE
    USE_LOCALE_CTYPE
    USE_LOCALE_NUMERIC
    USE_LOCALE_TIME
    USE_PERLIO
    USE_PERL_ATOF
  Built under linux
  Compiled at Jun 10 2024 21:21:12
  @INC:
    /home/grinnz/.plenv/versions/5.40.0/lib/perl5/site_perl/5.40.0/x86_64-linux
    /home/grinnz/.plenv/versions/5.40.0/lib/perl5/site_perl/5.40.0
    /home/grinnz/.plenv/versions/5.40.0/lib/perl5/5.40.0/x86_64-linux
    /home/grinnz/.plenv/versions/5.40.0/lib/perl5/5.40.0