Dir-Manifest v0.6.1 Perl 5 v5.22.4 armv7l-linux

Status
Pass
From
Nigel Horne
Dist
Dir-Manifest v0.6.1
Platform
Perl 5 v5.22.4 armv7l-linux
Date
2020-04-27 11:31:26
ID
a142db42-887a-11ea-baf9-8e7157f1bc38
This distribution has been tested as part of the CPAN Testers
project, supporting the Perl programming language.  See
http://wiki.cpantesters.org/ for more information or email
questions to cpan-testers-discuss@perl.org


--
Dear Shlomi Fish,

This is a computer-generated report for Dir-Manifest-0.6.1
on perl 5.22.4, created by CPAN-Reporter-1.2018.

Thank you for uploading your work to CPAN.  Congratulations!
All tests were successful.

Sections of this report:

    * Tester comments
    * Program output
    * Prerequisites
    * Environment and other context

------------------------------
TESTER COMMENTS
------------------------------

Additional comments from tester:

this report is from an automated smoke testing program
and was not reviewed by a human for accuracy

------------------------------
PROGRAM OUTPUT
------------------------------

Output from './Build test':

t/slurp.t ......... ok
t/dir-manifest.t .. ok
t/00-compile.t .... ok
All tests successful.
Files=3, Tests=19,  0 wallclock secs ( 0.06 usr  0.02 sys +  0.70 cusr  0.30 csys =  1.08 CPU)
Result: PASS

------------------------------
PREREQUISITES
------------------------------

Prerequisite modules loaded:

requires:

    Module        Need  Have    
    ------------- ----- --------
    Exporter      0     5.72    
    Moo           0     2.004000
    parent        0     0.232   
    Path::Tiny    0     0.114   
    perl          5.014 5.022004
    Socket        0     2.018   
    strict        0     1.09    
    warnings      0     1.34    

build_requires:

    Module        Need  Have    
    ------------- ----- --------
    File::Spec    0     3.56_02 
    IO::Handle    0     1.35    
    IPC::Open3    0     1.18    
    Module::Build 0.28  0.4229  
    Test::More    0.88  1.001014

configure_requires:

    Module        Need  Have    
    ------------- ----- --------
    Module::Build 0.28  0.4229  


------------------------------
ENVIRONMENT AND OTHER CONTEXT
------------------------------

Environment variables:

    AUTOMATED_TESTING = 1
    HARNESS_OPTIONS = j4
    LANG = en_US.UTF-8
    PATH = /home/njh/perl5/perlbrew/bin:/home/njh/perl5/perlbrew/perls/perl-5.22.4/bin:/usr/bin:/bin:/home/njh/src/njh/smoker/bin
    PERL5LIB = /var/tmp/build/Moo-2.004000-1iuxLD/blib/arch:/var/tmp/build/Moo-2.004000-1iuxLD/blib/lib:/var/tmp/build/Role-Tiny-2.001004-RcRB4F/blib/arch:/var/tmp/build/Role-Tiny-2.001004-RcRB4F/blib/lib:/var/tmp/build/Class-Method-Modifiers-2.13-7iCqxH/blib/arch:/var/tmp/build/Class-Method-Modifiers-2.13-7iCqxH/blib/lib:/var/tmp/build/Sub-Quote-2.006006-rOtJjy/blib/arch:/var/tmp/build/Sub-Quote-2.006006-rOtJjy/blib/lib:/var/tmp/build/Path-Tiny-0.114-CBay8A/blib/arch:/var/tmp/build/Path-Tiny-0.114-CBay8A/blib/lib:/var/tmp/build/Class-XSAccessor-1.19-TjHAqf/blib/arch:/var/tmp/build/Class-XSAccessor-1.19-TjHAqf/blib/lib
    PERL5OPT = 
    PERL5_CPANPLUS_IS_RUNNING = 19082
    PERL5_CPAN_IS_RUNNING = 19082
    PERL5_CPAN_IS_RUNNING_IN_RECURSION = 19065,19082
    PERLBREW_HOME = /home/njh/.perlbrew
    PERLBREW_MANPATH = /home/njh/perl5/perlbrew/perls/perl-5.22.4/man
    PERLBREW_PATH = /home/njh/perl5/perlbrew/bin:/home/njh/perl5/perlbrew/perls/perl-5.22.4/bin
    PERLBREW_PERL = perl-5.22.4
    PERLBREW_ROOT = /home/njh/perl5/perlbrew
    PERLBREW_SHELLRC_VERSION = 0.87
    PERLBREW_VERSION = 0.87
    SHELL = /bin/sh
    TEMP = /tmp/user/1000
    TMPDIR = /tmp/user/1000/testwrapper.19068

Perl special variables (and OS-specific diagnostics, for MSWin32):

    $^X = /mnt/nas/home/pi4/njh/perl5/perlbrew/perls/perl-5.22.4/bin/perl
    $UID/$EUID = 1000 / 1000
    $GID = 1000 4 20 24 25 27 29 30 44 46 60 100 105 109 995 997 998 999 1000
    $EGID = 1000 4 20 24 25 27 29 30 44 46 60 100 105 109 995 997 998 999 1000

Perl module toolchain versions installed:

    Module              Have      
    ------------------- ----------
    CPAN                2.11_01   
    CPAN::Meta          2.150001  
    Cwd                 3.56_02   
    ExtUtils::CBuilder  0.280221  
    ExtUtils::Command   7.44      
    ExtUtils::Install   2.06      
    ExtUtils::MakeMaker 7.44      
    ExtUtils::Manifest  1.70      
    ExtUtils::ParseXS   3.28      
    File::Spec          3.56_02   
    JSON                4.02      
    JSON::PP            2.27300_01
    Module::Build       0.4229    
    Module::Signature   n/a       
    Parse::CPAN::Meta   1.4414_001
    Test::Harness       3.35_01   
    Test::More          1.001014  
    YAML                1.30      
    YAML::Syck          1.32      
    version             0.9909    


--

Summary of my perl5 (revision 5 version 22 subversion 4) configuration:
   
  Platform:
    osname=linux, osvers=4.19.75-v7l+, archname=armv7l-linux
    uname='linux pi4 4.19.75-v7l+ #1270 smp tue sep 24 18:51:41 bst 2019 armv7l gnulinux '
    config_args='-de -Dprefix=/home/njh/perl5/perlbrew/perls/perl-5.22.4 -Aeval:scriptdir=/home/njh/perl5/perlbrew/perls/perl-5.22.4/bin'
    hint=recommended, useposix=true, d_sigaction=define
    useithreads=undef, usemultiplicity=undef
    use64bitint=undef, use64bitall=undef, uselongdouble=undef
    usemymalloc=n, bincompat5005=undef
  Compiler:
    cc='cc', ccflags ='-fwrapv -fno-strict-aliasing -pipe -fstack-protector-strong -I/usr/local/include -D_LARGEFILE_SOURCE -D_FILE_OFFSET_BITS=64',
    optimize='-O2',
    cppflags='-fwrapv -fno-strict-aliasing -pipe -fstack-protector-strong -I/usr/local/include'
    ccversion='', gccversion='8.3.0', gccosandvers=''
    intsize=4, longsize=4, ptrsize=4, doublesize=8, byteorder=1234, doublekind=3
    d_longlong=define, longlongsize=8, d_longdbl=define, longdblsize=8, longdblkind=0
    ivtype='long', ivsize=4, nvtype='double', nvsize=8, Off_t='off_t', lseeksize=8
    alignbytes=8, prototype=define
  Linker and Libraries:
    ld='cc', ldflags =' -fstack-protector-strong -L/usr/local/lib'
    libpth=/usr/local/lib /usr/lib/gcc/arm-linux-gnueabihf/8/include-fixed /usr/include/arm-linux-gnueabihf /usr/lib /lib/arm-linux-gnueabihf /lib /usr/lib/arm-linux-gnueabihf
    libs=-lpthread -lnsl -lgdbm -ldb -ldl -lm -lcrypt -lutil -lc
    perllibs=-lpthread -lnsl -ldl -lm -lcrypt -lutil -lc
    libc=libc-2.28.so, so=so, useshrplib=false, libperl=libperl.a
    gnulibc_version='2.28'
  Dynamic Linking:
    dlsrc=dl_dlopen.xs, dlext=so, d_dlsymun=undef, ccdlflags='-Wl,-E'
    cccdlflags='-fPIC', lddlflags='-shared -O2 -L/usr/local/lib -fstack-protector-strong'


Characteristics of this binary (from libperl): 
  Compile-time options: HAS_TIMES PERLIO_LAYERS PERL_DONT_CREATE_GVSV
                        PERL_HASH_FUNC_ONE_AT_A_TIME_HARD PERL_MALLOC_WRAP
                        PERL_NEW_COPY_ON_WRITE PERL_PRESERVE_IVUV
                        USE_LARGE_FILES USE_LOCALE USE_LOCALE_COLLATE
                        USE_LOCALE_CTYPE USE_LOCALE_NUMERIC USE_LOCALE_TIME
                        USE_PERLIO USE_PERL_ATOF
  Locally applied patches:
	Devel::PatchPerl 1.80
  Built under linux
  Compiled at Dec 27 2019 07:41:29
  %ENV:
    PERL5LIB="/var/tmp/build/Moo-2.004000-1iuxLD/blib/arch:/var/tmp/build/Moo-2.004000-1iuxLD/blib/lib:/var/tmp/build/Role-Tiny-2.001004-RcRB4F/blib/arch:/var/tmp/build/Role-Tiny-2.001004-RcRB4F/blib/lib:/var/tmp/build/Class-Method-Modifiers-2.13-7iCqxH/blib/arch:/var/tmp/build/Class-Method-Modifiers-2.13-7iCqxH/blib/lib:/var/tmp/build/Sub-Quote-2.006006-rOtJjy/blib/arch:/var/tmp/build/Sub-Quote-2.006006-rOtJjy/blib/lib:/var/tmp/build/Path-Tiny-0.114-CBay8A/blib/arch:/var/tmp/build/Path-Tiny-0.114-CBay8A/blib/lib:/var/tmp/build/Class-XSAccessor-1.19-TjHAqf/blib/arch:/var/tmp/build/Class-XSAccessor-1.19-TjHAqf/blib/lib"
    PERL5OPT=""
    PERL5_CPANPLUS_IS_RUNNING="19082"
    PERL5_CPAN_IS_RUNNING="19082"
    PERL5_CPAN_IS_RUNNING_IN_RECURSION="19065,19082"
    PERLBREW_HOME="/home/njh/.perlbrew"
    PERLBREW_MANPATH="/home/njh/perl5/perlbrew/perls/perl-5.22.4/man"
    PERLBREW_PATH="/home/njh/perl5/perlbrew/bin:/home/njh/perl5/perlbrew/perls/perl-5.22.4/bin"
    PERLBREW_PERL="perl-5.22.4"
    PERLBREW_ROOT="/home/njh/perl5/perlbrew"
    PERLBREW_SHELLRC_VERSION="0.87"
    PERLBREW_VERSION="0.87"
  @INC:
    /var/tmp/build/Moo-2.004000-1iuxLD/blib/arch
    /var/tmp/build/Moo-2.004000-1iuxLD/blib/lib
    /var/tmp/build/Role-Tiny-2.001004-RcRB4F/blib/arch
    /var/tmp/build/Role-Tiny-2.001004-RcRB4F/blib/lib
    /var/tmp/build/Class-Method-Modifiers-2.13-7iCqxH/blib/arch
    /var/tmp/build/Class-Method-Modifiers-2.13-7iCqxH/blib/lib
    /var/tmp/build/Sub-Quote-2.006006-rOtJjy/blib/arch
    /var/tmp/build/Sub-Quote-2.006006-rOtJjy/blib/lib
    /var/tmp/build/Path-Tiny-0.114-CBay8A/blib/arch
    /var/tmp/build/Path-Tiny-0.114-CBay8A/blib/lib
    /var/tmp/build/Class-XSAccessor-1.19-TjHAqf/blib/arch
    /var/tmp/build/Class-XSAccessor-1.19-TjHAqf/blib/lib
    /home/njh/perl5/perlbrew/perls/perl-5.22.4/lib/site_perl/5.22.4/armv7l-linux
    /home/njh/perl5/perlbrew/perls/perl-5.22.4/lib/site_perl/5.22.4
    /home/njh/perl5/perlbrew/perls/perl-5.22.4/lib/5.22.4/armv7l-linux
    /home/njh/perl5/perlbrew/perls/perl-5.22.4/lib/5.22.4
    .