Report for HTTP-Session2-1.09

Back
From: metabase:user:9c36dc84-a30f-11e0-a9fc-0a18abbd4f2f
Subject: PASS HTTP-Session2-1.09 v5.20.3 OpenBSD
Date: 2016-11-16T18:51:05Z

This distribution has been tested as part of the CPAN Testers
project, supporting the Perl programming language.  See
http://wiki.cpantesters.org/ for more information or email
questions to cpan-testers-discuss@perl.org


--
Dear Tokuhiro Matsuno'',

This is a computer-generated report for HTTP-Session2-1.09
on perl 5.20.3, created by CPAN-Reporter-1.2018.

Thank you for uploading your work to CPAN.  Congratulations!
All tests were successful.

Sections of this report:

    * Tester comments
    * Program output
    * Prerequisites
    * Environment and other context

------------------------------
TESTER COMMENTS
------------------------------

Additional comments from tester:

this report is from an automated smoke testing program
and was not reviewed by a human for accuracy

------------------------------
PROGRAM OUTPUT
------------------------------

Output from './Build test':

t/00_compile.t .............. ok
Secret string too short at /cpan_build/bar/HTTP-Session2-1.09-0/blib/lib/HTTP/Session2/Base.pm line 79.
	HTTP::Session2::Base::__ANON__(HTTP::Session2::ServerStore=HASH(0x12ff3c1931c0), "s3cret") called at t/01_server_side.t line 23
	main::__ANON__("client -> server: request without cookie", CODE(0x12ff23956d00)) called at t/01_server_side.t line 25
	main::__ANON__() called at /home/bar/perl5/perlbrew/perls/perl-5.20.3/lib/site_perl/5.20.3/Test/Builder.pm line 302
	eval {...} called at /home/bar/perl5/perlbrew/perls/perl-5.20.3/lib/site_perl/5.20.3/Test/Builder.pm line 302
	Test::Builder::subtest(Test::Builder=HASH(0x12ff667110a0), "First request", CODE(0x12ff4da87ee0)) called at /home/bar/perl5/perlbrew/perls/perl-5.20.3/lib/site_perl/5.20.3/Test/More.pm line 807
	Test::More::subtest("First request", CODE(0x12ff4da87ee0)) called at t/01_server_side.t line 11
	main::scenario("First request", CODE(0x12ff4da87ee0)) called at t/01_server_side.t line 31
Secret string too short at /cpan_build/bar/HTTP-Session2-1.09-0/blib/lib/HTTP/Session2/Base.pm line 79.
	HTTP::Session2::Base::__ANON__(HTTP::Session2::ServerStore=HASH(0x12ff23956d30), "s3cret") called at t/01_server_side.t line 40
	main::__ANON__("client -> server: request without cookie", CODE(0x12ff23956a18)) called at t/01_server_side.t line 42
	main::__ANON__() called at /home/bar/perl5/perlbrew/perls/perl-5.20.3/lib/site_perl/5.20.3/Test/Builder.pm line 302
	eval {...} called at /home/bar/perl5/perlbrew/perls/perl-5.20.3/lib/site_perl/5.20.3/Test/Builder.pm line 302
	Test::Builder::subtest(Test::Builder=HASH(0x12ff667110a0), "Store something without login", CODE(0x12ff6cb0f5c8)) called at /home/bar/perl5/perlbrew/perls/perl-5.20.3/lib/site_perl/5.20.3/Test/More.pm line 807
	Test::More::subtest("Store something without login", CODE(0x12ff6cb0f5c8)) called at t/01_server_side.t line 11
	main::scenario("Store something without login", CODE(0x12ff6cb0f5c8)) called at t/01_server_side.t line 58
Secret string too short at /cpan_build/bar/HTTP-Session2-1.09-0/blib/lib/HTTP/Session2/Base.pm line 79.
	HTTP::Session2::Base::__ANON__(HTTP::Session2::ServerStore=HASH(0x12ff37419fd0), "s3cret") called at t/01_server_side.t line 70
	main::__ANON__("client -> server: request without cookie", CODE(0x12ff23956808)) called at t/01_server_side.t line 72
	main::__ANON__() called at /home/bar/perl5/perlbrew/perls/perl-5.20.3/lib/site_perl/5.20.3/Test/Builder.pm line 302
	eval {...} called at /home/bar/perl5/perlbrew/perls/perl-5.20.3/lib/site_perl/5.20.3/Test/Builder.pm line 302
	Test::Builder::subtest(Test::Builder=HASH(0x12ff667110a0), "Login", CODE(0x12ff6cb0faf0)) called at /home/bar/perl5/perlbrew/perls/perl-5.20.3/lib/site_perl/5.20.3/Test/More.pm line 807
	Test::More::subtest("Login", CODE(0x12ff6cb0faf0)) called at t/01_server_side.t line 11
	main::scenario("Login", CODE(0x12ff6cb0faf0)) called at t/01_server_side.t line 96
Secret string too short at /cpan_build/bar/HTTP-Session2-1.09-0/blib/lib/HTTP/Session2/Base.pm line 79.
	HTTP::Session2::Base::__ANON__(HTTP::Session2::ServerStore=HASH(0x12ff23956898), "s3cret") called at t/01_server_side.t line 108
	main::__ANON__("client -> server: request without cookie", CODE(0x12ff37419b20)) called at t/01_server_side.t line 110
	main::__ANON__() called at /home/bar/perl5/perlbrew/perls/perl-5.20.3/lib/site_perl/5.20.3/Test/Builder.pm line 302
	eval {...} called at /home/bar/perl5/perlbrew/perls/perl-5.20.3/lib/site_perl/5.20.3/Test/Builder.pm line 302
	Test::Builder::subtest(Test::Builder=HASH(0x12ff667110a0), "In a login session", CODE(0x12fef11874c0)) called at /home/bar/perl5/perlbrew/perls/perl-5.20.3/lib/site_perl/5.20.3/Test/More.pm line 807
	Test::More::subtest("In a login session", CODE(0x12fef11874c0)) called at t/01_server_side.t line 11
	main::scenario("In a login session", CODE(0x12fef11874c0)) called at t/01_server_side.t line 124
Secret string too short at /cpan_build/bar/HTTP-Session2-1.09-0/blib/lib/HTTP/Session2/Base.pm line 79.
	HTTP::Session2::Base::__ANON__(HTTP::Session2::ServerStore=HASH(0x12ff7a25e058), "s3cret") called at t/01_server_side.t line 131
	main::__ANON__("client -> server: request without cookie", CODE(0x12ff6cb0f628)) called at t/01_server_side.t line 138
	main::__ANON__() called at /home/bar/perl5/perlbrew/perls/perl-5.20.3/lib/site_perl/5.20.3/Test/Builder.pm line 302
	eval {...} called at /home/bar/perl5/perlbrew/perls/perl-5.20.3/lib/site_perl/5.20.3/Test/Builder.pm line 302
	Test::Builder::subtest(Test::Builder=HASH(0x12ff667110a0), "Logout", CODE(0x12fef1187e68)) called at /home/bar/perl5/perlbrew/perls/perl-5.20.3/lib/site_perl/5.20.3/Test/More.pm line 807
	Test::More::subtest("Logout", CODE(0x12fef1187e68)) called at t/01_server_side.t line 11
	main::scenario("Logout", CODE(0x12fef1187e68)) called at t/01_server_side.t line 153
t/01_server_side.t .......... ok
Secret string too short at /cpan_build/bar/HTTP-Session2-1.09-0/blib/lib/HTTP/Session2/Base.pm line 79.
	HTTP::Session2::Base::__ANON__(HTTP::Session2::ClientStore=HASH(0x11c2002585b0), "s3cret") called at t/02_client_side.t line 17
	main::__ANON__("client -> server: request without cookie", CODE(0x11c200258118)) called at t/02_client_side.t line 22
	main::__ANON__() called at /home/bar/perl5/perlbrew/perls/perl-5.20.3/lib/site_perl/5.20.3/Test/Builder.pm line 302
	eval {...} called at /home/bar/perl5/perlbrew/perls/perl-5.20.3/lib/site_perl/5.20.3/Test/Builder.pm line 302
	Test::Builder::subtest(Test::Builder=HASH(0x11c29fe420b8), "First request", CODE(0x11c20b8105b0)) called at /home/bar/perl5/perlbrew/perls/perl-5.20.3/lib/site_perl/5.20.3/Test/More.pm line 807
	Test::More::subtest("First request", CODE(0x11c20b8105b0)) called at t/02_client_side.t line 9
	main::scenario("First request", CODE(0x11c20b8105b0)) called at t/02_client_side.t line 28
Secret string too short at /cpan_build/bar/HTTP-Session2-1.09-0/blib/lib/HTTP/Session2/Base.pm line 79.
	HTTP::Session2::Base::__ANON__(HTTP::Session2::ClientStore=HASH(0x11c1cc8ea5f8), "s3cret") called at t/02_client_side.t line 33
	main::__ANON__("client -> server: request without cookie", CODE(0x11c200258eb0)) called at t/02_client_side.t line 38
	main::__ANON__() called at /home/bar/perl5/perlbrew/perls/perl-5.20.3/lib/site_perl/5.20.3/Test/Builder.pm line 302
	eval {...} called at /home/bar/perl5/perlbrew/perls/perl-5.20.3/lib/site_perl/5.20.3/Test/Builder.pm line 302
	Test::Builder::subtest(Test::Builder=HASH(0x11c29fe420b8), "Store something without login", CODE(0x11c1eefaf040)) called at /home/bar/perl5/perlbrew/perls/perl-5.20.3/lib/site_perl/5.20.3/Test/More.pm line 807
	Test::More::subtest("Store something without login", CODE(0x11c1eefaf040)) called at t/02_client_side.t line 9
	main::scenario("Store something without login", CODE(0x11c1eefaf040)) called at t/02_client_side.t line 54
Do not use HTTP::Session2::ClientStore. Use HTTP::Session2::ServerStore or HTTP::Session2::ClientStore2 instead. at /cpan_build/bar/HTTP-Session2-1.09-0/blib/lib/HTTP/Session2/ClientStore.pm line 25.
Secret string too short at /cpan_build/bar/HTTP-Session2-1.09-0/blib/lib/HTTP/Session2/Base.pm line 79.
	HTTP::Session2::Base::__ANON__(HTTP::Session2::ClientStore=HASH(0x11c25dd49778), "s3cret") called at t/02_client_side.t line 60
	main::__ANON__("client -> server: request without cookie", CODE(0x11c200258d60)) called at t/02_client_side.t line 66
	main::__ANON__() called at /home/bar/perl5/perlbrew/perls/perl-5.20.3/lib/site_perl/5.20.3/Test/Builder.pm line 302
	eval {...} called at /home/bar/perl5/perlbrew/perls/perl-5.20.3/lib/site_perl/5.20.3/Test/Builder.pm line 302
	Test::Builder::subtest(Test::Builder=HASH(0x11c29fe420b8), "Login", CODE(0x11c1eefaf448)) called at /home/bar/perl5/perlbrew/perls/perl-5.20.3/lib/site_perl/5.20.3/Test/More.pm line 807
	Test::More::subtest("Login", CODE(0x11c1eefaf448)) called at t/02_client_side.t line 9
	main::scenario("Login", CODE(0x11c1eefaf448)) called at t/02_client_side.t line 86
Do not use HTTP::Session2::ClientStore. Use HTTP::Session2::ServerStore or HTTP::Session2::ClientStore2 instead. at /cpan_build/bar/HTTP-Session2-1.09-0/blib/lib/HTTP/Session2/ClientStore.pm line 35.
Do not use HTTP::Session2::ClientStore. Use HTTP::Session2::ServerStore or HTTP::Session2::ClientStore2 instead. at /cpan_build/bar/HTTP-Session2-1.09-0/blib/lib/HTTP/Session2/ClientStore.pm line 25.
Secret string too short at /cpan_build/bar/HTTP-Session2-1.09-0/blib/lib/HTTP/Session2/Base.pm line 79.
	HTTP::Session2::Base::__ANON__(HTTP::Session2::ClientStore=HASH(0x11c2679bfc40), "s3cret") called at t/02_client_side.t line 92
	main::__ANON__("client -> server: request without cookie", CODE(0x11c292592400)) called at t/02_client_side.t line 98
	main::__ANON__() called at /home/bar/perl5/perlbrew/perls/perl-5.20.3/lib/site_perl/5.20.3/Test/Builder.pm line 302
	eval {...} called at /home/bar/perl5/perlbrew/perls/perl-5.20.3/lib/site_perl/5.20.3/Test/Builder.pm line 302
	Test::Builder::subtest(Test::Builder=HASH(0x11c29fe420b8), "In a login session", CODE(0x11c1eefafc28)) called at /home/bar/perl5/perlbrew/perls/perl-5.20.3/lib/site_perl/5.20.3/Test/More.pm line 807
	Test::More::subtest("In a login session", CODE(0x11c1eefafc28)) called at t/02_client_side.t line 9
	main::scenario("In a login session", CODE(0x11c1eefafc28)) called at t/02_client_side.t line 107
Do not use HTTP::Session2::ClientStore. Use HTTP::Session2::ServerStore or HTTP::Session2::ClientStore2 instead. at /cpan_build/bar/HTTP-Session2-1.09-0/blib/lib/HTTP/Session2/ClientStore.pm line 35.
Do not use HTTP::Session2::ClientStore. Use HTTP::Session2::ServerStore or HTTP::Session2::ClientStore2 instead. at /cpan_build/bar/HTTP-Session2-1.09-0/blib/lib/HTTP/Session2/ClientStore.pm line 25.
Secret string too short at /cpan_build/bar/HTTP-Session2-1.09-0/blib/lib/HTTP/Session2/Base.pm line 79.
	HTTP::Session2::Base::__ANON__(HTTP::Session2::ClientStore=HASH(0x11c25dd49c40), "s3cret") called at t/02_client_side.t line 112
	main::__ANON__("client -> server: request without cookie", CODE(0x11c25dd49af0)) called at t/02_client_side.t line 118
	main::__ANON__() called at /home/bar/perl5/perlbrew/perls/perl-5.20.3/lib/site_perl/5.20.3/Test/Builder.pm line 302
	eval {...} called at /home/bar/perl5/perlbrew/perls/perl-5.20.3/lib/site_perl/5.20.3/Test/Builder.pm line 302
	Test::Builder::subtest(Test::Builder=HASH(0x11c29fe420b8), "Logout", CODE(0x11c2679bf3b8)) called at /home/bar/perl5/perlbrew/perls/perl-5.20.3/lib/site_perl/5.20.3/Test/More.pm line 807
	Test::More::subtest("Logout", CODE(0x11c2679bf3b8)) called at t/02_client_side.t line 9
	main::scenario("Logout", CODE(0x11c2679bf3b8)) called at t/02_client_side.t line 131
t/02_client_side.t .......... ok
Secret string too short at /cpan_build/bar/HTTP-Session2-1.09-0/blib/lib/HTTP/Session2/Base.pm line 79.
	HTTP::Session2::Base::__ANON__(HTTP::Session2::ServerStore=HASH(0x2c97f012e80), "s3cret") called at t/03_mech.t line 121
	main::server_session(HASH(0x2c97f012790)) called at t/03_mech.t line 17
	main::__ANON__(HASH(0x2c97f012790)) called at /home/bar/perl5/perlbrew/perls/perl-5.20.3/lib/site_perl/5.20.3/Test/WWW/Mechanize/PSGI.pm line 43
	Test::WWW::Mechanize::PSGI::try {...} () called at /home/bar/perl5/perlbrew/perls/perl-5.20.3/lib/site_perl/5.20.3/Try/Tiny.pm line 103
	eval {...} called at /home/bar/perl5/perlbrew/perls/perl-5.20.3/lib/site_perl/5.20.3/Try/Tiny.pm line 94
	Try::Tiny::try(CODE(0x2c97f012280), Try::Tiny::Catch=REF(0x2c8f1964538)) called at /home/bar/perl5/perlbrew/perls/perl-5.20.3/lib/site_perl/5.20.3/Test/WWW/Mechanize/PSGI.pm line 50
	Test::WWW::Mechanize::PSGI::simple_request(Test::WWW::Mechanize::PSGI=HASH(0x2c8911c7970), HTTP::Request=HASH(0x2c97ebac6d0), undef, undef) called at /home/bar/perl5/perlbrew/perls/perl-5.20.3/lib/site_perl/5.20.3/LWP/UserAgent.pm line 282
	LWP::UserAgent::request(Test::WWW::Mechanize::PSGI=HASH(0x2c8911c7970), HTTP::Request=HASH(0x2c97ebac6d0)) called at /home/bar/perl5/perlbrew/perls/perl-5.20.3/lib/site_perl/5.20.3/WWW/Mechanize.pm line 1419
	WWW::Mechanize::_make_request(Test::WWW::Mechanize::PSGI=HASH(0x2c8911c7970), HTTP::Request=HASH(0x2c97ebac6d0)) called at /home/bar/perl5/perlbrew/perls/perl-5.20.3/lib/site_perl/5.20.3/WWW/Mechanize.pm line 1253
	WWW::Mechanize::request(Test::WWW::Mechanize::PSGI=HASH(0x2c8911c7970), HTTP::Request=HASH(0x2c97ebac6d0)) called at /home/bar/perl5/perlbrew/perls/perl-5.20.3/lib/site_perl/5.20.3/LWP/UserAgent.pm line 411
	LWP::UserAgent::get(Test::WWW::Mechanize::PSGI=HASH(0x2c8911c7970), "/") called at /home/bar/perl5/perlbrew/perls/perl-5.20.3/lib/site_perl/5.20.3/WWW/Mechanize.pm line 117
	WWW::Mechanize::get(Test::WWW::Mechanize::PSGI=HASH(0x2c8911c7970), "/") called at /home/bar/perl5/perlbrew/perls/perl-5.20.3/lib/site_perl/5.20.3/Test/WWW/Mechanize.pm line 160
	Test::WWW::Mechanize::get_ok(Test::WWW::Mechanize::PSGI=HASH(0x2c8911c7970), "/") called at t/03_mech.t line 74
Secret string too short at /cpan_build/bar/HTTP-Session2-1.09-0/blib/lib/HTTP/Session2/Base.pm line 79.
	HTTP::Session2::Base::__ANON__(HTTP::Session2::ServerStore=HASH(0x2c8df148ce8), "s3cret") called at t/03_mech.t line 121
	main::server_session(HASH(0x2c8df1487a8)) called at t/03_mech.t line 17
	main::__ANON__(HASH(0x2c8df1487a8)) called at /home/bar/perl5/perlbrew/perls/perl-5.20.3/lib/site_perl/5.20.3/Test/WWW/Mechanize/PSGI.pm line 43
	Test::WWW::Mechanize::PSGI::try {...} () called at /home/bar/perl5/perlbrew/perls/perl-5.20.3/lib/site_perl/5.20.3/Try/Tiny.pm line 103
	eval {...} called at /home/bar/perl5/perlbrew/perls/perl-5.20.3/lib/site_perl/5.20.3/Try/Tiny.pm line 94
	Try::Tiny::try(CODE(0x2c8df1487f0), Try::Tiny::Catch=REF(0x2c97f012c10)) called at /home/bar/perl5/perlbrew/perls/perl-5.20.3/lib/site_perl/5.20.3/Test/WWW/Mechanize/PSGI.pm line 50
	Test::WWW::Mechanize::PSGI::simple_request(Test::WWW::Mechanize::PSGI=HASH(0x2c8911c7970), HTTP::Request=HASH(0x2c97f012dd8), undef, undef) called at /home/bar/perl5/perlbrew/perls/perl-5.20.3/lib/site_perl/5.20.3/LWP/UserAgent.pm line 282
	LWP::UserAgent::request(Test::WWW::Mechanize::PSGI=HASH(0x2c8911c7970), HTTP::Request=HASH(0x2c97f012dd8)) called at /home/bar/perl5/perlbrew/perls/perl-5.20.3/lib/site_perl/5.20.3/WWW/Mechanize.pm line 1419
	WWW::Mechanize::_make_request(Test::WWW::Mechanize::PSGI=HASH(0x2c8911c7970), HTTP::Request=HASH(0x2c97f012dd8)) called at /home/bar/perl5/perlbrew/perls/perl-5.20.3/lib/site_perl/5.20.3/WWW/Mechanize.pm line 1253
	WWW::Mechanize::request(Test::WWW::Mechanize::PSGI=HASH(0x2c8911c7970), HTTP::Request=HASH(0x2c97f012dd8)) called at /home/bar/perl5/perlbrew/perls/perl-5.20.3/lib/site_perl/5.20.3/LWP/UserAgent.pm line 419
	LWP::UserAgent::post(Test::WWW::Mechanize::PSGI=HASH(0x2c8911c7970), "/wishlist?foo", HASH(0x2c8b9687f58)) called at /home/bar/perl5/perlbrew/perls/perl-5.20.3/lib/site_perl/5.20.3/Test/WWW/Mechanize.pm line 237
	Test::WWW::Mechanize::post_ok(Test::WWW::Mechanize::PSGI=HASH(0x2c8911c7970), "/wishlist?foo") called at t/03_mech.t line 75
Secret string too short at /cpan_build/bar/HTTP-Session2-1.09-0/blib/lib/HTTP/Session2/Base.pm line 79.
	HTTP::Session2::Base::__ANON__(HTTP::Session2::ServerStore=HASH(0x2c8ee8685e0), "s3cret") called at t/03_mech.t line 121
	main::server_session(HASH(0x2c8df148ca0)) called at t/03_mech.t line 17
	main::__ANON__(HASH(0x2c8df148ca0)) called at /home/bar/perl5/perlbrew/perls/perl-5.20.3/lib/site_perl/5.20.3/Test/WWW/Mechanize/PSGI.pm line 43
	Test::WWW::Mechanize::PSGI::try {...} () called at /home/bar/perl5/perlbrew/perls/perl-5.20.3/lib/site_perl/5.20.3/Try/Tiny.pm line 103
	eval {...} called at /home/bar/perl5/perlbrew/perls/perl-5.20.3/lib/site_perl/5.20.3/Try/Tiny.pm line 94
	Try::Tiny::try(CODE(0x2c8ee8681a8), Try::Tiny::Catch=REF(0x2c8df148b50)) called at /home/bar/perl5/perlbrew/perls/perl-5.20.3/lib/site_perl/5.20.3/Test/WWW/Mechanize/PSGI.pm line 50
	Test::WWW::Mechanize::PSGI::simple_request(Test::WWW::Mechanize::PSGI=HASH(0x2c8911c7970), HTTP::Request=HASH(0x2c97f012c58), undef, undef) called at /home/bar/perl5/perlbrew/perls/perl-5.20.3/lib/site_perl/5.20.3/LWP/UserAgent.pm line 282
	LWP::UserAgent::request(Test::WWW::Mechanize::PSGI=HASH(0x2c8911c7970), HTTP::Request=HASH(0x2c97f012c58)) called at /home/bar/perl5/perlbrew/perls/perl-5.20.3/lib/site_perl/5.20.3/WWW/Mechanize.pm line 1419
	WWW::Mechanize::_make_request(Test::WWW::Mechanize::PSGI=HASH(0x2c8911c7970), HTTP::Request=HASH(0x2c97f012c58)) called at /home/bar/perl5/perlbrew/perls/perl-5.20.3/lib/site_perl/5.20.3/WWW/Mechanize.pm line 1253
	WWW::Mechanize::request(Test::WWW::Mechanize::PSGI=HASH(0x2c8911c7970), HTTP::Request=HASH(0x2c97f012c58)) called at /home/bar/perl5/perlbrew/perls/perl-5.20.3/lib/site_perl/5.20.3/LWP/UserAgent.pm line 411
	LWP::UserAgent::get(Test::WWW::Mechanize::PSGI=HASH(0x2c8911c7970), "http://localhost/wishlist") called at /home/bar/perl5/perlbrew/perls/perl-5.20.3/lib/site_perl/5.20.3/WWW/Mechanize.pm line 117
	WWW::Mechanize::get(Test::WWW::Mechanize::PSGI=HASH(0x2c8911c7970), "/wishlist") called at /home/bar/perl5/perlbrew/perls/perl-5.20.3/lib/site_perl/5.20.3/Test/WWW/Mechanize.pm line 160
	Test::WWW::Mechanize::get_ok(Test::WWW::Mechanize::PSGI=HASH(0x2c8911c7970), "/wishlist") called at t/03_mech.t line 76
Secret string too short at /cpan_build/bar/HTTP-Session2-1.09-0/blib/lib/HTTP/Session2/Base.pm line 79.
	HTTP::Session2::Base::__ANON__(HTTP::Session2::ServerStore=HASH(0x2c8ee868058), "s3cret") called at t/03_mech.t line 121
	main::server_session(HASH(0x2c8ee868910)) called at t/03_mech.t line 17
	main::__ANON__(HASH(0x2c8ee868910)) called at /home/bar/perl5/perlbrew/perls/perl-5.20.3/lib/site_perl/5.20.3/Test/WWW/Mechanize/PSGI.pm line 43
	Test::WWW::Mechanize::PSGI::try {...} () called at /home/bar/perl5/perlbrew/perls/perl-5.20.3/lib/site_perl/5.20.3/Try/Tiny.pm line 103
	eval {...} called at /home/bar/perl5/perlbrew/perls/perl-5.20.3/lib/site_perl/5.20.3/Try/Tiny.pm line 94
	Try::Tiny::try(CODE(0x2c8df148fe8), Try::Tiny::Catch=REF(0x2c8ee868430)) called at /home/bar/perl5/perlbrew/perls/perl-5.20.3/lib/site_perl/5.20.3/Test/WWW/Mechanize/PSGI.pm line 50
	Test::WWW::Mechanize::PSGI::simple_request(Test::WWW::Mechanize::PSGI=HASH(0x2c8911c7970), HTTP::Request=HASH(0x2c8ee868340), undef, undef) called at /home/bar/perl5/perlbrew/perls/perl-5.20.3/lib/site_perl/5.20.3/LWP/UserAgent.pm line 282
	LWP::UserAgent::request(Test::WWW::Mechanize::PSGI=HASH(0x2c8911c7970), HTTP::Request=HASH(0x2c8ee868340)) called at /home/bar/perl5/perlbrew/perls/perl-5.20.3/lib/site_perl/5.20.3/WWW/Mechanize.pm line 1419
	WWW::Mechanize::_make_request(Test::WWW::Mechanize::PSGI=HASH(0x2c8911c7970), HTTP::Request=HASH(0x2c8ee868340)) called at /home/bar/perl5/perlbrew/perls/perl-5.20.3/lib/site_perl/5.20.3/WWW/Mechanize.pm line 1253
	WWW::Mechanize::request(Test::WWW::Mechanize::PSGI=HASH(0x2c8911c7970), HTTP::Request=HASH(0x2c8ee868340)) called at /home/bar/perl5/perlbrew/perls/perl-5.20.3/lib/site_perl/5.20.3/LWP/UserAgent.pm line 419
	LWP::UserAgent::post(Test::WWW::Mechanize::PSGI=HASH(0x2c8911c7970), "/wishlist?bar") called at t/03_mech.t line 78
Secret string too short at /cpan_build/bar/HTTP-Session2-1.09-0/blib/lib/HTTP/Session2/Base.pm line 79.
	HTTP::Session2::Base::__ANON__(HTTP::Session2::ServerStore=HASH(0x2c8ee868e38), "s3cret") called at t/03_mech.t line 121
	main::server_session(HASH(0x2c8ee868f58)) called at t/03_mech.t line 17
	main::__ANON__(HASH(0x2c8ee868f58)) called at /home/bar/perl5/perlbrew/perls/perl-5.20.3/lib/site_perl/5.20.3/Test/WWW/Mechanize/PSGI.pm line 43
	Test::WWW::Mechanize::PSGI::try {...} () called at /home/bar/perl5/perlbrew/perls/perl-5.20.3/lib/site_perl/5.20.3/Try/Tiny.pm line 103
	eval {...} called at /home/bar/perl5/perlbrew/perls/perl-5.20.3/lib/site_perl/5.20.3/Try/Tiny.pm line 94
	Try::Tiny::try(CODE(0x2c8ee868da8), Try::Tiny::Catch=REF(0x2c8ee8686b8)) called at /home/bar/perl5/perlbrew/perls/perl-5.20.3/lib/site_perl/5.20.3/Test/WWW/Mechanize/PSGI.pm line 50
	Test::WWW::Mechanize::PSGI::simple_request(Test::WWW::Mechanize::PSGI=HASH(0x2c8911c7970), HTTP::Request=HASH(0x2c8ee8686a0), undef, undef) called at /home/bar/perl5/perlbrew/perls/perl-5.20.3/lib/site_perl/5.20.3/LWP/UserAgent.pm line 282
	LWP::UserAgent::request(Test::WWW::Mechanize::PSGI=HASH(0x2c8911c7970), HTTP::Request=HASH(0x2c8ee8686a0)) called at /home/bar/perl5/perlbrew/perls/perl-5.20.3/lib/site_perl/5.20.3/WWW/Mechanize.pm line 1419
	WWW::Mechanize::_make_request(Test::WWW::Mechanize::PSGI=HASH(0x2c8911c7970), HTTP::Request=HASH(0x2c8ee8686a0)) called at /home/bar/perl5/perlbrew/perls/perl-5.20.3/lib/site_perl/5.20.3/WWW/Mechanize.pm line 1253
	WWW::Mechanize::request(Test::WWW::Mechanize::PSGI=HASH(0x2c8911c7970), HTTP::Request=HASH(0x2c8ee8686a0)) called at /home/bar/perl5/perlbrew/perls/perl-5.20.3/lib/site_perl/5.20.3/LWP/UserAgent.pm line 419
	LWP::UserAgent::post(Test::WWW::Mechanize::PSGI=HASH(0x2c8911c7970), "/wishlist?bar", HASH(0x2c8b9687f58)) called at /home/bar/perl5/perlbrew/perls/perl-5.20.3/lib/site_perl/5.20.3/Test/WWW/Mechanize.pm line 237
	Test::WWW::Mechanize::post_ok(Test::WWW::Mechanize::PSGI=HASH(0x2c8911c7970), "/wishlist?bar") called at t/03_mech.t line 81
Secret string too short at /cpan_build/bar/HTTP-Session2-1.09-0/blib/lib/HTTP/Session2/Base.pm line 79.
	HTTP::Session2::Base::__ANON__(HTTP::Session2::ServerStore=HASH(0x2c8ee868f70), "s3cret") called at t/03_mech.t line 121
	main::server_session(HASH(0x2c8ee868e08)) called at t/03_mech.t line 17
	main::__ANON__(HASH(0x2c8ee868e08)) called at /home/bar/perl5/perlbrew/perls/perl-5.20.3/lib/site_perl/5.20.3/Test/WWW/Mechanize/PSGI.pm line 43
	Test::WWW::Mechanize::PSGI::try {...} () called at /home/bar/perl5/perlbrew/perls/perl-5.20.3/lib/site_perl/5.20.3/Try/Tiny.pm line 103
	eval {...} called at /home/bar/perl5/perlbrew/perls/perl-5.20.3/lib/site_perl/5.20.3/Try/Tiny.pm line 94
	Try::Tiny::try(CODE(0x2c8ee868430), Try::Tiny::Catch=REF(0x2c8ee868e20)) called at /home/bar/perl5/perlbrew/perls/perl-5.20.3/lib/site_perl/5.20.3/Test/WWW/Mechanize/PSGI.pm line 50
	Test::WWW::Mechanize::PSGI::simple_request(Test::WWW::Mechanize::PSGI=HASH(0x2c8911c7970), HTTP::Request=HASH(0x2c8ee868898), undef, undef) called at /home/bar/perl5/perlbrew/perls/perl-5.20.3/lib/site_perl/5.20.3/LWP/UserAgent.pm line 282
	LWP::UserAgent::request(Test::WWW::Mechanize::PSGI=HASH(0x2c8911c7970), HTTP::Request=HASH(0x2c8ee868898)) called at /home/bar/perl5/perlbrew/perls/perl-5.20.3/lib/site_perl/5.20.3/WWW/Mechanize.pm line 1419
	WWW::Mechanize::_make_request(Test::WWW::Mechanize::PSGI=HASH(0x2c8911c7970), HTTP::Request=HASH(0x2c8ee868898)) called at /home/bar/perl5/perlbrew/perls/perl-5.20.3/lib/site_perl/5.20.3/WWW/Mechanize.pm line 1253
	WWW::Mechanize::request(Test::WWW::Mechanize::PSGI=HASH(0x2c8911c7970), HTTP::Request=HASH(0x2c8ee868898)) called at /home/bar/perl5/perlbrew/perls/perl-5.20.3/lib/site_perl/5.20.3/LWP/UserAgent.pm line 411
	LWP::UserAgent::get(Test::WWW::Mechanize::PSGI=HASH(0x2c8911c7970), "http://localhost/wishlist") called at /home/bar/perl5/perlbrew/perls/perl-5.20.3/lib/site_perl/5.20.3/WWW/Mechanize.pm line 117
	WWW::Mechanize::get(Test::WWW::Mechanize::PSGI=HASH(0x2c8911c7970), "/wishlist") called at /home/bar/perl5/perlbrew/perls/perl-5.20.3/lib/site_perl/5.20.3/Test/WWW/Mechanize.pm line 160
	Test::WWW::Mechanize::get_ok(Test::WWW::Mechanize::PSGI=HASH(0x2c8911c7970), "/wishlist") called at t/03_mech.t line 82
Secret string too short at /cpan_build/bar/HTTP-Session2-1.09-0/blib/lib/HTTP/Session2/Base.pm line 79.
	HTTP::Session2::Base::__ANON__(HTTP::Session2::ServerStore=HASH(0x2c9829dc718), "s3cret") called at t/03_mech.t line 121
	main::server_session(HASH(0x2c9829dc880)) called at t/03_mech.t line 17
	main::__ANON__(HASH(0x2c9829dc880)) called at /home/bar/perl5/perlbrew/perls/perl-5.20.3/lib/site_perl/5.20.3/Test/WWW/Mechanize/PSGI.pm line 43
	Test::WWW::Mechanize::PSGI::try {...} () called at /home/bar/perl5/perlbrew/perls/perl-5.20.3/lib/site_perl/5.20.3/Try/Tiny.pm line 103
	eval {...} called at /home/bar/perl5/perlbrew/perls/perl-5.20.3/lib/site_perl/5.20.3/Try/Tiny.pm line 94
	Try::Tiny::try(CODE(0x2c9829dc0d0), Try::Tiny::Catch=REF(0x2c9829dc160)) called at /home/bar/perl5/perlbrew/perls/perl-5.20.3/lib/site_perl/5.20.3/Test/WWW/Mechanize/PSGI.pm line 50
	Test::WWW::Mechanize::PSGI::simple_request(Test::WWW::Mechanize::PSGI=HASH(0x2c8911c7970), HTTP::Request=HASH(0x2c9829dc208), undef, undef) called at /home/bar/perl5/perlbrew/perls/perl-5.20.3/lib/site_perl/5.20.3/LWP/UserAgent.pm line 282
	LWP::UserAgent::request(Test::WWW::Mechanize::PSGI=HASH(0x2c8911c7970), HTTP::Request=HASH(0x2c9829dc208)) called at /home/bar/perl5/perlbrew/perls/perl-5.20.3/lib/site_perl/5.20.3/WWW/Mechanize.pm line 1419
	WWW::Mechanize::_make_request(Test::WWW::Mechanize::PSGI=HASH(0x2c8911c7970), HTTP::Request=HASH(0x2c9829dc208)) called at /home/bar/perl5/perlbrew/perls/perl-5.20.3/lib/site_perl/5.20.3/WWW/Mechanize.pm line 1253
	WWW::Mechanize::request(Test::WWW::Mechanize::PSGI=HASH(0x2c8911c7970), HTTP::Request=HASH(0x2c9829dc208)) called at /home/bar/perl5/perlbrew/perls/perl-5.20.3/lib/site_perl/5.20.3/LWP/UserAgent.pm line 419
	LWP::UserAgent::post(Test::WWW::Mechanize::PSGI=HASH(0x2c8911c7970), "/account/login?john", HASH(0x2c8b9687f58)) called at /home/bar/perl5/perlbrew/perls/perl-5.20.3/lib/site_perl/5.20.3/Test/WWW/Mechanize.pm line 237
	Test::WWW::Mechanize::post_ok(Test::WWW::Mechanize::PSGI=HASH(0x2c8911c7970), "/account/login?john") called at t/03_mech.t line 84
Secret string too short at /cpan_build/bar/HTTP-Session2-1.09-0/blib/lib/HTTP/Session2/Base.pm line 79.
	HTTP::Session2::Base::__ANON__(HTTP::Session2::ServerStore=HASH(0x2c9829dcbb0), "s3cret") called at t/03_mech.t line 121
	main::server_session(HASH(0x2c8ee868070)) called at t/03_mech.t line 17
	main::__ANON__(HASH(0x2c8ee868070)) called at /home/bar/perl5/perlbrew/perls/perl-5.20.3/lib/site_perl/5.20.3/Test/WWW/Mechanize/PSGI.pm line 43
	Test::WWW::Mechanize::PSGI::try {...} () called at /home/bar/perl5/perlbrew/perls/perl-5.20.3/lib/site_perl/5.20.3/Try/Tiny.pm line 103
	eval {...} called at /home/bar/perl5/perlbrew/perls/perl-5.20.3/lib/site_perl/5.20.3/Try/Tiny.pm line 94
	Try::Tiny::try(CODE(0x2c8df148df0), Try::Tiny::Catch=REF(0x2c9829dc280)) called at /home/bar/perl5/perlbrew/perls/perl-5.20.3/lib/site_perl/5.20.3/Test/WWW/Mechanize/PSGI.pm line 50
	Test::WWW::Mechanize::PSGI::simple_request(Test::WWW::Mechanize::PSGI=HASH(0x2c8911c7970), HTTP::Request=HASH(0x2c9829dc9d0), undef, undef) called at /home/bar/perl5/perlbrew/perls/perl-5.20.3/lib/site_perl/5.20.3/LWP/UserAgent.pm line 282
	LWP::UserAgent::request(Test::WWW::Mechanize::PSGI=HASH(0x2c8911c7970), HTTP::Request=HASH(0x2c9829dc9d0)) called at /home/bar/perl5/perlbrew/perls/perl-5.20.3/lib/site_perl/5.20.3/WWW/Mechanize.pm line 1419
	WWW::Mechanize::_make_request(Test::WWW::Mechanize::PSGI=HASH(0x2c8911c7970), HTTP::Request=HASH(0x2c9829dc9d0)) called at /home/bar/perl5/perlbrew/perls/perl-5.20.3/lib/site_perl/5.20.3/WWW/Mechanize.pm line 1253
	WWW::Mechanize::request(Test::WWW::Mechanize::PSGI=HASH(0x2c8911c7970), HTTP::Request=HASH(0x2c9829dc9d0)) called at /home/bar/perl5/perlbrew/perls/perl-5.20.3/lib/site_perl/5.20.3/LWP/UserAgent.pm line 411
	LWP::UserAgent::get(Test::WWW::Mechanize::PSGI=HASH(0x2c8911c7970), "http://localhost/wishlist") called at /home/bar/perl5/perlbrew/perls/perl-5.20.3/lib/site_perl/5.20.3/WWW/Mechanize.pm line 117
	WWW::Mechanize::get(Test::WWW::Mechanize::PSGI=HASH(0x2c8911c7970), "/wishlist") called at /home/bar/perl5/perlbrew/perls/perl-5.20.3/lib/site_perl/5.20.3/Test/WWW/Mechanize.pm line 160
	Test::WWW::Mechanize::get_ok(Test::WWW::Mechanize::PSGI=HASH(0x2c8911c7970), "/wishlist", "Wishlist is still available") called at t/03_mech.t line 85
Secret string too short at /cpan_build/bar/HTTP-Session2-1.09-0/blib/lib/HTTP/Session2/Base.pm line 79.
	HTTP::Session2::Base::__ANON__(HTTP::Session2::ServerStore=HASH(0x2c96535a118), "s3cret") called at t/03_mech.t line 121
	main::server_session(HASH(0x2c9829dcaf0)) called at t/03_mech.t line 17
	main::__ANON__(HASH(0x2c9829dcaf0)) called at /home/bar/perl5/perlbrew/perls/perl-5.20.3/lib/site_perl/5.20.3/Test/WWW/Mechanize/PSGI.pm line 43
	Test::WWW::Mechanize::PSGI::try {...} () called at /home/bar/perl5/perlbrew/perls/perl-5.20.3/lib/site_perl/5.20.3/Try/Tiny.pm line 103
	eval {...} called at /home/bar/perl5/perlbrew/perls/perl-5.20.3/lib/site_perl/5.20.3/Try/Tiny.pm line 94
	Try::Tiny::try(CODE(0x2c8df148760), Try::Tiny::Catch=REF(0x2c9829dca00)) called at /home/bar/perl5/perlbrew/perls/perl-5.20.3/lib/site_perl/5.20.3/Test/WWW/Mechanize/PSGI.pm line 50
	Test::WWW::Mechanize::PSGI::simple_request(Test::WWW::Mechanize::PSGI=HASH(0x2c8911c7970), HTTP::Request=HASH(0x2c9829dca18), undef, undef) called at /home/bar/perl5/perlbrew/perls/perl-5.20.3/lib/site_perl/5.20.3/LWP/UserAgent.pm line 282
	LWP::UserAgent::request(Test::WWW::Mechanize::PSGI=HASH(0x2c8911c7970), HTTP::Request=HASH(0x2c9829dca18)) called at /home/bar/perl5/perlbrew/perls/perl-5.20.3/lib/site_perl/5.20.3/WWW/Mechanize.pm line 1419
	WWW::Mechanize::_make_request(Test::WWW::Mechanize::PSGI=HASH(0x2c8911c7970), HTTP::Request=HASH(0x2c9829dca18)) called at /home/bar/perl5/perlbrew/perls/perl-5.20.3/lib/site_perl/5.20.3/WWW/Mechanize.pm line 1253
	WWW::Mechanize::request(Test::WWW::Mechanize::PSGI=HASH(0x2c8911c7970), HTTP::Request=HASH(0x2c9829dca18)) called at /home/bar/perl5/perlbrew/perls/perl-5.20.3/lib/site_perl/5.20.3/LWP/UserAgent.pm line 419
	LWP::UserAgent::post(Test::WWW::Mechanize::PSGI=HASH(0x2c8911c7970), "/wishlist?baz") called at t/03_mech.t line 87
Secret string too short at /cpan_build/bar/HTTP-Session2-1.09-0/blib/lib/HTTP/Session2/Base.pm line 79.
	HTTP::Session2::Base::__ANON__(HTTP::Session2::ServerStore=HASH(0x2c96535a628), "s3cret") called at t/03_mech.t line 121
	main::server_session(HASH(0x2c96535a6b8)) called at t/03_mech.t line 17
	main::__ANON__(HASH(0x2c96535a6b8)) called at /home/bar/perl5/perlbrew/perls/perl-5.20.3/lib/site_perl/5.20.3/Test/WWW/Mechanize/PSGI.pm line 43
	Test::WWW::Mechanize::PSGI::try {...} () called at /home/bar/perl5/perlbrew/perls/perl-5.20.3/lib/site_perl/5.20.3/Try/Tiny.pm line 103
	eval {...} called at /home/bar/perl5/perlbrew/perls/perl-5.20.3/lib/site_perl/5.20.3/Try/Tiny.pm line 94
	Try::Tiny::try(CODE(0x2c96535a7a8), Try::Tiny::Catch=REF(0x2c9829dcb20)) called at /home/bar/perl5/perlbrew/perls/perl-5.20.3/lib/site_perl/5.20.3/Test/WWW/Mechanize/PSGI.pm line 50
	Test::WWW::Mechanize::PSGI::simple_request(Test::WWW::Mechanize::PSGI=HASH(0x2c8911c7970), HTTP::Request=HASH(0x2c9829dc9a0), undef, undef) called at /home/bar/perl5/perlbrew/perls/perl-5.20.3/lib/site_perl/5.20.3/LWP/UserAgent.pm line 282
	LWP::UserAgent::request(Test::WWW::Mechanize::PSGI=HASH(0x2c8911c7970), HTTP::Request=HASH(0x2c9829dc9a0)) called at /home/bar/perl5/perlbrew/perls/perl-5.20.3/lib/site_perl/5.20.3/WWW/Mechanize.pm line 1419
	WWW::Mechanize::_make_request(Test::WWW::Mechanize::PSGI=HASH(0x2c8911c7970), HTTP::Request=HASH(0x2c9829dc9a0)) called at /home/bar/perl5/perlbrew/perls/perl-5.20.3/lib/site_perl/5.20.3/WWW/Mechanize.pm line 1253
	WWW::Mechanize::request(Test::WWW::Mechanize::PSGI=HASH(0x2c8911c7970), HTTP::Request=HASH(0x2c9829dc9a0)) called at /home/bar/perl5/perlbrew/perls/perl-5.20.3/lib/site_perl/5.20.3/LWP/UserAgent.pm line 419
	LWP::UserAgent::post(Test::WWW::Mechanize::PSGI=HASH(0x2c8911c7970), "/wishlist?baz", HASH(0x2c8b9687f58)) called at /home/bar/perl5/perlbrew/perls/perl-5.20.3/lib/site_perl/5.20.3/Test/WWW/Mechanize.pm line 237
	Test::WWW::Mechanize::post_ok(Test::WWW::Mechanize::PSGI=HASH(0x2c8911c7970), "/wishlist?baz") called at t/03_mech.t line 90
Secret string too short at /cpan_build/bar/HTTP-Session2-1.09-0/blib/lib/HTTP/Session2/Base.pm line 79.
	HTTP::Session2::Base::__ANON__(HTTP::Session2::ServerStore=HASH(0x2c9829dc790), "s3cret") called at t/03_mech.t line 121
	main::server_session(HASH(0x2c9829dc7c0)) called at t/03_mech.t line 17
	main::__ANON__(HASH(0x2c9829dc7c0)) called at /home/bar/perl5/perlbrew/perls/perl-5.20.3/lib/site_perl/5.20.3/Test/WWW/Mechanize/PSGI.pm line 43
	Test::WWW::Mechanize::PSGI::try {...} () called at /home/bar/perl5/perlbrew/perls/perl-5.20.3/lib/site_perl/5.20.3/Try/Tiny.pm line 103
	eval {...} called at /home/bar/perl5/perlbrew/perls/perl-5.20.3/lib/site_perl/5.20.3/Try/Tiny.pm line 94
	Try::Tiny::try(CODE(0x2c96535a778), Try::Tiny::Catch=REF(0x2c9829dcfb8)) called at /home/bar/perl5/perlbrew/perls/perl-5.20.3/lib/site_perl/5.20.3/Test/WWW/Mechanize/PSGI.pm line 50
	Test::WWW::Mechanize::PSGI::simple_request(Test::WWW::Mechanize::PSGI=HASH(0x2c8911c7970), HTTP::Request=HASH(0x2c9829dc148), undef, undef) called at /home/bar/perl5/perlbrew/perls/perl-5.20.3/lib/site_perl/5.20.3/LWP/UserAgent.pm line 282
	LWP::UserAgent::request(Test::WWW::Mechanize::PSGI=HASH(0x2c8911c7970), HTTP::Request=HASH(0x2c9829dc148)) called at /home/bar/perl5/perlbrew/perls/perl-5.20.3/lib/site_perl/5.20.3/WWW/Mechanize.pm line 1419
	WWW::Mechanize::_make_request(Test::WWW::Mechanize::PSGI=HASH(0x2c8911c7970), HTTP::Request=HASH(0x2c9829dc148)) called at /home/bar/perl5/perlbrew/perls/perl-5.20.3/lib/site_perl/5.20.3/WWW/Mechanize.pm line 1253
	WWW::Mechanize::request(Test::WWW::Mechanize::PSGI=HASH(0x2c8911c7970), HTTP::Request=HASH(0x2c9829dc148)) called at /home/bar/perl5/perlbrew/perls/perl-5.20.3/lib/site_perl/5.20.3/LWP/UserAgent.pm line 411
	LWP::UserAgent::get(Test::WWW::Mechanize::PSGI=HASH(0x2c8911c7970), "http://localhost/wishlist") called at /home/bar/perl5/perlbrew/perls/perl-5.20.3/lib/site_perl/5.20.3/WWW/Mechanize.pm line 117
	WWW::Mechanize::get(Test::WWW::Mechanize::PSGI=HASH(0x2c8911c7970), "/wishlist") called at /home/bar/perl5/perlbrew/perls/perl-5.20.3/lib/site_perl/5.20.3/Test/WWW/Mechanize.pm line 160
	Test::WWW::Mechanize::get_ok(Test::WWW::Mechanize::PSGI=HASH(0x2c8911c7970), "/wishlist", "Wishlist is still available") called at t/03_mech.t line 91
Secret string too short at /cpan_build/bar/HTTP-Session2-1.09-0/blib/lib/HTTP/Session2/Base.pm line 79.
	HTTP::Session2::Base::__ANON__(HTTP::Session2::ServerStore=HASH(0x2c96535ab38), "s3cret") called at t/03_mech.t line 121
	main::server_session(HASH(0x2c96535ac10)) called at t/03_mech.t line 17
	main::__ANON__(HASH(0x2c96535ac10)) called at /home/bar/perl5/perlbrew/perls/perl-5.20.3/lib/site_perl/5.20.3/Test/WWW/Mechanize/PSGI.pm line 43
	Test::WWW::Mechanize::PSGI::try {...} () called at /home/bar/perl5/perlbrew/perls/perl-5.20.3/lib/site_perl/5.20.3/Try/Tiny.pm line 103
	eval {...} called at /home/bar/perl5/perlbrew/perls/perl-5.20.3/lib/site_perl/5.20.3/Try/Tiny.pm line 94
	Try::Tiny::try(CODE(0x2c96535a4f0), Try::Tiny::Catch=REF(0x2c96535a958)) called at /home/bar/perl5/perlbrew/perls/perl-5.20.3/lib/site_perl/5.20.3/Test/WWW/Mechanize/PSGI.pm line 50
	Test::WWW::Mechanize::PSGI::simple_request(Test::WWW::Mechanize::PSGI=HASH(0x2c8911c7970), HTTP::Request=HASH(0x2c96535a9a0), undef, undef) called at /home/bar/perl5/perlbrew/perls/perl-5.20.3/lib/site_perl/5.20.3/LWP/UserAgent.pm line 282
	LWP::UserAgent::request(Test::WWW::Mechanize::PSGI=HASH(0x2c8911c7970), HTTP::Request=HASH(0x2c96535a9a0)) called at /home/bar/perl5/perlbrew/perls/perl-5.20.3/lib/site_perl/5.20.3/WWW/Mechanize.pm line 1419
	WWW::Mechanize::_make_request(Test::WWW::Mechanize::PSGI=HASH(0x2c8911c7970), HTTP::Request=HASH(0x2c96535a9a0)) called at /home/bar/perl5/perlbrew/perls/perl-5.20.3/lib/site_perl/5.20.3/WWW/Mechanize.pm line 1253
	WWW::Mechanize::request(Test::WWW::Mechanize::PSGI=HASH(0x2c8911c7970), HTTP::Request=HASH(0x2c96535a9a0)) called at /home/bar/perl5/perlbrew/perls/perl-5.20.3/lib/site_perl/5.20.3/LWP/UserAgent.pm line 411
	LWP::UserAgent::get(Test::WWW::Mechanize::PSGI=HASH(0x2c8911c7970), "http://localhost/my/name") called at /home/bar/perl5/perlbrew/perls/perl-5.20.3/lib/site_perl/5.20.3/WWW/Mechanize.pm line 117
	WWW::Mechanize::get(Test::WWW::Mechanize::PSGI=HASH(0x2c8911c7970), "/my/name") called at /home/bar/perl5/perlbrew/perls/perl-5.20.3/lib/site_perl/5.20.3/Test/WWW/Mechanize.pm line 160
	Test::WWW::Mechanize::get_ok(Test::WWW::Mechanize::PSGI=HASH(0x2c8911c7970), "/my/name") called at t/03_mech.t line 93
Secret string too short at /cpan_build/bar/HTTP-Session2-1.09-0/blib/lib/HTTP/Session2/Base.pm line 79.
	HTTP::Session2::Base::__ANON__(HTTP::Session2::ServerStore=HASH(0x2c91120c760), "s3cret") called at t/03_mech.t line 121
	main::server_session(HASH(0x2c91120c088)) called at t/03_mech.t line 17
	main::__ANON__(HASH(0x2c91120c088)) called at /home/bar/perl5/perlbrew/perls/perl-5.20.3/lib/site_perl/5.20.3/Test/WWW/Mechanize/PSGI.pm line 43
	Test::WWW::Mechanize::PSGI::try {...} () called at /home/bar/perl5/perlbrew/perls/perl-5.20.3/lib/site_perl/5.20.3/Try/Tiny.pm line 103
	eval {...} called at /home/bar/perl5/perlbrew/perls/perl-5.20.3/lib/site_perl/5.20.3/Try/Tiny.pm line 94
	Try::Tiny::try(CODE(0x2c91120c5f8), Try::Tiny::Catch=REF(0x2c96535aac0)) called at /home/bar/perl5/perlbrew/perls/perl-5.20.3/lib/site_perl/5.20.3/Test/WWW/Mechanize/PSGI.pm line 50
	Test::WWW::Mechanize::PSGI::simple_request(Test::WWW::Mechanize::PSGI=HASH(0x2c8911c7970), HTTP::Request=HASH(0x2c96535af40), undef, undef) called at /home/bar/perl5/perlbrew/perls/perl-5.20.3/lib/site_perl/5.20.3/LWP/UserAgent.pm line 282
	LWP::UserAgent::request(Test::WWW::Mechanize::PSGI=HASH(0x2c8911c7970), HTTP::Request=HASH(0x2c96535af40)) called at /home/bar/perl5/perlbrew/perls/perl-5.20.3/lib/site_perl/5.20.3/WWW/Mechanize.pm line 1419
	WWW::Mechanize::_make_request(Test::WWW::Mechanize::PSGI=HASH(0x2c8911c7970), HTTP::Request=HASH(0x2c96535af40)) called at /home/bar/perl5/perlbrew/perls/perl-5.20.3/lib/site_perl/5.20.3/WWW/Mechanize.pm line 1253
	WWW::Mechanize::request(Test::WWW::Mechanize::PSGI=HASH(0x2c8911c7970), HTTP::Request=HASH(0x2c96535af40)) called at /home/bar/perl5/perlbrew/perls/perl-5.20.3/lib/site_perl/5.20.3/LWP/UserAgent.pm line 419
	LWP::UserAgent::post(Test::WWW::Mechanize::PSGI=HASH(0x2c8911c7970), "/account/logout?john") called at t/03_mech.t line 97
Secret string too short at /cpan_build/bar/HTTP-Session2-1.09-0/blib/lib/HTTP/Session2/Base.pm line 79.
	HTTP::Session2::Base::__ANON__(HTTP::Session2::ClientStore=HASH(0x2c8ee8685c8), "s3cret") called at t/03_mech.t line 127
	main::client_session(HASH(0x2c8ac96a658)) called at t/03_mech.t line 17
	main::__ANON__(HASH(0x2c8ac96a658)) called at /home/bar/perl5/perlbrew/perls/perl-5.20.3/lib/site_perl/5.20.3/Test/WWW/Mechanize/PSGI.pm line 43
	Test::WWW::Mechanize::PSGI::try {...} () called at /home/bar/perl5/perlbrew/perls/perl-5.20.3/lib/site_perl/5.20.3/Try/Tiny.pm line 103
	eval {...} called at /home/bar/perl5/perlbrew/perls/perl-5.20.3/lib/site_perl/5.20.3/Try/Tiny.pm line 94
	Try::Tiny::try(CODE(0x2c8ee868418), Try::Tiny::Catch=REF(0x2c91120c628)) called at /home/bar/perl5/perlbrew/perls/perl-5.20.3/lib/site_perl/5.20.3/Test/WWW/Mechanize/PSGI.pm line 50
	Test::WWW::Mechanize::PSGI::simple_request(Test::WWW::Mechanize::PSGI=HASH(0x2c89ecde8c8), HTTP::Request=HASH(0x2c936cb14d8), undef, undef) called at /home/bar/perl5/perlbrew/perls/perl-5.20.3/lib/site_perl/5.20.3/LWP/UserAgent.pm line 282
	LWP::UserAgent::request(Test::WWW::Mechanize::PSGI=HASH(0x2c89ecde8c8), HTTP::Request=HASH(0x2c936cb14d8)) called at /home/bar/perl5/perlbrew/perls/perl-5.20.3/lib/site_perl/5.20.3/WWW/Mechanize.pm line 1419
	WWW::Mechanize::_make_request(Test::WWW::Mechanize::PSGI=HASH(0x2c89ecde8c8), HTTP::Request=HASH(0x2c936cb14d8)) called at /home/bar/perl5/perlbrew/perls/perl-5.20.3/lib/site_perl/5.20.3/WWW/Mechanize.pm line 1253
	WWW::Mechanize::request(Test::WWW::Mechanize::PSGI=HASH(0x2c89ecde8c8), HTTP::Request=HASH(0x2c936cb14d8)) called at /home/bar/perl5/perlbrew/perls/perl-5.20.3/lib/site_perl/5.20.3/LWP/UserAgent.pm line 411
	LWP::UserAgent::get(Test::WWW::Mechanize::PSGI=HASH(0x2c89ecde8c8), "/") called at /home/bar/perl5/perlbrew/perls/perl-5.20.3/lib/site_perl/5.20.3/WWW/Mechanize.pm line 117
	WWW::Mechanize::get(Test::WWW::Mechanize::PSGI=HASH(0x2c89ecde8c8), "/") called at /home/bar/perl5/perlbrew/perls/perl-5.20.3/lib/site_perl/5.20.3/Test/WWW/Mechanize.pm line 160
	Test::WWW::Mechanize::get_ok(Test::WWW::Mechanize::PSGI=HASH(0x2c89ecde8c8), "/") called at t/03_mech.t line 74
Secret string too short at /cpan_build/bar/HTTP-Session2-1.09-0/blib/lib/HTTP/Session2/Base.pm line 79.
	HTTP::Session2::Base::__ANON__(HTTP::Session2::ClientStore=HASH(0x2c9829dc508), "s3cret") called at t/03_mech.t line 127
	main::client_session(HASH(0x2c8ee8686e8)) called at t/03_mech.t line 17
	main::__ANON__(HASH(0x2c8ee8686e8)) called at /home/bar/perl5/perlbrew/perls/perl-5.20.3/lib/site_perl/5.20.3/Test/WWW/Mechanize/PSGI.pm line 43
	Test::WWW::Mechanize::PSGI::try {...} () called at /home/bar/perl5/perlbrew/perls/perl-5.20.3/lib/site_perl/5.20.3/Try/Tiny.pm line 103
	eval {...} called at /home/bar/perl5/perlbrew/perls/perl-5.20.3/lib/site_perl/5.20.3/Try/Tiny.pm line 94
	Try::Tiny::try(CODE(0x2c8ee8686d0), Try::Tiny::Catch=REF(0x2c8ee8683b8)) called at /home/bar/perl5/perlbrew/perls/perl-5.20.3/lib/site_perl/5.20.3/Test/WWW/Mechanize/PSGI.pm line 50
	Test::WWW::Mechanize::PSGI::simple_request(Test::WWW::Mechanize::PSGI=HASH(0x2c89ecde8c8), HTTP::Request=HASH(0x2c8df148c58), undef, undef) called at /home/bar/perl5/perlbrew/perls/perl-5.20.3/lib/site_perl/5.20.3/LWP/UserAgent.pm line 282
	LWP::UserAgent::request(Test::WWW::Mechanize::PSGI=HASH(0x2c89ecde8c8), HTTP::Request=HASH(0x2c8df148c58)) called at /home/bar/perl5/perlbrew/perls/perl-5.20.3/lib/site_perl/5.20.3/WWW/Mechanize.pm line 1419
	WWW::Mechanize::_make_request(Test::WWW::Mechanize::PSGI=HASH(0x2c89ecde8c8), HTTP::Request=HASH(0x2c8df148c58)) called at /home/bar/perl5/perlbrew/perls/perl-5.20.3/lib/site_perl/5.20.3/WWW/Mechanize.pm line 1253
	WWW::Mechanize::request(Test::WWW::Mechanize::PSGI=HASH(0x2c89ecde8c8), HTTP::Request=HASH(0x2c8df148c58)) called at /home/bar/perl5/perlbrew/perls/perl-5.20.3/lib/site_perl/5.20.3/LWP/UserAgent.pm line 419
	LWP::UserAgent::post(Test::WWW::Mechanize::PSGI=HASH(0x2c89ecde8c8), "/wishlist?foo", HASH(0x2c8b9687f58)) called at /home/bar/perl5/perlbrew/perls/perl-5.20.3/lib/site_perl/5.20.3/Test/WWW/Mechanize.pm line 237
	Test::WWW::Mechanize::post_ok(Test::WWW::Mechanize::PSGI=HASH(0x2c89ecde8c8), "/wishlist?foo") called at t/03_mech.t line 75
Do not use HTTP::Session2::ClientStore. Use HTTP::Session2::ServerStore or HTTP::Session2::ClientStore2 instead. at /cpan_build/bar/HTTP-Session2-1.09-0/blib/lib/HTTP/Session2/ClientStore.pm line 25.
Secret string too short at /cpan_build/bar/HTTP-Session2-1.09-0/blib/lib/HTTP/Session2/Base.pm line 79.
	HTTP::Session2::Base::__ANON__(HTTP::Session2::ClientStore=HASH(0x2c9829dca30), "s3cret") called at t/03_mech.t line 127
	main::client_session(HASH(0x2c8ee8683a0)) called at t/03_mech.t line 17
	main::__ANON__(HASH(0x2c8ee8683a0)) called at /home/bar/perl5/perlbrew/perls/perl-5.20.3/lib/site_perl/5.20.3/Test/WWW/Mechanize/PSGI.pm line 43
	Test::WWW::Mechanize::PSGI::try {...} () called at /home/bar/perl5/perlbrew/perls/perl-5.20.3/lib/site_perl/5.20.3/Try/Tiny.pm line 103
	eval {...} called at /home/bar/perl5/perlbrew/perls/perl-5.20.3/lib/site_perl/5.20.3/Try/Tiny.pm line 94
	Try::Tiny::try(CODE(0x2c8ee868f88), Try::Tiny::Catch=REF(0x2c8ee868bf8)) called at /home/bar/perl5/perlbrew/perls/perl-5.20.3/lib/site_perl/5.20.3/Test/WWW/Mechanize/PSGI.pm line 50
	Test::WWW::Mechanize::PSGI::simple_request(Test::WWW::Mechanize::PSGI=HASH(0x2c89ecde8c8), HTTP::Request=HASH(0x2c8911c7a30), undef, undef) called at /home/bar/perl5/perlbrew/perls/perl-5.20.3/lib/site_perl/5.20.3/LWP/UserAgent.pm line 282
	LWP::UserAgent::request(Test::WWW::Mechanize::PSGI=HASH(0x2c89ecde8c8), HTTP::Request=HASH(0x2c8911c7a30)) called at /home/bar/perl5/perlbrew/perls/perl-5.20.3/lib/site_perl/5.20.3/WWW/Mechanize.pm line 1419
	WWW::Mechanize::_make_request(Test::WWW::Mechanize::PSGI=HASH(0x2c89ecde8c8), HTTP::Request=HASH(0x2c8911c7a30)) called at /home/bar/perl5/perlbrew/perls/perl-5.20.3/lib/site_perl/5.20.3/WWW/Mechanize.pm line 1253
	WWW::Mechanize::request(Test::WWW::Mechanize::PSGI=HASH(0x2c89ecde8c8), HTTP::Request=HASH(0x2c8911c7a30)) called at /home/bar/perl5/perlbrew/perls/perl-5.20.3/lib/site_perl/5.20.3/LWP/UserAgent.pm line 411
	LWP::UserAgent::get(Test::WWW::Mechanize::PSGI=HASH(0x2c89ecde8c8), "http://localhost/wishlist") called at /home/bar/perl5/perlbrew/perls/perl-5.20.3/lib/site_perl/5.20.3/WWW/Mechanize.pm line 117
	WWW::Mechanize::get(Test::WWW::Mechanize::PSGI=HASH(0x2c89ecde8c8), "/wishlist") called at /home/bar/perl5/perlbrew/perls/perl-5.20.3/lib/site_perl/5.20.3/Test/WWW/Mechanize.pm line 160
	Test::WWW::Mechanize::get_ok(Test::WWW::Mechanize::PSGI=HASH(0x2c89ecde8c8), "/wishlist") called at t/03_mech.t line 76
Do not use HTTP::Session2::ClientStore. Use HTTP::Session2::ServerStore or HTTP::Session2::ClientStore2 instead. at /cpan_build/bar/HTTP-Session2-1.09-0/blib/lib/HTTP/Session2/ClientStore.pm line 35.
Secret string too short at /cpan_build/bar/HTTP-Session2-1.09-0/blib/lib/HTTP/Session2/Base.pm line 79.
	HTTP::Session2::Base::__ANON__(HTTP::Session2::ClientStore=HASH(0x2c96535a1d8), "s3cret") called at t/03_mech.t line 127
	main::client_session(HASH(0x2c9829dc208)) called at t/03_mech.t line 17
	main::__ANON__(HASH(0x2c9829dc208)) called at /home/bar/perl5/perlbrew/perls/perl-5.20.3/lib/site_perl/5.20.3/Test/WWW/Mechanize/PSGI.pm line 43
	Test::WWW::Mechanize::PSGI::try {...} () called at /home/bar/perl5/perlbrew/perls/perl-5.20.3/lib/site_perl/5.20.3/Try/Tiny.pm line 103
	eval {...} called at /home/bar/perl5/perlbrew/perls/perl-5.20.3/lib/site_perl/5.20.3/Try/Tiny.pm line 94
	Try::Tiny::try(CODE(0x2c9829dc808), Try::Tiny::Catch=REF(0x2c96535a0b8)) called at /home/bar/perl5/perlbrew/perls/perl-5.20.3/lib/site_perl/5.20.3/Test/WWW/Mechanize/PSGI.pm line 50
	Test::WWW::Mechanize::PSGI::simple_request(Test::WWW::Mechanize::PSGI=HASH(0x2c89ecde8c8), HTTP::Request=HASH(0x2c8ee868dc0), undef, undef) called at /home/bar/perl5/perlbrew/perls/perl-5.20.3/lib/site_perl/5.20.3/LWP/UserAgent.pm line 282
	LWP::UserAgent::request(Test::WWW::Mechanize::PSGI=HASH(0x2c89ecde8c8), HTTP::Request=HASH(0x2c8ee868dc0)) called at /home/bar/perl5/perlbrew/perls/perl-5.20.3/lib/site_perl/5.20.3/WWW/Mechanize.pm line 1419
	WWW::Mechanize::_make_request(Test::WWW::Mechanize::PSGI=HASH(0x2c89ecde8c8), HTTP::Request=HASH(0x2c8ee868dc0)) called at /home/bar/perl5/perlbrew/perls/perl-5.20.3/lib/site_perl/5.20.3/WWW/Mechanize.pm line 1253
	WWW::Mechanize::request(Test::WWW::Mechanize::PSGI=HASH(0x2c89ecde8c8), HTTP::Request=HASH(0x2c8ee868dc0)) called at /home/bar/perl5/perlbrew/perls/perl-5.20.3/lib/site_perl/5.20.3/LWP/UserAgent.pm line 419
	LWP::UserAgent::post(Test::WWW::Mechanize::PSGI=HASH(0x2c89ecde8c8), "/wishlist?bar") called at t/03_mech.t line 78
Do not use HTTP::Session2::ClientStore. Use HTTP::Session2::ServerStore or HTTP::Session2::ClientStore2 instead. at /cpan_build/bar/HTTP-Session2-1.09-0/blib/lib/HTTP/Session2/ClientStore.pm line 35.
Secret string too short at /cpan_build/bar/HTTP-Session2-1.09-0/blib/lib/HTTP/Session2/Base.pm line 79.
	HTTP::Session2::Base::__ANON__(HTTP::Session2::ClientStore=HASH(0x2c91120c070), "s3cret") called at t/03_mech.t line 127
	main::client_session(HASH(0x2c8ee868bf8)) called at t/03_mech.t line 17
	main::__ANON__(HASH(0x2c8ee868bf8)) called at /home/bar/perl5/perlbrew/perls/perl-5.20.3/lib/site_perl/5.20.3/Test/WWW/Mechanize/PSGI.pm line 43
	Test::WWW::Mechanize::PSGI::try {...} () called at /home/bar/perl5/perlbrew/perls/perl-5.20.3/lib/site_perl/5.20.3/Try/Tiny.pm line 103
	eval {...} called at /home/bar/perl5/perlbrew/perls/perl-5.20.3/lib/site_perl/5.20.3/Try/Tiny.pm line 94
	Try::Tiny::try(CODE(0x2c96535a7c0), Try::Tiny::Catch=REF(0x2c9829dcf40)) called at /home/bar/perl5/perlbrew/perls/perl-5.20.3/lib/site_perl/5.20.3/Test/WWW/Mechanize/PSGI.pm line 50
	Test::WWW::Mechanize::PSGI::simple_request(Test::WWW::Mechanize::PSGI=HASH(0x2c89ecde8c8), HTTP::Request=HASH(0x2c96535a0e8), undef, undef) called at /home/bar/perl5/perlbrew/perls/perl-5.20.3/lib/site_perl/5.20.3/LWP/UserAgent.pm line 282
	LWP::UserAgent::request(Test::WWW::Mechanize::PSGI=HASH(0x2c89ecde8c8), HTTP::Request=HASH(0x2c96535a0e8)) called at /home/bar/perl5/perlbrew/perls/perl-5.20.3/lib/site_perl/5.20.3/WWW/Mechanize.pm line 1419
	WWW::Mechanize::_make_request(Test::WWW::Mechanize::PSGI=HASH(0x2c89ecde8c8), HTTP::Request=HASH(0x2c96535a0e8)) called at /home/bar/perl5/perlbrew/perls/perl-5.20.3/lib/site_perl/5.20.3/WWW/Mechanize.pm line 1253
	WWW::Mechanize::request(Test::WWW::Mechanize::PSGI=HASH(0x2c89ecde8c8), HTTP::Request=HASH(0x2c96535a0e8)) called at /home/bar/perl5/perlbrew/perls/perl-5.20.3/lib/site_perl/5.20.3/LWP/UserAgent.pm line 419
	LWP::UserAgent::post(Test::WWW::Mechanize::PSGI=HASH(0x2c89ecde8c8), "/wishlist?bar", HASH(0x2c8b9687f58)) called at /home/bar/perl5/perlbrew/perls/perl-5.20.3/lib/site_perl/5.20.3/Test/WWW/Mechanize.pm line 237
	Test::WWW::Mechanize::post_ok(Test::WWW::Mechanize::PSGI=HASH(0x2c89ecde8c8), "/wishlist?bar") called at t/03_mech.t line 81
Do not use HTTP::Session2::ClientStore. Use HTTP::Session2::ServerStore or HTTP::Session2::ClientStore2 instead. at /cpan_build/bar/HTTP-Session2-1.09-0/blib/lib/HTTP/Session2/ClientStore.pm line 35.
Do not use HTTP::Session2::ClientStore. Use HTTP::Session2::ServerStore or HTTP::Session2::ClientStore2 instead. at /cpan_build/bar/HTTP-Session2-1.09-0/blib/lib/HTTP/Session2/ClientStore.pm line 25.
Secret string too short at /cpan_build/bar/HTTP-Session2-1.09-0/blib/lib/HTTP/Session2/Base.pm line 79.
	HTTP::Session2::Base::__ANON__(HTTP::Session2::ClientStore=HASH(0x2c96535a730), "s3cret") called at t/03_mech.t line 127
	main::client_session(HASH(0x2c96535aa90)) called at t/03_mech.t line 17
	main::__ANON__(HASH(0x2c96535aa90)) called at /home/bar/perl5/perlbrew/perls/perl-5.20.3/lib/site_perl/5.20.3/Test/WWW/Mechanize/PSGI.pm line 43
	Test::WWW::Mechanize::PSGI::try {...} () called at /home/bar/perl5/perlbrew/perls/perl-5.20.3/lib/site_perl/5.20.3/Try/Tiny.pm line 103
	eval {...} called at /home/bar/perl5/perlbrew/perls/perl-5.20.3/lib/site_perl/5.20.3/Try/Tiny.pm line 94
	Try::Tiny::try(CODE(0x2c9829dc538), Try::Tiny::Catch=REF(0x2c9829dc598)) called at /home/bar/perl5/perlbrew/perls/perl-5.20.3/lib/site_perl/5.20.3/Test/WWW/Mechanize/PSGI.pm line 50
	Test::WWW::Mechanize::PSGI::simple_request(Test::WWW::Mechanize::PSGI=HASH(0x2c89ecde8c8), HTTP::Request=HASH(0x2c8ee868448), undef, undef) called at /home/bar/perl5/perlbrew/perls/perl-5.20.3/lib/site_perl/5.20.3/LWP/UserAgent.pm line 282
	LWP::UserAgent::request(Test::WWW::Mechanize::PSGI=HASH(0x2c89ecde8c8), HTTP::Request=HASH(0x2c8ee868448)) called at /home/bar/perl5/perlbrew/perls/perl-5.20.3/lib/site_perl/5.20.3/WWW/Mechanize.pm line 1419
	WWW::Mechanize::_make_request(Test::WWW::Mechanize::PSGI=HASH(0x2c89ecde8c8), HTTP::Request=HASH(0x2c8ee868448)) called at /home/bar/perl5/perlbrew/perls/perl-5.20.3/lib/site_perl/5.20.3/WWW/Mechanize.pm line 1253
	WWW::Mechanize::request(Test::WWW::Mechanize::PSGI=HASH(0x2c89ecde8c8), HTTP::Request=HASH(0x2c8ee868448)) called at /home/bar/perl5/perlbrew/perls/perl-5.20.3/lib/site_perl/5.20.3/LWP/UserAgent.pm line 411
	LWP::UserAgent::get(Test::WWW::Mechanize::PSGI=HASH(0x2c89ecde8c8), "http://localhost/wishlist") called at /home/bar/perl5/perlbrew/perls/perl-5.20.3/lib/site_perl/5.20.3/WWW/Mechanize.pm line 117
	WWW::Mechanize::get(Test::WWW::Mechanize::PSGI=HASH(0x2c89ecde8c8), "/wishlist") called at /home/bar/perl5/perlbrew/perls/perl-5.20.3/lib/site_perl/5.20.3/Test/WWW/Mechanize.pm line 160
	Test::WWW::Mechanize::get_ok(Test::WWW::Mechanize::PSGI=HASH(0x2c89ecde8c8), "/wishlist") called at t/03_mech.t line 82
Do not use HTTP::Session2::ClientStore. Use HTTP::Session2::ServerStore or HTTP::Session2::ClientStore2 instead. at /cpan_build/bar/HTTP-Session2-1.09-0/blib/lib/HTTP/Session2/ClientStore.pm line 35.
Secret string too short at /cpan_build/bar/HTTP-Session2-1.09-0/blib/lib/HTTP/Session2/Base.pm line 79.
	HTTP::Session2::Base::__ANON__(HTTP::Session2::ClientStore=HASH(0x2c91120c9a0), "s3cret") called at t/03_mech.t line 127
	main::client_session(HASH(0x2c91120c5b0)) called at t/03_mech.t line 17
	main::__ANON__(HASH(0x2c91120c5b0)) called at /home/bar/perl5/perlbrew/perls/perl-5.20.3/lib/site_perl/5.20.3/Test/WWW/Mechanize/PSGI.pm line 43
	Test::WWW::Mechanize::PSGI::try {...} () called at /home/bar/perl5/perlbrew/perls/perl-5.20.3/lib/site_perl/5.20.3/Try/Tiny.pm line 103
	eval {...} called at /home/bar/perl5/perlbrew/perls/perl-5.20.3/lib/site_perl/5.20.3/Try/Tiny.pm line 94
	Try::Tiny::try(CODE(0x2c96535a760), Try::Tiny::Catch=REF(0x2c96535a610)) called at /home/bar/perl5/perlbrew/perls/perl-5.20.3/lib/site_perl/5.20.3/Test/WWW/Mechanize/PSGI.pm line 50
	Test::WWW::Mechanize::PSGI::simple_request(Test::WWW::Mechanize::PSGI=HASH(0x2c89ecde8c8), HTTP::Request=HASH(0x2c96535a490), undef, undef) called at /home/bar/perl5/perlbrew/perls/perl-5.20.3/lib/site_perl/5.20.3/LWP/UserAgent.pm line 282
	LWP::UserAgent::request(Test::WWW::Mechanize::PSGI=HASH(0x2c89ecde8c8), HTTP::Request=HASH(0x2c96535a490)) called at /home/bar/perl5/perlbrew/perls/perl-5.20.3/lib/site_perl/5.20.3/WWW/Mechanize.pm line 1419
	WWW::Mechanize::_make_request(Test::WWW::Mechanize::PSGI=HASH(0x2c89ecde8c8), HTTP::Request=HASH(0x2c96535a490)) called at /home/bar/perl5/perlbrew/perls/perl-5.20.3/lib/site_perl/5.20.3/WWW/Mechanize.pm line 1253
	WWW::Mechanize::request(Test::WWW::Mechanize::PSGI=HASH(0x2c89ecde8c8), HTTP::Request=HASH(0x2c96535a490)) called at /home/bar/perl5/perlbrew/perls/perl-5.20.3/lib/site_perl/5.20.3/LWP/UserAgent.pm line 419
	LWP::UserAgent::post(Test::WWW::Mechanize::PSGI=HASH(0x2c89ecde8c8), "/account/login?john", HASH(0x2c8b9687f58)) called at /home/bar/perl5/perlbrew/perls/perl-5.20.3/lib/site_perl/5.20.3/Test/WWW/Mechanize.pm line 237
	Test::WWW::Mechanize::post_ok(Test::WWW::Mechanize::PSGI=HASH(0x2c89ecde8c8), "/account/login?john") called at t/03_mech.t line 84
Do not use HTTP::Session2::ClientStore. Use HTTP::Session2::ServerStore or HTTP::Session2::ClientStore2 instead. at /cpan_build/bar/HTTP-Session2-1.09-0/blib/lib/HTTP/Session2/ClientStore.pm line 35.
Do not use HTTP::Session2::ClientStore. Use HTTP::Session2::ServerStore or HTTP::Session2::ClientStore2 instead. at /cpan_build/bar/HTTP-Session2-1.09-0/blib/lib/HTTP/Session2/ClientStore.pm line 35.
Do not use HTTP::Session2::ClientStore. Use HTTP::Session2::ServerStore or HTTP::Session2::ClientStore2 instead. at /cpan_build/bar/HTTP-Session2-1.09-0/blib/lib/HTTP/Session2/ClientStore.pm line 25.
Secret string too short at /cpan_build/bar/HTTP-Session2-1.09-0/blib/lib/HTTP/Session2/Base.pm line 79.
	HTTP::Session2::Base::__ANON__(HTTP::Session2::ClientStore=HASH(0x2c932a486d0), "s3cret") called at t/03_mech.t line 127
	main::client_session(HASH(0x2c8911c71d8)) called at t/03_mech.t line 17
	main::__ANON__(HASH(0x2c8911c71d8)) called at /home/bar/perl5/perlbrew/perls/perl-5.20.3/lib/site_perl/5.20.3/Test/WWW/Mechanize/PSGI.pm line 43
	Test::WWW::Mechanize::PSGI::try {...} () called at /home/bar/perl5/perlbrew/perls/perl-5.20.3/lib/site_perl/5.20.3/Try/Tiny.pm line 103
	eval {...} called at /home/bar/perl5/perlbrew/perls/perl-5.20.3/lib/site_perl/5.20.3/Try/Tiny.pm line 94
	Try::Tiny::try(CODE(0x2c96535aaf0), Try::Tiny::Catch=REF(0x2c96535aad8)) called at /home/bar/perl5/perlbrew/perls/perl-5.20.3/lib/site_perl/5.20.3/Test/WWW/Mechanize/PSGI.pm line 50
	Test::WWW::Mechanize::PSGI::simple_request(Test::WWW::Mechanize::PSGI=HASH(0x2c89ecde8c8), HTTP::Request=HASH(0x2c9829dcbf8), undef, undef) called at /home/bar/perl5/perlbrew/perls/perl-5.20.3/lib/site_perl/5.20.3/LWP/UserAgent.pm line 282
	LWP::UserAgent::request(Test::WWW::Mechanize::PSGI=HASH(0x2c89ecde8c8), HTTP::Request=HASH(0x2c9829dcbf8)) called at /home/bar/perl5/perlbrew/perls/perl-5.20.3/lib/site_perl/5.20.3/WWW/Mechanize.pm line 1419
	WWW::Mechanize::_make_request(Test::WWW::Mechanize::PSGI=HASH(0x2c89ecde8c8), HTTP::Request=HASH(0x2c9829dcbf8)) called at /home/bar/perl5/perlbrew/perls/perl-5.20.3/lib/site_perl/5.20.3/WWW/Mechanize.pm line 1253
	WWW::Mechanize::request(Test::WWW::Mechanize::PSGI=HASH(0x2c89ecde8c8), HTTP::Request=HASH(0x2c9829dcbf8)) called at /home/bar/perl5/perlbrew/perls/perl-5.20.3/lib/site_perl/5.20.3/LWP/UserAgent.pm line 411
	LWP::UserAgent::get(Test::WWW::Mechanize::PSGI=HASH(0x2c89ecde8c8), "http://localhost/wishlist") called at /home/bar/perl5/perlbrew/perls/perl-5.20.3/lib/site_perl/5.20.3/WWW/Mechanize.pm line 117
	WWW::Mechanize::get(Test::WWW::Mechanize::PSGI=HASH(0x2c89ecde8c8), "/wishlist") called at /home/bar/perl5/perlbrew/perls/perl-5.20.3/lib/site_perl/5.20.3/Test/WWW/Mechanize.pm line 160
	Test::WWW::Mechanize::get_ok(Test::WWW::Mechanize::PSGI=HASH(0x2c89ecde8c8), "/wishlist", "Wishlist is still available") called at t/03_mech.t line 85
Do not use HTTP::Session2::ClientStore. Use HTTP::Session2::ServerStore or HTTP::Session2::ClientStore2 instead. at /cpan_build/bar/HTTP-Session2-1.09-0/blib/lib/HTTP/Session2/ClientStore.pm line 35.
Secret string too short at /cpan_build/bar/HTTP-Session2-1.09-0/blib/lib/HTTP/Session2/Base.pm line 79.
	HTTP::Session2::Base::__ANON__(HTTP::Session2::ClientStore=HASH(0x2c91120c580), "s3cret") called at t/03_mech.t line 127
	main::client_session(HASH(0x2c91120c490)) called at t/03_mech.t line 17
	main::__ANON__(HASH(0x2c91120c490)) called at /home/bar/perl5/perlbrew/perls/perl-5.20.3/lib/site_perl/5.20.3/Test/WWW/Mechanize/PSGI.pm line 43
	Test::WWW::Mechanize::PSGI::try {...} () called at /home/bar/perl5/perlbrew/perls/perl-5.20.3/lib/site_perl/5.20.3/Try/Tiny.pm line 103
	eval {...} called at /home/bar/perl5/perlbrew/perls/perl-5.20.3/lib/site_perl/5.20.3/Try/Tiny.pm line 94
	Try::Tiny::try(CODE(0x2c8911c7a48), Try::Tiny::Catch=REF(0x2c947f46268)) called at /home/bar/perl5/perlbrew/perls/perl-5.20.3/lib/site_perl/5.20.3/Test/WWW/Mechanize/PSGI.pm line 50
	Test::WWW::Mechanize::PSGI::simple_request(Test::WWW::Mechanize::PSGI=HASH(0x2c89ecde8c8), HTTP::Request=HASH(0x2c88df2a898), undef, undef) called at /home/bar/perl5/perlbrew/perls/perl-5.20.3/lib/site_perl/5.20.3/LWP/UserAgent.pm line 282
	LWP::UserAgent::request(Test::WWW::Mechanize::PSGI=HASH(0x2c89ecde8c8), HTTP::Request=HASH(0x2c88df2a898)) called at /home/bar/perl5/perlbrew/perls/perl-5.20.3/lib/site_perl/5.20.3/WWW/Mechanize.pm line 1419
	WWW::Mechanize::_make_request(Test::WWW::Mechanize::PSGI=HASH(0x2c89ecde8c8), HTTP::Request=HASH(0x2c88df2a898)) called at /home/bar/perl5/perlbrew/perls/perl-5.20.3/lib/site_perl/5.20.3/WWW/Mechanize.pm line 1253
	WWW::Mechanize::request(Test::WWW::Mechanize::PSGI=HASH(0x2c89ecde8c8), HTTP::Request=HASH(0x2c88df2a898)) called at /home/bar/perl5/perlbrew/perls/perl-5.20.3/lib/site_perl/5.20.3/LWP/UserAgent.pm line 419
	LWP::UserAgent::post(Test::WWW::Mechanize::PSGI=HASH(0x2c89ecde8c8), "/wishlist?baz") called at t/03_mech.t line 87
Do not use HTTP::Session2::ClientStore. Use HTTP::Session2::ServerStore or HTTP::Session2::ClientStore2 instead. at /cpan_build/bar/HTTP-Session2-1.09-0/blib/lib/HTTP/Session2/ClientStore.pm line 35.
Secret string too short at /cpan_build/bar/HTTP-Session2-1.09-0/blib/lib/HTTP/Session2/Base.pm line 79.
	HTTP::Session2::Base::__ANON__(HTTP::Session2::ClientStore=HASH(0x2c8ee868f70), "s3cret") called at t/03_mech.t line 127
	main::client_session(HASH(0x2c947f46bb0)) called at t/03_mech.t line 17
	main::__ANON__(HASH(0x2c947f46bb0)) called at /home/bar/perl5/perlbrew/perls/perl-5.20.3/lib/site_perl/5.20.3/Test/WWW/Mechanize/PSGI.pm line 43
	Test::WWW::Mechanize::PSGI::try {...} () called at /home/bar/perl5/perlbrew/perls/perl-5.20.3/lib/site_perl/5.20.3/Try/Tiny.pm line 103
	eval {...} called at /home/bar/perl5/perlbrew/perls/perl-5.20.3/lib/site_perl/5.20.3/Try/Tiny.pm line 94
	Try::Tiny::try(CODE(0x2c9829dcdd8), Try::Tiny::Catch=REF(0x2c8911c7a90)) called at /home/bar/perl5/perlbrew/perls/perl-5.20.3/lib/site_perl/5.20.3/Test/WWW/Mechanize/PSGI.pm line 50
	Test::WWW::Mechanize::PSGI::simple_request(Test::WWW::Mechanize::PSGI=HASH(0x2c89ecde8c8), HTTP::Request=HASH(0x2c91120c448), undef, undef) called at /home/bar/perl5/perlbrew/perls/perl-5.20.3/lib/site_perl/5.20.3/LWP/UserAgent.pm line 282
	LWP::UserAgent::request(Test::WWW::Mechanize::PSGI=HASH(0x2c89ecde8c8), HTTP::Request=HASH(0x2c91120c448)) called at /home/bar/perl5/perlbrew/perls/perl-5.20.3/lib/site_perl/5.20.3/WWW/Mechanize.pm line 1419
	WWW::Mechanize::_make_request(Test::WWW::Mechanize::PSGI=HASH(0x2c89ecde8c8), HTTP::Request=HASH(0x2c91120c448)) called at /home/bar/perl5/perlbrew/perls/perl-5.20.3/lib/site_perl/5.20.3/WWW/Mechanize.pm line 1253
	WWW::Mechanize::request(Test::WWW::Mechanize::PSGI=HASH(0x2c89ecde8c8), HTTP::Request=HASH(0x2c91120c448)) called at /home/bar/perl5/perlbrew/perls/perl-5.20.3/lib/site_perl/5.20.3/LWP/UserAgent.pm line 419
	LWP::UserAgent::post(Test::WWW::Mechanize::PSGI=HASH(0x2c89ecde8c8), "/wishlist?baz", HASH(0x2c8b9687f58)) called at /home/bar/perl5/perlbrew/perls/perl-5.20.3/lib/site_perl/5.20.3/Test/WWW/Mechanize.pm line 237
	Test::WWW::Mechanize::post_ok(Test::WWW::Mechanize::PSGI=HASH(0x2c89ecde8c8), "/wishlist?baz") called at t/03_mech.t line 90
Do not use HTTP::Session2::ClientStore. Use HTTP::Session2::ServerStore or HTTP::Session2::ClientStore2 instead. at /cpan_build/bar/HTTP-Session2-1.09-0/blib/lib/HTTP/Session2/ClientStore.pm line 35.
Do not use HTTP::Session2::ClientStore. Use HTTP::Session2::ServerStore or HTTP::Session2::ClientStore2 instead. at /cpan_build/bar/HTTP-Session2-1.09-0/blib/lib/HTTP/Session2/ClientStore.pm line 25.
Secret string too short at /cpan_build/bar/HTTP-Session2-1.09-0/blib/lib/HTTP/Session2/Base.pm line 79.
	HTTP::Session2::Base::__ANON__(HTTP::Session2::ClientStore=HASH(0x2c91120ce38), "s3cret") called at t/03_mech.t line 127
	main::client_session(HASH(0x2c91120c238)) called at t/03_mech.t line 17
	main::__ANON__(HASH(0x2c91120c238)) called at /home/bar/perl5/perlbrew/perls/perl-5.20.3/lib/site_perl/5.20.3/Test/WWW/Mechanize/PSGI.pm line 43
	Test::WWW::Mechanize::PSGI::try {...} () called at /home/bar/perl5/perlbrew/perls/perl-5.20.3/lib/site_perl/5.20.3/Try/Tiny.pm line 103
	eval {...} called at /home/bar/perl5/perlbrew/perls/perl-5.20.3/lib/site_perl/5.20.3/Try/Tiny.pm line 94
	Try::Tiny::try(CODE(0x2c91120c2c8), Try::Tiny::Catch=REF(0x2c93e4d9100)) called at /home/bar/perl5/perlbrew/perls/perl-5.20.3/lib/site_perl/5.20.3/Test/WWW/Mechanize/PSGI.pm line 50
	Test::WWW::Mechanize::PSGI::simple_request(Test::WWW::Mechanize::PSGI=HASH(0x2c89ecde8c8), HTTP::Request=HASH(0x2c947f46490), undef, undef) called at /home/bar/perl5/perlbrew/perls/perl-5.20.3/lib/site_perl/5.20.3/LWP/UserAgent.pm line 282
	LWP::UserAgent::request(Test::WWW::Mechanize::PSGI=HASH(0x2c89ecde8c8), HTTP::Request=HASH(0x2c947f46490)) called at /home/bar/perl5/perlbrew/perls/perl-5.20.3/lib/site_perl/5.20.3/WWW/Mechanize.pm line 1419
	WWW::Mechanize::_make_request(Test::WWW::Mechanize::PSGI=HASH(0x2c89ecde8c8), HTTP::Request=HASH(0x2c947f46490)) called at /home/bar/perl5/perlbrew/perls/perl-5.20.3/lib/site_perl/5.20.3/WWW/Mechanize.pm line 1253
	WWW::Mechanize::request(Test::WWW::Mechanize::PSGI=HASH(0x2c89ecde8c8), HTTP::Request=HASH(0x2c947f46490)) called at /home/bar/perl5/perlbrew/perls/perl-5.20.3/lib/site_perl/5.20.3/LWP/UserAgent.pm line 411
	LWP::UserAgent::get(Test::WWW::Mechanize::PSGI=HASH(0x2c89ecde8c8), "http://localhost/wishlist") called at /home/bar/perl5/perlbrew/perls/perl-5.20.3/lib/site_perl/5.20.3/WWW/Mechanize.pm line 117
	WWW::Mechanize::get(Test::WWW::Mechanize::PSGI=HASH(0x2c89ecde8c8), "/wishlist") called at /home/bar/perl5/perlbrew/perls/perl-5.20.3/lib/site_perl/5.20.3/Test/WWW/Mechanize.pm line 160
	Test::WWW::Mechanize::get_ok(Test::WWW::Mechanize::PSGI=HASH(0x2c89ecde8c8), "/wishlist", "Wishlist is still available") called at t/03_mech.t line 91
Do not use HTTP::Session2::ClientStore. Use HTTP::Session2::ServerStore or HTTP::Session2::ClientStore2 instead. at /cpan_build/bar/HTTP-Session2-1.09-0/blib/lib/HTTP/Session2/ClientStore.pm line 35.
Secret string too short at /cpan_build/bar/HTTP-Session2-1.09-0/blib/lib/HTTP/Session2/Base.pm line 79.
	HTTP::Session2::Base::__ANON__(HTTP::Session2::ClientStore=HASH(0x2c967abe3d0), "s3cret") called at t/03_mech.t line 127
	main::client_session(HASH(0x2c8c66f6d18)) called at t/03_mech.t line 17
	main::__ANON__(HASH(0x2c8c66f6d18)) called at /home/bar/perl5/perlbrew/perls/perl-5.20.3/lib/site_perl/5.20.3/Test/WWW/Mechanize/PSGI.pm line 43
	Test::WWW::Mechanize::PSGI::try {...} () called at /home/bar/perl5/perlbrew/perls/perl-5.20.3/lib/site_perl/5.20.3/Try/Tiny.pm line 103
	eval {...} called at /home/bar/perl5/perlbrew/perls/perl-5.20.3/lib/site_perl/5.20.3/Try/Tiny.pm line 94
	Try::Tiny::try(CODE(0x2c91120c550), Try::Tiny::Catch=REF(0x2c9829dca90)) called at /home/bar/perl5/perlbrew/perls/perl-5.20.3/lib/site_perl/5.20.3/Test/WWW/Mechanize/PSGI.pm line 50
	Test::WWW::Mechanize::PSGI::simple_request(Test::WWW::Mechanize::PSGI=HASH(0x2c89ecde8c8), HTTP::Request=HASH(0x2c91120ca00), undef, undef) called at /home/bar/perl5/perlbrew/perls/perl-5.20.3/lib/site_perl/5.20.3/LWP/UserAgent.pm line 282
	LWP::UserAgent::request(Test::WWW::Mechanize::PSGI=HASH(0x2c89ecde8c8), HTTP::Request=HASH(0x2c91120ca00)) called at /home/bar/perl5/perlbrew/perls/perl-5.20.3/lib/site_perl/5.20.3/WWW/Mechanize.pm line 1419
	WWW::Mechanize::_make_request(Test::WWW::Mechanize::PSGI=HASH(0x2c89ecde8c8), HTTP::Request=HASH(0x2c91120ca00)) called at /home/bar/perl5/perlbrew/perls/perl-5.20.3/lib/site_perl/5.20.3/WWW/Mechanize.pm line 1253
	WWW::Mechanize::request(Test::WWW::Mechanize::PSGI=HASH(0x2c89ecde8c8), HTTP::Request=HASH(0x2c91120ca00)) called at /home/bar/perl5/perlbrew/perls/perl-5.20.3/lib/site_perl/5.20.3/LWP/UserAgent.pm line 411
	LWP::UserAgent::get(Test::WWW::Mechanize::PSGI=HASH(0x2c89ecde8c8), "http://localhost/my/name") called at /home/bar/perl5/perlbrew/perls/perl-5.20.3/lib/site_perl/5.20.3/WWW/Mechanize.pm line 117
	WWW::Mechanize::get(Test::WWW::Mechanize::PSGI=HASH(0x2c89ecde8c8), "/my/name") called at /home/bar/perl5/perlbrew/perls/perl-5.20.3/lib/site_perl/5.20.3/Test/WWW/Mechanize.pm line 160
	Test::WWW::Mechanize::get_ok(Test::WWW::Mechanize::PSGI=HASH(0x2c89ecde8c8), "/my/name") called at t/03_mech.t line 93
Do not use HTTP::Session2::ClientStore. Use HTTP::Session2::ServerStore or HTTP::Session2::ClientStore2 instead. at /cpan_build/bar/HTTP-Session2-1.09-0/blib/lib/HTTP/Session2/ClientStore.pm line 35.
Secret string too short at /cpan_build/bar/HTTP-Session2-1.09-0/blib/lib/HTTP/Session2/Base.pm line 79.
	HTTP::Session2::Base::__ANON__(HTTP::Session2::ClientStore=HASH(0x2c967abe820), "s3cret") called at t/03_mech.t line 127
	main::client_session(HASH(0x2c967abe118)) called at t/03_mech.t line 17
	main::__ANON__(HASH(0x2c967abe118)) called at /home/bar/perl5/perlbrew/perls/perl-5.20.3/lib/site_perl/5.20.3/Test/WWW/Mechanize/PSGI.pm line 43
	Test::WWW::Mechanize::PSGI::try {...} () called at /home/bar/perl5/perlbrew/perls/perl-5.20.3/lib/site_perl/5.20.3/Try/Tiny.pm line 103
	eval {...} called at /home/bar/perl5/perlbrew/perls/perl-5.20.3/lib/site_perl/5.20.3/Try/Tiny.pm line 94
	Try::Tiny::try(CODE(0x2c967abe4f0), Try::Tiny::Catch=REF(0x2c91120cd18)) called at /home/bar/perl5/perlbrew/perls/perl-5.20.3/lib/site_perl/5.20.3/Test/WWW/Mechanize/PSGI.pm line 50
	Test::WWW::Mechanize::PSGI::simple_request(Test::WWW::Mechanize::PSGI=HASH(0x2c89ecde8c8), HTTP::Request=HASH(0x2c967abe130), undef, undef) called at /home/bar/perl5/perlbrew/perls/perl-5.20.3/lib/site_perl/5.20.3/LWP/UserAgent.pm line 282
	LWP::UserAgent::request(Test::WWW::Mechanize::PSGI=HASH(0x2c89ecde8c8), HTTP::Request=HASH(0x2c967abe130)) called at /home/bar/perl5/perlbrew/perls/perl-5.20.3/lib/site_perl/5.20.3/WWW/Mechanize.pm line 1419
	WWW::Mechanize::_make_request(Test::WWW::Mechanize::PSGI=HASH(0x2c89ecde8c8), HTTP::Request=HASH(0x2c967abe130)) called at /home/bar/perl5/perlbrew/perls/perl-5.20.3/lib/site_perl/5.20.3/WWW/Mechanize.pm line 1253
	WWW::Mechanize::request(Test::WWW::Mechanize::PSGI=HASH(0x2c89ecde8c8), HTTP::Request=HASH(0x2c967abe130)) called at /home/bar/perl5/perlbrew/perls/perl-5.20.3/lib/site_perl/5.20.3/LWP/UserAgent.pm line 419
	LWP::UserAgent::post(Test::WWW::Mechanize::PSGI=HASH(0x2c89ecde8c8), "/account/logout?john") called at t/03_mech.t line 97
Do not use HTTP::Session2::ClientStore. Use HTTP::Session2::ServerStore or HTTP::Session2::ClientStore2 instead. at /cpan_build/bar/HTTP-Session2-1.09-0/blib/lib/HTTP/Session2/ClientStore.pm line 35.
Do not use HTTP::Session2::ClientStore. Use HTTP::Session2::ServerStore or HTTP::Session2::ClientStore2 instead. at /cpan_build/bar/HTTP-Session2-1.09-0/blib/lib/HTTP/Session2/ClientStore.pm line 35.
t/03_mech.t ................. ok
Do not use HTTP::Session2::ClientStore. Use HTTP::Session2::ServerStore or HTTP::Session2::ClientStore2 instead. at /cpan_build/bar/HTTP-Session2-1.09-0/blib/lib/HTTP/Session2/ClientStore.pm line 25.
t/04_plack_response.t ....... ok
Secret string too short at /cpan_build/bar/HTTP-Session2-1.09-0/blib/lib/HTTP/Session2/Base.pm line 79.
	HTTP::Session2::Base::__ANON__(HTTP::Session2::ClientStore=HASH(0x15b341814ca0), "s3cret") called at t/05_keep_me_signed_in.t line 15
Do not use HTTP::Session2::ClientStore. Use HTTP::Session2::ServerStore or HTTP::Session2::ClientStore2 instead. at /cpan_build/bar/HTTP-Session2-1.09-0/blib/lib/HTTP/Session2/ClientStore.pm line 25.
t/05_keep_me_signed_in.t .... ok
Secret string too short at /cpan_build/bar/HTTP-Session2-1.09-0/blib/lib/HTTP/Session2/Base.pm line 79.
	HTTP::Session2::Base::__ANON__(HTTP::Session2::Base=HASH(0x683c9d38f28), "i am secret") called at t/06_base_abstract.t line 7
t/06_base_abstract.t ........ ok
Secret string too short at /cpan_build/bar/HTTP-Session2-1.09-0/blib/lib/HTTP/Session2/Base.pm line 79.
	HTTP::Session2::Base::__ANON__(HTTP::Session2::ClientStore=HASH(0x2c567af7fa0), "secret") called at t/07_client_store.t line 23
	main::__ANON__() called at /home/bar/perl5/perlbrew/perls/perl-5.20.3/lib/site_perl/5.20.3/Test/Builder.pm line 302
	eval {...} called at /home/bar/perl5/perlbrew/perls/perl-5.20.3/lib/site_perl/5.20.3/Test/Builder.pm line 302
	Test::Builder::subtest(Test::Builder=HASH(0x2c5d788d058), "get/set/remove", CODE(0x2c5a9983148)) called at /home/bar/perl5/perlbrew/perls/perl-5.20.3/lib/site_perl/5.20.3/Test/More.pm line 807
	Test::More::subtest("get/set/remove", CODE(0x2c5a9983148)) called at t/07_client_store.t line 31
Secret string too short at /cpan_build/bar/HTTP-Session2-1.09-0/blib/lib/HTTP/Session2/Base.pm line 79.
	HTTP::Session2::Base::__ANON__(HTTP::Session2::ClientStore=HASH(0x2c5e5e55448), "secret") called at t/07_client_store.t line 35
	main::__ANON__() called at /home/bar/perl5/perlbrew/perls/perl-5.20.3/lib/site_perl/5.20.3/Test/Builder.pm line 302
	eval {...} called at /home/bar/perl5/perlbrew/perls/perl-5.20.3/lib/site_perl/5.20.3/Test/Builder.pm line 302
	Test::Builder::subtest(Test::Builder=HASH(0x2c5d788d058), "validate_token", CODE(0x2c5d8e1a5c8)) called at /home/bar/perl5/perlbrew/perls/perl-5.20.3/lib/site_perl/5.20.3/Test/More.pm line 807
	Test::More::subtest("validate_token", CODE(0x2c5d8e1a5c8)) called at t/07_client_store.t line 71
Do not use HTTP::Session2::ClientStore. Use HTTP::Session2::ServerStore or HTTP::Session2::ClientStore2 instead. at /cpan_build/bar/HTTP-Session2-1.09-0/blib/lib/HTTP/Session2/ClientStore.pm line 25.
Secret string too short at /cpan_build/bar/HTTP-Session2-1.09-0/blib/lib/HTTP/Session2/Base.pm line 79.
	HTTP::Session2::Base::__ANON__(HTTP::Session2::ClientStore=HASH(0x2c59303a7a8), "secret") called at t/07_client_store.t line 51
	main::__ANON__() called at /home/bar/perl5/perlbrew/perls/perl-5.20.3/lib/site_perl/5.20.3/Test/Builder.pm line 302
	eval {...} called at /home/bar/perl5/perlbrew/perls/perl-5.20.3/lib/site_perl/5.20.3/Test/Builder.pm line 302
	Test::Builder::subtest(Test::Builder=HASH(0x2c5d788d058), "bad", CODE(0x2c5e5e55e68)) called at /home/bar/perl5/perlbrew/perls/perl-5.20.3/lib/site_perl/5.20.3/Test/More.pm line 807
	Test::More::subtest("bad", CODE(0x2c5e5e55e68)) called at t/07_client_store.t line 57
	main::__ANON__() called at /home/bar/perl5/perlbrew/perls/perl-5.20.3/lib/site_perl/5.20.3/Test/Builder.pm line 302
	eval {...} called at /home/bar/perl5/perlbrew/perls/perl-5.20.3/lib/site_perl/5.20.3/Test/Builder.pm line 302
	Test::Builder::subtest(Test::Builder=HASH(0x2c5d788d058), "validate_token", CODE(0x2c5d8e1a5c8)) called at /home/bar/perl5/perlbrew/perls/perl-5.20.3/lib/site_perl/5.20.3/Test/More.pm line 807
	Test::More::subtest("validate_token", CODE(0x2c5d8e1a5c8)) called at t/07_client_store.t line 71
Do not use HTTP::Session2::ClientStore. Use HTTP::Session2::ServerStore or HTTP::Session2::ClientStore2 instead. at /cpan_build/bar/HTTP-Session2-1.09-0/blib/lib/HTTP/Session2/ClientStore.pm line 35.
Secret string too short at /cpan_build/bar/HTTP-Session2-1.09-0/blib/lib/HTTP/Session2/Base.pm line 79.
	HTTP::Session2::Base::__ANON__(HTTP::Session2::ClientStore=HASH(0x2c5b07f5850), "secret") called at t/07_client_store.t line 65
	main::__ANON__() called at /home/bar/perl5/perlbrew/perls/perl-5.20.3/lib/site_perl/5.20.3/Test/Builder.pm line 302
	eval {...} called at /home/bar/perl5/perlbrew/perls/perl-5.20.3/lib/site_perl/5.20.3/Test/Builder.pm line 302
	Test::Builder::subtest(Test::Builder=HASH(0x2c5d788d058), "good", CODE(0x2c5e5e55e68)) called at /home/bar/perl5/perlbrew/perls/perl-5.20.3/lib/site_perl/5.20.3/Test/More.pm line 807
	Test::More::subtest("good", CODE(0x2c5e5e55e68)) called at t/07_client_store.t line 70
	main::__ANON__() called at /home/bar/perl5/perlbrew/perls/perl-5.20.3/lib/site_perl/5.20.3/Test/Builder.pm line 302
	eval {...} called at /home/bar/perl5/perlbrew/perls/perl-5.20.3/lib/site_perl/5.20.3/Test/Builder.pm line 302
	Test::Builder::subtest(Test::Builder=HASH(0x2c5d788d058), "validate_token", CODE(0x2c5d8e1a5c8)) called at /home/bar/perl5/perlbrew/perls/perl-5.20.3/lib/site_perl/5.20.3/Test/More.pm line 807
	Test::More::subtest("validate_token", CODE(0x2c5d8e1a5c8)) called at t/07_client_store.t line 71
Do not use HTTP::Session2::ClientStore. Use HTTP::Session2::ServerStore or HTTP::Session2::ClientStore2 instead. at /cpan_build/bar/HTTP-Session2-1.09-0/blib/lib/HTTP/Session2/ClientStore.pm line 35.
Secret string too short at /cpan_build/bar/HTTP-Session2-1.09-0/blib/lib/HTTP/Session2/Base.pm line 79.
	HTTP::Session2::Base::__ANON__(HTTP::Session2::ClientStore=HASH(0x2c59303a3a0), "secret") called at t/07_client_store.t line 76
	main::__ANON__() called at /home/bar/perl5/perlbrew/perls/perl-5.20.3/lib/site_perl/5.20.3/Test/Builder.pm line 302
	eval {...} called at /home/bar/perl5/perlbrew/perls/perl-5.20.3/lib/site_perl/5.20.3/Test/Builder.pm line 302
	Test::Builder::subtest(Test::Builder=HASH(0x2c5d788d058), "ignore_old", CODE(0x2c5d8e1aca0)) called at /home/bar/perl5/perlbrew/perls/perl-5.20.3/lib/site_perl/5.20.3/Test/More.pm line 807
	Test::More::subtest("ignore_old", CODE(0x2c5d8e1aca0)) called at t/07_client_store.t line 106
Do not use HTTP::Session2::ClientStore. Use HTTP::Session2::ServerStore or HTTP::Session2::ClientStore2 instead. at /cpan_build/bar/HTTP-Session2-1.09-0/blib/lib/HTTP/Session2/ClientStore.pm line 25.
Secret string too short at /cpan_build/bar/HTTP-Session2-1.09-0/blib/lib/HTTP/Session2/Base.pm line 79.
	HTTP::Session2::Base::__ANON__(HTTP::Session2::ClientStore=HASH(0x2c5e5e556e8), "secret") called at t/07_client_store.t line 87
	main::__ANON__() called at /home/bar/perl5/perlbrew/perls/perl-5.20.3/lib/site_perl/5.20.3/Test/Builder.pm line 302
	eval {...} called at /home/bar/perl5/perlbrew/perls/perl-5.20.3/lib/site_perl/5.20.3/Test/Builder.pm line 302
	Test::Builder::subtest(Test::Builder=HASH(0x2c5d788d058), "ignore_old disabled", CODE(0x2c59303a940)) called at /home/bar/perl5/perlbrew/perls/perl-5.20.3/lib/site_perl/5.20.3/Test/More.pm line 807
	Test::More::subtest("ignore_old disabled", CODE(0x2c59303a940)) called at t/07_client_store.t line 95
	main::__ANON__() called at /home/bar/perl5/perlbrew/perls/perl-5.20.3/lib/site_perl/5.20.3/Test/Builder.pm line 302
	eval {...} called at /home/bar/perl5/perlbrew/perls/perl-5.20.3/lib/site_perl/5.20.3/Test/Builder.pm line 302
	Test::Builder::subtest(Test::Builder=HASH(0x2c5d788d058), "ignore_old", CODE(0x2c5d8e1aca0)) called at /home/bar/perl5/perlbrew/perls/perl-5.20.3/lib/site_perl/5.20.3/Test/More.pm line 807
	Test::More::subtest("ignore_old", CODE(0x2c5d8e1aca0)) called at t/07_client_store.t line 106
Do not use HTTP::Session2::ClientStore. Use HTTP::Session2::ServerStore or HTTP::Session2::ClientStore2 instead. at /cpan_build/bar/HTTP-Session2-1.09-0/blib/lib/HTTP/Session2/ClientStore.pm line 35.
Secret string too short at /cpan_build/bar/HTTP-Session2-1.09-0/blib/lib/HTTP/Session2/Base.pm line 79.
	HTTP::Session2::Base::__ANON__(HTTP::Session2::ClientStore=HASH(0x2c59303a910), "secret") called at t/07_client_store.t line 97
	main::__ANON__() called at /home/bar/perl5/perlbrew/perls/perl-5.20.3/lib/site_perl/5.20.3/Test/Builder.pm line 302
	eval {...} called at /home/bar/perl5/perlbrew/perls/perl-5.20.3/lib/site_perl/5.20.3/Test/Builder.pm line 302
	Test::Builder::subtest(Test::Builder=HASH(0x2c5d788d058), "ignore_old enabled", CODE(0x2c59303a940)) called at /home/bar/perl5/perlbrew/perls/perl-5.20.3/lib/site_perl/5.20.3/Test/More.pm line 807
	Test::More::subtest("ignore_old enabled", CODE(0x2c59303a940)) called at t/07_client_store.t line 105
	main::__ANON__() called at /home/bar/perl5/perlbrew/perls/perl-5.20.3/lib/site_perl/5.20.3/Test/Builder.pm line 302
	eval {...} called at /home/bar/perl5/perlbrew/perls/perl-5.20.3/lib/site_perl/5.20.3/Test/Builder.pm line 302
	Test::Builder::subtest(Test::Builder=HASH(0x2c5d788d058), "ignore_old", CODE(0x2c5d8e1aca0)) called at /home/bar/perl5/perlbrew/perls/perl-5.20.3/lib/site_perl/5.20.3/Test/More.pm line 807
	Test::More::subtest("ignore_old", CODE(0x2c5d8e1aca0)) called at t/07_client_store.t line 106
t/07_client_store.t ......... ok
Secret string too short at /cpan_build/bar/HTTP-Session2-1.09-0/blib/lib/HTTP/Session2/Base.pm line 79.
	HTTP::Session2::Base::__ANON__(HTTP::Session2::Expired=HASH(0x1a00399ea988), 33333) called at t/08_expired.t line 7
t/08_expired.t .............. ok
# /dev/urandom available
# /dev/urandom(1): gQiXlguI2-V04Tx5PPDFgGA98olz1tv
# /dev/urandom(2): VWyi6ljB5cnoF-fapIZ06YKqsFCr0Bk
# perl:            2e52bf0ff582410ac8b622f31cfa380
t/09_random.t ............... ok
t/11_secret_string.t ........ ok
Secret string too short at /cpan_build/bar/HTTP-Session2-1.09-0/blib/lib/HTTP/Session2/Base.pm line 79.
	HTTP::Session2::Base::__ANON__(HTTP::Session2::ClientStore2=HASH(0x751b7e5a388), "s3cret") called at t/client_store2/01_basic.t line 24
	main::__ANON__("client -> server: request without cookie", CODE(0x7514f5fed00)) called at t/client_store2/01_basic.t line 30
	main::__ANON__() called at /home/bar/perl5/perlbrew/perls/perl-5.20.3/lib/site_perl/5.20.3/Test/Builder.pm line 302
	eval {...} called at /home/bar/perl5/perlbrew/perls/perl-5.20.3/lib/site_perl/5.20.3/Test/Builder.pm line 302
	Test::Builder::subtest(Test::Builder=HASH(0x751135140b8), "First request", CODE(0x75154b8e448)) called at /home/bar/perl5/perlbrew/perls/perl-5.20.3/lib/site_perl/5.20.3/Test/More.pm line 807
	Test::More::subtest("First request", CODE(0x75154b8e448)) called at t/client_store2/01_basic.t line 9
	main::scenario("First request", CODE(0x75154b8e448)) called at t/client_store2/01_basic.t line 36
Secret string too short at /cpan_build/bar/HTTP-Session2-1.09-0/blib/lib/HTTP/Session2/Base.pm line 79.
	HTTP::Session2::Base::__ANON__(HTTP::Session2::ClientStore2=HASH(0x75175a1fd48), "s3cret") called at t/client_store2/01_basic.t line 41
	main::__ANON__("client -> server: request without cookie", CODE(0x751b7e5ad78)) called at t/client_store2/01_basic.t line 47
	main::__ANON__() called at /home/bar/perl5/perlbrew/perls/perl-5.20.3/lib/site_perl/5.20.3/Test/Builder.pm line 302
	eval {...} called at /home/bar/perl5/perlbrew/perls/perl-5.20.3/lib/site_perl/5.20.3/Test/Builder.pm line 302
	Test::Builder::subtest(Test::Builder=HASH(0x751135140b8), "Store something without login", CODE(0x75154b8e448)) called at /home/bar/perl5/perlbrew/perls/perl-5.20.3/lib/site_perl/5.20.3/Test/More.pm line 807
	Test::More::subtest("Store something without login", CODE(0x75154b8e448)) called at t/client_store2/01_basic.t line 9
	main::scenario("Store something without login", CODE(0x75154b8e448)) called at t/client_store2/01_basic.t line 63
Secret string too short at /cpan_build/bar/HTTP-Session2-1.09-0/blib/lib/HTTP/Session2/Base.pm line 79.
	HTTP::Session2::Base::__ANON__(HTTP::Session2::ClientStore2=HASH(0x75155eac898), "s3cret") called at t/client_store2/01_basic.t line 69
	main::__ANON__("client -> server: request without cookie", CODE(0x751b7e5a9d0)) called at t/client_store2/01_basic.t line 76
	main::__ANON__() called at /home/bar/perl5/perlbrew/perls/perl-5.20.3/lib/site_perl/5.20.3/Test/Builder.pm line 302
	eval {...} called at /home/bar/perl5/perlbrew/perls/perl-5.20.3/lib/site_perl/5.20.3/Test/Builder.pm line 302
	Test::Builder::subtest(Test::Builder=HASH(0x751135140b8), "Login", CODE(0x75154b8e448)) called at /home/bar/perl5/perlbrew/perls/perl-5.20.3/lib/site_perl/5.20.3/Test/More.pm line 807
	Test::More::subtest("Login", CODE(0x75154b8e448)) called at t/client_store2/01_basic.t line 9
	main::scenario("Login", CODE(0x75154b8e448)) called at t/client_store2/01_basic.t line 96
Ciphertext does not begin with a valid header for 'salt' header mode at /cpan_build/bar/HTTP-Session2-1.09-0/blib/lib/HTTP/Session2/ClientStore2.pm line 81.
Ciphertext does not begin with a valid header for 'salt' header mode at /cpan_build/bar/HTTP-Session2-1.09-0/blib/lib/HTTP/Session2/ClientStore2.pm line 81.
Secret string too short at /cpan_build/bar/HTTP-Session2-1.09-0/blib/lib/HTTP/Session2/Base.pm line 79.
	HTTP::Session2::Base::__ANON__(HTTP::Session2::ClientStore2=HASH(0x751b7e5aa30), "s3cret") called at t/client_store2/01_basic.t line 102
	main::__ANON__("client -> server: request without cookie", CODE(0x75155eaccd0)) called at t/client_store2/01_basic.t line 109
	main::__ANON__() called at /home/bar/perl5/perlbrew/perls/perl-5.20.3/lib/site_perl/5.20.3/Test/Builder.pm line 302
	eval {...} called at /home/bar/perl5/perlbrew/perls/perl-5.20.3/lib/site_perl/5.20.3/Test/Builder.pm line 302
	Test::Builder::subtest(Test::Builder=HASH(0x751135140b8), "In a login session", CODE(0x75154b8e448)) called at /home/bar/perl5/perlbrew/perls/perl-5.20.3/lib/site_perl/5.20.3/Test/More.pm line 807
	Test::More::subtest("In a login session", CODE(0x75154b8e448)) called at t/client_store2/01_basic.t line 9
	main::scenario("In a login session", CODE(0x75154b8e448)) called at t/client_store2/01_basic.t line 118
Ciphertext does not begin with a valid header for 'salt' header mode at /cpan_build/bar/HTTP-Session2-1.09-0/blib/lib/HTTP/Session2/ClientStore2.pm line 81.
Secret string too short at /cpan_build/bar/HTTP-Session2-1.09-0/blib/lib/HTTP/Session2/Base.pm line 79.
	HTTP::Session2::Base::__ANON__(HTTP::Session2::ClientStore2=HASH(0x75155eac8e0), "s3cret") called at t/client_store2/01_basic.t line 123
	main::__ANON__("client -> server: request without cookie", CODE(0x75155eac460)) called at t/client_store2/01_basic.t line 130
	main::__ANON__() called at /home/bar/perl5/perlbrew/perls/perl-5.20.3/lib/site_perl/5.20.3/Test/Builder.pm line 302
	eval {...} called at /home/bar/perl5/perlbrew/perls/perl-5.20.3/lib/site_perl/5.20.3/Test/Builder.pm line 302
	Test::Builder::subtest(Test::Builder=HASH(0x751135140b8), "Logout", CODE(0x75154b8e448)) called at /home/bar/perl5/perlbrew/perls/perl-5.20.3/lib/site_perl/5.20.3/Test/More.pm line 807
	Test::More::subtest("Logout", CODE(0x75154b8e448)) called at t/client_store2/01_basic.t line 9
	main::scenario("Logout", CODE(0x75154b8e448)) called at t/client_store2/01_basic.t line 143
Ciphertext does not begin with a valid header for 'salt' header mode at /cpan_build/bar/HTTP-Session2-1.09-0/blib/lib/HTTP/Session2/ClientStore2.pm line 81.
t/client_store2/01_basic.t .. ok
t/client_store2/02_mech.t ... ok
t/client_store2/03_colon.t .. ok
All tests successful.
Files=14, Tests=83,  3 wallclock secs ( 0.08 usr  0.12 sys +  1.77 cusr  1.12 csys =  3.09 CPU)
Result: PASS

------------------------------
PREREQUISITES
------------------------------

Prerequisite modules loaded:

requires:

    Module                     Need     Have    
    -------------------------- -------- --------
    Cookie::Baker              0        0.07    
    Crypt::CBC                 0        2.33    
    Data::MessagePack          0        1.00    
    Digest::HMAC               0        1.03    
    Digest::SHA                0        5.96    
    Digest::SHA1               0        2.13    
    MIME::Base64               3.11     3.15    
    Mouse                      0        v2.4.5  
    parent                     0        0.236   
    perl                       5.008005 5.020003
    Time::HiRes                0        1.9740  

build_requires:

    Module                     Need     Have    
    -------------------------- -------- --------
    Crypt::Rijndael            0        1.13    
    Plack::Request             0        1.0042  
    Plack::Response            0        1.0042  
    Test::More                 0.98     1.302062
    Test::WWW::Mechanize::PSGI 0        0.36    

configure_requires:

    Module                     Need     Have    
    -------------------------- -------- --------
    Module::Build              0.38     0.4220  


------------------------------
ENVIRONMENT AND OTHER CONTEXT
------------------------------

Environment variables:

    AUTOMATED_TESTING = 1
    PATH = /home/bar/bin:/home/bar/perl5/perlbrew/bin:/home/bar/perl5/perlbrew/perls/perl-5.20.3/bin:/usr/bin:/bin:/usr/sbin:/sbin:/usr/X11R6/bin:/usr/local/bin:/usr/local/sbin
    PERL5LIB = 
    PERL5OPT = 
    PERL5_CPANPLUS_IS_RUNNING = 3343
    PERL5_CPAN_IS_RUNNING = 3343
    PERL5_CPAN_IS_RUNNING_IN_RECURSION = 28228,3343
    PERLBREW_BASHRC_VERSION = 0.76
    PERLBREW_HOME = /home/bar/.perlbrew
    PERLBREW_MANPATH = /home/bar/perl5/perlbrew/perls/perl-5.20.3/man
    PERLBREW_PATH = /home/bar/perl5/perlbrew/bin:/home/bar/perl5/perlbrew/perls/perl-5.20.3/bin
    PERLBREW_PERL = perl-5.20.3
    PERLBREW_ROOT = /home/bar/perl5/perlbrew
    PERLBREW_VERSION = 0.76
    PERL_CR_SMOKER_CURRENT = Amon2-6.13
    PERL_EXTUTILS_AUTOINSTALL = --defaultdeps
    PERL_MM_USE_DEFAULT = 1
    SHELL = /usr/local/bin/bash
    TERM = vt220

Perl special variables (and OS-specific diagnostics, for MSWin32):

    $^X = /home/bar/perl5/perlbrew/perls/perl-5.20.3/bin/perl
    $UID/$EUID = 1002 / 1002
    $GID = 1002 1002
    $EGID = 1002 1002

Perl module toolchain versions installed:

    Module              Have    
    ------------------- --------
    CPAN                2.14    
    CPAN::Meta          2.150010
    Cwd                 3.62    
    ExtUtils::CBuilder  0.280224
    ExtUtils::Command   7.24    
    ExtUtils::Install   1.67    
    ExtUtils::MakeMaker 7.24    
    ExtUtils::Manifest  1.70    
    ExtUtils::ParseXS   3.30    
    File::Spec          3.62    
    JSON                2.90    
    JSON::PP            2.27400 
    Module::Build       0.4220  
    Module::Signature   n/a     
    Parse::CPAN::Meta   2.150010
    Test::Harness       3.36    
    Test::More          1.302062
    YAML                1.18    
    YAML::Syck          1.29    
    version             0.9917  


--

Summary of my perl5 (revision 5 version 20 subversion 3) configuration:
   
  Platform:
    osname=openbsd, osvers=5.9, archname=OpenBSD.amd64-openbsd
    uname='openbsd baiacu.spo.virtua.com.br 5.9 generic.mp#1888 amd64 '
    config_args='-de -Dprefix=/home/bar/perl5/perlbrew/perls/perl-5.20.3 -Aeval:scriptdir=/home/bar/perl5/perlbrew/perls/perl-5.20.3/bin'
    hint=recommended, useposix=true, d_sigaction=define
    useithreads=undef, usemultiplicity=undef
    use64bitint=define, use64bitall=define, uselongdouble=undef
    usemymalloc=n, bincompat5005=undef
  Compiler:
    cc='cc', ccflags ='-fno-strict-aliasing -pipe -fstack-protector -I/usr/local/include',
    optimize='-O2',
    cppflags='-fno-strict-aliasing -pipe -fstack-protector -I/usr/local/include'
    ccversion='', gccversion='4.2.1 20070719 ', gccosandvers='openbsd5.9'
    intsize=4, longsize=8, ptrsize=8, doublesize=8, byteorder=12345678
    d_longlong=define, longlongsize=8, d_longdbl=define, longdblsize=16
    ivtype='long', ivsize=8, nvtype='double', nvsize=8, Off_t='off_t', lseeksize=8
    alignbytes=8, prototype=define
  Linker and Libraries:
    ld='cc', ldflags ='-Wl,-E  -fstack-protector -L/usr/local/lib'
    libpth=/usr/lib /usr/local/lib
    libs=-lpthread -lm -lutil -lc
    perllibs=-lpthread -lm -lutil -lc
    libc=/usr/lib/libc.so.84.2, so=so, useshrplib=false, libperl=libperl.a
    gnulibc_version=''
  Dynamic Linking:
    dlsrc=dl_dlopen.xs, dlext=so, d_dlsymun=undef, ccdlflags=' '
    cccdlflags='-DPIC -fPIC ', lddlflags='-shared -fPIC  -L/usr/local/lib -fstack-protector'


Characteristics of this binary (from libperl): 
  Compile-time options: HAS_TIMES PERLIO_LAYERS PERL_DONT_CREATE_GVSV
                        PERL_HASH_FUNC_ONE_AT_A_TIME_HARD PERL_MALLOC_WRAP
                        PERL_NEW_COPY_ON_WRITE PERL_PRESERVE_IVUV
                        USE_64_BIT_ALL USE_64_BIT_INT USE_LARGE_FILES
                        USE_LOCALE USE_LOCALE_COLLATE USE_LOCALE_CTYPE
                        USE_LOCALE_NUMERIC USE_PERLIO USE_PERL_ATOF
  Locally applied patches:
	Devel::PatchPerl 1.38
  Built under openbsd
  Compiled at Sep 12 2016 22:30:16
  %ENV:
    PERL5LIB=""
    PERL5OPT=""
    PERL5_CPANPLUS_IS_RUNNING="3343"
    PERL5_CPAN_IS_RUNNING="3343"
    PERL5_CPAN_IS_RUNNING_IN_RECURSION="28228,3343"
    PERLBREW_BASHRC_VERSION="0.76"
    PERLBREW_HOME="/home/bar/.perlbrew"
    PERLBREW_MANPATH="/home/bar/perl5/perlbrew/perls/perl-5.20.3/man"
    PERLBREW_PATH="/home/bar/perl5/perlbrew/bin:/home/bar/perl5/perlbrew/perls/perl-5.20.3/bin"
    PERLBREW_PERL="perl-5.20.3"
    PERLBREW_ROOT="/home/bar/perl5/perlbrew"
    PERLBREW_VERSION="0.76"
    PERL_CR_SMOKER_CURRENT="Amon2-6.13"
    PERL_EXTUTILS_AUTOINSTALL="--defaultdeps"
    PERL_MM_USE_DEFAULT="1"
  @INC:
    /home/bar/perl5/perlbrew/perls/perl-5.20.3/lib/site_perl/5.20.3/OpenBSD.amd64-openbsd
    /home/bar/perl5/perlbrew/perls/perl-5.20.3/lib/site_perl/5.20.3
    /home/bar/perl5/perlbrew/perls/perl-5.20.3/lib/5.20.3/OpenBSD.amd64-openbsd
    /home/bar/perl5/perlbrew/perls/perl-5.20.3/lib/5.20.3
    .