Catalyst-Devel v1.42 Perl 5 v5.35.2 armv7l-linux

Status
Pass
From
John SJ Anderson
Dist
Catalyst-Devel v1.42
Platform
Perl 5 v5.35.2 armv7l-linux
Date
2021-07-24 20:06:27
ID
a1241694-ecba-11eb-8189-ab70d4c586e6
This distribution has been tested as part of the CPAN Testers
project, supporting the Perl programming language.  See
http://wiki.cpantesters.org/ for more information or email
questions to cpan-testers-discuss@perl.org


--
Dear HAARG,

This is a computer-generated report for Catalyst-Devel-1.42
on perl 5.35.2, created by App::cpanminus::reporter 0.17 (1.7044).

Thank you for uploading your work to CPAN.  Congratulations!
All tests were successful.

Sections of this report:

    * Tester comments
    * Program output
    * Prerequisites
    * Environment and other context

------------------------------
TESTER COMMENTS
------------------------------

Additional comments from tester:

none provided

------------------------------
PROGRAM OUTPUT
------------------------------

Output from '':

Building and testing Catalyst-Devel-1.42
cp share/myapp.psgi.tt blib/lib/auto/share/dist/Catalyst-Devel/myapp.psgi.tt
cp share/root/static/images/catalyst_logo.png.bin blib/lib/auto/share/dist/Catalyst-Devel/root/static/images/catalyst_logo.png.bin
cp share/lib/MyApp.pm.tt blib/lib/auto/share/dist/Catalyst-Devel/lib/MyApp.pm.tt
cp share/root/static/images/btn_120x50_built_shadow.png.bin blib/lib/auto/share/dist/Catalyst-Devel/root/static/images/btn_120x50_built_shadow.png.bin
cp share/root/favicon.ico.bin blib/lib/auto/share/dist/Catalyst-Devel/root/favicon.ico.bin
cp share/script/myapp_create.pl.tt blib/lib/auto/share/dist/Catalyst-Devel/script/myapp_create.pl.tt
cp share/script/myapp_test.pl.tt blib/lib/auto/share/dist/Catalyst-Devel/script/myapp_test.pl.tt
cp share/root/static/images/btn_88x31_powered.png.bin blib/lib/auto/share/dist/Catalyst-Devel/root/static/images/btn_88x31_powered.png.bin
cp share/root/static/images/btn_120x50_powered.png.bin blib/lib/auto/share/dist/Catalyst-Devel/root/static/images/btn_120x50_powered.png.bin
cp share/root/static/images/btn_88x31_built.png.bin blib/lib/auto/share/dist/Catalyst-Devel/root/static/images/btn_88x31_built.png.bin
cp share/lib/MyApp/Controller/Root.pm.tt blib/lib/auto/share/dist/Catalyst-Devel/lib/MyApp/Controller/Root.pm.tt
cp share/myapp.conf.tt blib/lib/auto/share/dist/Catalyst-Devel/myapp.conf.tt
cp share/root/static/images/btn_88x31_built_shadow.png.bin blib/lib/auto/share/dist/Catalyst-Devel/root/static/images/btn_88x31_built_shadow.png.bin
cp share/root/static/images/btn_120x50_powered_shadow.png.bin blib/lib/auto/share/dist/Catalyst-Devel/root/static/images/btn_120x50_powered_shadow.png.bin
cp share/README.tt blib/lib/auto/share/dist/Catalyst-Devel/README.tt
cp share/Changes.tt blib/lib/auto/share/dist/Catalyst-Devel/Changes.tt
cp share/t/01app.t.tt blib/lib/auto/share/dist/Catalyst-Devel/t/01app.t.tt
cp share/Makefile.PL.tt blib/lib/auto/share/dist/Catalyst-Devel/Makefile.PL.tt
cp share/root/static/images/btn_88x31_powered_shadow.png.bin blib/lib/auto/share/dist/Catalyst-Devel/root/static/images/btn_88x31_powered_shadow.png.bin
cp share/lib/Helper/compclass.pm.tt blib/lib/auto/share/dist/Catalyst-Devel/lib/Helper/compclass.pm.tt
cp share/script/myapp_fastcgi.pl.tt blib/lib/auto/share/dist/Catalyst-Devel/script/myapp_fastcgi.pl.tt
cp share/script/myapp_server.pl.tt blib/lib/auto/share/dist/Catalyst-Devel/script/myapp_server.pl.tt
cp share/script/myapp_cgi.pl.tt blib/lib/auto/share/dist/Catalyst-Devel/script/myapp_cgi.pl.tt
cp share/root/static/images/btn_120x50_built.png.bin blib/lib/auto/share/dist/Catalyst-Devel/root/static/images/btn_120x50_built.png.bin
cp share/t/comptest.tt blib/lib/auto/share/dist/Catalyst-Devel/t/comptest.tt
cp share/t/02pod.t.tt blib/lib/auto/share/dist/Catalyst-Devel/t/02pod.t.tt
cp share/t/03podcoverage.t.tt blib/lib/auto/share/dist/Catalyst-Devel/t/03podcoverage.t.tt
cp lib/Catalyst/Restarter.pm blib/lib/Catalyst/Restarter.pm
cp lib/Catalyst/Restarter/Win32.pm blib/lib/Catalyst/Restarter/Win32.pm
cp lib/Catalyst/Devel.pm blib/lib/Catalyst/Devel.pm
cp lib/Catalyst/Helper.pm blib/lib/Catalyst/Helper.pm
cp lib/Catalyst/Restarter/Forking.pm blib/lib/Catalyst/Restarter/Forking.pm
cp lib/Module/Install/Catalyst.pm blib/lib/Module/Install/Catalyst.pm
Manifying 6 pod documents
Skip blib/lib/auto/share/dist/Catalyst-Devel/root/static/images/btn_88x31_powered_shadow.png.bin (unchanged)
Skip blib/lib/auto/share/dist/Catalyst-Devel/lib/Helper/compclass.pm.tt (unchanged)
Skip blib/lib/auto/share/dist/Catalyst-Devel/script/myapp_test.pl.tt (unchanged)
Skip blib/lib/auto/share/dist/Catalyst-Devel/Changes.tt (unchanged)
Skip blib/lib/auto/share/dist/Catalyst-Devel/lib/MyApp.pm.tt (unchanged)
Skip blib/lib/auto/share/dist/Catalyst-Devel/root/static/images/btn_120x50_built.png.bin (unchanged)
Skip blib/lib/auto/share/dist/Catalyst-Devel/README.tt (unchanged)
Skip blib/lib/auto/share/dist/Catalyst-Devel/myapp.conf.tt (unchanged)
Skip blib/lib/auto/share/dist/Catalyst-Devel/script/myapp_fastcgi.pl.tt (unchanged)
Skip blib/lib/auto/share/dist/Catalyst-Devel/root/static/images/btn_88x31_powered.png.bin (unchanged)
Skip blib/lib/auto/share/dist/Catalyst-Devel/myapp.psgi.tt (unchanged)
Skip blib/lib/auto/share/dist/Catalyst-Devel/Makefile.PL.tt (unchanged)
Skip blib/lib/auto/share/dist/Catalyst-Devel/t/01app.t.tt (unchanged)
Skip blib/lib/auto/share/dist/Catalyst-Devel/root/static/images/btn_88x31_built_shadow.png.bin (unchanged)
Skip blib/lib/auto/share/dist/Catalyst-Devel/script/myapp_create.pl.tt (unchanged)
Skip blib/lib/auto/share/dist/Catalyst-Devel/root/static/images/btn_120x50_built_shadow.png.bin (unchanged)
Skip blib/lib/auto/share/dist/Catalyst-Devel/script/myapp_server.pl.tt (unchanged)
Skip blib/lib/auto/share/dist/Catalyst-Devel/root/static/images/btn_120x50_powered_shadow.png.bin (unchanged)
Skip blib/lib/auto/share/dist/Catalyst-Devel/root/static/images/btn_120x50_powered.png.bin (unchanged)
Skip blib/lib/auto/share/dist/Catalyst-Devel/lib/MyApp/Controller/Root.pm.tt (unchanged)
Skip blib/lib/auto/share/dist/Catalyst-Devel/root/favicon.ico.bin (unchanged)
Skip blib/lib/auto/share/dist/Catalyst-Devel/script/myapp_cgi.pl.tt (unchanged)
Skip blib/lib/auto/share/dist/Catalyst-Devel/root/static/images/catalyst_logo.png.bin (unchanged)
Skip blib/lib/auto/share/dist/Catalyst-Devel/root/static/images/btn_88x31_built.png.bin (unchanged)
Skip blib/lib/auto/share/dist/Catalyst-Devel/t/comptest.tt (unchanged)
Skip blib/lib/auto/share/dist/Catalyst-Devel/t/02pod.t.tt (unchanged)
Skip blib/lib/auto/share/dist/Catalyst-Devel/t/03podcoverage.t.tt (unchanged)
PERL_DL_NONLAZY=1 "/opt/plenv/versions/5.35.2/bin/perl5.35.2" "-MExtUtils::Command::MM" "-MTest::Harness" "-e" "undef *Test::Harness::Switches; test_harness(0, 'blib/lib', 'blib/arch')" t/*.t
each on anonymous hash will always start from the beginning at /opt/plenv/versions/5.35.2/lib/perl5/site_perl/5.35.2/armv7l-linux/Template/Document.pm line 75.
each on anonymous hash will always start from the beginning at /opt/plenv/versions/5.35.2/lib/perl5/site_perl/5.35.2/armv7l-linux/Template/Provider.pm line 376.
each on anonymous hash will always start from the beginning at /opt/plenv/versions/5.35.2/lib/perl5/site_perl/5.35.2/armv7l-linux/Template/Provider.pm line 875.
each on anonymous hash will always start from the beginning at /opt/plenv/versions/5.35.2/lib/perl5/site_perl/5.35.2/armv7l-linux/Template/Provider.pm line 894.
t/01use.t ......................... ok
each on anonymous hash will always start from the beginning at /opt/plenv/versions/5.35.2/lib/perl5/site_perl/5.35.2/armv7l-linux/Template/Document.pm line 75.
each on anonymous hash will always start from the beginning at /opt/plenv/versions/5.35.2/lib/perl5/site_perl/5.35.2/armv7l-linux/Template/Provider.pm line 376.
each on anonymous hash will always start from the beginning at /opt/plenv/versions/5.35.2/lib/perl5/site_perl/5.35.2/armv7l-linux/Template/Provider.pm line 875.
each on anonymous hash will always start from the beginning at /opt/plenv/versions/5.35.2/lib/perl5/site_perl/5.35.2/armv7l-linux/Template/Provider.pm line 894.
t/back_compat.t ................... ok
each on anonymous hash will always start from the beginning at /opt/plenv/versions/5.35.2/lib/perl5/site_perl/5.35.2/armv7l-linux/Template/Document.pm line 75.
each on anonymous hash will always start from the beginning at /opt/plenv/versions/5.35.2/lib/perl5/site_perl/5.35.2/armv7l-linux/Template/Provider.pm line 376.
each on anonymous hash will always start from the beginning at /opt/plenv/versions/5.35.2/lib/perl5/site_perl/5.35.2/armv7l-linux/Template/Provider.pm line 875.
each on anonymous hash will always start from the beginning at /opt/plenv/versions/5.35.2/lib/perl5/site_perl/5.35.2/armv7l-linux/Template/Provider.pm line 894.
t/generated_app.t ................. ok
each on anonymous hash will always start from the beginning at /opt/plenv/versions/5.35.2/lib/perl5/site_perl/5.35.2/armv7l-linux/Template/Document.pm line 75.
each on anonymous hash will always start from the beginning at /opt/plenv/versions/5.35.2/lib/perl5/site_perl/5.35.2/armv7l-linux/Template/Provider.pm line 376.
each on anonymous hash will always start from the beginning at /opt/plenv/versions/5.35.2/lib/perl5/site_perl/5.35.2/armv7l-linux/Template/Provider.pm line 875.
each on anonymous hash will always start from the beginning at /opt/plenv/versions/5.35.2/lib/perl5/site_perl/5.35.2/armv7l-linux/Template/Provider.pm line 894.
t/get_sharedir_file.t ............. ok
t/optional_http-server-restart.t .. skipped: set TEST_HTTP to enable this test
each on anonymous hash will always start from the beginning at /opt/plenv/versions/5.35.2/lib/perl5/site_perl/5.35.2/armv7l-linux/Template/Document.pm line 75.
each on anonymous hash will always start from the beginning at /opt/plenv/versions/5.35.2/lib/perl5/site_perl/5.35.2/armv7l-linux/Template/Provider.pm line 376.
each on anonymous hash will always start from the beginning at /opt/plenv/versions/5.35.2/lib/perl5/site_perl/5.35.2/armv7l-linux/Template/Provider.pm line 875.
each on anonymous hash will always start from the beginning at /opt/plenv/versions/5.35.2/lib/perl5/site_perl/5.35.2/armv7l-linux/Template/Provider.pm line 894.
t/render_file_contents.t .......... ok
each on anonymous hash will always start from the beginning at /opt/plenv/versions/5.35.2/lib/perl5/site_perl/5.35.2/armv7l-linux/Template/Document.pm line 75.
each on anonymous hash will always start from the beginning at /opt/plenv/versions/5.35.2/lib/perl5/site_perl/5.35.2/armv7l-linux/Template/Provider.pm line 376.
each on anonymous hash will always start from the beginning at /opt/plenv/versions/5.35.2/lib/perl5/site_perl/5.35.2/armv7l-linux/Template/Provider.pm line 875.
each on anonymous hash will always start from the beginning at /opt/plenv/versions/5.35.2/lib/perl5/site_perl/5.35.2/armv7l-linux/Template/Provider.pm line 894.
t/render_share_dir_file.t ......... ok
All tests successful.
Files=7, Tests=91, 22 wallclock secs ( 0.09 usr  0.04 sys + 19.97 cusr  2.13 csys = 22.23 CPU)
Result: PASS

------------------------------
PREREQUISITES
------------------------------

Prerequisite modules loaded:

    No requirements found

------------------------------
ENVIRONMENT AND OTHER CONTEXT
------------------------------

Environment variables:

    LANG = en_US.UTF-8
    LC_ALL = en_US.UTF-8
    LC_TERMINAL = iTerm2
    LC_TERMINAL_VERSION = 3.4.6
    PATH = /opt/plenv/versions/5.35.2/bin:/opt/plenv/libexec:/opt/plenv/plugins/Perl-Build/bin:/opt/plenv/shims:/opt/plenv/shims:/opt/plenv/bin:/home/genehack/bin:/opt/nvm/versions/node/v12.17.0/bin:/opt/git/bin:/opt/emacs/bin:/opt/local/bin:/usr/local/bin:/usr/bin:/bin:/usr/games
    PERL_CPANM_OPT = --skip-installed --prompt
    SHELL = /bin/zsh
    TERM = screen-256color

Perl special variables (and OS-specific diagnostics, for MSWin32):

    EGID = 1001 27 1001
    EUID = 1000
    EXECUTABLE_NAME = /opt/plenv/versions/5.35.2/bin/perl5.35.2
    GID = 1001 27 1001
    UID = 1000

Perl module toolchain versions installed:

    Module              Have    
    ------------------- --------
    CPAN                2.28    
    CPAN::Meta          2.150010
    Cwd                 3.82    
    ExtUtils::CBuilder  0.280236
    ExtUtils::Command   7.62    
    ExtUtils::Install   2.20    
    ExtUtils::MakeMaker 7.62    
    ExtUtils::Manifest  1.73    
    ExtUtils::ParseXS   3.43    
    File::Spec          3.81    
    JSON                4.03    
    JSON::PP            4.06    
    Module::Build       0.4231  
    Module::Signature   n/a     
    Parse::CPAN::Meta   2.150010
    Test::Harness       3.43    
    Test::More          1.302185
    YAML                1.30    
    YAML::Syck          n/a     
    version             0.9929  


--

Summary of my perl5 (revision 5 version 35 subversion 2) configuration:
   
  Platform:
    osname=linux
    osvers=5.10.17-v7l+
    archname=armv7l-linux
    uname='linux weefree 5.10.17-v7l+ #1414 smp fri apr 30 13:20:47 bst 2021 armv7l gnulinux '
    config_args='-Dprefix=/opt/plenv/versions/5.35.2 -de -Dversiononly -Dusedevel -A'eval:scriptdir=/opt/plenv/versions/5.35.2/bin''
    hint=recommended
    useposix=true
    d_sigaction=define
    useithreads=undef
    usemultiplicity=undef
    use64bitint=undef
    use64bitall=undef
    uselongdouble=undef
    usemymalloc=n
    default_inc_excludes_dot=define
  Compiler:
    cc='cc'
    ccflags ='-fwrapv -fno-strict-aliasing -pipe -fstack-protector-strong -I/usr/local/include -D_LARGEFILE_SOURCE -D_FILE_OFFSET_BITS=64 -D_FORTIFY_SOURCE=2'
    optimize='-O2'
    cppflags='-fwrapv -fno-strict-aliasing -pipe -fstack-protector-strong -I/usr/local/include'
    ccversion=''
    gccversion='8.3.0'
    gccosandvers=''
    intsize=4
    longsize=4
    ptrsize=4
    doublesize=8
    byteorder=1234
    doublekind=3
    d_longlong=define
    longlongsize=8
    d_longdbl=define
    longdblsize=8
    longdblkind=0
    ivtype='long'
    ivsize=4
    nvtype='double'
    nvsize=8
    Off_t='off_t'
    lseeksize=8
    alignbytes=8
    prototype=define
  Linker and Libraries:
    ld='cc'
    ldflags =' -fstack-protector-strong -L/usr/local/lib'
    libpth=/usr/local/lib /usr/lib/arm-linux-gnueabihf /usr/lib /lib/arm-linux-gnueabihf /lib
    libs=-lpthread -lnsl -ldl -lm -lcrypt -lutil -lc
    perllibs=-lpthread -lnsl -ldl -lm -lcrypt -lutil -lc
    libc=libc-2.28.so
    so=so
    useshrplib=false
    libperl=libperl.a
    gnulibc_version='2.28'
  Dynamic Linking:
    dlsrc=dl_dlopen.xs
    dlext=so
    d_dlsymun=undef
    ccdlflags='-Wl,-E'
    cccdlflags='-fPIC'
    lddlflags='-shared -O2 -L/usr/local/lib -fstack-protector-strong'


Characteristics of this binary (from libperl): 
  Compile-time options:
    HAS_TIMES
    PERLIO_LAYERS
    PERL_COPY_ON_WRITE
    PERL_DONT_CREATE_GVSV
    PERL_MALLOC_WRAP
    PERL_OP_PARENT
    PERL_PRESERVE_IVUV
    PERL_USE_DEVEL
    USE_LARGE_FILES
    USE_LOCALE
    USE_LOCALE_COLLATE
    USE_LOCALE_CTYPE
    USE_LOCALE_NUMERIC
    USE_LOCALE_TIME
    USE_PERLIO
    USE_PERL_ATOF
  Built under linux
  Compiled at Jul 24 2021 10:01:25
  %ENV:
    PERL_CPANM_OPT="--skip-installed --prompt"
  @INC:
    /opt/plenv/versions/5.35.2/lib/perl5/site_perl/5.35.2/armv7l-linux
    /opt/plenv/versions/5.35.2/lib/perl5/site_perl/5.35.2
    /opt/plenv/versions/5.35.2/lib/perl5/5.35.2/armv7l-linux
    /opt/plenv/versions/5.35.2/lib/perl5/5.35.2