SPVM-Sys v0.532 Perl 5 v5.40.1 x86_64-linux
- Status
- Pass
- From
- David Cantrell (DCANTRELL)
- Dist
-
SPVM-Sys v0.532
- Platform
- Perl 5 v5.40.1 x86_64-linux
- Date
- 2025-03-12 01:59:27
- ID
- a11ffbc2-fee5-11ef-83fc-ecac01c3bf2f
This distribution has been tested as part of the CPAN Testers
project, supporting the Perl programming language. See
http://wiki.cpantesters.org/ for more information or email
questions to cpan-testers-discuss@perl.org
--
Dear Yuki Kimoto,
This is a computer-generated report for SPVM-Sys-0.532
on perl 5.40.1, created by CPAN-Reporter-1.2020.
Thank you for uploading your work to CPAN. Congratulations!
All tests were successful.
Sections of this report:
* Tester comments
* Program output
* Prerequisites
* Environment and other context
------------------------------
TESTER COMMENTS
------------------------------
Additional comments from tester:
this report is from an automated smoke testing program
and was not reviewed by a human for accuracy
------------------------------
PROGRAM OUTPUT
------------------------------
Output from '/usr/bin/make test':
PERL_DL_NONLAZY=1 "/home/david/cpantesting/perl-5.40.1/bin/perl" "-MExtUtils::Command::MM" "-MTest::Harness" "-e" "undef *Test::Harness::Switches; test_harness(0, 'blib/lib', 'blib/arch')" t/*.t
[Test Output]Port:36133 at t/00_Test-SPVM-Sys-Socket-Server-IP.t line 16.
t/00_Test-SPVM-Sys-Socket-Server-IP.t .... ok
t/00_Test-SPVM-Sys-Socket-Server-UNIX.t .. ok
[Test Output][stat]$VAR1 = bless( [
2050,
198256,
33188,
1,
1000,
1000,
0,
180,
1741744495,
1668139097,
1741744495,
4096,
8
], 'File::stat' );
at t/Sys-IO-Stat.t line 70.
[Test Output][lstat]$VAR1 = bless( [
2050,
198256,
33188,
1,
1000,
1000,
0,
180,
1741744495,
1668139097,
1741744495,
4096,
8
], 'File::stat' );
at t/Sys-IO-Stat.t line 135.
[Test Output][fstat]$VAR1 = [
2050,
198256,
33188,
1,
1000,
1000,
0,
180,
1741744495,
1668139097,
1741744495,
4096,
8
];
at t/Sys-IO-Stat.t line 166.
[Test Output][fstat]$VAR1 = [
2050,
198256,
33188,
1,
1000,
1000,
0,
180,
1741744495,
1668139097,
1741744495,
4096,
8
];
at t/Sys-IO-Stat.t line 167.
[Test Output][fstat]$VAR1 = bless( [
2050,
198256,
33188,
1,
1000,
1000,
0,
180,
1741744495,
1668139097,
1741744495,
4096,
8
], 'File::stat' );
at t/Sys-IO-Stat.t line 179.
t/Sys-IO-Stat.t .......................... ok
[Test Output]getcwd:/home/david/cpantesting/perl-5.40.1/.cpan/build/SPVM-Sys-0.532-0
TestCase::Sys::IO->getcwd at /home/david/cpantesting/perl-5.40.1/.cpan/build/SPVM-Sys-0.532-0/t/lib/SPVM/TestCase/Sys/IO.spvm line 1641
[Test Output]getcwd(NULL, 0):/home/david/cpantesting/perl-5.40.1/.cpan/build/SPVM-Sys-0.532-0
TestCase::Sys::IO->getcwd at /home/david/cpantesting/perl-5.40.1/.cpan/build/SPVM-Sys-0.532-0/t/lib/SPVM/TestCase/Sys/IO.spvm line 1651
[Test Output]realpath(undef):Expected:/home/david/cpantesting/perl-5.40.1/.cpan/build/SPVM-Sys-0.532-0/t/ftest/file_empty.txt,Got:/home/david/cpantesting/perl-5.40.1/.cpan/build/SPVM-Sys-0.532-0/t/ftest/file_empty.txt
TestCase::Sys::IO->realpath at /home/david/cpantesting/perl-5.40.1/.cpan/build/SPVM-Sys-0.532-0/t/lib/SPVM/TestCase/Sys/IO.spvm line 1672
[Test Output]realpath:Expected:/home/david/cpantesting/perl-5.40.1/.cpan/build/SPVM-Sys-0.532-0/t/ftest/file_empty.txt,Got:/home/david/cpantesting/perl-5.40.1/.cpan/build/SPVM-Sys-0.532-0/t/ftest/file_empty.txt
TestCase::Sys::IO->realpath at /home/david/cpantesting/perl-5.40.1/.cpan/build/SPVM-Sys-0.532-0/t/lib/SPVM/TestCase/Sys/IO.spvm line 1689
Warning
TestCase::Sys::IO->readline at /home/david/cpantesting/perl-5.40.1/.cpan/build/SPVM-Sys-0.532-0/t/lib/SPVM/TestCase/Sys/IO.spvm line 2023
"\x{0A}"
TestCase::Sys::IO->readline at /home/david/cpantesting/perl-5.40.1/.cpan/build/SPVM-Sys-0.532-0/t/lib/SPVM/TestCase/Sys/IO.spvm line 2072
"klm"
TestCase::Sys::IO->readline at /home/david/cpantesting/perl-5.40.1/.cpan/build/SPVM-Sys-0.532-0/t/lib/SPVM/TestCase/Sys/IO.spvm line 2083
[Test Output]4
TestCase::Sys::IO->truncate at /home/david/cpantesting/perl-5.40.1/.cpan/build/SPVM-Sys-0.532-0/t/lib/SPVM/TestCase/Sys/IO.spvm line 2220
[Test Output]0
TestCase::Sys::IO->truncate at /home/david/cpantesting/perl-5.40.1/.cpan/build/SPVM-Sys-0.532-0/t/lib/SPVM/TestCase/Sys/IO.spvm line 2227
[Test Output]4
TestCase::Sys::IO->ftruncate at /home/david/cpantesting/perl-5.40.1/.cpan/build/SPVM-Sys-0.532-0/t/lib/SPVM/TestCase/Sys/IO.spvm line 2260
[Test Output]0
TestCase::Sys::IO->ftruncate at /home/david/cpantesting/perl-5.40.1/.cpan/build/SPVM-Sys-0.532-0/t/lib/SPVM/TestCase/Sys/IO.spvm line 2273
[Test Output]Sys::IO::Dirent:d_ino:198255
TestCase::Sys::IO->readdir at /home/david/cpantesting/perl-5.40.1/.cpan/build/SPVM-Sys-0.532-0/t/lib/SPVM/TestCase/Sys/IO.spvm line 2610
[Test Output]Sys::IO::Dirent:d_reclen:40
TestCase::Sys::IO->readdir at /home/david/cpantesting/perl-5.40.1/.cpan/build/SPVM-Sys-0.532-0/t/lib/SPVM/TestCase/Sys/IO.spvm line 2628
[Test Output]Sys::IO::Dirent:d_type:8
TestCase::Sys::IO->readdir at /home/david/cpantesting/perl-5.40.1/.cpan/build/SPVM-Sys-0.532-0/t/lib/SPVM/TestCase/Sys/IO.spvm line 2646
[Test Output]Sys::IO::Dirent:d_off:1023537310736300732
TestCase::Sys::IO->readdir at /home/david/cpantesting/perl-5.40.1/.cpan/build/SPVM-Sys-0.532-0/t/lib/SPVM/TestCase/Sys/IO.spvm line 2662
t/Sys-IO.t ............................... ok
t/Sys-Ioctl.t ............................ ok
t/Sys-OS.t ............................... ok
t/Sys-Poll-PollfdArray.t ................. ok
t/Sys-Poll.t ............................. ok
[Test Output]system at -e line 1.
[Test Output]system at -e line 1.
[Test Output]sleep at t/Sys-Process.t line 150.
[Test Output]usleep at t/Sys-Process.t line 154.
t/Sys-Process.t .......................... ok
t/Sys-Select.t ........................... ok
[Test Output]SIGHUP at t/Sys-Signal.t line 51.
[Test Output]SIGINT at t/Sys-Signal.t line 51.
[Test Output]SIGQUIT at t/Sys-Signal.t line 51.
[Test Output]SIGILL at t/Sys-Signal.t line 51.
[Test Output]SIGTRAP at t/Sys-Signal.t line 51.
[Test Output]SIGABRT at t/Sys-Signal.t line 51.
[Test Output]SIGBUS at t/Sys-Signal.t line 51.
[Test Output]SIGFPE at t/Sys-Signal.t line 51.
[Test Output]SIGKILL at t/Sys-Signal.t line 51.
[Test Output]SIGUSR1 at t/Sys-Signal.t line 51.
[Test Output]SIGSEGV at t/Sys-Signal.t line 51.
[Test Output]SIGUSR2 at t/Sys-Signal.t line 51.
[Test Output]SIGPIPE at t/Sys-Signal.t line 51.
[Test Output]SIGALRM at t/Sys-Signal.t line 51.
[Test Output]SIGTERM at t/Sys-Signal.t line 51.
[Test Output]SIGSTKFLT at t/Sys-Signal.t line 51.
[Test Output]SIGCHLD at t/Sys-Signal.t line 51.
[Test Output]SIGCONT at t/Sys-Signal.t line 51.
[Test Output]SIGSTOP at t/Sys-Signal.t line 51.
[Test Output]SIGTSTP at t/Sys-Signal.t line 51.
[Test Output]SIGTTIN at t/Sys-Signal.t line 51.
[Test Output]SIGTTOU at t/Sys-Signal.t line 51.
[Test Output]SIGURG at t/Sys-Signal.t line 51.
[Test Output]SIGXCPU at t/Sys-Signal.t line 51.
[Test Output]SIGXFSZ at t/Sys-Signal.t line 51.
[Test Output]SIGVTALRM at t/Sys-Signal.t line 51.
[Test Output]SIGPROF at t/Sys-Signal.t line 51.
[Test Output]SIGWINCH at t/Sys-Signal.t line 51.
[Test Output]SIGIO at t/Sys-Signal.t line 51.
[Test Output]SIGPWR at t/Sys-Signal.t line 51.
[Test Output]SIGSYS at t/Sys-Signal.t line 51.
[Test Output]SIGRTMIN at t/Sys-Signal.t line 51.
[Test Output]SIGRTMAX at t/Sys-Signal.t line 51.
t/Sys-Signal.t ........................... ok
t/Sys-Signal_alarm.t ..................... ok
t/Sys-Signal_ualarm.t .................... ok
t/Sys-Socket-Errno.t ..................... ok
"my" variable $start_memory_blocks_count masks earlier declaration in same scope at t/Sys-Socket-ipv6.t line 33.
t/Sys-Socket-ipv6.t ...................... ok
[Test Output]htonl:20000 -> 541982720 -> 20000
TestCase::Sys::Socket->htonl at /home/david/cpantesting/perl-5.40.1/.cpan/build/SPVM-Sys-0.532-0/t/lib/SPVM/TestCase/Sys/Socket.spvm line 27
[Test Output]ntohl:541982720 -> 20000 -> 541982720
TestCase::Sys::Socket->ntohl at /home/david/cpantesting/perl-5.40.1/.cpan/build/SPVM-Sys-0.532-0/t/lib/SPVM/TestCase/Sys/Socket.spvm line 46
[Test Output]htons:20000 -> 8270 -> 20000
TestCase::Sys::Socket->htons at /home/david/cpantesting/perl-5.40.1/.cpan/build/SPVM-Sys-0.532-0/t/lib/SPVM/TestCase/Sys/Socket.spvm line 66
[Test Output]htons:-15536 -> 20675 -> -15536
TestCase::Sys::Socket->htons at /home/david/cpantesting/perl-5.40.1/.cpan/build/SPVM-Sys-0.532-0/t/lib/SPVM/TestCase/Sys/Socket.spvm line 83
[Test Output]ntohs:8270 -> 20000 -> 8270
TestCase::Sys::Socket->ntohs at /home/david/cpantesting/perl-5.40.1/.cpan/build/SPVM-Sys-0.532-0/t/lib/SPVM/TestCase/Sys/Socket.spvm line 104
[Test Output]ntohs:20675 -> -15536 -> 20675
TestCase::Sys::Socket->ntohs at /home/david/cpantesting/perl-5.40.1/.cpan/build/SPVM-Sys-0.532-0/t/lib/SPVM/TestCase/Sys/Socket.spvm line 121
t/Sys-Socket.t ........................... ok
t/Sys-Time-Util.t ........................ ok
1719449736
TestCase::Sys::Time->times at /home/david/cpantesting/perl-5.40.1/.cpan/build/SPVM-Sys-0.532-0/t/lib/SPVM/TestCase/Sys/Time.spvm line 198
35
TestCase::Sys::Time->times at /home/david/cpantesting/perl-5.40.1/.cpan/build/SPVM-Sys-0.532-0/t/lib/SPVM/TestCase/Sys/Time.spvm line 204
7
TestCase::Sys::Time->times at /home/david/cpantesting/perl-5.40.1/.cpan/build/SPVM-Sys-0.532-0/t/lib/SPVM/TestCase/Sys/Time.spvm line 210
0
TestCase::Sys::Time->times at /home/david/cpantesting/perl-5.40.1/.cpan/build/SPVM-Sys-0.532-0/t/lib/SPVM/TestCase/Sys/Time.spvm line 216
0
TestCase::Sys::Time->times at /home/david/cpantesting/perl-5.40.1/.cpan/build/SPVM-Sys-0.532-0/t/lib/SPVM/TestCase/Sys/Time.spvm line 222
t/Sys-Time.t ............................. ok
[Test Output]Sys::User|getgroups|[
24,
25,
27,
29,
30,
44,
46,
109,
1000
] : int[](0x560561346400)
TestCase::Sys::User->getgroups at /home/david/cpantesting/perl-5.40.1/.cpan/build/SPVM-Sys-0.532-0/t/lib/SPVM/TestCase/Sys/User.spvm line 113
t/Sys-User.t ............................. ok
[Test Output]Sys->A:0.00299769
TestCase::Sys->A at /home/david/cpantesting/perl-5.40.1/.cpan/build/SPVM-Sys-0.532-0/t/lib/SPVM/TestCase/Sys.spvm line 21
[Test Output]Sys->C:0.00299769
TestCase::Sys->C at /home/david/cpantesting/perl-5.40.1/.cpan/build/SPVM-Sys-0.532-0/t/lib/SPVM/TestCase/Sys.spvm line 48
[Test Output]Sys->M:464.086
TestCase::Sys->M at /home/david/cpantesting/perl-5.40.1/.cpan/build/SPVM-Sys-0.532-0/t/lib/SPVM/TestCase/Sys.spvm line 75
[Test Output]Sys->O:1
TestCase::Sys->O at /home/david/cpantesting/perl-5.40.1/.cpan/build/SPVM-Sys-0.532-0/t/lib/SPVM/TestCase/Sys.spvm line 102
[Test Output]Sys->S:0
TestCase::Sys->S at /home/david/cpantesting/perl-5.40.1/.cpan/build/SPVM-Sys-0.532-0/t/lib/SPVM/TestCase/Sys.spvm line 164
t/Sys.t .................................. ok
[Test Output]/tmp/db6SAcou4i/file1 /tmp/db6SAcou4i/file2 at t/Sys_symlink.t line 71.
t/Sys_symlink.t .......................... ok
All tests successful.
Files=21, Tests=559, 56 wallclock secs ( 0.16 usr 0.02 sys + 10.38 cusr 1.79 csys = 12.35 CPU)
Result: PASS
------------------------------
PREREQUISITES
------------------------------
Prerequisite modules loaded:
requires:
Module Need Have
-------------------------- -------- --------
SPVM 0.990042 0.990045
SPVM::Errno 0.06 0.093
SPVM::Resource::SocketUtil 1.002 1.003
build_requires:
Module Need Have
-------------------------- -------- --------
ExtUtils::MakeMaker 0 7.70
configure_requires:
Module Need Have
-------------------------- -------- --------
SPVM 0.990042 0.990045
SPVM::Resource::SocketUtil 1.002 1.003
------------------------------
ENVIRONMENT AND OTHER CONTEXT
------------------------------
Environment variables:
AUTOMATED_TESTING = 1
LANG = en_GB.UTF-8
LANGUAGE = en_GB:en
LC_TERMINAL = iTerm2
LC_TERMINAL_VERSION = 3.5.11
NONINTERACTIVE_TESTING = 1
PATH = /home/david/.nvm/versions/node/v22.14.0/bin:/home/david/.cargo/bin:/home/david/perl5/perlbrew/bin:/home/david/perl5/perlbrew/perls/perl-5.30.2/bin:/home/david/bin:/usr/local/bin:/usr/bin:/bin:/usr/local/games:/usr/games
PERL = 5.40.1
PERL5LIB =
PERL5OPT =
PERL5_CPANPLUS_IS_RUNNING = 161953
PERL5_CPAN_IS_RUNNING = 161953
PERLBREW_HOME = /home/david/.perlbrew
PERLBREW_MANPATH = /home/david/perl5/perlbrew/perls/perl-5.30.2/man
PERLBREW_PATH = /home/david/perl5/perlbrew/bin:/home/david/perl5/perlbrew/perls/perl-5.30.2/bin
PERLBREW_PERL = perl-5.30.2
PERLBREW_ROOT = /home/david/perl5/perlbrew
PERLBREW_SHELLRC_VERSION = 0.98
PERLBREW_VERSION = 0.98
PERLVER = 5.40.1
PERL_INLINE_DIRECTORY = /home/david/.Inline-5.40.1
PERL_MM_USE_DEFAULT = 1
PERL_USE_UNSAFE_INC = 0
SHELL = /bin/bash
TERM = screen
Perl special variables (and OS-specific diagnostics, for MSWin32):
$^X = /home/david/cpantesting/perl-5.40.1/bin/perl
$UID/$EUID = 1000 / 1000
$GID = 1000 24 25 27 29 30 44 46 109 1000
$EGID = 1000 24 25 27 29 30 44 46 109 1000
Perl module toolchain versions installed:
Module Have
------------------- --------
CPAN 2.38
CPAN::Meta 2.150010
Cwd 3.91
ExtUtils::CBuilder 0.280236
ExtUtils::Command 7.70
ExtUtils::Install 2.22
ExtUtils::MakeMaker 7.70
ExtUtils::Manifest 1.75
ExtUtils::ParseXS 3.51
File::Spec 3.91
JSON 4.10
JSON::PP 4.16
Module::Build 0.4234
Module::Signature n/a
Parse::CPAN::Meta 2.150010
Test2 1.302209
Test::Harness 3.50
Test::More 1.302209
YAML 1.31
YAML::Syck n/a
version 0.9933
--
Summary of my perl5 (revision 5 version 40 subversion 1) configuration:
Platform:
osname=linux
osvers=6.1.0-11-amd64
archname=x86_64-linux
uname='linux cpantesting-linux 6.1.0-11-amd64 #1 smp preempt_dynamic debian 6.1.38-4 (2023-08-08) x86_64 gnulinux '
config_args='-de -Dprefix=/home/david/cpantesting/perl-5.40.1'
hint=recommended
useposix=true
d_sigaction=define
useithreads=undef
usemultiplicity=undef
use64bitint=define
use64bitall=define
uselongdouble=undef
usemymalloc=n
default_inc_excludes_dot=define
Compiler:
cc='cc'
ccflags ='-fwrapv -fno-strict-aliasing -pipe -fstack-protector-strong -I/usr/local/include -D_LARGEFILE_SOURCE -D_FILE_OFFSET_BITS=64 -D_FORTIFY_SOURCE=2'
optimize='-O2'
cppflags='-fwrapv -fno-strict-aliasing -pipe -fstack-protector-strong -I/usr/local/include'
ccversion=''
gccversion='12.2.0'
gccosandvers=''
intsize=4
longsize=8
ptrsize=8
doublesize=8
byteorder=12345678
doublekind=3
d_longlong=define
longlongsize=8
d_longdbl=define
longdblsize=16
longdblkind=3
ivtype='long'
ivsize=8
nvtype='double'
nvsize=8
Off_t='off_t'
lseeksize=8
alignbytes=8
prototype=define
Linker and Libraries:
ld='cc'
ldflags =' -fstack-protector-strong -L/usr/local/lib'
libpth=/usr/local/lib /usr/lib/x86_64-linux-gnu /usr/lib /usr/lib64
libs=-lpthread -ldl -lm -lcrypt -lutil -lc
perllibs=-lpthread -ldl -lm -lcrypt -lutil -lc
libc=/lib/x86_64-linux-gnu/libc.so.6
so=so
useshrplib=false
libperl=libperl.a
gnulibc_version='2.36'
Dynamic Linking:
dlsrc=dl_dlopen.xs
dlext=so
d_dlsymun=undef
ccdlflags='-Wl,-E'
cccdlflags='-fPIC'
lddlflags='-shared -O2 -L/usr/local/lib -fstack-protector-strong'
Characteristics of this binary (from libperl):
Compile-time options:
HAS_LONG_DOUBLE
HAS_STRTOLD
HAS_TIMES
PERLIO_LAYERS
PERL_COPY_ON_WRITE
PERL_DONT_CREATE_GVSV
PERL_HASH_FUNC_SIPHASH13
PERL_HASH_USE_SBOX32
PERL_MALLOC_WRAP
PERL_OP_PARENT
PERL_PRESERVE_IVUV
PERL_USE_SAFE_PUTENV
USE_64_BIT_ALL
USE_64_BIT_INT
USE_LARGE_FILES
USE_LOCALE
USE_LOCALE_COLLATE
USE_LOCALE_CTYPE
USE_LOCALE_NUMERIC
USE_LOCALE_TIME
USE_PERLIO
USE_PERL_ATOF
Built under linux
Compiled at Mar 8 2025 15:28:56
%ENV:
PERL="5.40.1"
PERL5LIB=""
PERL5OPT=""
PERL5_CPANPLUS_IS_RUNNING="161953"
PERL5_CPAN_IS_RUNNING="161953"
PERLBREW_HOME="/home/david/.perlbrew"
PERLBREW_MANPATH="/home/david/perl5/perlbrew/perls/perl-5.30.2/man"
PERLBREW_PATH="/home/david/perl5/perlbrew/bin:/home/david/perl5/perlbrew/perls/perl-5.30.2/bin"
PERLBREW_PERL="perl-5.30.2"
PERLBREW_ROOT="/home/david/perl5/perlbrew"
PERLBREW_SHELLRC_VERSION="0.98"
PERLBREW_VERSION="0.98"
PERLVER="5.40.1"
PERL_INLINE_DIRECTORY="/home/david/.Inline-5.40.1"
PERL_MM_USE_DEFAULT="1"
PERL_USE_UNSAFE_INC="0"
@INC:
/home/david/cpantesting/perl-5.40.1/lib/site_perl/5.40.1/x86_64-linux
/home/david/cpantesting/perl-5.40.1/lib/site_perl/5.40.1
/home/david/cpantesting/perl-5.40.1/lib/5.40.1/x86_64-linux
/home/david/cpantesting/perl-5.40.1/lib/5.40.1