XML-RSS-Feed v2.4 Perl 5 v5.29.8 x86_64-linux-thread-multi
- Status
- Pass
- From
- Andreas J. König (ANDK)
- Dist
-
XML-RSS-Feed v2.4
- Platform
- Perl 5 v5.29.8 x86_64-linux-thread-multi
- Date
- 2019-01-23 16:33:35
- ID
- a0ee9810-1f2c-11e9-a51f-a036e6f744c1
This distribution has been tested as part of the CPAN Testers
project, supporting the Perl programming language. See
http://wiki.cpantesters.org/ for more information or email
questions to cpan-testers-discuss@perl.org
--
Dear Jeff Bisbee,
This is a computer-generated report for XML-RSS-Feed-2.4
on perl 5.29.8, created by CPAN-Reporter-1.2018.
Thank you for uploading your work to CPAN. Congratulations!
All tests were successful.
Sections of this report:
* Tester comments
* Program output
* Prerequisites
* Environment and other context
------------------------------
TESTER COMMENTS
------------------------------
Additional comments from tester:
this report is from an automated smoke testing program
and was not reviewed by a human for accuracy
------------------------------
PROGRAM OUTPUT
------------------------------
Output from '/usr/bin/make test':
PERL_DL_NONLAZY=1 "/tmp/basesmoker-reloperl-2kc5/bin/perl" "-MExtUtils::Command::MM" "-MTest::Harness" "-e" "undef *Test::Harness::Switches; test_harness(0, 'blib/lib', 'blib/arch')" t/*.t
t/001_load.t .................... ok
t/002_parse.t ................... ok
Argument "This is a test 1" isn't numeric in preincrement (++) at t/003_process.t line 28.
Argument "http://www.jbisbee.com/test/url/1" isn't numeric in preincrement (++) at t/003_process.t line 28.
Argument "Description number 1" isn't numeric in preincrement (++) at t/003_process.t line 28.
t/003_process.t ................. ok
Argument "This is a test 1" isn't numeric in preincrement (++) at t/004_process_items.t line 27.
Argument "http://www.jbisbee.com/test/url/1" isn't numeric in preincrement (++) at t/004_process_items.t line 27.
Argument "Description number 1" isn't numeric in preincrement (++) at t/004_process_items.t line 27.
t/004_process_items.t ........... ok
Argument "This is a test 1" isn't numeric in preincrement (++) at t/005_create_headline.t line 57.
Argument "http://www.jbisbee.com/test/url/1" isn't numeric in preincrement (++) at t/005_create_headline.t line 57.
t/005_create_headline.t ......... ok
Argument "This is a test 1" isn't numeric in preincrement (++) at t/006_first_seen.t line 18.
Argument "http://www.jbisbee.com/test/url/1" isn't numeric in preincrement (++) at t/006_first_seen.t line 18.
t/006_first_seen.t .............. ok
t/007_fetch_feed.t .............. ok
t/008_store_retrieve.t .......... ok
Argument "This is a test 1" isn't numeric in preincrement (++) at t/009_max_headlines.t line 26.
Argument "http://www.jbisbee.com/test/url/1" isn't numeric in preincrement (++) at t/009_max_headlines.t line 26.
t/009_max_headlines.t ........... ok
t/010_deprecated_methods.t ...... ok
t/011_pod.t ..................... ok
t/012_pod_coverage.t ............ ok
t/013_legacy.t .................. ok
t/014_last_updated.t ............ ok
t/015_feed_exceptions.t ......... ok
t/016_title_from_description.t .. ok
t/017_perljobs.t ................ ok
t/018_debug.t ................... ok
t/019_fark.t .................... ok
t/020_useperljournals.t ......... ok
All tests successful.
Files=20, Tests=566, 6 wallclock secs ( 0.09 usr 0.12 sys + 4.69 cusr 1.06 csys = 5.96 CPU)
Result: PASS
------------------------------
PREREQUISITES
------------------------------
Prerequisite modules loaded:
requires:
Module Need Have
------------------- ---- --------
Carp 0 1.50
Clone 0 0.41
Digest::MD5 0 2.55
Encode 0 2.99
HTML::Entities 0 3.69
Storable 0 3.14
Test::More 0 1.302160
Time::HiRes 0 1.9760
URI 0 1.76
URI::Escape 0 3.31
XML::RSS 0 1.60
build_requires:
Module Need Have
------------------- ---- --------
ExtUtils::MakeMaker 0 7.34
configure_requires:
Module Need Have
------------------- ---- --------
ExtUtils::MakeMaker 0 7.34
------------------------------
ENVIRONMENT AND OTHER CONTEXT
------------------------------
Environment variables:
AUTOMATED_TESTING = 1
LANG = en_US.UTF-8
PATH = /home/sand/bin:/usr/local/bin:/usr/local/sbin:/usr/sbin:/usr/bin:/sbin:/bin:/usr/games:/usr/local/games:/usr/local/perl/bin:/usr/X11/bin
PERL5LIB = /tmp/loop_over_bdir-13238-mYMnC7/Imager-1.009-0/blib/arch:/tmp/loop_over_bdir-13238-mYMnC7/Imager-1.009-0/blib/lib:/tmp/loop_over_bdir-13238-mYMnC7/XML-DOM-1.46-0/blib/arch:/tmp/loop_over_bdir-13238-mYMnC7/XML-DOM-1.46-0/blib/lib:/tmp/loop_over_bdir-13238-mYMnC7/XMLRPC-Lite-0.717-0/blib/arch:/tmp/loop_over_bdir-13238-mYMnC7/XMLRPC-Lite-0.717-0/blib/lib
PERL5OPT =
PERL5_CPANPLUS_IS_RUNNING = 10660
PERL5_CPAN_IS_RUNNING = 10660
PERL_CANARY_STABILITY_NOPROMPT = 1
PERL_MM_USE_DEFAULT = 1
PERL_USE_UNSAFE_INC = 1
SHELL = /usr/bin/zsh
TERM = screen
Perl special variables (and OS-specific diagnostics, for MSWin32):
$^X = /tmp/basesmoker-reloperl-2kc5/bin/perl
$UID/$EUID = 1005 / 1005
$GID = 1005 1005
$EGID = 1005 1005
Perl module toolchain versions installed:
Module Have
------------------- --------
CPAN 2.22
CPAN::Meta 2.150010
Cwd 3.77
ExtUtils::CBuilder 0.280230
ExtUtils::Command 7.34
ExtUtils::Install 2.14
ExtUtils::MakeMaker 7.34
ExtUtils::Manifest 1.71
ExtUtils::ParseXS 3.40
File::Spec 3.77
JSON 4.01
JSON::PP 4.00
Module::Build 0.4224
Module::Signature 0.83
Parse::CPAN::Meta 2.150010
Test::Harness 3.42
Test::More 1.302160
YAML 1.27
YAML::Syck 1.31
version 0.9924
--
Summary of my perl5 (revision 5 version 29 subversion 8) configuration:
Commit id: ca152fd8207cf53816b1407d5f54f6ea160a3ef8
Platform:
osname=linux
osvers=4.15.0-43-generic
archname=x86_64-linux-thread-multi
uname='linux k93bionic 4.15.0-43-generic #46-ubuntu smp thu dec 6 14:45:28 utc 2018 x86_64 x86_64 x86_64 gnulinux '
config_args='-Dprefix=/home/sand/src/perl/repoperls/installed-perls/host/k93bionic/v5.29.7-18-gca152fd820/7ee9 -Dmyhostname=k93bionic -Dinstallusrbinperl=n -Uversiononly -Dusedevel -des -Ui_db -Dlibswanted=cl pthread socket inet nsl gdbm dbm malloc dl ld sun m crypt sec util c cposix posix ucb BSD gdbm_compat -Duseithreads -Uuselongdouble -DEBUGGING=-g'
hint=recommended
useposix=true
d_sigaction=define
useithreads=define
usemultiplicity=define
use64bitint=define
use64bitall=define
uselongdouble=undef
usemymalloc=n
default_inc_excludes_dot=define
bincompat5005=undef
Compiler:
cc='cc'
ccflags ='-D_REENTRANT -D_GNU_SOURCE -fwrapv -fno-strict-aliasing -pipe -fstack-protector-strong -I/usr/local/include -D_LARGEFILE_SOURCE -D_FILE_OFFSET_BITS=64'
optimize='-O2 -g'
cppflags='-D_REENTRANT -D_GNU_SOURCE -fwrapv -fno-strict-aliasing -pipe -fstack-protector-strong -I/usr/local/include'
ccversion=''
gccversion='7.3.0'
gccosandvers=''
intsize=4
longsize=8
ptrsize=8
doublesize=8
byteorder=12345678
doublekind=3
d_longlong=define
longlongsize=8
d_longdbl=define
longdblsize=16
longdblkind=3
ivtype='long'
ivsize=8
nvtype='double'
nvsize=8
Off_t='off_t'
lseeksize=8
alignbytes=8
prototype=define
Linker and Libraries:
ld='cc'
ldflags =' -fstack-protector-strong -L/usr/local/lib'
libpth=/usr/local/lib /usr/lib/gcc/x86_64-linux-gnu/7/include-fixed /usr/include/x86_64-linux-gnu /usr/lib /lib/x86_64-linux-gnu /lib/../lib /usr/lib/x86_64-linux-gnu /usr/lib/../lib /lib
libs=-lpthread -lnsl -ldl -lm -lcrypt -lutil -lc
perllibs=-lpthread -lnsl -ldl -lm -lcrypt -lutil -lc
libc=libc-2.27.so
so=so
useshrplib=false
libperl=libperl.a
gnulibc_version='2.27'
Dynamic Linking:
dlsrc=dl_dlopen.xs
dlext=so
d_dlsymun=undef
ccdlflags='-Wl,-E'
cccdlflags='-fPIC'
lddlflags='-shared -O2 -g -L/usr/local/lib -fstack-protector-strong'
Characteristics of this binary (from libperl):
Compile-time options:
HAS_TIMES
MULTIPLICITY
PERLIO_LAYERS
PERL_COPY_ON_WRITE
PERL_DONT_CREATE_GVSV
PERL_IMPLICIT_CONTEXT
PERL_MALLOC_WRAP
PERL_OP_PARENT
PERL_PRESERVE_IVUV
PERL_USE_DEVEL
USE_64_BIT_ALL
USE_64_BIT_INT
USE_ITHREADS
USE_LARGE_FILES
USE_LOCALE
USE_LOCALE_COLLATE
USE_LOCALE_CTYPE
USE_LOCALE_NUMERIC
USE_LOCALE_TIME
USE_PERLIO
USE_PERL_ATOF
USE_REENTRANT_API
USE_THREAD_SAFE_LOCALE
Built under linux
Compiled at Jan 22 2019 20:32:23
%ENV:
PERL5LIB="/tmp/loop_over_bdir-13238-mYMnC7/Imager-1.009-0/blib/arch:/tmp/loop_over_bdir-13238-mYMnC7/Imager-1.009-0/blib/lib:/tmp/loop_over_bdir-13238-mYMnC7/XML-DOM-1.46-0/blib/arch:/tmp/loop_over_bdir-13238-mYMnC7/XML-DOM-1.46-0/blib/lib:/tmp/loop_over_bdir-13238-mYMnC7/XMLRPC-Lite-0.717-0/blib/arch:/tmp/loop_over_bdir-13238-mYMnC7/XMLRPC-Lite-0.717-0/blib/lib"
PERL5OPT=""
PERL5_CPANPLUS_IS_RUNNING="10660"
PERL5_CPAN_IS_RUNNING="10660"
PERL_CANARY_STABILITY_NOPROMPT="1"
PERL_MM_USE_DEFAULT="1"
PERL_USE_UNSAFE_INC="1"
@INC:
/tmp/loop_over_bdir-13238-mYMnC7/Imager-1.009-0/blib/arch
/tmp/loop_over_bdir-13238-mYMnC7/Imager-1.009-0/blib/lib
/tmp/loop_over_bdir-13238-mYMnC7/XML-DOM-1.46-0/blib/arch
/tmp/loop_over_bdir-13238-mYMnC7/XML-DOM-1.46-0/blib/lib
/tmp/loop_over_bdir-13238-mYMnC7/XMLRPC-Lite-0.717-0/blib/arch
/tmp/loop_over_bdir-13238-mYMnC7/XMLRPC-Lite-0.717-0/blib/lib
/home/sand/src/perl/repoperls/installed-perls/host/k93bionic/v5.29.7-18-gca152fd820/7ee9/lib/site_perl/5.29.8/x86_64-linux-thread-multi
/home/sand/src/perl/repoperls/installed-perls/host/k93bionic/v5.29.7-18-gca152fd820/7ee9/lib/site_perl/5.29.8
/home/sand/src/perl/repoperls/installed-perls/host/k93bionic/v5.29.7-18-gca152fd820/7ee9/lib/5.29.8/x86_64-linux-thread-multi
/home/sand/src/perl/repoperls/installed-perls/host/k93bionic/v5.29.7-18-gca152fd820/7ee9/lib/5.29.8
.