Report for Hash-AutoHash-1.17

Back
From: metabase:user:838e5b0a-2bb6-1016-a696-43a2537fa0c6
Subject: PASS Hash-AutoHash-1.17 v5.16.2 
Date: 2013-10-07T16:56:53Z

This distribution has been tested as part of the CPAN Testers
project, supporting the Perl programming language.  See
http://wiki.cpantesters.org/ for more information or email
questions to cpan-testers-discuss@perl.org


--
Dear Nathan Goodman,

This is a computer-generated report for Hash-AutoHash-1.17
on perl 5.16.2, created by CPAN-Reporter-1.2010.

Thank you for uploading your work to CPAN.  Congratulations!
All tests were successful.

Sections of this report:

    * Tester comments
    * Program output
    * Prerequisites
    * Environment and other context

------------------------------
TESTER COMMENTS
------------------------------

Additional comments from tester:

this report is from an automated smoke testing program
and was not reviewed by a human for accuracy

------------------------------
PROGRAM OUTPUT
------------------------------

Output from 'C:\Users\solimanod\Desktop\strawberry-perl-5.16.2.1-64bit-portable\perl\bin\perl.exe ./Build test':

# Testing Hash::AutoHash 1.17, Perl 5.016002, C:\Users\solimanod\Desktop\strawberry-perl-5.16.2.1-64bit-portable\perl\bin\perl.exe
t\autohash.000.code_exists.t .... ok
t\autohash.001.boilerplate.t .... ok
t\autohash.002.pod.t ............ ok
t\autohash.010.cons_funcs.t ..... ok
t\autohash.011.new_func.t ....... ok
t\autohash.012.new_method.t ..... ok
t\autohash.013.ashash.t ......... ok
t\autohash.013.exthash.t ........ ok
t\autohash.013.extobj.t ......... ok
t\autohash.019.export_ok.t ...... ok
t\autohash.020.class_methods.t .. ok
t\autohash.020.special_keys.t ... ok
t\autohash.020.universal.t ...... ok
t\autohash.030.alias.t .......... ok
t\autohash.030.clear.t .......... ok
t\autohash.030.count_etc.t ...... ok
t\autohash.030.delete.t ......... ok
t\autohash.030.each.t ........... ok
t\autohash.030.exists.t ......... ok
t\autohash.030.get.t ............ ok
t\autohash.030.keys.t ........... ok
t\autohash.030.set.t ............ ok
t\autohash.030.tied.t ........... ok
t\autohash.030.values.t ......... ok
t\autohash.031.delete_exists.t .. ok
t\autohash.031.delete_keys.t .... ok
t\autohash.031.delete_values.t .. ok
t\autohash.040.destroy.t ........ ok
t\autohash.050.child.t .......... ok
t\autohash.050.grandchild.t ..... ok
t\autohash.055.typicalchild.t ... ok
t\autohash.099.docs.t ........... ok
All tests successful.
Files=32, Tests=2813, 15 wallclock secs ( 0.31 usr +  0.13 sys =  0.44 CPU)
Result: PASS

------------------------------
PREREQUISITES
------------------------------

Prerequisite modules loaded:

requires:

    Module                Need   Have    
    --------------------- ------ --------
    Carp                  1.2    1.32    
    Cwd                   3.4    3.40    
    Exporter              5.68   5.68    
    List::MoreUtils       0.33   0.33    
    List::Util            1.32   1.32    
    perl                  v5.8.3 5.016002
    Tie::Hash             1.04   1.04    
    Tie::ToObject         0.03   0.03    
    XSLoader              0.15   0.16    

build_requires:

    Module                Need   Have    
    --------------------- ------ --------
    Carp                  1.2    1.32    
    Exporter              5.68   5.68    
    File::Spec            3.4    3.40    
    List::MoreUtils       0.33   0.33    
    Module::Build         0.4007 0.4007  
    Scalar::Util          1.23   1.32    
    Storable              2.3    2.45    
    Test::Deep            0.11   0.110   
    Test::More            0.98   0.98    
    Test::Pod             1.48   1.48    
    Test::Pod::Content    v0.0.6 0.0.6   
    Tie::Hash             1.04   1.04    
    Tie::Hash::MultiValue 1.02   1.02    

configure_requires:

    Module                Need   Have    
    --------------------- ------ --------
    Module::Build         0.4007 0.4007  


------------------------------
ENVIRONMENT AND OTHER CONTEXT
------------------------------

Environment variables:

    AUTOMATED_TESTING = 1
    COMSPEC = C:\Windows\system32\cmd.exe
    LD_LIBRARY_PATH = /usr/lib/x86:/usr/X11R6/lib
    NUMBER_OF_PROCESSORS = 8
    PATH = C:\Users\solimanod\Desktop\strawberry-perl-5.16.2.1-64bit-portable\perl\site\bin;C:\Users\solimanod\Desktop\strawberry-perl-5.16.2.1-64bit-portable\perl\bin;C:\Users\solimanod\Desktop\strawberry-perl-5.16.2.1-64bit-portable\c\bin;C:\Windows\system32;C:\Windows;C:\Windows\System32\Wbem;C:\Windows\System32\WindowsPowerShell\v1.0\;C:\Program Files (x86)\Dell\SysMgt\RAC5;C:\Program Files (x86)\Dell\SysMgt\oma\bin;C:\RV\BIN;C:\strawberry\c\bin;C:\strawberry\perl\site\bin;C:\strawberry\perl\bin;C:\Program Files (x86)\GnuWin32\bin;C:\Windows\System32\Windows System Resource Manager\bin;C:\Windows\SUA\common\;C:\Windows\SUA\usr\lib\
    PERL5LIB = C:\Users\solimanod\Desktop\strawberry-perl-5.16.2.1-64bit-portable\cpan\build\Tie-Hash-MultiValue-1.02-lKRpUT/blib/arch;C:\Users\solimanod\Desktop\strawberry-perl-5.16.2.1-64bit-portable\cpan\build\Tie-Hash-MultiValue-1.02-lKRpUT/blib/lib;C:\Users\solimanod\Desktop\strawberry-perl-5.16.2.1-64bit-portable\cpan\build\Test-Pod-Content-v0.0.6-YxMbrO/blib/arch;C:\Users\solimanod\Desktop\strawberry-perl-5.16.2.1-64bit-portable\cpan\build\Test-Pod-Content-v0.0.6-YxMbrO/blib/lib;C:\Users\solimanod\Desktop\strawberry-perl-5.16.2.1-64bit-portable\cpan\build\Tie-ToObject-0.03-_puppE/blib/arch;C:\Users\solimanod\Desktop\strawberry-perl-5.16.2.1-64bit-portable\cpan\build\Tie-ToObject-0.03-_puppE/blib/lib
    PERL5OPT = 
    PERL5_CPANPLUS_IS_RUNNING = 8564
    PERL5_CPAN_IS_RUNNING = 8564
    PERL5_CPAN_IS_RUNNING_IN_RECURSION = 9724,8564
    PERL_CR_SMOKER_CURRENT = Hash-AutoHash-1.17
    PERL_EXTUTILS_AUTOINSTALL = --defaultdeps
    PERL_MM_USE_DEFAULT = 1
    PROCESSOR_IDENTIFIER = Intel64 Family 6 Model 23 Stepping 10, GenuineIntel
    TEMP = C:\Users\SOLIMA~1\AppData\Local\Temp\2
    TERM = dumb

Perl special variables (and OS-specific diagnostics, for MSWin32):

    $^X = C:\Users\solimanod\Desktop\strawberry-perl-5.16.2.1-64bit-portable\perl\bin\perl.exe
    $UID/$EUID = 0 / 0
    $GID = 0
    $EGID = 0
    Win32::GetOSName = Win2008
    Win32::GetOSVersion = , 6, 1, 7600, 2, 0, 0, 272, 3
    Win32::FsType = NTFS
    Win32::IsAdminUser = 0

Perl module toolchain versions installed:

    Module              Have    
    ------------------- --------
    CPAN                2.00    
    CPAN::Meta          2.132661
    Cwd                 3.40    
    ExtUtils::CBuilder  0.280212
    ExtUtils::Command   1.18    
    ExtUtils::Install   1.58    
    ExtUtils::MakeMaker 6.78    
    ExtUtils::Manifest  1.63    
    ExtUtils::ParseXS   3.22    
    File::Spec          3.40    
    JSON                2.59    
    JSON::PP            2.27202 
    Module::Build       0.4007  
    Module::Signature   n/a     
    Parse::CPAN::Meta   1.4409  
    Test::Harness       3.28    
    Test::More          0.98    
    YAML                0.84    
    YAML::Syck          1.21    
    version             0.9901  


--

Summary of my perl5 (revision 5 version 16 subversion 2) configuration:
   
  Platform:
    osname=MSWin32, osvers=4.0, archname=MSWin32-x64-multi-thread
    uname='Win32 strawberry-perl 5.16.2.1 #1 Fri Nov  2 03:03:35 2012 x64'
    config_args='undef'
    hint=recommended, useposix=true, d_sigaction=undef
    useithreads=define, usemultiplicity=define
    useperlio=define, d_sfio=undef, uselargefiles=define, usesocks=undef
    use64bitint=define, use64bitall=undef, uselongdouble=undef
    usemymalloc=n, bincompat5005=undef
  Compiler:
    cc='gcc', ccflags =' -s -O2 -DWIN32 -DWIN64 -DCONSERVATIVE  -DPERL_TEXTMODE_SCRIPTS -DPERL_IMPLICIT_CONTEXT -DPERL_IMPLICIT_SYS -fno-strict-aliasing -mms-bitfields',
    optimize='-s -O2',
    cppflags='-DWIN32'
    ccversion='', gccversion='4.6.3', gccosandvers=''
    intsize=4, longsize=4, ptrsize=8, doublesize=8, byteorder=12345678
    d_longlong=define, longlongsize=8, d_longdbl=define, longdblsize=12
    ivtype='long long', ivsize=8, nvtype='double', nvsize=8, Off_t='long long', lseeksize=8
    alignbytes=8, prototype=define
  Linker and Libraries:
    ld='g++.exe', ldflags ='-s -L"C:\Users\solimanod\Desktop\strawberry-perl-5.16.2.1-64bit-portable\perl\lib\CORE" -L"C:\Users\solimanod\Desktop\strawberry-perl-5.16.2.1-64bit-portable\c\lib"'
    libpth=C:\Users\solimanod\Desktop\strawberry-perl-5.16.2.1-64bit-portable\c\lib C:\Users\solimanod\Desktop\strawberry-perl-5.16.2.1-64bit-portable\c\x86_64-w64-mingw32\lib
    libs=-lmoldname -lkernel32 -luser32 -lgdi32 -lwinspool -lcomdlg32 -ladvapi32 -lshell32 -lole32 -loleaut32 -lnetapi32 -luuid -lws2_32 -lmpr -lwinmm -lversion -lodbc32 -lodbccp32 -lcomctl32
    perllibs=-lmoldname -lkernel32 -luser32 -lgdi32 -lwinspool -lcomdlg32 -ladvapi32 -lshell32 -lole32 -loleaut32 -lnetapi32 -luuid -lws2_32 -lmpr -lwinmm -lversion -lodbc32 -lodbccp32 -lcomctl32
    libc=, so=dll, useshrplib=true, libperl=libperl516.a
    gnulibc_version=''
  Dynamic Linking:
    dlsrc=dl_win32.xs, dlext=dll, d_dlsymun=undef, ccdlflags=' '
    cccdlflags=' ', lddlflags='-mdll -s -L"C:\Users\solimanod\Desktop\strawberry-perl-5.16.2.1-64bit-portable\perl\lib\CORE" -L"C:\Users\solimanod\Desktop\strawberry-perl-5.16.2.1-64bit-portable\c\lib"'


Characteristics of this binary (from libperl): 
  Compile-time options: HAS_TIMES HAVE_INTERP_INTERN MULTIPLICITY
                        PERLIO_LAYERS PERL_DONT_CREATE_GVSV
                        PERL_IMPLICIT_CONTEXT PERL_IMPLICIT_SYS
                        PERL_MALLOC_WRAP PERL_PRESERVE_IVUV PL_OP_SLAB_ALLOC
                        USE_64_BIT_INT USE_ITHREADS USE_LARGE_FILES
                        USE_LOCALE USE_LOCALE_COLLATE USE_LOCALE_CTYPE
                        USE_LOCALE_NUMERIC USE_PERLIO USE_PERL_ATOF
  Built under MSWin32
  Compiled at Nov  2 2012 03:12:17
  %ENV:
    PERL5LIB="C:\Users\solimanod\Desktop\strawberry-perl-5.16.2.1-64bit-portable\cpan\build\Tie-Hash-MultiValue-1.02-lKRpUT/blib/arch;C:\Users\solimanod\Desktop\strawberry-perl-5.16.2.1-64bit-portable\cpan\build\Tie-Hash-MultiValue-1.02-lKRpUT/blib/lib;C:\Users\solimanod\Desktop\strawberry-perl-5.16.2.1-64bit-portable\cpan\build\Test-Pod-Content-v0.0.6-YxMbrO/blib/arch;C:\Users\solimanod\Desktop\strawberry-perl-5.16.2.1-64bit-portable\cpan\build\Test-Pod-Content-v0.0.6-YxMbrO/blib/lib;C:\Users\solimanod\Desktop\strawberry-perl-5.16.2.1-64bit-portable\cpan\build\Tie-ToObject-0.03-_puppE/blib/arch;C:\Users\solimanod\Desktop\strawberry-perl-5.16.2.1-64bit-portable\cpan\build\Tie-ToObject-0.03-_puppE/blib/lib"
    PERL5_CPANPLUS_IS_RUNNING="8564"
    PERL5_CPAN_IS_RUNNING="8564"
    PERL5_CPAN_IS_RUNNING_IN_RECURSION="9724,8564"
    PERL_CR_SMOKER_CURRENT="Hash-AutoHash-1.17"
    PERL_EXTUTILS_AUTOINSTALL="--defaultdeps"
    PERL_MM_USE_DEFAULT="1"
  @INC:
    C:\Users\solimanod\Desktop\strawberry-perl-5.16.2.1-64bit-portable\cpan\build\Tie-Hash-MultiValue-1.02-lKRpUT/blib/arch
    C:\Users\solimanod\Desktop\strawberry-perl-5.16.2.1-64bit-portable\cpan\build\Tie-Hash-MultiValue-1.02-lKRpUT/blib/lib
    C:\Users\solimanod\Desktop\strawberry-perl-5.16.2.1-64bit-portable\cpan\build\Test-Pod-Content-v0.0.6-YxMbrO/blib/arch
    C:\Users\solimanod\Desktop\strawberry-perl-5.16.2.1-64bit-portable\cpan\build\Test-Pod-Content-v0.0.6-YxMbrO/blib/lib
    C:\Users\solimanod\Desktop\strawberry-perl-5.16.2.1-64bit-portable\cpan\build\Tie-ToObject-0.03-_puppE/blib/arch
    C:\Users\solimanod\Desktop\strawberry-perl-5.16.2.1-64bit-portable\cpan\build\Tie-ToObject-0.03-_puppE/blib/lib
    C:/Users/solimanod/Desktop/strawberry-perl-5.16.2.1-64bit-portable/perl/site/lib
    C:/Users/solimanod/Desktop/strawberry-perl-5.16.2.1-64bit-portable/perl/vendor/lib
    C:/Users/solimanod/Desktop/strawberry-perl-5.16.2.1-64bit-portable/perl/lib
    .