CatalystX-SimpleLogin v0.21 Perl 5 v5.41.5 x86_64-linux

Status
Pass
From
John SJ Anderson
Dist
CatalystX-SimpleLogin v0.21
Platform
Perl 5 v5.41.5 x86_64-linux
Date
2024-10-21 00:15:50
ID
a0d4fbe0-8f41-11ef-a2a2-bf534db929d4
This distribution has been tested as part of the CPAN Testers
project, supporting the Perl programming language.  See
http://wiki.cpantesters.org/ for more information or email
questions to cpan-testers-discuss@perl.org


--
Dear ABRAXXA,

This is a computer-generated report for CatalystX-SimpleLogin-0.21
on perl 5.41.5, created by App::cpanminus::reporter 0.22 (1.7047).

Thank you for uploading your work to CPAN.  Congratulations!
All tests were successful.

Sections of this report:

    * Tester comments
    * Program output
    * Prerequisites
    * Environment and other context

------------------------------
TESTER COMMENTS
------------------------------

Additional comments from tester:

none provided

------------------------------
PROGRAM OUTPUT
------------------------------

Output from '':

Building and testing CatalystX-SimpleLogin-0.21
cp lib/CatalystX/SimpleLogin/TraitFor/Controller/Login/WithRedirect.pm blib/lib/CatalystX/SimpleLogin/TraitFor/Controller/Login/WithRedirect.pm
cp lib/Catalyst/ActionRole/NeedsLogin.pm blib/lib/Catalyst/ActionRole/NeedsLogin.pm
cp lib/CatalystX/SimpleLogin/Form/LoginOpenID.pm blib/lib/CatalystX/SimpleLogin/Form/LoginOpenID.pm
cp lib/CatalystX/SimpleLogin/TraitFor/Controller/Login/Logout.pm blib/lib/CatalystX/SimpleLogin/TraitFor/Controller/Login/Logout.pm
cp lib/CatalystX/SimpleLogin/TraitFor/Controller/Login/OpenID.pm blib/lib/CatalystX/SimpleLogin/TraitFor/Controller/Login/OpenID.pm
cp lib/CatalystX/SimpleLogin.pm blib/lib/CatalystX/SimpleLogin.pm
cp lib/CatalystX/SimpleLogin/Controller/Login.pm blib/lib/CatalystX/SimpleLogin/Controller/Login.pm
cp lib/CatalystX/SimpleLogin/Form/Login.pm blib/lib/CatalystX/SimpleLogin/Form/Login.pm
cp lib/CatalystX/SimpleLogin/TraitFor/Controller/Login/RenderAsTTTemplate.pm blib/lib/CatalystX/SimpleLogin/TraitFor/Controller/Login/RenderAsTTTemplate.pm
cp lib/CatalystX/SimpleLogin/Manual.pod blib/lib/CatalystX/SimpleLogin/Manual.pod
Manifying 10 pod documents
PERL_DL_NONLAZY=1 "/opt/plenv/versions/5.41.5/bin/perl5.41.5" "-MExtUtils::Command::MM" "-MTest::Harness" "-e" "undef *Test::Harness::Switches; test_harness(0, 'inc', 'blib/lib', 'blib/arch')" t/*.t
t/00-load.t ........................... ok
[warn] Attempted to use view 'TestApp::View::HTML', but does not exist
t/01-live-test.t ...................... ok
[warn] Attempted to use view 'TestAppRedirect::View::HTML', but does not exist
t/02-redirect-test.t .................. ok
t/03-login-form.t ..................... ok
[warn] Attempted to use view 'TestAppRedirect::View::HTML', but does not exist
t/04-test-role-apply-order.t .......... ok
[warn] Attempted to use view 'TestAppRedirect::View::HTML', but does not exist
t/05-login-redirect-custom-message.t .. ok
[warn] Attempted to use view 'TestAppRenderTT::View::HTML', but does not exist
t/06-rendertt.t ....................... ok
t/07-openid-live.t .................... skipped: OpenID dependencies not installed
t/08-dbic-mappedfields.t .............. skipped: Test needs JSON::Any >= 1.23, MooseX::Types::JSON >= 0.02, MooseX::Types::Path::Class >= 0.05 (see DBIx::Class::Optional::Dependencies for details)
[warn] Attempted to use view 'TestAppClearSession::View::HTML', but does not exist
t/09-clearsession.t ................... ok
[warn] Attempted to use view 'TestAppFormArgs::View::HTML', but does not exist
t/10-form-args.t ...................... ok
[warn] Attempted to use view 'TestApp::View::HTML', but does not exist
t/chained_parts.t ..................... ok
All tests successful.
Files=12, Tests=100,  9 wallclock secs ( 0.03 usr  0.01 sys +  8.91 cusr  0.48 csys =  9.43 CPU)
Result: PASS

------------------------------
PREREQUISITES
------------------------------

Prerequisite modules loaded:

runtime:

    Module                                   Need    Have    
    ---------------------------------------- ------- --------
    Catalyst::Action::RenderView             0       0.17    
    Catalyst::Action::REST                   0.74    1.21    
    Catalyst::ActionRole::ACL                0       0.07    
    Catalyst::Plugin::Authentication         0       0.10024 
    Catalyst::Plugin::Session                0.35    0.43    
    Catalyst::Plugin::Session::State::Cookie 0       0.18    
    Catalyst::Runtime                        5.80013 5.90131 
    Catalyst::View::TT                       0       0.46    
    CatalystX::Component::Traits             0.13    0.19    
    CatalystX::InjectComponent               0       0.025   
    Class::Load                              0.20    0.25    
    File::Temp                               0       0.2311  
    HTML::FormHandler                        0.28001 0.40068 
    HTTP::Request::Common                    0       7.00    
    Moose                                    0       2.2207  
    MooseX::MethodAttributes                 0.18    0.32    
    MooseX::RelatedClassRoles                0.004   0.004   
    MooseX::Types                            0       0.50    
    MooseX::Types::Common                    0       0.001014
    namespace::autoclean                     0       0.31    
    SQL::Translator                          0       1.65    
    Test::Exception                          0       0.43    
    Test::More                               0.94    1.302204
    Try::Tiny                                0.24    0.32    

build:

    Module                                   Need    Have    
    ---------------------------------------- ------- --------
    Catalyst::Action::RenderView             0       0.17    
    Catalyst::ActionRole::ACL                0       0.07    
    Catalyst::Plugin::Session::State::Cookie 0       0.18    
    CatalystX::InjectComponent               0       0.025   
    Class::Load                              0.20    0.25    
    ExtUtils::MakeMaker                      6.36    7.70    
    File::Temp                               0       0.2311  
    HTTP::Request::Common                    0       7.00    
    SQL::Translator                          0       1.65    
    Test::Exception                          0       0.43    
    Test::More                               0.94    1.302204

configure:

    Module                                   Need    Have    
    ---------------------------------------- ------- --------
    ExtUtils::MakeMaker                      0       7.70    


------------------------------
ENVIRONMENT AND OTHER CONTEXT
------------------------------

Environment variables:

    LANG = en_US.UTF-8
    LC_ALL = en_US.UTF-8
    PATH = /opt/plenv/versions/5.41.5/bin:/opt/plenv/libexec:/opt/plenv/plugins/Perl-Build/bin:/opt/rbenv/shims:/home/genehack/src/git-subrepo/lib:/opt/rbenv/shims:/home/genehack/src/git-subrepo/lib:/opt/nextstrain:/home/genehack/bin:/opt/miniconda3/bin:/opt/miniconda3/condabin:/opt/plenv/shims:/opt/plenv/bin:/opt/git/bin:/opt/emacs/bin:/opt/local/bin:/usr/local/bin:/usr/bin:/bin:/usr/local/games:/usr/games:/opt/rust/cargo/bin:/opt/rbenv/bin
    PERL_CPANM_OPT = --skip-installed --prompt
    SHELL = /usr/bin/zsh
    TERM = screen-256color

Perl special variables (and OS-specific diagnostics, for MSWin32):

    EGID = 1000 24 25 27 29 30 44 46 100 106 1000
    EUID = 1027
    EXECUTABLE_NAME = /opt/plenv/versions/5.41.5/bin/perl5.41.5
    GID = 1000 24 25 27 29 30 44 46 100 106 1000
    UID = 1027

Perl module toolchain versions installed:

    Module              Have    
    ------------------- --------
    CPAN                2.37    
    CPAN::Meta          2.150010
    Cwd                 3.92    
    ExtUtils::CBuilder  0.280240
    ExtUtils::Command   7.70    
    ExtUtils::Install   2.22    
    ExtUtils::MakeMaker 7.70    
    ExtUtils::Manifest  1.75    
    ExtUtils::ParseXS   3.55    
    File::Spec          3.93    
    JSON                4.10    
    JSON::PP            4.16    
    Module::Build       0.4234  
    Module::Signature   n/a     
    Parse::CPAN::Meta   2.150010
    Test::Harness       3.50    
    Test::More          1.302204
    YAML                1.31    
    YAML::Syck          n/a     
    version             0.9933  


--

Summary of my perl5 (revision 5 version 41 subversion 5) configuration:
   
  Platform:
    osname=linux
    osvers=6.1.0-26-amd64
    archname=x86_64-linux
    uname='linux beeves 6.1.0-26-amd64 #1 smp preempt_dynamic debian 6.1.112-1 (2024-09-30) x86_64 gnulinux '
    config_args='-Dprefix=/opt/plenv/versions/5.41.5 -de -Dversiononly -Dusedevel -A'eval:scriptdir=/opt/plenv/versions/5.41.5/bin''
    hint=recommended
    useposix=true
    d_sigaction=define
    useithreads=undef
    usemultiplicity=undef
    use64bitint=define
    use64bitall=define
    uselongdouble=undef
    usemymalloc=n
    default_inc_excludes_dot=define
  Compiler:
    cc='cc'
    ccflags ='-fwrapv -fno-strict-aliasing -pipe -fstack-protector-strong -I/usr/local/include -D_LARGEFILE_SOURCE -D_FILE_OFFSET_BITS=64 -D_FORTIFY_SOURCE=2'
    optimize='-O2'
    cppflags='-fwrapv -fno-strict-aliasing -pipe -fstack-protector-strong -I/usr/local/include'
    ccversion=''
    gccversion='12.2.0'
    gccosandvers=''
    intsize=4
    longsize=8
    ptrsize=8
    doublesize=8
    byteorder=12345678
    doublekind=3
    d_longlong=define
    longlongsize=8
    d_longdbl=define
    longdblsize=16
    longdblkind=3
    ivtype='long'
    ivsize=8
    nvtype='double'
    nvsize=8
    Off_t='off_t'
    lseeksize=8
    alignbytes=8
    prototype=define
  Linker and Libraries:
    ld='cc'
    ldflags =' -fstack-protector-strong -L/usr/local/lib'
    libpth=/usr/local/lib /usr/lib/x86_64-linux-gnu /usr/lib /usr/lib64
    libs=-lpthread -ldl -lm -lcrypt -lutil -lc
    perllibs=-lpthread -ldl -lm -lcrypt -lutil -lc
    libc=/lib/x86_64-linux-gnu/libc.so.6
    so=so
    useshrplib=false
    libperl=libperl.a
    gnulibc_version='2.36'
  Dynamic Linking:
    dlsrc=dl_dlopen.xs
    dlext=so
    d_dlsymun=undef
    ccdlflags='-Wl,-E'
    cccdlflags='-fPIC'
    lddlflags='-shared -O2 -L/usr/local/lib -fstack-protector-strong'


Characteristics of this binary (from libperl): 
  Compile-time options:
    HAS_LONG_DOUBLE
    HAS_STRTOLD
    HAS_TIMES
    PERLIO_LAYERS
    PERL_COPY_ON_WRITE
    PERL_DONT_CREATE_GVSV
    PERL_HASH_FUNC_SIPHASH13
    PERL_HASH_USE_SBOX32
    PERL_MALLOC_WRAP
    PERL_OP_PARENT
    PERL_PRESERVE_IVUV
    PERL_USE_DEVEL
    PERL_USE_SAFE_PUTENV
    USE_64_BIT_ALL
    USE_64_BIT_INT
    USE_LARGE_FILES
    USE_LOCALE
    USE_LOCALE_COLLATE
    USE_LOCALE_CTYPE
    USE_LOCALE_NUMERIC
    USE_LOCALE_TIME
    USE_PERLIO
    USE_PERL_ATOF
  Built under linux
  Compiled at Oct 20 2024 14:43:17
  %ENV:
    PERL_CPANM_OPT="--skip-installed --prompt"
  @INC:
    /opt/plenv/versions/5.41.5/lib/perl5/site_perl/5.41.5/x86_64-linux
    /opt/plenv/versions/5.41.5/lib/perl5/site_perl/5.41.5
    /opt/plenv/versions/5.41.5/lib/perl5/5.41.5/x86_64-linux
    /opt/plenv/versions/5.41.5/lib/perl5/5.41.5