Math-Matrix v0.94 Perl 5 v5.32.0 armv7l-linux
- Status
- Pass
- From
- Nigel Horne
- Dist
-
Math-Matrix v0.94
- Platform
- Perl 5 v5.32.0 armv7l-linux
- Date
- 2021-01-13 13:38:32
- ID
- a0a69e2e-55a4-11eb-b9db-b6c7a8faccfa
This distribution has been tested as part of the CPAN Testers
project, supporting the Perl programming language. See
http://wiki.cpantesters.org/ for more information or email
questions to cpan-testers-discuss@perl.org
--
Dear Peter John Acklam,
This is a computer-generated report for Math-Matrix-0.94
on perl 5.32.0, created by CPAN-Reporter-1.2018.
Thank you for uploading your work to CPAN. Congratulations!
All tests were successful.
Sections of this report:
* Tester comments
* Program output
* Prerequisites
* Environment and other context
------------------------------
TESTER COMMENTS
------------------------------
Additional comments from tester:
this report is from an automated smoke testing program
and was not reviewed by a human for accuracy
------------------------------
PROGRAM OUTPUT
------------------------------
Output from '/usr/bin/make test':
PERL_DL_NONLAZY=1 "/home/smoker/perl5/perlbrew/perls/perl-5.32.0-ld/bin/perl5.32.0" "-MExtUtils::Command::MM" "-MTest::Harness" "-e" "undef *Test::Harness::Switches; test_harness(0, 'blib/lib', 'blib/arch')" t/*.t
t/00-signature.t ................... skipped: Set the environment variable TEST_SIGNATURE to enable this test.
t/01-load.t ........................ ok
t/abs-sign.t ....................... ok
t/absolute.t ....................... ok
t/add.t ............................ ok
t/adjugate.t ....................... ok
t/all.t ............................ ok
t/any.t ............................ ok
t/as_string.t ...................... ok
t/as_array.t ....................... ok
t/basic.t .......................... ok
t/bandwidth.t ...................... ok
t/blkdiag.t ........................ ok
t/catcol-math-real.t ............... ok
t/catcol.t ......................... ok
t/catrow-math-real.t ............... ok
t/catrow.t ......................... ok
t/ceil.t ........................... ok
t/chol.t ........................... ok
t/clone-math-real.t ................ ok
t/clone.t .......................... ok
t/cofactor.t ....................... ok
t/clone-math-complex.t ............. ok
t/catrow-math-complex.t ............ ok
t/catcol-math-complex.t ............ ok
t/cofactormatrix.t ................. ok
t/concat.t ......................... ok
t/concat-math-real.t ............... ok
t/concat-math-complex.t ............ ok
t/constant-zeros-ones-inf-nan.t .... ok
t/cross_product.t .................. ok
t/cumall.t ......................... ok
t/cumany.t ......................... ok
t/cummean.t ........................ ok
t/cumprod.t ........................ ok
t/cumsum.t ......................... ok
t/delrow.t ......................... ok
t/delcol.t ......................... ok
t/det-determinant-detr.t ........... ok
t/diagonal.t ....................... ok
t/dot_product.t .................... ok
t/diff.t ........................... ok
t/extension.t ...................... ok
t/exchg.t .......................... ok
t/find-is_finite-is_inf-is_nan.t ... ok
t/felim_xxx.t ...................... ok
t/flip.t ........................... ok
t/fliplr.t ......................... ok
t/flipud.t ......................... ok
t/floor.t .......................... ok
t/getcol.t ......................... ok
t/getrow.t ......................... ok
t/hypot.t .......................... ok
t/id-eye-new_identity.t ............ ok
t/int.t ............................ ok
t/kron.t ........................... ok
t/madd.t ........................... ok
t/map.t ............................ ok
t/max.t ............................ ok
t/meq-mne.t ........................ ok
t/mean.t ........................... ok
t/median.t ......................... ok
t/is_xxx.t ......................... ok
t/minor.t .......................... ok
t/min.t ............................ ok
t/minormatrix.t .................... ok
t/minv-inv.t ....................... ok
t/mmul.t ........................... ok
t/mldiv.t .......................... ok
t/mmuladd.t ........................ ok
t/mpinv-pinv.t ..................... ok
t/mrdiv.t .......................... ok
t/msub.t ........................... ok
t/mpow-pow.t ....................... ok
t/mul.t ............................ ok
t/neg.t ............................ ok
t/new_from_cols.t .................. ok
t/new_from_rows.t .................. ok
t/new.t ............................ ok
t/normalize.t ...................... ok
t/new_from_sub.t ................... ok
t/outer_product.t .................. ok
t/prod.t ........................... ok
t/rand.t ........................... ok
t/repelm.t ......................... ok
t/randn.t .......................... ok
t/randi.t .......................... ok
t/repmat.t ......................... ok
t/reshape-math-real.t .............. ok
t/reshape-math-complex.t ........... ok
t/reshape.t ........................ ok
t/rot180.t ......................... ok
t/rot270.t ......................... ok
t/sadd.t ........................... ok
t/rot90.t .......................... ok
t/sapply-math-complex.t ............ ok
t/sapply-math-real.t ............... ok
t/sapply.t ......................... ok
t/scalar.t ......................... ok
t/sdiv-sldiv-srdiv.t ............... ok
t/seq-sne-sle-slt-sge-sgt-scmp.t ... ok
t/sinv.t ........................... ok
t/size-nrow-ncol-npag-ndim-nelm.t .. ok
t/slice-math-complex.t ............. ok
t/slice-math-real.t ................ ok
t/slice.t .......................... ok
t/smul.t ........................... ok
t/spow.t ........................... ok
t/splicecol.t ...................... ok
t/splicerow.t ...................... ok
t/ssub.t ........................... ok
t/sub.t ............................ ok
t/sum.t ............................ ok
t/to_col.t ......................... ok
t/swaprc.t ......................... ok
t/to_permmat.t ..................... ok
t/to_permvec.t ..................... ok
t/to_row.t ......................... ok
t/transpose-math-complex.t ......... ok
t/transpose.t ...................... ok
t/transpose-math-real.t ............ ok
t/tril.t ........................... ok
t/triu.t ........................... ok
t/version.t ........................ ok
t/vecnorm.t ........................ ok
All tests successful.
Files=125, Tests=3517, 95 wallclock secs ( 1.64 usr 0.70 sys + 30.21 cusr 5.50 csys = 38.05 CPU)
Result: PASS
------------------------------
PREREQUISITES
------------------------------
Prerequisite modules loaded:
requires:
Module Need Have
------------------- ---- --------
Carp 0 1.50
Math::Trig 1.06 1.23
Scalar::Util 1 1.55
build_requires:
Module Need Have
------------------- ---- --------
Test::More 0.82 1.302175
configure_requires:
Module Need Have
------------------- ---- --------
ExtUtils::MakeMaker 6.58 7.46
------------------------------
ENVIRONMENT AND OTHER CONTEXT
------------------------------
Environment variables:
AUTOMATED_TESTING = 1
HARNESS_OPTIONS = j4
NONINTERACTIVE_TESTING = 1
PATH = /home/smoker/perl5/perlbrew/bin:/home/smoker/perl5/perlbrew/perls/perl-5.32.0-ld/bin:/usr/local/sbin:/usr/local/bin:/usr/sbin:/usr/bin:/sbin:/bin
PERL5LIB =
PERL5OPT =
PERL5_CPANPLUS_IS_RUNNING = 18257
PERL5_CPAN_IS_RUNNING = 18257
PERLBREW_HOME = /home/smoker/.perlbrew
PERLBREW_MANPATH = /home/smoker/perl5/perlbrew/perls/perl-5.32.0-ld/man
PERLBREW_PATH = /home/smoker/perl5/perlbrew/bin:/home/smoker/perl5/perlbrew/perls/perl-5.32.0-ld/bin
PERLBREW_PERL = perl-5.32.0-ld
PERLBREW_ROOT = /home/smoker/perl5/perlbrew
PERLBREW_SHELLRC_VERSION = 0.88
PERLBREW_VERSION = 0.88
PERL_MM_USE_DEFAULT = 1
PERL_USE_UNSAFE_INC = 1
SHELL = /bin/bash
TERM = xterm
TMPDIR = /tmp/testwrapper.18243
Perl special variables (and OS-specific diagnostics, for MSWin32):
$^X = /home/smoker/perl5/perlbrew/perls/perl-5.32.0-ld/bin/perl5.32.0
$UID/$EUID = 1000 / 1000
$GID = 1000
$EGID = 1000
Perl module toolchain versions installed:
Module Have
------------------- --------
CPAN 2.28
CPAN::Meta 2.150010
Cwd 3.78
ExtUtils::CBuilder 0.280234
ExtUtils::Command 7.46
ExtUtils::Install 2.14
ExtUtils::MakeMaker 7.46
ExtUtils::Manifest 1.72
ExtUtils::ParseXS 3.40
File::Spec 3.78
JSON 4.02
JSON::PP 4.04
Module::Build 0.4231
Module::Signature n/a
Parse::CPAN::Meta 2.150010
Test::Harness 3.42
Test::More 1.302175
YAML 1.30
YAML::Syck 1.32
version 0.9924
--
Summary of my perl5 (revision 5 version 32 subversion 0) configuration:
Platform:
osname=linux
osvers=5.4.51-v7l+
archname=armv7l-linux
uname='linux d35c2ce1b4b1 5.4.51-v7l+ #1327 smp thu jul 23 11:04:39 bst 2020 armv7l gnulinux '
config_args='-de -Dprefix=/home/smoker/perl5/perlbrew/perls/perl-5.32.0-ld -Dusedevel -Duselongdouble -Accflags=-O2 -pipe -Wall -Wextra -mtune=native -march=native -Aeval:scriptdir=/home/smoker/perl5/perlbrew/perls/perl-5.32.0-ld/bin'
hint=recommended
useposix=true
d_sigaction=define
useithreads=undef
usemultiplicity=undef
use64bitint=undef
use64bitall=undef
uselongdouble=define
usemymalloc=n
default_inc_excludes_dot=define
bincompat5005=undef
Compiler:
cc='cc'
ccflags ='-O2 -pipe -Wall -Wextra -mtune=native -march=native -fwrapv -fno-strict-aliasing -fstack-protector-strong -I/usr/local/include -D_LARGEFILE_SOURCE -D_FILE_OFFSET_BITS=64 -D_FORTIFY_SOURCE=2'
optimize='-O2'
cppflags='-O2 -pipe -Wall -Wextra -mtune=native -march=native -fwrapv -fno-strict-aliasing -fstack-protector-strong -I/usr/local/include'
ccversion=''
gccversion='8.3.0'
gccosandvers=''
intsize=4
longsize=4
ptrsize=4
doublesize=8
byteorder=1234
doublekind=3
d_longlong=define
longlongsize=8
d_longdbl=define
longdblsize=8
longdblkind=0
ivtype='long'
ivsize=4
nvtype='long double'
nvsize=8
Off_t='off_t'
lseeksize=8
alignbytes=8
prototype=define
Linker and Libraries:
ld='cc'
ldflags =' -fstack-protector-strong -L/usr/local/lib'
libpth=/usr/local/lib /usr/lib/gcc/arm-linux-gnueabihf/8/include-fixed /usr/include/arm-linux-gnueabihf /usr/lib /lib/arm-linux-gnueabihf /lib /usr/lib/arm-linux-gnueabihf
libs=-lpthread -lnsl -ldl -lm -lcrypt -lutil -lc
perllibs=-lpthread -lnsl -ldl -lm -lcrypt -lutil -lc
libc=libc-2.28.so
so=so
useshrplib=false
libperl=libperl.a
gnulibc_version='2.28'
Dynamic Linking:
dlsrc=dl_dlopen.xs
dlext=so
d_dlsymun=undef
ccdlflags='-Wl,-E'
cccdlflags='-fPIC'
lddlflags='-shared -O2 -L/usr/local/lib -fstack-protector-strong'
Characteristics of this binary (from libperl):
Compile-time options:
HAS_TIMES
PERLIO_LAYERS
PERL_COPY_ON_WRITE
PERL_DONT_CREATE_GVSV
PERL_MALLOC_WRAP
PERL_OP_PARENT
PERL_PRESERVE_IVUV
PERL_USE_DEVEL
USE_LARGE_FILES
USE_LOCALE
USE_LOCALE_COLLATE
USE_LOCALE_CTYPE
USE_LOCALE_NUMERIC
USE_LOCALE_TIME
USE_PERLIO
USE_PERL_ATOF
Built under linux
Compiled at Sep 29 2020 14:12:27
%ENV:
PERL5LIB=""
PERL5OPT=""
PERL5_CPANPLUS_IS_RUNNING="18257"
PERL5_CPAN_IS_RUNNING="18257"
PERLBREW_HOME="/home/smoker/.perlbrew"
PERLBREW_MANPATH="/home/smoker/perl5/perlbrew/perls/perl-5.32.0-ld/man"
PERLBREW_PATH="/home/smoker/perl5/perlbrew/bin:/home/smoker/perl5/perlbrew/perls/perl-5.32.0-ld/bin"
PERLBREW_PERL="perl-5.32.0-ld"
PERLBREW_ROOT="/home/smoker/perl5/perlbrew"
PERLBREW_SHELLRC_VERSION="0.88"
PERLBREW_VERSION="0.88"
PERL_MM_USE_DEFAULT="1"
PERL_USE_UNSAFE_INC="1"
@INC:
/home/smoker/perl5/perlbrew/perls/perl-5.32.0-ld/lib/site_perl/5.32.0/armv7l-linux
/home/smoker/perl5/perlbrew/perls/perl-5.32.0-ld/lib/site_perl/5.32.0
/home/smoker/perl5/perlbrew/perls/perl-5.32.0-ld/lib/5.32.0/armv7l-linux
/home/smoker/perl5/perlbrew/perls/perl-5.32.0-ld/lib/5.32.0
.