Back
From: metabase:user:322078bc-2aae-11df-837a-5e0a49663a4f
Subject: PASS Sub-ForceEval-2.04 v5.13.1 GNU/Linux
Date: 2011-04-28T18:37:53Z
This distribution has been tested as part of the CPAN Testers
project, supporting the Perl programming language. See
http://wiki.cpantesters.org/ for more information or email
questions to cpan-testers-discuss@perl.org
--
Dear LEMBARK,
This is a computer-generated error report created automatically by
CPANPLUS, version 0.9104. Testers personal comments may appear
at the end of this report.
MAKE TEST passed: PERL_DL_NONLAZY=1 /home/cpan/pit/bare/perl-5.13.1/bin/perl5.13.1 "-MExtUtils::Command::MM" "-e" "test_harness(0, 'blib/lib', 'blib/arch')" t/*.t
t/00-depend.t ....... ok
t/01-module.t ....... ok
Subroutine main::foo redefined at /home/cpan/pit/bare/conf/perl-5.13.1/.cpanplus/5.13.1/build/Sub-ForceEval-2.04/blib/lib/Sub/ForceEval.pm line 203.
t/10-in-eval.t ...... ok
Subroutine main::foo redefined at /home/cpan/pit/bare/conf/perl-5.13.1/.cpanplus/5.13.1/build/Sub-ForceEval-2.04/blib/lib/Sub/ForceEval.pm line 203.
t/11-return-type.t .. ok
Subroutine main::foo redefined at /home/cpan/pit/bare/conf/perl-5.13.1/.cpanplus/5.13.1/build/Sub-ForceEval-2.04/blib/lib/Sub/ForceEval.pm line 203.
Subroutine main::bar redefined at /home/cpan/pit/bare/conf/perl-5.13.1/.cpanplus/5.13.1/build/Sub-ForceEval-2.04/blib/lib/Sub/ForceEval.pm line 203.
Die with eval:
Die outside eval:
Missing eval for 'main::foo' (died with: 'foo') caught at /home/cpan/pit/bare/conf/perl-5.13.1/.cpanplus/5.13.1/build/Sub-ForceEval-2.04/blib/lib/Sub/ForceEval.pm line 191
main::foo() called at t/20-exception.t line 35
Missing eval for 'main::bar' (died with: 'bar') caught at /home/cpan/pit/bare/conf/perl-5.13.1/.cpanplus/5.13.1/build/Sub-ForceEval-2.04/blib/lib/Sub/ForceEval.pm line 191
main::bar() called at t/20-exception.t line 36
t/20-exception.t .... ok
Subroutine Frob::Nicate::AUTOLOAD redefined at /home/cpan/pit/bare/conf/perl-5.13.1/.cpanplus/5.13.1/build/Sub-ForceEval-2.04/blib/lib/Sub/ForceEval.pm line 203.
Missing eval for 'Frob::Nicate::AUTOLOAD' (died with: 'Frob::Nicate::aughtta_auto died') caught at /home/cpan/pit/bare/conf/perl-5.13.1/.cpanplus/5.13.1/build/Sub-ForceEval-2.04/blib/lib/Sub/ForceEval.pm line 191
Frob::Nicate::AUTOLOAD('Frob::Nicate') called at t/30-autoload.t line 16
t/30-autoload.t ..... ok
All tests successful.
Files=6, Tests=19, 0 wallclock secs ( 0.03 usr 0.01 sys + 0.14 cusr 0.02 csys = 0.20 CPU)
Result: PASS
[MSG] [Thu Apr 28 19:37:09 2011] Sending test report for 'Sub-ForceEval-2.04'
This report was machine-generated by CPANPLUS::Dist::YACSmoke 0.62.
Powered by minismokebox version 0.44
------------------------------
ENVIRONMENT AND OTHER CONTEXT
------------------------------
Environment variables:
AUTOMATED_TESTING = 1
LANG = en_US
LC_COLLATE = C
PATH = /usr/local/bin:/usr/bin:/bin:/usr/games:/usr/lib64/java/bin:/usr/lib64/qt/bin:/usr/share/texmf/bin:.
PERL5LIB = :/home/cpan/pit/bare/conf/perl-5.13.1/.cpanplus/5.13.1/build/Sub-ForceEval-2.04/blib/lib:/home/cpan/pit/bare/conf/perl-5.13.1/.cpanplus/5.13.1/build/Sub-ForceEval-2.04/blib/arch
PERL5_CPANPLUS_IS_RUNNING = 15181
PERL5_CPANPLUS_IS_VERSION = 0.9104
PERL5_MINISMOKEBOX = 0.44
PERL5_YACSMOKE_BASE = /home/cpan/pit/bare/conf/perl-5.13.1
PERL_EXTUTILS_AUTOINSTALL = --defaultdeps
PERL_MM_USE_DEFAULT = 1
SHELL = /bin/bash
TERM = screen
Perl special variables (and OS-specific diagnostics, for MSWin32):
Perl: $^X = /home/cpan/pit/bare/perl-5.13.1/bin/perl5.13.1
UID: $< = 1001
EUID: $> = 1001
GID: $( = 100 100
EGID: $) = 100 100
-------------------------------
--
Summary of my perl5 (revision 5 version 13 subversion 1) configuration:
Platform:
osname=linux, osvers=2.6.33.4, archname=x86_64-linux
uname='linux slack64 2.6.33.4 #3 smp wed may 12 23:13:09 cdt 2010 x86_64 intel(r) xeon(r) cpu e5520 @ 2.27ghz genuineintel gnulinux '
config_args='-des -Dprefix=/home/cpan/pit/bare/perl-5.13.1 -Dusedevel'
hint=recommended, useposix=true, d_sigaction=define
useithreads=undef, usemultiplicity=undef
useperlio=define, d_sfio=undef, uselargefiles=define, usesocks=undef
use64bitint=define, use64bitall=define, uselongdouble=undef
usemymalloc=n, bincompat5005=undef
Compiler:
cc='cc', ccflags ='-fno-strict-aliasing -pipe -fstack-protector -I/usr/local/include -D_LARGEFILE_SOURCE -D_FILE_OFFSET_BITS=64',
optimize='-O2',
cppflags='-fno-strict-aliasing -pipe -fstack-protector -I/usr/local/include'
ccversion='', gccversion='4.4.4', gccosandvers=''
intsize=4, longsize=8, ptrsize=8, doublesize=8, byteorder=12345678
d_longlong=define, longlongsize=8, d_longdbl=define, longdblsize=16
ivtype='long', ivsize=8, nvtype='double', nvsize=8, Off_t='off_t', lseeksize=8
alignbytes=8, prototype=define
Linker and Libraries:
ld='cc', ldflags =' -fstack-protector -L/usr/local/lib'
libpth=/usr/local/lib /lib /usr/lib /lib64 /usr/lib64 /usr/local/lib64
libs=-lnsl -lgdbm -ldb -ldl -lm -lcrypt -lutil -lc
perllibs=-lnsl -ldl -lm -lcrypt -lutil -lc
libc=, so=so, useshrplib=false, libperl=libperl.a
gnulibc_version='2.11.1'
Dynamic Linking:
dlsrc=dl_dlopen.xs, dlext=so, d_dlsymun=undef, ccdlflags='-Wl,-E'
cccdlflags='-fPIC', lddlflags='-shared -O2 -L/usr/local/lib -fstack-protector'
Characteristics of this binary (from libperl):
Compile-time options: PERL_DONT_CREATE_GVSV PERL_MALLOC_WRAP PERL_USE_DEVEL
USE_64_BIT_ALL USE_64_BIT_INT USE_LARGE_FILES
USE_PERLIO USE_PERL_ATOF
Built under linux
Compiled at Feb 18 2011 10:12:29
%ENV:
PERL5LIB=":/home/cpan/pit/bare/conf/perl-5.13.1/.cpanplus/5.13.1/build/Sub-ForceEval-2.04/blib/lib:/home/cpan/pit/bare/conf/perl-5.13.1/.cpanplus/5.13.1/build/Sub-ForceEval-2.04/blib/arch"
PERL5_CPANPLUS_IS_RUNNING="15181"
PERL5_CPANPLUS_IS_VERSION="0.9104"
PERL5_MINISMOKEBOX="0.44"
PERL5_YACSMOKE_BASE="/home/cpan/pit/bare/conf/perl-5.13.1"
PERL_EXTUTILS_AUTOINSTALL="--defaultdeps"
PERL_MM_USE_DEFAULT="1"
@INC:
/home/cpan/pit/bare/conf/perl-5.13.1/.cpanplus/5.13.1/build/Sub-ForceEval-2.04/blib/lib
/home/cpan/pit/bare/conf/perl-5.13.1/.cpanplus/5.13.1/build/Sub-ForceEval-2.04/blib/arch
/home/cpan/pit/bare/perl-5.13.1/lib/site_perl/5.13.1/x86_64-linux
/home/cpan/pit/bare/perl-5.13.1/lib/site_perl/5.13.1
/home/cpan/pit/bare/perl-5.13.1/lib/5.13.1/x86_64-linux
/home/cpan/pit/bare/perl-5.13.1/lib/5.13.1
.