VANAMBURG-SEMPROG-SimpleGraph v0.010 Perl 5 v5.12.1 i686-linux-thread-multi

Status
Pass
From
Serguei Trouchelle (STRO)
Dist
VANAMBURG-SEMPROG-SimpleGraph v0.010
Platform
Perl 5 v5.12.1 i686-linux-thread-multi
Date
2010-06-03 13:26:33
ID
a0882df0-6f13-11df-8a19-8c7c5eed3741
This distribution has been tested as part of the CPAN Testers
project, supporting the Perl programming language.  See
http://wiki.cpantesters.org/ for more information or email
questions to cpan-testers-discuss@perl.org


--
Dear Gordon Van Amburg,

This is a computer-generated report for VANAMBURG-SEMPROG-SimpleGraph-0.010
on perl 5.12.1, created by CPAN-Reporter-1.1711.

Thank you for uploading your work to CPAN.  Congratulations!
All tests were successful.

Sections of this report:

    * Tester comments
    * Program output
    * Prerequisites
    * Environment and other context

------------------------------
TESTER COMMENTS
------------------------------

Additional comments from tester:

this report is from an automated smoke testing program
and was not reviewed by a human for accuracy

------------------------------
PROGRAM OUTPUT
------------------------------

Output from 'C:\bin\dev\perl\site\bin\dmake.EXE test':

C:\home\stro\perl5121\bin\perl.exe "-MExtUtils::Command::MM" "-e" "test_harness(0, 'blib\lib', 'blib\arch')" t/*.t
# >>> t1 is gordon, add, triple1
# >>> gordon
# >>> gordon triples is 2
# >>> triple2 triples is 1
# >>> gordon triples is now 1
# >>> pot_belly_cost is cheap
t/00-load.t ......................... ok
t/pod-coverage.t .................... ok
# 
#    sub=San_Francisco_California
#    pred=population  obj=744042
#    pred=longitude  obj=-122.4183
#    pred=mayor  obj=Gavin Newsom
#    pred=latitude  obj=37.775
#    pred=name  obj=San Francisco
#    pred=inside  obj=California
#    sub=Fresno_California  obj=Alan Autry
#    sub=Chula_Vista_California  obj=Cheryl Cox
#    sub=Corona_California  obj=Jeff Miller
#    sub=Garden_Grove_California  obj=William Dalton
#    sub=Athens_Greece  obj=Dora Bakoyannis
#    sub=Portsmouth_New_Hampshire  obj=Thomas G. Ferrini
#    sub=San_Jose_California  obj=Norman Mineta
#    sub=Wasilla_Alaska  obj=Sarah Palin
#    sub=Anaheim_California  obj=Curt Pringle
#    sub=Fontana_California  obj=Acquanetta Warren
#    sub=San_Francisco_California  obj=Gavin Newsom
#    sub=Cleveland_Ohio  obj=Dennis Kucinich
#    sub=Detroit_Michigan  obj=Frank Murphy
#    sub=Adelanto_California  obj=Steven R. Baisden
#    sub=Fremont_California  obj=Bob Wasserman
#    sub=Adelanto_California  obj=Charley B. Glasper
#    sub=Chicago_Illinois  obj=Richard M. Daley
#    sub=Portsmouth_New_Hampshire  obj=John Blalock
#    sub=Aliso_Viejo_California  obj=Donald Garcia
#    sub=Cincinnati_Ohio  obj=Jerry Springer
#    sub=Aliso_Viejo_California  obj=William Phillips
#    sub=Alameda_California  obj=Beverly Johnson
#    sub=Glendale_California  obj=John Drayman
#    sub=Half_Moon_Bay_California  obj=Bonnie McClung
#    sub=New_York_New_York  obj=Michael Bloomberg
#    sub=Fremont_California  obj=Bill Harrison
#    sub=Cleveland_Ohio  obj=Frank G. Jackson
#    sub=Banning_California  obj=Debbie Franklin
#    sub=Philadelphia_Pennsylvania  obj=John F. Street
#    sub=Alameda_California  obj=Lena Tam
#    sub=Bakersfield_California  obj=Harvey Hall
#    sub=Corona_California  obj=Steve Nolan
#    sub=Edmonton_Canada  obj=Bill Smith
#    sub=Stuttgart_Germany  obj=Manfred Rommel
#    sub=Cleveland_Ohio  obj=Newton D. Baker
#    sub=Hillsdale_Michigan  obj=Michael Sessions
#    sub=Half_Moon_Bay_California  obj=John Muller
#    sub=Fontana_California  obj=Mark Nuaimi
#    sub=Banning_California  obj=Brenda Salas
#    sub=Garden_Grove_California  obj=Mark Rosen
# there are 30 cal cities
# mayor of Adelanto_California is Steven R. Baisden
# mayor of Adelanto_California is Charley B. Glasper
# mayor of Fontana_California is Acquanetta Warren
# mayor of Fontana_California is Mark Nuaimi
# mayor of Anaheim_California is Curt Pringle
# mayor of San_Jose_California is Norman Mineta
# mayor of San_Francisco_California is Gavin Newsom
# mayor of Glendale_California is John Drayman
# mayor of Half_Moon_Bay_California is Bonnie McClung
# mayor of Half_Moon_Bay_California is John Muller
# mayor of Alameda_California is Beverly Johnson
# mayor of Alameda_California is Lena Tam
# mayor of Corona_California is Steve Nolan
# mayor of Corona_California is Jeff Miller
# mayor of Chula_Vista_California is Cheryl Cox
# mayor of Aliso_Viejo_California is William Phillips
# mayor of Aliso_Viejo_California is Donald Garcia
# mayor of Garden_Grove_California is Mark Rosen
# mayor of Garden_Grove_California is William Dalton
# mayor of Bakersfield_California is Harvey Hall
# mayor of Fremont_California is Bill Harrison
# mayor of Fremont_California is Bob Wasserman
# mayor of Fresno_California is Alan Autry
# mayor of Banning_California is Debbie Franklin
# mayor of Banning_California is Brenda Salas
t/semprog_ch02_03_places.t .......... ok
# jt's partners
#     Justin Timberlake + Britney Spears
#     Alyssa Milano + Justin Timberlake
#     Justin Timberlake + Jessica Biel
#     Justin Timberlake + Cameron Diaz
#     Justin Timberlake + Cameron Diaz
#     Alyssa Milano + Justin Timberlake
#     Justin Timberlake + Jenna Dewan
#     Justin Timberlake + Britney Spears
#     Justin Timberlake + Jessica Biel
#     Justin Timberlake + Jenna Dewan
t/semprog_ch02_04_celebs.t .......... ok
# $VAR1 = 'PNSN';
# $VAR2 = 'CLMS';
# $VAR3 = 'BLK';
# $VAR4 = 'MS';
# $VAR5 = 'TRAD';
# $VAR6 = 'GBL';
# $VAR7 = 'LEH';
# $VAR8 = 'SCHW';
# $VAR9 = 'TWPG';
# $VAR10 = 'NITE';
# $VAR11 = 'MER';
# $VAR12 = 'OXPS';
# $VAR13 = 'DHIL';
# $VAR14 = 'GS';
# $VAR15 = 'LAB';
# $VAR16 = 'COWN';
# $VAR17 = 'MKTX';
# $VAR18 = 'LM';
# $VAR19 = 'JEF';
# $VAR20 = 'SF';
# $VAR21 = 'ITG';
# $VAR22 = 'WDR';
# $VAR23 = 'BSC';
t/semprog_ch02_05_business.t ........ ok
t/semprog_ch02_moviegraph.t ......... ok
# $VAR1 = {
#           'dollars' => '30700.0',
#           'cont' => 'contrib285',
#           'company' => 'BSC'
#         };
t/semprog_ch03_01_queries.t ......... ok
# triples before:
# $VAR1 = [
#           'White House',
#           'address',
#           '1600 Pennsylvania Avenue, Washington DC'
#         ];
# triples after:
# $VAR1 = [
#           'White House',
#           'longitude',
#           '38.898748'
#         ];
# $VAR2 = [
#           'White House',
#           'latitude',
#           '-77.037684'
#         ];
# $VAR3 = [
#           'White House',
#           'address',
#           '1600 Pennsylvania Avenue, Washington DC'
#         ];
t/semprog_ch03_02_inference.t ....... ok
# getting geo code data from internet -- could take a while...
# touristy triples:
# $VAR1 = [
#           'Pot Belly',
#           'is_a',
#           'touristy restaurant'
#         ];
t/semprog_ch03_03_chain_of_rules.t .. ok
# loading movie data...
# load done.  finding path
# path=Kevin Bacon, Wild Things, Neve Campbell, Blind Horizon, Val Kilmer
# path=Kevin Bacon, Tremors, Ariana Richards, Angus, Rita Moreno, Marlowe, Bruce Lee
# path=Kevin Bacon, The River Wild, Benjamin Bratt, Clear and Present Danger, Harrison Ford
t/semprog_ch03_04_shortest_path.t ... ok
t/semprog_ch03_05_join_graph.t ...... ok
All tests successful.
Files=11, Tests=42, 141 wallclock secs ( 0.06 usr +  0.05 sys =  0.11 CPU)
Result: PASS

------------------------------
PREREQUISITES
------------------------------

Prerequisite modules loaded:

requires:

    Module              Need Have   
    ------------------- ---- -------
    File::Slurp         0    9999.13
    JSON                0    2.21   
    List::MoreUtils     0    0.22   
    LWP::Simple         0    5.835  
    Modern::Perl        1.03 1.03   
    Moose               0.93 1.06   
    Moose::Role         0    1.06   
    Set::Scalar         0    1.25   
    Test::More          0    0.95_02
    Text::CSV_XS        0    0.73   
    URI::Escape         0    3.30   

configure_requires:

    Module              Need Have   
    ------------------- ---- -------
    ExtUtils::MakeMaker 0    6.56   


------------------------------
ENVIRONMENT AND OTHER CONTEXT
------------------------------

Environment variables:

    ACTIVEPERL_CONFIG_SILENT = 1
    AUTOMATED_TESTING = 1
    COMSPEC = C:\WINDOWS\system32\cmd.exe
    NUMBER_OF_PROCESSORS = 2
    PATH = C:\bin\apps\far\;C:\bin\dev\python\;C:\bin\dev\svn;C:\Program Files\Common Files\Microsoft Shared\Windows Live;C:\bin\dev\perl\site\bin;C:\bin\dev\perl\bin;C:\WINDOWS\system32;C:\WINDOWS;C:\WINDOWS\System32\Wbem;C:\WINDOWS\system32\WindowsPowerShell\v1.0;C:\bin\arc;C:\bin\dev\TortoiseSVN\bin;C:\bin\dev\Mercurial;C:\bin\dev\TortoiseHg;c:\bin\sys\gnuwin32\bin;C:\bin\dev\oracle\instantclient_11_1;C:\Program Files\Common Files\Microsoft Shared\Windows Live
    PERL5LIB = 
    PERL5OPT = 
    PERL5_CPANPLUS_IS_RUNNING = 5984
    PERL5_CPAN_IS_RUNNING = 5984
    PERL5_CPAN_IS_RUNNING_IN_RECURSION = 1600,5984
    PERL_CR_SMOKER_CURRENT = VANAMBURG-SEMPROG-SimpleGraph-0.010
    PERL_EXTUTILS_AUTOINSTALL = --defaultdeps
    PERL_MM_USE_DEFAULT = 1
    PROCESSOR_IDENTIFIER = x86 Family 6 Model 15 Stepping 11, GenuineIntel
    TEMP = C:\WINDOWS\Temp

Perl special variables (and OS-specific diagnostics, for MSWin32):

    $^X = C:\home\stro\perl5121\bin\perl.exe
    $UID/$EUID = 0 / 0
    $GID = 0
    $EGID = 0
    Win32::GetOSName = WinXP/.Net
    Win32::GetOSVersion = Service Pack 3, 5, 1, 2600, 2, 3, 0, 256, 1
    Win32::FsType = NTFS
    Win32::IsAdminUser = 1

Perl module toolchain versions installed:

    Module              Have   
    ------------------- -------
    CPAN                1.94_56
    Cwd                 3.31   
    ExtUtils::CBuilder  0.2703 
    ExtUtils::Command   1.16   
    ExtUtils::Install   1.55   
    ExtUtils::MakeMaker 6.56   
    ExtUtils::Manifest  1.58   
    ExtUtils::ParseXS   2.2205 
    File::Spec          3.31   
    Module::Build       0.36_10
    Module::Signature   n/a    
    Test::Harness       3.21   
    Test::More          0.95_02
    YAML                0.71   
    YAML::Syck          1.09   
    version             0.82   


--

Summary of my perl5 (revision 5 version 12 subversion 1) configuration:
   
  Platform:
    osname=MSWin32, osvers=5.1, archname=MSWin32-x86-multi-thread
    uname=''
    config_args='undef'
    hint=recommended, useposix=true, d_sigaction=undef
    useithreads=define, usemultiplicity=define
    useperlio=define, d_sfio=undef, uselargefiles=define, usesocks=undef
    use64bitint=undef, use64bitall=undef, uselongdouble=undef
    usemymalloc=n, bincompat5005=undef
  Compiler:
    cc='gcc', ccflags =' -s -O2 -DWIN32 -DHAVE_DES_FCRYPT  -DPERL_IMPLICIT_CONTEXT -DPERL_IMPLICIT_SYS -fno-strict-aliasing -mms-bitfields -DPERL_MSVCRT_READFIX',
    optimize='-s -O2',
    cppflags='-DWIN32'
    ccversion='', gccversion='3.4.5', gccosandvers=''
    intsize=4, longsize=4, ptrsize=4, doublesize=8, byteorder=1234
    d_longlong=undef, longlongsize=8, d_longdbl=define, longdblsize=12
    ivtype='long', ivsize=4, nvtype='double', nvsize=8, Off_t='long long', lseeksize=8
    alignbytes=8, prototype=define
  Linker and Libraries:
    ld='g++', ldflags ='-s -L"c:\home\stro\perl5121\lib\CORE" -L"C:\MinGW\lib"'
    libpth=C:\MinGW\lib
    libs=-lmoldname -lkernel32 -luser32 -lgdi32 -lwinspool -lcomdlg32 -ladvapi32 -lshell32 -lole32 -loleaut32 -lnetapi32 -luuid -lws2_32 -lmpr -lwinmm -lversion -lodbc32 -lodbccp32 -lcomctl32
    perllibs=-lmoldname -lkernel32 -luser32 -lgdi32 -lwinspool -lcomdlg32 -ladvapi32 -lshell32 -lole32 -loleaut32 -lnetapi32 -luuid -lws2_32 -lmpr -lwinmm -lversion -lodbc32 -lodbccp32 -lcomctl32
    libc=, so=dll, useshrplib=true, libperl=libperl512.a
    gnulibc_version=''
  Dynamic Linking:
    dlsrc=dl_win32.xs, dlext=dll, d_dlsymun=undef, ccdlflags=' '
    cccdlflags=' ', lddlflags='-mdll -s -L"c:\home\stro\perl5121\lib\CORE" -L"C:\MinGW\lib"'


Characteristics of this binary (from libperl): 
  Compile-time options: MULTIPLICITY PERL_DONT_CREATE_GVSV
                        PERL_IMPLICIT_CONTEXT PERL_IMPLICIT_SYS
                        PERL_MALLOC_WRAP PL_OP_SLAB_ALLOC USE_ITHREADS
                        USE_LARGE_FILES USE_PERLIO USE_PERL_ATOF
  Built under MSWin32
  Compiled at May 18 2010 14:57:37
  %ENV:
    PERL5_CPANPLUS_IS_RUNNING="5984"
    PERL5_CPAN_IS_RUNNING="5984"
    PERL5_CPAN_IS_RUNNING_IN_RECURSION="1600,5984"
    PERL_CR_SMOKER_CURRENT="VANAMBURG-SEMPROG-SimpleGraph-0.010"
    PERL_EXTUTILS_AUTOINSTALL="--defaultdeps"
    PERL_MM_USE_DEFAULT="1"
  @INC:
    C:/home/stro/perl5121/site/lib
    C:/home/stro/perl5121/lib
    .