Back
From: metabase:user:88ef830e-3cb1-11e3-afcf-3a1e153c5931
Subject: PASS Test-Corpus-Audio-MPD-1.120990 v5.14.2 GNU/Linux
Date: 2013-10-24T21:02:43Z
This distribution has been tested as part of the CPAN Testers
project, supporting the Perl programming language. See
http://wiki.cpantesters.org/ for more information or email
questions to cpan-testers-discuss@perl.org
--
Dear JQUELIN,
This is a computer-generated report for Test-Corpus-Audio-MPD-1.120990
on perl 5.14.2, created by App::cpanminus::reporter 0.10 (1.7001).
Thank you for uploading your work to CPAN. Congratulations!
All tests were successful.
Sections of this report:
* Tester comments
* Program output
* Prerequisites
* Environment and other context
------------------------------
TESTER COMMENTS
------------------------------
Additional comments from tester:
none provided
------------------------------
PROGRAM OUTPUT
------------------------------
Output from '':
Building and testing Test-Corpus-Audio-MPD-1.120990
Building Test-Corpus-Audio-MPD
t/00-compile.t ................ ok
#
#
# perl: v5.14.2 (wanted 5.008) on linux from /root/perl5/perlbrew/perls/perl-5.14.2/bin/perl
#
# Exporter => 5.68 (want any version)
# File::Copy => 2.21 (want any version)
# File::ShareDir::PathClass => 1.112440 (want any version)
# File::Temp => 0.2304 (want any version)
# Module::Build => 0.4007 (want 0.3601)
# Path::Class => 0.32 (want any version)
# Readonly => 1.03 (want any version)
# Test::More => 0.99 (want 0.88)
# base => 2.18 (want any version)
# strict => 1.04 (want any version)
# warnings => 1.12 (want any version)
#
# Thanks for using my code. I hope it works for you.
# If not, please try and include this output in the bug report.
# That will help me reproduce the issue and solve you problem.
#
t/000-report-versions-tiny.t .. ok
t/release-has-version.t ....... skipped: these tests are for release candidate testing
t/release-kwalitee.t .......... skipped: these tests are for release candidate testing
t/release-minimum-version.t ... skipped: these tests are for release candidate testing
t/release-pod-coverage.t ...... skipped: these tests are for release candidate testing
t/release-pod-syntax.t ........ skipped: these tests are for release candidate testing
All tests successful.
Files=7, Tests=2, 1 wallclock secs ( 0.03 usr 0.04 sys + 0.28 cusr 0.10 csys = 0.45 CPU)
Result: PASS
------------------------------
PREREQUISITES
------------------------------
Prerequisite modules loaded:
runtime:
Module Need Have
------------------------- ------ --------
base 0 2.18
Exporter 0 5.68
File::Copy 0 2.21
File::ShareDir::PathClass 0 1.112440
File::Temp 0 0.2304
Path::Class 0 0.32
perl 5.008 5.014002
Readonly 0 1.03
strict 0 1.04
warnings 0 1.12
build:
Module Need Have
------------------------- ------ --------
Module::Build 0.3601 0.4007
configure:
Module Need Have
------------------------- ------ --------
Module::Build 0.3601 0.4007
------------------------------
ENVIRONMENT AND OTHER CONTEXT
------------------------------
Environment variables:
LANG = de_DE.UTF-8
PATH = /root/perl5/perlbrew/bin:/root/perl5/perlbrew/perls/perl-5.14.2/bin:/sbin:/usr/sbin:/usr/local/sbin:/root/bin:/usr/local/bin:/usr/bin:/bin:/usr/X11R6/bin:/usr/games
PERLBREW_MANPATH = /root/perl5/perlbrew/perls/perl-5.14.2/man
PERLBREW_PATH = /root/perl5/perlbrew/bin:/root/perl5/perlbrew/perls/perl-5.14.2/bin
PERLBREW_PERL = perl-5.14.2
PERLBREW_ROOT = /root/perl5/perlbrew
PERLBREW_SKIP_INIT = 1
PERLBREW_VERSION = 0.42
SHELL = /bin/bash
TERM = xterm
Perl special variables (and OS-specific diagnostics, for MSWin32):
EGID = 0 0
EUID = 0
EXECUTABLE_NAME = /root/perl5/perlbrew/perls/perl-5.14.2/bin/perl
GID = 0 0
UID = 0
Perl module toolchain versions installed:
Module Have
------------------- ---------
CPAN 1.9600_01
CPAN::Meta 2.132830
Cwd 3.40
ExtUtils::CBuilder 0.280203
ExtUtils::Command 1.17
ExtUtils::Install 1.56
ExtUtils::MakeMaker 6.80
ExtUtils::Manifest 1.60
ExtUtils::ParseXS 2.2210
File::Spec 3.40
JSON 2.61
JSON::PP 2.27200
Module::Build 0.4007
Module::Signature 0.73
Parse::CPAN::Meta 1.4405
Test::Harness 3.29
Test::More 0.99
YAML 0.84
YAML::Syck 1.27
version 0.9904
--
Summary of my perl5 (revision 5 version 14 subversion 2) configuration:
Platform:
osname=linux, osvers=3.10.13-x86_64-jb1, archname=x86_64-linux
uname='linux j67734 3.10.13-x86_64-jb1 #3 smp fri oct 4 11:46:29 cest 2013 x86_64 x86_64 x86_64 gnulinux '
config_args='-de -Dprefix=/root/perl5/perlbrew/perls/perl-5.14.2'
hint=recommended, useposix=true, d_sigaction=define
useithreads=undef, usemultiplicity=undef
useperlio=define, d_sfio=undef, uselargefiles=define, usesocks=undef
use64bitint=define, use64bitall=define, uselongdouble=undef
usemymalloc=n, bincompat5005=undef
Compiler:
cc='cc', ccflags ='-fno-strict-aliasing -pipe -fstack-protector -I/usr/local/include -D_LARGEFILE_SOURCE -D_FILE_OFFSET_BITS=64',
optimize='-O2',
cppflags='-fno-strict-aliasing -pipe -fstack-protector -I/usr/local/include'
ccversion='', gccversion='4.7.2 20130108 [gcc-4_7-branch revision 195012]', gccosandvers=''
intsize=4, longsize=8, ptrsize=8, doublesize=8, byteorder=12345678
d_longlong=define, longlongsize=8, d_longdbl=define, longdblsize=16
ivtype='long', ivsize=8, nvtype='double', nvsize=8, Off_t='off_t', lseeksize=8
alignbytes=8, prototype=define
Linker and Libraries:
ld='cc', ldflags =' -fstack-protector -L/usr/local/lib'
libpth=/usr/local/lib /lib/../lib64 /usr/lib/../lib64 /lib /usr/lib /lib64 /usr/lib64 /usr/local/lib64
libs=-lnsl -ldl -lm -lcrypt -lutil -lc
perllibs=-lnsl -ldl -lm -lcrypt -lutil -lc
libc=/lib/libc-2.17.so, so=so, useshrplib=false, libperl=libperl.a
gnulibc_version='2.17'
Dynamic Linking:
dlsrc=dl_dlopen.xs, dlext=so, d_dlsymun=undef, ccdlflags='-Wl,-E'
cccdlflags='-fPIC', lddlflags='-shared -O2 -L/usr/local/lib -fstack-protector'
Characteristics of this binary (from libperl):
Compile-time options: PERL_DONT_CREATE_GVSV PERL_MALLOC_WRAP
PERL_PRESERVE_IVUV USE_64_BIT_ALL USE_64_BIT_INT
USE_LARGE_FILES USE_PERLIO USE_PERL_ATOF
Built under linux
Compiled at Oct 24 2013 13:19:39
%ENV:
PERLBREW_MANPATH="/root/perl5/perlbrew/perls/perl-5.14.2/man"
PERLBREW_PATH="/root/perl5/perlbrew/bin:/root/perl5/perlbrew/perls/perl-5.14.2/bin"
PERLBREW_PERL="perl-5.14.2"
PERLBREW_ROOT="/root/perl5/perlbrew"
PERLBREW_SKIP_INIT="1"
PERLBREW_VERSION="0.42"
@INC:
/root/perl5/perlbrew/perls/perl-5.14.2/lib/site_perl/5.14.2/x86_64-linux
/root/perl5/perlbrew/perls/perl-5.14.2/lib/site_perl/5.14.2
/root/perl5/perlbrew/perls/perl-5.14.2/lib/5.14.2/x86_64-linux
/root/perl5/perlbrew/perls/perl-5.14.2/lib/5.14.2
.