Text-IQ v0.007 Perl 5 v5.22.1 amd64-freebsd

Status
Pass
From
Slaven Rezić (SREZIC)
Dist
Text-IQ v0.007
Platform
Perl 5 v5.22.1 amd64-freebsd
Date
2017-09-01 16:21:36
ID
a07b8212-8f31-11e7-a37c-fa1a0a25c103
This distribution has been tested as part of the CPAN Testers
project, supporting the Perl programming language.  See
http://wiki.cpantesters.org/ for more information or email
questions to cpan-testers-discuss@perl.org


--
Dear Peter Karman,

This is a computer-generated report for Text-IQ-0.007
on perl 5.22.1, created by CPAN-Reporter-1.2018.

Thank you for uploading your work to CPAN.  Congratulations!
All tests were successful.

Sections of this report:

    * Tester comments
    * Program output
    * Prerequisites
    * Environment and other context

------------------------------
TESTER COMMENTS
------------------------------

Additional comments from tester:

none provided

------------------------------
PROGRAM OUTPUT
------------------------------

Output from '/usr/bin/make test':

PERL_DL_NONLAZY=1 "/usr/perl5.22.1p/bin/perl5.22.1" "-MExtUtils::Command::MM" "-MTest::Harness" "-e" "undef *Test::Harness::Switches; test_harness(0, 'blib/lib', 'blib/arch')" t/*.t
# Testing Text::IQ 0.007, Perl 5.022001, /usr/perl5.22.1p/bin/perl5.22.1
# Text::Aspell config:
# {
#   "actual-dict-dir"         => { default => "<dict-dir^master>", type => 0 },
#   "actual-lang"             => { type => 0 },
#   "affix-char"              => {
#                                  default => "/",
#                                  desc    => "indicator for affix flags in word lists -- CURRENTLY IGNORED",
#                                  type    => 0,
#                                },
#   "affix-compress"          => {
#                                  default => "false",
#                                  desc    => "use affix compression when creating dictionaries",
#                                  type    => 2,
#                                },
#   "backup"                  => {
#                                  default => "true",
#                                  desc    => "create a backup file by appending \".bak\"",
#                                  type    => 2,
#                                },
#   "byte-offsets"            => {
#                                  default => "false",
#                                  desc    => "use byte offsets instead of character offsets",
#                                  type    => 2,
#                                },
#   "clean-affixes"           => { default => "true", desc => "remove invalid affix flags", type => 2 },
#   "clean-words"             => {
#                                  default => "false",
#                                  desc    => "attempts to clean words so that they are valid",
#                                  type    => 2,
#                                },
#   "conf"                    => { default => "aspell.conf", desc => "main configuration file", type => 0 },
#   "conf-dir"                => {
#                                  default => "<prefix:etc>",
#                                  desc    => "location of main configuration file",
#                                  type    => 0,
#                                },
#   "conf-path"               => { default => "<conf-dir/conf>", type => 0 },
#   "data-dir"                => {
#                                  default => "<prefix:lib/aspell-0.60>",
#                                  desc    => "location of language data files",
#                                  type    => 0,
#                                },
#   "dict-alias"              => { desc => "create dictionary aliases", type => 3 },
#   "dict-dir"                => {
#                                  default => "<prefix:share/aspell>",
#                                  desc    => "location of the main word list",
#                                  type    => 0,
#                                },
#   "encoding"                => {
#                                  default => "!encoding",
#                                  desc    => "encoding to expect data to be in",
#                                  type    => 0,
#                                },
#   "extra-dicts"             => { desc => "extra dictionaries to use", type => 3 },
#   "f-context-delimiters"    => {
#                                  default => "\" \":/* */:// 0",
#                                  desc    => "context delimiters (separated by spaces)",
#                                  type    => 3,
#                                },
#   "f-context-visible-first" => {
#                                  default => "false",
#                                  desc    => "swaps visible and invisible text",
#                                  type    => 2,
#                                },
#   "f-email-margin"          => {
#                                  default => 10,
#                                  desc    => "num chars that can appear before the quote char",
#                                  type    => 1,
#                                },
#   "f-email-quote"           => { default => ">:|", desc => "email quote characters", type => 3 },
#   "f-html-check"            => { default => "alt", desc => "HTML attributes to always check", type => 3 },
#   "f-html-skip"             => {
#                                  default => "script:style",
#                                  desc    => "HTML tags to always skip the contents of",
#                                  type    => 3,
#                                },
#   "f-sgml-check"            => { desc => "SGML attributes to always check", type => 3 },
#   "f-sgml-skip"             => { desc => "SGML tags to always skip the contents of", type => 3 },
#   "f-tex-check-comments"    => { default => "false", desc => "check TeX comments", type => 2 },
#   "f-tex-command"           => {
#                                  default => "addtocounter pp:addtolength pp:alpha p:arabic p:fnsymbol p:roman p:stepcounter p:setcounter pp:usecounter p:value p:newcounter po:refstepcounter p:label p:pageref p:ref p:newcommand poOP:renewcommand poOP:newenvironment poOPP:renewenvironment poOPP:newtheorem poPo:newfont pp:documentclass op:usepackage op:begin po:end p:setlength pp:addtolength pp:settowidth pp:settodepth pp:settoheight pp:enlargethispage p:hyphenation p:pagenumbering p:pagestyle p:addvspace p:framebox ooP:hspace p:vspace p:makebox ooP:parbox ooopP:raisebox pooP:rule opp:sbox pO:savebox pooP:usebox p:include p:includeonly p:input p:addcontentsline ppP:addtocontents pP:fontencoding p:fontfamily p:fontseries p:fontshape p:fontsize pp:usefont pppp:documentstyle op:cite p:nocite p:psfig p:selectlanguage p:includegraphics op:bibitem op:geometry p",
#                                  desc    => "TeX commands",
#                                  type    => 3,
#                                },
#   "f-texinfo-ignore"        => {
#                                  default => "setfilename:syncodeindex:documentencoding:vskip:code:kbd:key:samp:verb:var:env:file:command:option:url:uref:email:verbatiminclude:xref:ref:pxref:inforef:c",
#                                  desc    => "Texinfo commands to ignore the parameters of",
#                                  type    => 3,
#                                },
#   "f-texinfo-ignore-env"    => {
#                                  default => "example:smallexample:verbatim:lisp:smalllisp:small:display:snalldisplay:format:smallformat",
#                                  desc    => "Texinfo environments to ignore",
#                                  type    => 3,
#                                },
#   "filter"                  => { default => "url", desc => "add or removes a filter", type => 3 },
#   "filter-path"             => {
#                                  default => "<prefix:share/aspell>",
#                                  desc    => "path(s) aspell looks for filters",
#                                  type    => 3,
#                                },
#   "guess"                   => {
#                                  default => "false",
#                                  desc    => "create missing root/affix combinations",
#                                  type    => 2,
#                                },
#   "home-dir"                => {
#                                  default => "<\$HOME|./>",
#                                  desc    => "location for personal files",
#                                  type    => 0,
#                                },
#   "ignore"                  => { default => 1, desc => "ignore words <= n chars", type => 1 },
#   "ignore-accents"          => {
#                                  default => "false",
#                                  desc    => "ignore accents when checking words -- CURRENTLY IGNORED",
#                                  type    => 2,
#                                },
#   "ignore-case"             => {
#                                  default => "false",
#                                  desc    => "ignore case when checking words",
#                                  type    => 2,
#                                },
#   "ignore-repl"             => {
#                                  default => "false",
#                                  desc    => "ignore commands to store replacement pairs",
#                                  type    => 2,
#                                },
#   "invisible-soundslike"    => {
#                                  default => "false",
#                                  desc    => "compute soundslike on demand rather than storing",
#                                  type    => 2,
#                                },
#   "jargon"                  => { desc => "extra information for the word list", type => 0 },
#   "keyboard"                => {
#                                  default => "standard",
#                                  desc    => "keyboard definition to use for typo analysis",
#                                  type    => 0,
#                                },
#   "keymapping"              => {
#                                  default => "aspell",
#                                  desc    => "keymapping for check mode: \"aspell\" or \"ispell\"",
#                                  type    => 0,
#                                },
#   "lang"                    => { default => "<language-tag>", desc => "language code", type => 0 },
#   "language-tag"            => { default => "!lang", desc => "deprecated, use lang instead", type => 0 },
#   "local-data-dir"          => {
#                                  default => "<actual-dict-dir>",
#                                  desc    => "location of local language data files",
#                                  type    => 0,
#                                },
#   "master"                  => {
#                                  default => "<lang>",
#                                  desc    => "base name of the main dictionary to use",
#                                  type    => 0,
#                                },
#   "master-flags"            => { type => 0 },
#   "master-path"             => { default => "<dict-dir/master>", type => 0 },
#   "mode"                    => { default => "url", desc => "filter mode", type => 0 },
#   "module"                  => { default => "default", desc => "set module name", type => 0 },
#   "module-search-order"     => { desc => "search order for modules", type => 3 },
#   "norm-form"               => {
#                                  default => "nfc",
#                                  desc    => "Unicode normalization form: none, nfd, nfc, comp",
#                                  type    => 0,
#                                },
#   "norm-required"           => {
#                                  default => "false",
#                                  desc    => "Unicode normalization required for current lang",
#                                  type    => 2,
#                                },
#   "norm-strict"             => {
#                                  default => "false",
#                                  desc    => "avoid lossy conversions when normalization",
#                                  type    => 2,
#                                },
#   "normalize"               => { default => "true", desc => "enable Unicode normalization", type => 2 },
#   "partially-expand"        => {
#                                  default => "false",
#                                  desc    => "partially expand affixes for better suggestions",
#                                  type    => 2,
#                                },
#   "per-conf"                => {
#                                  default => ".aspell.conf",
#                                  desc    => "personal configuration file",
#                                  type    => 0,
#                                },
#   "per-conf-path"           => { default => "<home-dir/per-conf>", type => 0 },
#   "personal"                => {
#                                  default => ".aspell.<lang>.pws",
#                                  desc    => "personal dictionary file name",
#                                  type    => 0,
#                                },
#   "personal-path"           => { default => "<home-dir/personal>", type => 0 },
#   "prefix"                  => { default => "/usr/local", desc => "prefix directory", type => 0 },
#   "repl"                    => {
#                                  default => ".aspell.<lang>.prepl",
#                                  desc    => "replacements list file name",
#                                  type    => 0,
#                                },
#   "repl-path"               => { default => "<home-dir/repl>", type => 0 },
#   "reverse"                 => {
#                                  default => "false",
#                                  desc    => "reverse the order of the suggest list",
#                                  type    => 2,
#                                },
#   "run-together"            => {
#                                  default => "false",
#                                  desc    => "consider run-together words legal",
#                                  type    => 2,
#                                },
#   "run-together-limit"      => {
#                                  default => 2,
#                                  desc    => "maximum number that can be strung together",
#                                  type    => 1,
#                                },
#   "run-together-min"        => { default => 3, desc => "minimal length of interior words", type => 1 },
#   "save-repl"               => {
#                                  default => "true",
#                                  desc    => "save replacement pairs on save all",
#                                  type    => 2,
#                                },
#   "set-prefix"              => {
#                                  default => "true",
#                                  desc    => "set the prefix based on executable location",
#                                  type    => 2,
#                                },
#   "size"                    => { default => "+60", desc => "size of the word list", type => 0 },
#   "skip-invalid-words"      => { default => "true", desc => "skip invalid words", type => 2 },
#   "spelling"                => { desc => "no longer used", type => 0 },
#   "sug-edit-dist"           => {
#                                  default => 1,
#                                  desc    => "edit distance to use, override sug-mode default",
#                                  type    => 1,
#                                },
#   "sug-mode"                => { default => "normal", desc => "suggestion mode", type => 0 },
#   "sug-repl-table"          => {
#                                  default => "true",
#                                  desc    => "use replacement tables, override sug-mode default",
#                                  type    => 2,
#                                },
#   "sug-split-char"          => {
#                                  default => "\\ :-",
#                                  desc    => "characters to insert when a word is split",
#                                  type    => 3,
#                                },
#   "sug-typo-analysis"       => {
#                                  default => "true",
#                                  desc    => "use typo analysis, override sug-mode default",
#                                  type    => 2,
#                                },
#   "suggest"                 => { default => "true", desc => "suggest possible replacements", type => 2 },
#   "time"                    => {
#                                  default => "false",
#                                  desc    => "time load time and suggest time in pipe mode",
#                                  type    => 2,
#                                },
#   "use-other-dicts"         => {
#                                  default => "true",
#                                  desc    => "use personal, replacement & session dictionaries",
#                                  type    => 2,
#                                },
#   "validate-affixes"        => { default => "true", desc => "check if affix flags are valid", type => 2 },
#   "validate-words"          => { default => "true", desc => "check if words are valid", type => 2 },
#   "variety"                 => { desc => "extra information for the word list", type => 3 },
#   "warn"                    => { default => "true", desc => "enable warnings", type => 2 },
#   "word-list-path"          => {
#                                  default => "<prefix:lib/aspell-0.60>",
#                                  desc    => "search path for word list information files",
#                                  type    => 3,
#                                },
# }
t/00-load.t ............. ok
# Number of words: 7639
# Avg word length: 4.7581
# Number of sentences: 199
# Avg sentence length: 38.2563
# Misspellings: 88
# Unique misspellings: 60
# Flesch: 31.7636
# Fog: 21.8059
# Kincaid: 18.3653
t/01-us-constitution.t .. ok
# Number of words: 28616
# Avg word length: 4.2725
# Number of sentences: 1886
# Avg sentence length: 15.1670
# Misspellings: 461
# Unique misspellings: 294
# Flesch: 79.8782
# Fog: 8.3224
# Kincaid: 5.8873
t/02-christmas-carol.t .. ok
# Number of words: 1104223
# Avg word length: 3.9526
# Number of sentences: 79283
# Avg sentence length: 13.9276
# Misspellings: 87388
# Unique misspellings: 8170
# Flesch: 83.5333
# Fog: 8.0138
# Kincaid: 5.0681
t/03-bible.t ............ ok
t/pod-coverage.t ........ skipped: set RELEASE_TESTING to test POD
t/pod.t ................. ok
All tests successful.
Files=6, Tests=36, 18 wallclock secs ( 0.00 usr  0.04 sys + 15.69 cusr  1.41 csys = 17.13 CPU)
Result: PASS

------------------------------
PREREQUISITES
------------------------------

Prerequisite modules loaded:

requires:

    Module               Need     Have    
    -------------------- -------- --------
    Lingua::EN::Syllable 0.28     0.30    
    perl                 5.008003 5.022001
    Search::Tools        1.000    1.004   
    Test::More           0        1.302086
    Text::Aspell         0        0.09    

build_requires:

    Module               Need     Have    
    -------------------- -------- --------
    ExtUtils::MakeMaker  0        7.24    

configure_requires:

    Module               Need     Have    
    -------------------- -------- --------
    ExtUtils::MakeMaker  0        7.24    


------------------------------
ENVIRONMENT AND OTHER CONTEXT
------------------------------

Environment variables:

    LC_ALL = de_DE.ISO8859-1
    PATH = /usr/local/bin:/usr/bin:/bin:/usr/local/sbin:/usr/sbin:/sbin:/home/cpansand/bin/freebsd10.3:/home/cpansand/bin/sh:/home/cpansand/bin:/usr/games:/home/cpansand/devel:/home/eserte/src/srezic-misc/scripts
    PERL5LIB = 
    PERL5OPT = 
    PERL5_CPANPLUS_IS_RUNNING = 31544
    PERL5_CPAN_IS_RUNNING = 31544
    PERL5_CPAN_IS_RUNNING_IN_RECURSION = 31505,31544
    PERLDOC = -MPod::Perldoc::ToTextOverstrike
    PERL_BATCH = yes
    PERL_CANARY_STABILITY_NOPROMPT = 1
    PERL_CPAN_REPORTER_CONFIG = /var/tmp/cpansmoker-1023/2017090118/cpanreporter_000_config.ini
    PERL_EXTUTILS_AUTOINSTALL = --defaultdeps
    SHELL = /usr/local/bin/zsh
    TERM = screen
    TMPDIR = /var/tmp/cpansmoker-1023/2017090118

Perl special variables (and OS-specific diagnostics, for MSWin32):

    $^X = /usr/perl5.22.1p/bin/perl5.22.1
    $UID/$EUID = 1023 / 1023
    $GID = 1023 1023
    $EGID = 1023 1023

Perl module toolchain versions installed:

    Module              Have    
    ------------------- --------
    CPAN                2.16    
    CPAN::Meta          2.150010
    Cwd                 3.62    
    ExtUtils::CBuilder  0.280226
    ExtUtils::Command   7.24    
    ExtUtils::Install   2.14    
    ExtUtils::MakeMaker 7.24    
    ExtUtils::Manifest  1.70    
    ExtUtils::ParseXS   3.30    
    File::Spec          3.62    
    JSON                2.94    
    JSON::PP            2.94    
    Module::Build       0.4224  
    Module::Signature   0.79    
    Parse::CPAN::Meta   2.150010
    Test::Harness       3.38    
    Test::More          1.302086
    YAML                1.23    
    YAML::Syck          1.29    
    version             0.9917  


--

Summary of my perl5 (revision 5 version 22 subversion 1) configuration:
   
  Platform:
    osname=freebsd, osvers=10.1-release, archname=amd64-freebsd
    uname='freebsd cvrsnica-freebsd-101.herceg.de 10.1-release freebsd 10.1-release #0 r274401: tue nov 11 21:02:49 utc 2014 root@releng1.nyi.freebsd.org:usrobjusrsrcsysgeneric amd64 '
    config_args='-ds -e -Dprefix=/usr/perl5.22.1p -Dcf_email=srezic@cpan.org'
    hint=recommended, useposix=true, d_sigaction=define
    useithreads=undef, usemultiplicity=undef
    use64bitint=define, use64bitall=define, uselongdouble=undef
    usemymalloc=n, bincompat5005=undef
  Compiler:
    cc='cc', ccflags ='-DHAS_FPSETMASK -DHAS_FLOATINGPOINT_H -fno-strict-aliasing -pipe -fstack-protector -I/usr/local/include -D_FORTIFY_SOURCE=2',
    optimize='-O',
    cppflags='-DHAS_FPSETMASK -DHAS_FLOATINGPOINT_H -fno-strict-aliasing -pipe -fstack-protector -I/usr/local/include'
    ccversion='', gccversion='4.2.1 Compatible FreeBSD Clang 3.4.1 (tags/RELEASE_34/dot1-final 208032)', gccosandvers=''
    intsize=4, longsize=8, ptrsize=8, doublesize=8, byteorder=12345678, doublekind=3
    d_longlong=define, longlongsize=8, d_longdbl=define, longdblsize=16, longdblkind=3
    ivtype='long', ivsize=8, nvtype='double', nvsize=8, Off_t='off_t', lseeksize=8
    alignbytes=8, prototype=define
  Linker and Libraries:
    ld='cc', ldflags ='-pthread -Wl,-E  -fstack-protector -L/usr/local/lib'
    libpth=/usr/lib /usr/local/lib /usr/include/clang/3.4.1 /usr/lib
    libs=-lpthread -lgdbm -lm -lcrypt -lutil -lc
    perllibs=-lpthread -lm -lcrypt -lutil -lc
    libc=, so=so, useshrplib=false, libperl=libperl.a
    gnulibc_version=''
  Dynamic Linking:
    dlsrc=dl_dlopen.xs, dlext=so, d_dlsymun=undef, ccdlflags=' '
    cccdlflags='-DPIC -fPIC', lddlflags='-shared  -L/usr/local/lib -fstack-protector'


Characteristics of this binary (from libperl): 
  Compile-time options: HAS_TIMES PERLIO_LAYERS PERL_DONT_CREATE_GVSV
                        PERL_HASH_FUNC_ONE_AT_A_TIME_HARD PERL_MALLOC_WRAP
                        PERL_NEW_COPY_ON_WRITE PERL_PRESERVE_IVUV
                        USE_64_BIT_ALL USE_64_BIT_INT USE_LARGE_FILES
                        USE_LOCALE USE_LOCALE_COLLATE USE_LOCALE_CTYPE
                        USE_LOCALE_NUMERIC USE_LOCALE_TIME USE_PERLIO
                        USE_PERL_ATOF
  Built under freebsd
  Compiled at Dec 15 2015 07:47:22
  %ENV:
    PERL5LIB=""
    PERL5OPT=""
    PERL5_CPANPLUS_IS_RUNNING="31544"
    PERL5_CPAN_IS_RUNNING="31544"
    PERL5_CPAN_IS_RUNNING_IN_RECURSION="31505,31544"
    PERLDOC="-MPod::Perldoc::ToTextOverstrike"
    PERL_BATCH="yes"
    PERL_CANARY_STABILITY_NOPROMPT="1"
    PERL_CPAN_REPORTER_CONFIG="/var/tmp/cpansmoker-1023/2017090118/cpanreporter_000_config.ini"
    PERL_EXTUTILS_AUTOINSTALL="--defaultdeps"
  @INC:
    /usr/perl5.22.1p/lib/site_perl/5.22.1/amd64-freebsd
    /usr/perl5.22.1p/lib/site_perl/5.22.1
    /usr/perl5.22.1p/lib/5.22.1/amd64-freebsd
    /usr/perl5.22.1p/lib/5.22.1
    .