Report for Net-Twitter-4.01009

Back
From: metabase:user:320bfe00-2aae-11df-837a-5e0a49663a4f
Subject: PASS Net-Twitter-4.01009 v5.21.9 GNU/Linux
Date: 2015-03-24T21:35:01Z

This distribution has been tested as part of the CPAN Testers
project, supporting the Perl programming language.  See
http://wiki.cpantesters.org/ for more information or email
questions to cpan-testers-discuss@perl.org


--
Dear Marc Mims,

This is a computer-generated report for Net-Twitter-4.01009
on perl 5.21.9, created by CPAN-Reporter-1.2011.

Thank you for uploading your work to CPAN.  Congratulations!
All tests were successful.

Sections of this report:

    * Tester comments
    * Program output
    * Prerequisites
    * Environment and other context

------------------------------
TESTER COMMENTS
------------------------------

Additional comments from tester:

this report is from an automated smoke testing program
and was not reviewed by a human for accuracy

------------------------------
PROGRAM OUTPUT
------------------------------

Output from './Build test':

t/00-compile.t ................. ok
# Testing Net::Twitter 4.01009, Perl 5.021009, /home/sand/src/perl/repoperls/installed-perls/perl/v5.21.9/165a/bin/perl
t/00_load.t .................... ok
t/01_basic.t ................... ok
t/01_basic_v1_1.t .............. ok
t/02_fails.t ................... ok
t/10_net-twitter-regression.t .. ok
t/11_useragent.t ............... ok
t/12_identica.t ................ ok
t/13_search.t .................. ok
t/14_authenticate.t ............ ok
t/15_subclass.t ................ ok
t/20_exceptions.t .............. ok
t/20_generated.t ............... ok
t/21_wraperror.t ............... ok
t/22_twitter_insanity.t ........ ok
t/30_legacy.t .................. ok
t/40_nt_subclasses.t ........... ok
t/50_inflate_objects.t ......... ok
t/51_rate_limit.t .............. ok
t/51_since.t ................... ok
t/60-api_lists.t ............... ok
t/99-pod_spelling.t ............ skipped: set TEST_POD to enable this test
t/aliases.t .................... ok
t/app-auth.t ................... ok
t/auto-cursor.t ................ ok
t/deprecated_v1_1.t ............ ok
t/geo.t ........................ ok
t/leak.t ....................... ok
t/lookup_users.t ............... ok
t/release-pod-coverage.t ....... skipped: these tests are for release candidate testing
t/release-pod-syntax.t ......... skipped: these tests are for release candidate testing
t/retry.t ...................... ok
t/stack_trace.t ................ ok
Useless use of \E at t/stringent-encoding.t line 39.
t/stringent-encoding.t ......... ok
t/twitter_error.t .............. ok
t/unicode.t .................... ok
All tests successful.

Test Summary Report
-------------------
t/15_subclass.t              (Wstat: 0 Tests: 27 Failed: 0)
  TODO passed:   13-16, 18
Files=36, Tests=2935, 130 wallclock secs ( 0.31 usr  0.31 sys + 31.96 cusr  4.38 csys = 36.96 CPU)
Result: PASS

------------------------------
PREREQUISITES
------------------------------

Prerequisite modules loaded:

requires:

    Module                      Need                   Have    
    --------------------------- ---------------------- --------
    Carp::Clan                  0                      6.04    
    Class::Load                 0                      0.22    
    Data::Visitor::Callback     0                      0.30    
    DateTime                    0                      1.18    
    DateTime::Format::Strptime  0                      1.56    
    Devel::StackTrace           0                      2.00    
    Digest::SHA                 0                      5.95    
    Encode                      0                      2.70    
    HTML::Entities              0                      3.69    
    HTTP::Request::Common       0                      6.04    
    IO::Socket::SSL             2.005                  2.012   
    JSON                        0                      2.90    
    List::Util                  0                      1.41    
    LWP::Protocol::https        0                      6.06    
    Moose                       0                      2.1403  
    Moose::Exporter             0                      2.1403  
    Moose::Meta::Method         0                      2.1403  
    Moose::Role                 0                      2.1403  
    MooseX::Role::Parameterized 0                      1.08    
    namespace::autoclean        0                      0.24    
    Net::HTTP                   >= 0, != 6.04, != 6.05 6.07    
    Net::Netrc                  0                      3.05    
    Net::OAuth                  0                      0.28    
    overload                    0                      1.25    
    perl                        5.008001               5.021009
    Scalar::Util                0                      1.41    
    Time::HiRes                 0                      1.9726  
    Try::Tiny                   0                      0.22    
    URI                         0                      1.67    
    URI::Escape                 0                      3.31    

build_requires:

    Module                      Need                   Have    
    --------------------------- ---------------------- --------
    base                        0                      2.22    
    Carp                        0                      1.36    
    File::Find                  0                      1.29    
    File::Spec                  0                      3.53    
    File::Temp                  0                      0.2304  
    HTTP::Response              0                      6.04    
    lib                         0                      0.63    
    LWP::UserAgent              5.819                  6.13    
    Module::Build               0.3601                 0.4211  
    Net::OAuth::Message         0                      0       
    strict                      0                      1.09    
    Test::Fatal                 0                      0.014   
    Test::More                  0.88                   1.001014
    Test::Simple                0.98                   1.001014
    Test::Warn                  0                      0.30    
    utf8                        0                      1.14    
    warnings                    0                      1.31    

configure_requires:

    Module                      Need                   Have    
    --------------------------- ---------------------- --------
    Module::Build               0.3601                 0.4211  


------------------------------
ENVIRONMENT AND OTHER CONTEXT
------------------------------

Environment variables:

    AUTOMATED_TESTING = 1
    LANG = en_US.UTF-8
    LANGUAGE = en_US:en
    PATH = /home/sand/bin:/usr/local/bin:/usr/bin:/bin:/usr/games:/usr/local/perl/bin:/usr/X11/bin:/sbin:/usr/sbin
    PERL5LIB = 
    PERL5OPT = 
    PERL5_CPANPLUS_IS_RUNNING = 30460
    PERL5_CPAN_IS_RUNNING = 30460
    PERL_MM_USE_DEFAULT = 1
    SHELL = /usr/bin/zsh
    TERM = screen

Perl special variables (and OS-specific diagnostics, for MSWin32):

    $^X = /home/sand/src/perl/repoperls/installed-perls/perl/v5.21.9/165a/bin/perl
    $UID/$EUID = 1005 / 1005
    $GID = 1005 1005
    $EGID = 1005 1005

Perl module toolchain versions installed:

    Module              Have    
    ------------------- --------
    CPAN                2.10    
    CPAN::Meta          2.150001
    Cwd                 3.54    
    ExtUtils::CBuilder  0.280221
    ExtUtils::Command   7.05_17 
    ExtUtils::Install   2.04    
    ExtUtils::MakeMaker 7.05_17 
    ExtUtils::Manifest  1.70    
    ExtUtils::ParseXS   3.27    
    File::Spec          3.53    
    JSON                2.90    
    JSON::PP            2.27300 
    Module::Build       0.4211  
    Module::Signature   0.73    
    Parse::CPAN::Meta   1.4414  
    Test::Harness       3.35    
    Test::More          1.001014
    YAML                1.14    
    YAML::Syck          1.29    
    version             0.9912  


--

Summary of my perl5 (revision 5 version 21 subversion 9) configuration:
  Commit id: 9200eb3463082f416cc7f441ae6ec39829d1e46a
  Platform:
    osname=linux, osvers=3.16.0-4-amd64, archname=x86_64-linux
    uname='linux k83 3.16.0-4-amd64 #1 smp debian 3.16.7-ckt7-1 (2015-03-01) x86_64 gnulinux '
    config_args='-Dprefix=/home/sand/src/perl/repoperls/installed-perls/perl/v5.21.9/165a -Dmyhostname=k83 -Dinstallusrbinperl=n -Uversiononly -Dusedevel -des -Ui_db -Uuseithreads -Uuselongdouble -DDEBUGGING=-g'
    hint=recommended, useposix=true, d_sigaction=define
    useithreads=undef, usemultiplicity=undef
    use64bitint=define, use64bitall=define, uselongdouble=undef
    usemymalloc=n, bincompat5005=undef
  Compiler:
    cc='cc', ccflags ='-fwrapv -fno-strict-aliasing -pipe -fstack-protector-strong -I/usr/local/include -D_LARGEFILE_SOURCE -D_FILE_OFFSET_BITS=64 -D_FORTIFY_SOURCE=2',
    optimize='-O2 -g',
    cppflags='-fwrapv -fno-strict-aliasing -pipe -fstack-protector-strong -I/usr/local/include'
    ccversion='', gccversion='4.9.2', gccosandvers=''
    intsize=4, longsize=8, ptrsize=8, doublesize=8, byteorder=12345678, doublekind=3
    d_longlong=define, longlongsize=8, d_longdbl=define, longdblsize=16, longdblkind=3
    ivtype='long', ivsize=8, nvtype='double', nvsize=8, Off_t='off_t', lseeksize=8
    alignbytes=8, prototype=define
  Linker and Libraries:
    ld='cc', ldflags =' -fstack-protector-strong -L/usr/local/lib'
    libpth=/usr/local/lib /usr/lib/gcc/x86_64-linux-gnu/4.9/include-fixed /usr/include/x86_64-linux-gnu /usr/lib /lib/x86_64-linux-gnu /lib/../lib /usr/lib/x86_64-linux-gnu /usr/lib/../lib /lib
    libs=-lpthread -lnsl -lgdbm -ldb -ldl -lm -lcrypt -lutil -lc -lgdbm_compat
    perllibs=-lpthread -lnsl -ldl -lm -lcrypt -lutil -lc
    libc=libc-2.19.so, so=so, useshrplib=false, libperl=libperl.a
    gnulibc_version='2.19'
  Dynamic Linking:
    dlsrc=dl_dlopen.xs, dlext=so, d_dlsymun=undef, ccdlflags='-Wl,-E'
    cccdlflags='-fPIC', lddlflags='-shared -O2 -g -L/usr/local/lib -fstack-protector-strong'


Characteristics of this binary (from libperl): 
  Compile-time options: HAS_TIMES PERLIO_LAYERS PERL_DONT_CREATE_GVSV
                        PERL_HASH_FUNC_ONE_AT_A_TIME_HARD PERL_MALLOC_WRAP
                        PERL_NEW_COPY_ON_WRITE PERL_PRESERVE_IVUV
                        PERL_USE_DEVEL USE_64_BIT_ALL USE_64_BIT_INT
                        USE_LARGE_FILES USE_LOCALE USE_LOCALE_COLLATE
                        USE_LOCALE_CTYPE USE_LOCALE_NUMERIC USE_LOCALE_TIME
                        USE_PERLIO USE_PERL_ATOF
  Built under linux
  Compiled at Mar 14 2015 23:13:07
  %ENV:
    PERL5LIB=""
    PERL5OPT=""
    PERL5_CPANPLUS_IS_RUNNING="30460"
    PERL5_CPAN_IS_RUNNING="30460"
    PERL_MM_USE_DEFAULT="1"
  @INC:
    /home/sand/src/perl/repoperls/installed-perls/perl/v5.21.9/165a/lib/site_perl/5.21.9/x86_64-linux
    /home/sand/src/perl/repoperls/installed-perls/perl/v5.21.9/165a/lib/site_perl/5.21.9
    /home/sand/src/perl/repoperls/installed-perls/perl/v5.21.9/165a/lib/5.21.9/x86_64-linux
    /home/sand/src/perl/repoperls/installed-perls/perl/v5.21.9/165a/lib/5.21.9
    .