File-pfopen v0.02 Perl 5 v5.34.0 i86pc-solaris
- Status
- Pass
- From
- Nigel Horne
- Dist
-
File-pfopen v0.02
- Platform
- Perl 5 v5.34.0 i86pc-solaris
- Date
- 2021-08-17 13:25:44
- ID
- a06c36d0-ff5e-11eb-a258-528230a4c2fb
This distribution has been tested as part of the CPAN Testers
project, supporting the Perl programming language. See
http://wiki.cpantesters.org/ for more information or email
questions to cpan-testers-discuss@perl.org
--
Dear Nigel Horne,
This is a computer-generated report for File-pfopen-0.02
on perl 5.34.0, created by CPAN-Reporter-1.2018.
Thank you for uploading your work to CPAN. Congratulations!
All tests were successful.
Sections of this report:
* Tester comments
* Program output
* Prerequisites
* Environment and other context
------------------------------
TESTER COMMENTS
------------------------------
Additional comments from tester:
none provided
------------------------------
PROGRAM OUTPUT
------------------------------
Output from '/usr/bin/make test':
PERL_DL_NONLAZY=1 "/export/home/njh/perl5/perlbrew/perls/perl-5.34.0/bin/perl5.34.0" "-MExtUtils::Command::MM" "-MTest::Harness" "-e" "undef *Test::Harness::Switches; test_harness(0, 'blib/lib', 'blib/arch')" t/*.t
# Testing File::pfopen 0.02, Perl 5.034000, /export/home/njh/perl5/perlbrew/perls/perl-5.34.0/bin/perl5.34.0
t/00-load.t ... ok
t/coverage.t .. ok
t/dist.t ...... skipped: Author tests not required for installation
t/manifest.t .. skipped: Author tests not required for installation
t/pfopen.t .... ok
t/pod-cm.t .... skipped: Test::Pod::Spelling::CommonMistakes required for testing POD spelling
t/pod.t ....... skipped: Author tests not required for installation
All tests successful.
Files=7, Tests=20, 1 wallclock secs ( 0.05 usr 0.03 sys + 0.97 cusr 0.25 csys = 1.30 CPU)
Result: PASS
------------------------------
PREREQUISITES
------------------------------
Prerequisite modules loaded:
requires:
Module Need Have
------------------- -------- --------
Exporter 0 5.76
File::Spec 0 3.80
perl 5.006002 5.034000
build_requires:
Module Need Have
------------------- -------- --------
ExtUtils::MakeMaker 0 7.62
Test::Most 0 0.37
Test::NoWarnings 0 1.06
Test::TempDir::Tiny 0 0.018
configure_requires:
Module Need Have
------------------- -------- --------
ExtUtils::MakeMaker 0 7.62
------------------------------
ENVIRONMENT AND OTHER CONTEXT
------------------------------
Environment variables:
LANG = en_US.UTF-8
NONINTERACTIVE_TESTING = 1
PATH = /export/home/njh/perl5/perlbrew/bin:/export/home/njh/perl5/perlbrew/perls/perl-5.34.0/bin:/usr/bin:/usr/sbin:/sbin:/usr/gnu/bin
PERL5LIB =
PERL5OPT =
PERL5_CPANPLUS_IS_RUNNING = 20607
PERL5_CPAN_IS_RUNNING = 20607
PERLBREW_HOME = /export/home/njh/.perlbrew
PERLBREW_MANPATH = /export/home/njh/perl5/perlbrew/perls/perl-5.34.0/man
PERLBREW_PATH = /export/home/njh/perl5/perlbrew/bin:/export/home/njh/perl5/perlbrew/perls/perl-5.34.0/bin
PERLBREW_PERL = perl-5.34.0
PERLBREW_ROOT = /export/home/njh/perl5/perlbrew
PERLBREW_SHELLRC_VERSION = 0.92
PERLBREW_VERSION = 0.92
PERL_MM_USE_DEFAULT = 1
PERL_USE_UNSAFE_INC = 1
SHELL = /bin/bash
TERM = xterm-256color
Perl special variables (and OS-specific diagnostics, for MSWin32):
$^X = /export/home/njh/perl5/perlbrew/perls/perl-5.34.0/bin/perl5.34.0
$UID/$EUID = 101 / 101
$GID = 10 10
$EGID = 10 10
Perl module toolchain versions installed:
Module Have
------------------- --------
CPAN 2.28
CPAN::Meta 2.150010
Cwd 3.80
ExtUtils::CBuilder 0.280236
ExtUtils::Command 7.62
ExtUtils::Install 2.20
ExtUtils::MakeMaker 7.62
ExtUtils::Manifest 1.73
ExtUtils::ParseXS 3.43
File::Spec 3.80
JSON 4.03
JSON::PP 4.06
Module::Build 0.4231
Module::Signature n/a
Parse::CPAN::Meta 2.150010
Test::Harness 3.43
Test::More 1.302186
YAML 1.30
YAML::Syck 1.34
version 0.9929
--
Summary of my perl5 (revision 5 version 34 subversion 0) configuration:
Platform:
osname=solaris
osvers=2.11
archname=i86pc-solaris
uname='sunos njh1 5.11 illumos-06524cf4e4 i86pc i386 i86pc '
config_args='-de -Dprefix=/export/home/njh/perl5/perlbrew/perls/perl-5.34.0 -Aeval:scriptdir=/export/home/njh/perl5/perlbrew/perls/perl-5.34.0/bin'
hint=recommended
useposix=true
d_sigaction=define
useithreads=undef
usemultiplicity=undef
use64bitint=undef
use64bitall=undef
uselongdouble=undef
usemymalloc=n
default_inc_excludes_dot=define
Compiler:
cc='/usr/bin/gcc'
ccflags ='-fwrapv -fno-strict-aliasing -pipe -fstack-protector-strong -I/usr/gnu/include -D_LARGEFILE_SOURCE -D_FILE_OFFSET_BITS=64 -D_FORTIFY_SOURCE=2 -DPERL_USE_SAFE_PUTENV'
optimize='-O'
cppflags='-fwrapv -fno-strict-aliasing -pipe -fstack-protector-strong -I/usr/gnu/include'
ccversion=''
gccversion='7.5.0'
gccosandvers=''
intsize=4
longsize=4
ptrsize=4
doublesize=8
byteorder=1234
doublekind=3
d_longlong=define
longlongsize=8
d_longdbl=define
longdblsize=12
longdblkind=3
ivtype='long'
ivsize=4
nvtype='double'
nvsize=8
Off_t='off_t'
lseeksize=8
alignbytes=4
prototype=define
Linker and Libraries:
ld='/usr/bin/gcc'
ldflags =' -fstack-protector-strong -L/usr/gnu/lib '
libpth=/usr/gcc/7/lib /usr/lib /usr/gnu/lib /usr/ccs/lib
libs=-lpthread -lsocket -lnsl -lgdbm -ldb -ldl -lm -lc
perllibs=-lpthread -lsocket -lnsl -ldl -lm -lc
libc=/lib/libc.so
so=so
useshrplib=true
libperl=libperl.so
gnulibc_version=''
Dynamic Linking:
dlsrc=dl_dlopen.xs
dlext=so
d_dlsymun=undef
ccdlflags=' -R /export/home/njh/perl5/perlbrew/perls/perl-5.34.0/lib/5.34.0/i86pc-solaris/CORE'
cccdlflags='-fPIC'
lddlflags='-shared -L/usr/gnu/lib -fstack-protector-strong'
Characteristics of this binary (from libperl):
Compile-time options:
HAS_TIMES
PERLIO_LAYERS
PERL_COPY_ON_WRITE
PERL_DONT_CREATE_GVSV
PERL_MALLOC_WRAP
PERL_OP_PARENT
PERL_PRESERVE_IVUV
PERL_USE_SAFE_PUTENV
USE_LARGE_FILES
USE_LOCALE
USE_LOCALE_COLLATE
USE_LOCALE_CTYPE
USE_LOCALE_NUMERIC
USE_LOCALE_TIME
USE_PERLIO
USE_PERL_ATOF
Built under solaris
Compiled at May 24 2021 09:10:56
%ENV:
PERL5LIB=""
PERL5OPT=""
PERL5_CPANPLUS_IS_RUNNING="20607"
PERL5_CPAN_IS_RUNNING="20607"
PERLBREW_HOME="/export/home/njh/.perlbrew"
PERLBREW_MANPATH="/export/home/njh/perl5/perlbrew/perls/perl-5.34.0/man"
PERLBREW_PATH="/export/home/njh/perl5/perlbrew/bin:/export/home/njh/perl5/perlbrew/perls/perl-5.34.0/bin"
PERLBREW_PERL="perl-5.34.0"
PERLBREW_ROOT="/export/home/njh/perl5/perlbrew"
PERLBREW_SHELLRC_VERSION="0.92"
PERLBREW_VERSION="0.92"
PERL_MM_USE_DEFAULT="1"
PERL_USE_UNSAFE_INC="1"
@INC:
/export/home/njh/perl5/perlbrew/perls/perl-5.34.0/lib/site_perl/5.34.0/i86pc-solaris
/export/home/njh/perl5/perlbrew/perls/perl-5.34.0/lib/site_perl/5.34.0
/export/home/njh/perl5/perlbrew/perls/perl-5.34.0/lib/5.34.0/i86pc-solaris
/export/home/njh/perl5/perlbrew/perls/perl-5.34.0/lib/5.34.0
.