Array-IntSpan v2.004 Perl 5 v5.18.4 darwin-2level

Status
Pass
From
Slaven Rezić (SREZIC)
Dist
Array-IntSpan v2.004
Platform
Perl 5 v5.18.4 darwin-2level
Date
2020-04-03 16:03:15
ID
a061cd64-75c4-11ea-8466-c12f1f24ea8f
This distribution has been tested as part of the CPAN Testers
project, supporting the Perl programming language.  See
http://wiki.cpantesters.org/ for more information or email
questions to cpan-testers-discuss@perl.org


--
Dear Dominique Dumont,

This is a computer-generated report for Array-IntSpan-2.004
on perl 5.18.4, created by CPAN-Reporter-1.2018.

Thank you for uploading your work to CPAN.  Congratulations!
All tests were successful.

Sections of this report:

    * Tester comments
    * Program output
    * Prerequisites
    * Environment and other context

------------------------------
TESTER COMMENTS
------------------------------

Additional comments from tester:

none provided

------------------------------
PROGRAM OUTPUT
------------------------------

Output from '/usr/bin/make test':

PERL_DL_NONLAZY=1 /opt/perl-5.18.4/bin/perl "-MExtUtils::Command::MM" "-e" "test_harness(0, 'blib/lib', 'blib/arch')" t/*.t
t/clobbered_items.t ... ok
t/consolidate.t ....... ok
t/empty_span.t ........ ok
t/fields.t ............ ok
t/get_range.t ......... ok
t/get_splice_parms.t .. ok
t/search.t ............ ok
t/set_range.t ......... ok
All tests successful.
Files=8, Tests=178,  2 wallclock secs ( 0.07 usr  0.04 sys +  0.74 cusr  0.18 csys =  1.03 CPU)
Result: PASS

------------------------------
PREREQUISITES
------------------------------

Prerequisite modules loaded:

requires:

    Module              Need  Have    
    ------------------- ----- --------
    Carp                0     1.29    
    perl                5.008 5.018004

build_requires:

    Module              Need  Have    
    ------------------- ----- --------
    Data::Dumper        0     2.145   
    ExtUtils::MakeMaker 0     6.66    
    Test::More          0     1.302171

configure_requires:

    Module              Need  Have    
    ------------------- ----- --------
    ExtUtils::MakeMaker 0     6.66    


------------------------------
ENVIRONMENT AND OTHER CONTEXT
------------------------------

Environment variables:

    LANG = de_DE.UTF-8
    PATH = /usr/local/bin:/usr/bin:/bin:/usr/local/sbin:/usr/sbin:/sbin:/Users/slaven.rezic/bin/darwin18.0:/Users/slaven.rezic/bin/sh:/Users/slaven.rezic/bin:/Users/slaven.rezic/bin/pistachio-perl/bin:/usr/games:/Users/slaven.rezic/devel:/Users/slaven.rezic/work/drafts-slaven.rezic/misc:/Users/slaven.rezic/src/srezic-misc/scripts
    PERL5LIB = 
    PERL5OPT = 
    PERL5_CPANPLUS_IS_RUNNING = 69487
    PERL5_CPAN_IS_RUNNING = 69487
    PERL5_CPAN_IS_RUNNING_IN_RECURSION = 56043,69487
    PERLDOC = -MPod::Perldoc::ToTextOverstrike
    PERL_BATCH = yes
    PERL_CANARY_STABILITY_NOPROMPT = 1
    PERL_CPAN_REPORTER_CONFIG = /var/tmp/cpansmoker-501/2020040317/cpanreporter_001_config.ini
    PERL_EXTUTILS_AUTOINSTALL = --defaultdeps
    PERL_USE_UNSAFE_INC = 1
    SHELL = /bin/zsh
    TERM = screen
    TMPDIR = /var/tmp/cpansmoker-501/2020040317

Perl special variables (and OS-specific diagnostics, for MSWin32):

    $^X = /opt/perl-5.18.4/bin/perl
    $UID/$EUID = 501 / 501
    $GID = 20 20 701 12 61 80 702 33 98 100 204 250 395 398 703
    $EGID = 20 20 701 12 61 80 702 33 98 100 204 250 395 398 703

Perl module toolchain versions installed:

    Module              Have    
    ------------------- --------
    CPAN                2.27    
    CPAN::Meta          2.120921
    Cwd                 3.40    
    ExtUtils::CBuilder  0.280210
    ExtUtils::Command   1.17    
    ExtUtils::Install   1.59    
    ExtUtils::MakeMaker 6.66    
    ExtUtils::Manifest  1.63    
    ExtUtils::ParseXS   3.18    
    File::Spec          3.40    
    JSON                n/a     
    JSON::PP            2.27202 
    Module::Build       0.4003  
    Module::Signature   n/a     
    Parse::CPAN::Meta   1.4404  
    Test::Harness       3.26    
    Test::More          1.302171
    YAML                1.30    
    YAML::Syck          1.32    
    version             0.9902  


--

Summary of my perl5 (revision 5 version 18 subversion 4) configuration:
   
  Platform:
    osname=darwin, osvers=18.7.0, archname=darwin-2level
    uname='darwin w3tk 18.7.0 darwin kernel version 18.7.0: thu jan 23 06:52:12 pst 2020; root:xnu-4903.278.25~1release_x86_64 x86_64 '
    config_args='-ds -e -Dprefix=/opt/perl-5.18.4 -Dcf_email=srezic@cpan.org'
    hint=recommended, useposix=true, d_sigaction=define
    useithreads=undef, usemultiplicity=undef
    useperlio=define, d_sfio=undef, uselargefiles=define, usesocks=undef
    use64bitint=define, use64bitall=define, uselongdouble=undef
    usemymalloc=n, bincompat5005=undef
  Compiler:
    cc='cc', ccflags ='-fno-common -DPERL_DARWIN -mmacosx-version-min=10.14 -fno-strict-aliasing -pipe -fstack-protector -I/usr/local/include -DPERL_USE_SAFE_PUTENV',
    optimize='-O3',
    cppflags='-fno-common -DPERL_DARWIN -mmacosx-version-min=10.14 -fno-strict-aliasing -pipe -fstack-protector -I/usr/local/include'
    ccversion='', gccversion='4.2.1 Compatible Apple LLVM 10.0.1 (clang-1001.0.46.4)', gccosandvers=''
    intsize=4, longsize=8, ptrsize=8, doublesize=8, byteorder=12345678
    d_longlong=define, longlongsize=8, d_longdbl=define, longdblsize=16
    ivtype='long', ivsize=8, nvtype='double', nvsize=8, Off_t='off_t', lseeksize=8
    alignbytes=8, prototype=define
  Linker and Libraries:
    ld='cc', ldflags =' -mmacosx-version-min=10.14 -fstack-protector -L/usr/local/lib'
    libpth=/usr/local/lib /usr/lib
    libs=-lgdbm -ldbm -ldb -ldl -lm -lutil -lc
    perllibs=-ldl -lm -lutil -lc
    libc=, so=dylib, useshrplib=false, libperl=libperl.a
    gnulibc_version=''
  Dynamic Linking:
    dlsrc=dl_dlopen.xs, dlext=bundle, d_dlsymun=undef, ccdlflags=' '
    cccdlflags=' ', lddlflags=' -mmacosx-version-min=10.14 -bundle -undefined dynamic_lookup -L/usr/local/lib -fstack-protector'


Characteristics of this binary (from libperl): 
  Compile-time options: HAS_TIMES PERLIO_LAYERS PERL_DONT_CREATE_GVSV
                        PERL_HASH_FUNC_ONE_AT_A_TIME_HARD PERL_MALLOC_WRAP
                        PERL_PRESERVE_IVUV PERL_SAWAMPERSAND
                        PERL_USE_SAFE_PUTENV USE_64_BIT_ALL USE_64_BIT_INT
                        USE_LARGE_FILES USE_LOCALE USE_LOCALE_COLLATE
                        USE_LOCALE_CTYPE USE_LOCALE_NUMERIC USE_PERLIO
                        USE_PERL_ATOF
  Locally applied patches:
	Devel::PatchPerl 1.48
  Built under darwin
  Compiled at Feb  6 2020 17:11:34
  %ENV:
    PERL5LIB=""
    PERL5OPT=""
    PERL5_CPANPLUS_IS_RUNNING="69487"
    PERL5_CPAN_IS_RUNNING="69487"
    PERL5_CPAN_IS_RUNNING_IN_RECURSION="56043,69487"
    PERLDOC="-MPod::Perldoc::ToTextOverstrike"
    PERL_BATCH="yes"
    PERL_CANARY_STABILITY_NOPROMPT="1"
    PERL_CPAN_REPORTER_CONFIG="/var/tmp/cpansmoker-501/2020040317/cpanreporter_001_config.ini"
    PERL_EXTUTILS_AUTOINSTALL="--defaultdeps"
    PERL_USE_UNSAFE_INC="1"
  @INC:
    /opt/perl-5.18.4/lib/site_perl/5.18.4/darwin-2level
    /opt/perl-5.18.4/lib/site_perl/5.18.4
    /opt/perl-5.18.4/lib/5.18.4/darwin-2level
    /opt/perl-5.18.4/lib/5.18.4
    .