Report for Chart-Weather-Forecast-0.04

Back
From: metabase:user:30ae4450-2aae-11df-837a-5e0a49663a4f
Subject: PASS Chart-Weather-Forecast-0.04 v5.18.1 GNU/Linux
Date: 2014-03-26T15:30:57Z

This distribution has been tested as part of the CPAN Testers
project, supporting the Perl programming language.  See
http://wiki.cpantesters.org/ for more information or email
questions to cpan-testers-discuss@perl.org


--
Dear Mateu X. Hunter,

This is a computer-generated report for Chart-Weather-Forecast-0.04
on perl 5.18.1, created by CPAN-Reporter-1.2010.

Thank you for uploading your work to CPAN.  Congratulations!
All tests were successful.

Sections of this report:

    * Tester comments
    * Program output
    * Prerequisites
    * Environment and other context

------------------------------
TESTER COMMENTS
------------------------------

Additional comments from tester:

this report is from an automated smoke testing program
and was not reviewed by a human for accuracy

------------------------------
PROGRAM OUTPUT
------------------------------

Output from '/usr/bin/make test':

PERL_DL_NONLAZY=1 /home/c/perl5/perlbrew/perls/18.1i/bin/perl "-MExtUtils::Command::MM" "-MTest::Harness" "-e" "undef *Test::Harness::Switches; test_harness(0, 'blib/lib', 'blib/arch')" t/*.t
t/author-critic.t ......... skipped: these tests are for testing by the author
t/basic.t ................. ok
t/release-pod-coverage.t .. skipped: these tests are for release candidate testing
t/release-pod-syntax.t .... skipped: these tests are for release candidate testing
All tests successful.
Files=4, Tests=4,  3 wallclock secs ( 0.05 usr  0.01 sys +  1.95 cusr  0.13 csys =  2.14 CPU)
Result: PASS

------------------------------
PREREQUISITES
------------------------------

Prerequisite modules loaded:

requires:

    Module                                  Need Have    
    --------------------------------------- ---- --------
    Chart::Clicker                          0    2.87    
    Chart::Clicker::Data::DataSet           0    2.87    
    Chart::Clicker::Data::Range             0    2.87    
    Chart::Clicker::Data::Series            0    2.87    
    Chart::Clicker::Drawing::ColorAllocator 0    2.87    
    Data::Dumper::Concise                   0    2.021   
    Geometry::Primitive::Circle             0    0       
    Graphics::Color::RGB                    0    0.29    
    Graphics::Primitive::Font               0    0       
    List::Util                              0    1.35    
    Moose                                   0    2.1201  
    MooseX::Types::Path::Class              0    0.06    
    namespace::autoclean                    0    0.15    
    Number::Format                          0    1.73    
    Path::Class                             0    0.33    
    strictures                              1    1.005002

build_requires:

    Module                                  Need Have    
    --------------------------------------- ---- --------
    English                                 0    1.06    
    Test::More                              0    1.001002
    Try::Tiny                               0    0.18    

configure_requires:

    Module                                  Need Have    
    --------------------------------------- ---- --------
    ExtUtils::MakeMaker                     6.31 6.86    


------------------------------
ENVIRONMENT AND OTHER CONTEXT
------------------------------

Environment variables:

    AUTOMATED_TESTING = 1
    LANG = ru_RU.utf8
    PATH = /home/c/perl5/perlbrew/bin:/home/c/perl5/perlbrew/perls/18.1i/bin:/usr/local/bin:/usr/bin:/bin:/usr/local/games:/usr/games
    PERL5LIB = /home/c/.cpan/build/Chart-Clicker-2.87-qT63cR/blib/arch:/home/c/.cpan/build/Chart-Clicker-2.87-qT63cR/blib/lib:/home/c/.cpan/build/Graphics-Primitive-Driver-Cairo-0.46-A7MA7S/blib/arch:/home/c/.cpan/build/Graphics-Primitive-Driver-Cairo-0.46-A7MA7S/blib/lib:/home/c/.cpan/build/Text-Flow-0.01-QYlyro/blib/arch:/home/c/.cpan/build/Text-Flow-0.01-QYlyro/blib/lib:/home/c/.cpan/build/Layout-Manager-0.35-HRT2PV/blib/arch:/home/c/.cpan/build/Layout-Manager-0.35-HRT2PV/blib/lib:/home/c/.cpan/build/Graphics-Primitive-0.64-AUxYU5/blib/arch:/home/c/.cpan/build/Graphics-Primitive-0.64-AUxYU5/blib/lib:/home/c/.cpan/build/Geometry-Primitive-0.24-O2E0ky/blib/arch:/home/c/.cpan/build/Geometry-Primitive-0.24-O2E0ky/blib/lib:/home/c/.cpan/build/Graphics-Color-0.29-ctkkCk/blib/arch:/home/c/.cpan/build/Graphics-Color-0.29-ctkkCk/blib/lib:/home/c/.cpan/build/Color-Library-0.021-3EmyxG/blib/arch:/home/c/.cpan/build/Color-Library-0.021-3EmyxG/blib/lib:/home/c/.cpan/build/Forest-0.10-YSPZoG/blib/arch:/home/c/.cpan/build/Forest-0.10-YSPZoG/blib/lib:/home/c/.cpan/build/Color-Scheme-1.06-fk4nTm/blib/arch:/home/c/.cpan/build/Color-Scheme-1.06-fk4nTm/blib/lib
    PERL5OPT = 
    PERL5_CPANPLUS_IS_RUNNING = 11732
    PERL5_CPAN_IS_RUNNING = 11732
    PERL5_CPAN_IS_RUNNING_IN_RECURSION = 31462,11732
    PERLBREW_MANPATH = /home/c/perl5/perlbrew/perls/18.1i/man
    PERLBREW_PATH = /home/c/perl5/perlbrew/bin:/home/c/perl5/perlbrew/perls/18.1i/bin
    PERLBREW_PERL = 18.1i
    PERLBREW_ROOT = /home/c/perl5/perlbrew
    PERLBREW_SKIP_INIT = 1
    PERLBREW_VERSION = 0.67
    PERL_CR_SMOKER_CURRENT = Chart-Weather-Forecast-0.04
    PERL_EXTUTILS_AUTOINSTALL = --defaultdeps
    PERL_MM_USE_DEFAULT = 1
    SHELL = /bin/bash
    TERM = xterm

Perl special variables (and OS-specific diagnostics, for MSWin32):

    $^X = /home/c/perl5/perlbrew/perls/18.1i/bin/perl
    $UID/$EUID = 1000 / 1000
    $GID = 1000 24 25 29 30 44 46 103 105 108 110 1000
    $EGID = 1000 24 25 29 30 44 46 103 105 108 110 1000

Perl module toolchain versions installed:

    Module              Have    
    ------------------- --------
    CPAN                2.00    
    CPAN::Meta          2.133380
    Cwd                 3.40    
    ExtUtils::CBuilder  0.280210
    ExtUtils::Command   1.17    
    ExtUtils::Install   1.59    
    ExtUtils::MakeMaker 6.86    
    ExtUtils::Manifest  1.63    
    ExtUtils::ParseXS   3.22    
    File::Spec          3.40    
    JSON                2.90    
    JSON::PP            2.27203 
    Module::Build       0.4204  
    Module::Signature   n/a     
    Parse::CPAN::Meta   1.4405  
    Test::Harness       3.30    
    Test::More          1.001002
    YAML                0.88    
    YAML::Syck          1.27    
    version             0.9907  


--

Summary of my perl5 (revision 5 version 18 subversion 1) configuration:
   
  Platform:
    osname=linux, osvers=3.2.0-4-486, archname=i686-linux-thread-multi
    uname='linux deb7 3.2.0-4-486 #1 debian 3.2.51-1 i686 gnulinux '
    config_args='-de -Dprefix=/home/c/perl5/perlbrew/perls/18.1i -Dusethreads -Aeval:scriptdir=/home/c/perl5/perlbrew/perls/18.1i/bin'
    hint=recommended, useposix=true, d_sigaction=define
    useithreads=define, usemultiplicity=define
    useperlio=define, d_sfio=undef, uselargefiles=define, usesocks=undef
    use64bitint=undef, use64bitall=undef, uselongdouble=undef
    usemymalloc=n, bincompat5005=undef
  Compiler:
    cc='cc', ccflags ='-D_REENTRANT -D_GNU_SOURCE -fno-strict-aliasing -pipe -fstack-protector -I/usr/local/include -D_LARGEFILE_SOURCE -D_FILE_OFFSET_BITS=64',
    optimize='-O2',
    cppflags='-D_REENTRANT -D_GNU_SOURCE -fno-strict-aliasing -pipe -fstack-protector -I/usr/local/include'
    ccversion='', gccversion='4.7.2', gccosandvers=''
    intsize=4, longsize=4, ptrsize=4, doublesize=8, byteorder=1234
    d_longlong=define, longlongsize=8, d_longdbl=define, longdblsize=12
    ivtype='long', ivsize=4, nvtype='double', nvsize=8, Off_t='off_t', lseeksize=8
    alignbytes=4, prototype=define
  Linker and Libraries:
    ld='cc', ldflags =' -fstack-protector -L/usr/local/lib'
    libpth=/usr/local/lib /lib/i386-linux-gnu /lib/../lib /usr/lib/i386-linux-gnu /usr/lib/../lib /lib /usr/lib
    libs=-lnsl -lgdbm -ldb -ldl -lm -lcrypt -lutil -lpthread -lc -lgdbm_compat
    perllibs=-lnsl -ldl -lm -lcrypt -lutil -lpthread -lc
    libc=, so=so, useshrplib=false, libperl=libperl.a
    gnulibc_version='2.13'
  Dynamic Linking:
    dlsrc=dl_dlopen.xs, dlext=so, d_dlsymun=undef, ccdlflags='-Wl,-E'
    cccdlflags='-fPIC', lddlflags='-shared -O2 -L/usr/local/lib -fstack-protector'


Characteristics of this binary (from libperl): 
  Compile-time options: HAS_TIMES MULTIPLICITY PERLIO_LAYERS
                        PERL_DONT_CREATE_GVSV
                        PERL_HASH_FUNC_ONE_AT_A_TIME_HARD
                        PERL_IMPLICIT_CONTEXT PERL_MALLOC_WRAP
                        PERL_PRESERVE_IVUV PERL_SAWAMPERSAND USE_ITHREADS
                        USE_LARGE_FILES USE_LOCALE USE_LOCALE_COLLATE
                        USE_LOCALE_CTYPE USE_LOCALE_NUMERIC USE_PERLIO
                        USE_PERL_ATOF USE_REENTRANT_API
  Built under linux
  Compiled at Jan 14 2014 14:37:40
  %ENV:
    PERL5LIB="/home/c/.cpan/build/Chart-Clicker-2.87-qT63cR/blib/arch:/home/c/.cpan/build/Chart-Clicker-2.87-qT63cR/blib/lib:/home/c/.cpan/build/Graphics-Primitive-Driver-Cairo-0.46-A7MA7S/blib/arch:/home/c/.cpan/build/Graphics-Primitive-Driver-Cairo-0.46-A7MA7S/blib/lib:/home/c/.cpan/build/Text-Flow-0.01-QYlyro/blib/arch:/home/c/.cpan/build/Text-Flow-0.01-QYlyro/blib/lib:/home/c/.cpan/build/Layout-Manager-0.35-HRT2PV/blib/arch:/home/c/.cpan/build/Layout-Manager-0.35-HRT2PV/blib/lib:/home/c/.cpan/build/Graphics-Primitive-0.64-AUxYU5/blib/arch:/home/c/.cpan/build/Graphics-Primitive-0.64-AUxYU5/blib/lib:/home/c/.cpan/build/Geometry-Primitive-0.24-O2E0ky/blib/arch:/home/c/.cpan/build/Geometry-Primitive-0.24-O2E0ky/blib/lib:/home/c/.cpan/build/Graphics-Color-0.29-ctkkCk/blib/arch:/home/c/.cpan/build/Graphics-Color-0.29-ctkkCk/blib/lib:/home/c/.cpan/build/Color-Library-0.021-3EmyxG/blib/arch:/home/c/.cpan/build/Color-Library-0.021-3EmyxG/blib/lib:/home/c/.cpan/build/Forest-0.10-YSPZoG/blib/arch:/home/c/.cpan/build/Forest-0.10-YSPZoG/blib/lib:/home/c/.cpan/build/Color-Scheme-1.06-fk4nTm/blib/arch:/home/c/.cpan/build/Color-Scheme-1.06-fk4nTm/blib/lib"
    PERL5OPT=""
    PERL5_CPANPLUS_IS_RUNNING="11732"
    PERL5_CPAN_IS_RUNNING="11732"
    PERL5_CPAN_IS_RUNNING_IN_RECURSION="31462,11732"
    PERLBREW_MANPATH="/home/c/perl5/perlbrew/perls/18.1i/man"
    PERLBREW_PATH="/home/c/perl5/perlbrew/bin:/home/c/perl5/perlbrew/perls/18.1i/bin"
    PERLBREW_PERL="18.1i"
    PERLBREW_ROOT="/home/c/perl5/perlbrew"
    PERLBREW_SKIP_INIT="1"
    PERLBREW_VERSION="0.67"
    PERL_CR_SMOKER_CURRENT="Chart-Weather-Forecast-0.04"
    PERL_EXTUTILS_AUTOINSTALL="--defaultdeps"
    PERL_MM_USE_DEFAULT="1"
  @INC:
    /home/c/.cpan/build/Chart-Clicker-2.87-qT63cR/blib/arch
    /home/c/.cpan/build/Chart-Clicker-2.87-qT63cR/blib/lib
    /home/c/.cpan/build/Graphics-Primitive-Driver-Cairo-0.46-A7MA7S/blib/arch
    /home/c/.cpan/build/Graphics-Primitive-Driver-Cairo-0.46-A7MA7S/blib/lib
    /home/c/.cpan/build/Text-Flow-0.01-QYlyro/blib/arch
    /home/c/.cpan/build/Text-Flow-0.01-QYlyro/blib/lib
    /home/c/.cpan/build/Layout-Manager-0.35-HRT2PV/blib/arch
    /home/c/.cpan/build/Layout-Manager-0.35-HRT2PV/blib/lib
    /home/c/.cpan/build/Graphics-Primitive-0.64-AUxYU5/blib/arch
    /home/c/.cpan/build/Graphics-Primitive-0.64-AUxYU5/blib/lib
    /home/c/.cpan/build/Geometry-Primitive-0.24-O2E0ky/blib/arch
    /home/c/.cpan/build/Geometry-Primitive-0.24-O2E0ky/blib/lib
    /home/c/.cpan/build/Graphics-Color-0.29-ctkkCk/blib/arch
    /home/c/.cpan/build/Graphics-Color-0.29-ctkkCk/blib/lib
    /home/c/.cpan/build/Color-Library-0.021-3EmyxG/blib/arch
    /home/c/.cpan/build/Color-Library-0.021-3EmyxG/blib/lib
    /home/c/.cpan/build/Forest-0.10-YSPZoG/blib/arch
    /home/c/.cpan/build/Forest-0.10-YSPZoG/blib/lib
    /home/c/.cpan/build/Color-Scheme-1.06-fk4nTm/blib/arch
    /home/c/.cpan/build/Color-Scheme-1.06-fk4nTm/blib/lib
    /home/c/perl5/perlbrew/perls/18.1i/lib/site_perl/5.18.1/i686-linux-thread-multi
    /home/c/perl5/perlbrew/perls/18.1i/lib/site_perl/5.18.1
    /home/c/perl5/perlbrew/perls/18.1i/lib/5.18.1/i686-linux-thread-multi
    /home/c/perl5/perlbrew/perls/18.1i/lib/5.18.1
    .