Report for Class-Method-Modifiers-2.08

Back
From: metabase:user:3143a46e-bb30-11e0-8dd5-45d7e6fb0a34
Subject: PASS Class-Method-Modifiers-2.08 v5.18.1 GNU/Linux
Date: 2013-11-12T04:55:17Z

This distribution has been tested as part of the CPAN Testers
project, supporting the Perl programming language.  See
http://wiki.cpantesters.org/ for more information or email
questions to cpan-testers-discuss@perl.org


--
Dear Karen Etheridge,

This is a computer-generated report for Class-Method-Modifiers-2.08
on perl 5.18.1, created by CPAN-Reporter-1.2010.

Thank you for uploading your work to CPAN.  Congratulations!
All tests were successful.

Sections of this report:

    * Tester comments
    * Program output
    * Prerequisites
    * Environment and other context

------------------------------
TESTER COMMENTS
------------------------------

Additional comments from tester:

none provided

------------------------------
PROGRAM OUTPUT
------------------------------

Output from './Build test':

t/00-compile.t ...................... ok
# Prerequisite Report:
#    Version Module               
#   -------- ---------------------
#    1.42_01 B                    
#       1.29 Carp                 
#       5.68 Exporter             
#       6.66 ExtUtils::MakeMaker  
#       3.40 File::Spec           
#       3.40 File::Spec::Functions
#       1.34 IO::Handle           
#       1.13 IPC::Open3           
#       1.35 List::Util           
#      0.030 Module::Build::Tiny  
#      0.013 Test::Fatal          
#   1.001002 Test::More           
#       2.18 base                 
#     0.0602 if                   
#       1.07 strict               
#       1.18 warnings             
t/00-report-prereqs.t ............... ok
t/000-load.t ........................ ok
t/001-error.t ....................... ok
t/002-cache.t ....................... ok
t/003-basic.t ....................... ok
t/004-around.t ...................... ok
t/005-return.t ...................... ok
t/010-before-args.t ................. ok
t/011-after-args.t .................. ok
t/012-around-args.t ................. ok
t/020-multiple-inheritance.t ........ ok
t/030-multiple-before.t ............. ok
t/031-multiple-after.t .............. ok
t/032-multiple-around.t ............. ok
t/034-multiple-everything.t ......... ok
t/035-multiple-everything-twice.t ... ok
t/040-twice-orig.t .................. ok
t/041-modify-parent.t ............... ok
t/051-undef-list-ctxt.t ............. ok
t/060-caller.t ...................... ok
t/070-modify-multiple-at-once.t ..... ok
t/080-multiple-modifiers.t .......... ok
t/081-sub-and-modifier.t ............ ok
t/090-diamond.t ..................... ok
t/100-class-mop-method-modifiers.t .. ok
t/110-namespace-clean.t ............. ok
t/120-fresh.t ....................... ok
t/130-clean-underscore.t ............ ok
t/140-lvalue.t ...................... ok
All tests successful.
Files=30, Tests=130,  1 wallclock secs ( 0.07 usr  0.04 sys +  0.77 cusr  0.11 csys =  0.99 CPU)
Result: PASS

------------------------------
PREREQUISITES
------------------------------

Prerequisite modules loaded:

requires:

    Module                Need  Have    
    --------------------- ----- --------
    B                     0     1.42_01 
    base                  0     2.18    
    Carp                  0     1.29    
    Exporter              0     5.68    
    perl                  5.006 5.018001
    strict                0     1.07    
    warnings              0     1.18    

build_requires:

    Module                Need  Have    
    --------------------- ----- --------
    ExtUtils::MakeMaker   0     6.66    
    File::Spec            0     3.40    
    File::Spec::Functions 0     3.40    
    if                    0     0.0602  
    IO::Handle            0     1.34    
    IPC::Open3            0     1.13    
    List::Util            0     1.35    
    Test::Fatal           0     0.013   
    Test::More            0.94  1.001002

configure_requires:

    Module                Need  Have    
    --------------------- ----- --------
    ExtUtils::MakeMaker   6.30  6.66    
    Module::Build::Tiny   0.028 0.030   


------------------------------
ENVIRONMENT AND OTHER CONTEXT
------------------------------

Environment variables:

    LANG = en_US.UTF-8
    PATH = /home/kirk/perl5/perlbrew/bin:/home/kirk/perl5/perlbrew/perls/perl-5.18.1/bin:/home/kirk/bin:/usr/local/bin:/usr/bin:/bin:/usr/bin/X11:/usr/X11R6/bin:/usr/games
    PERL5LIB = 
    PERL5OPT = 
    PERL5_CPANPLUS_IS_RUNNING = 20324
    PERL5_CPAN_IS_RUNNING = 20324
    PERLBREW_BASHRC_VERSION = 0.66
    PERLBREW_HOME = /home/kirk/.perlbrew
    PERLBREW_MANPATH = /home/kirk/perl5/perlbrew/perls/perl-5.18.1/man
    PERLBREW_PATH = /home/kirk/perl5/perlbrew/bin:/home/kirk/perl5/perlbrew/perls/perl-5.18.1/bin
    PERLBREW_PERL = perl-5.18.1
    PERLBREW_ROOT = /home/kirk/perl5/perlbrew
    PERLBREW_VERSION = 0.66
    SHELL = /bin/bash
    TERM = xterm
    TMPDIR = /tmp

Perl special variables (and OS-specific diagnostics, for MSWin32):

    $^X = /home/kirk/perl5/perlbrew/perls/perl-5.18.1/bin/perl
    $UID/$EUID = 1000 / 1000
    $GID = 100 33 100 1000
    $EGID = 100 33 100 1000

Perl module toolchain versions installed:

    Module              Have    
    ------------------- --------
    CPAN                2.00    
    CPAN::Meta          2.132830
    Cwd                 3.40    
    ExtUtils::CBuilder  0.280210
    ExtUtils::Command   1.17    
    ExtUtils::Install   1.59    
    ExtUtils::MakeMaker 6.66    
    ExtUtils::Manifest  1.63    
    ExtUtils::ParseXS   3.18    
    File::Spec          3.40    
    JSON                2.90    
    JSON::PP            2.27202 
    Module::Build       0.4003  
    Module::Signature   n/a     
    Parse::CPAN::Meta   1.4404  
    Test::Harness       3.29    
    Test::More          1.001002
    YAML                0.84    
    YAML::Syck          n/a     
    version             0.9902  


--

Summary of my perl5 (revision 5 version 18 subversion 1) configuration:
   
  Platform:
    osname=linux, osvers=3.4.47-2.38-desktop, archname=x86_64-linux
    uname='linux rock-on 3.4.47-2.38-desktop #1 smp preempt fri may 31 20:17:40 utc 2013 (3961086) x86_64 x86_64 x86_64 gnulinux '
    config_args='-de -Dprefix=/home/kirk/perl5/perlbrew/perls/perl-5.18.1 -Aeval:scriptdir=/home/kirk/perl5/perlbrew/perls/perl-5.18.1/bin'
    hint=recommended, useposix=true, d_sigaction=define
    useithreads=undef, usemultiplicity=undef
    useperlio=define, d_sfio=undef, uselargefiles=define, usesocks=undef
    use64bitint=define, use64bitall=define, uselongdouble=undef
    usemymalloc=n, bincompat5005=undef
  Compiler:
    cc='cc', ccflags ='-fno-strict-aliasing -pipe -fstack-protector -I/usr/local/include -D_LARGEFILE_SOURCE -D_FILE_OFFSET_BITS=64',
    optimize='-O2',
    cppflags='-fno-strict-aliasing -pipe -fstack-protector -I/usr/local/include'
    ccversion='', gccversion='4.7.1 20120723 [gcc-4_7-branch revision 189773]', gccosandvers=''
    intsize=4, longsize=8, ptrsize=8, doublesize=8, byteorder=12345678
    d_longlong=define, longlongsize=8, d_longdbl=define, longdblsize=16
    ivtype='long', ivsize=8, nvtype='double', nvsize=8, Off_t='off_t', lseeksize=8
    alignbytes=8, prototype=define
  Linker and Libraries:
    ld='cc', ldflags =' -fstack-protector -L/usr/local/lib'
    libpth=/usr/local/lib /lib/../lib64 /usr/lib/../lib64 /lib /usr/lib /lib64 /usr/lib64 /usr/local/lib64
    libs=-lnsl -ldl -lm -lcrypt -lutil -lc
    perllibs=-lnsl -ldl -lm -lcrypt -lutil -lc
    libc=/lib/libc-2.15.so, so=so, useshrplib=false, libperl=libperl.a
    gnulibc_version='2.15'
  Dynamic Linking:
    dlsrc=dl_dlopen.xs, dlext=so, d_dlsymun=undef, ccdlflags='-Wl,-E'
    cccdlflags='-fPIC', lddlflags='-shared -O2 -L/usr/local/lib -fstack-protector'


Characteristics of this binary (from libperl): 
  Compile-time options: HAS_TIMES PERLIO_LAYERS PERL_DONT_CREATE_GVSV
                        PERL_HASH_FUNC_ONE_AT_A_TIME_HARD PERL_MALLOC_WRAP
                        PERL_PRESERVE_IVUV PERL_SAWAMPERSAND USE_64_BIT_ALL
                        USE_64_BIT_INT USE_LARGE_FILES USE_LOCALE
                        USE_LOCALE_COLLATE USE_LOCALE_CTYPE
                        USE_LOCALE_NUMERIC USE_PERLIO USE_PERL_ATOF
  Built under linux
  Compiled at Nov 11 2013 22:06:56
  %ENV:
    PERL5LIB=""
    PERL5OPT=""
    PERL5_CPANPLUS_IS_RUNNING="20324"
    PERL5_CPAN_IS_RUNNING="20324"
    PERLBREW_BASHRC_VERSION="0.66"
    PERLBREW_HOME="/home/kirk/.perlbrew"
    PERLBREW_MANPATH="/home/kirk/perl5/perlbrew/perls/perl-5.18.1/man"
    PERLBREW_PATH="/home/kirk/perl5/perlbrew/bin:/home/kirk/perl5/perlbrew/perls/perl-5.18.1/bin"
    PERLBREW_PERL="perl-5.18.1"
    PERLBREW_ROOT="/home/kirk/perl5/perlbrew"
    PERLBREW_VERSION="0.66"
  @INC:
    /home/kirk/perl5/perlbrew/perls/perl-5.18.1/lib/site_perl/5.18.1/x86_64-linux
    /home/kirk/perl5/perlbrew/perls/perl-5.18.1/lib/site_perl/5.18.1
    /home/kirk/perl5/perlbrew/perls/perl-5.18.1/lib/5.18.1/x86_64-linux
    /home/kirk/perl5/perlbrew/perls/perl-5.18.1/lib/5.18.1
    .