SQL-Translator v1.66 Perl 5 v5.36.0 darwin-2level

Status
Pass
From
Amory Meltzer
Dist
SQL-Translator v1.66
Platform
Perl 5 v5.36.0 darwin-2level
Date
2025-03-12 16:11:16
ID
a02c51b2-ff5c-11ef-a54f-de43ab5adc97
This distribution has been tested as part of the CPAN Testers
project, supporting the Perl programming language.  See
http://wiki.cpantesters.org/ for more information or email
questions to cpan-testers-discuss@perl.org


--
Dear VEESH,

This is a computer-generated report for SQL-Translator-1.66
on perl 5.36.0, created by App::cpanminus::reporter 0.22 (1.7046).

Thank you for uploading your work to CPAN.  Congratulations!
All tests were successful.

Sections of this report:

    * Tester comments
    * Program output
    * Prerequisites
    * Environment and other context

------------------------------
TESTER COMMENTS
------------------------------

Additional comments from tester:

none provided

------------------------------
PROGRAM OUTPUT
------------------------------

Output from '':

Building and testing SQL-Translator-1.66
cp share/DiaUml/uml-class-end.tt2 blib/lib/auto/share/dist/SQL-Translator/DiaUml/uml-class-end.tt2
cp share/DiaUml/schema.tt2 blib/lib/auto/share/dist/SQL-Translator/DiaUml/schema.tt2
cp share/DiaUml/uml-class.tt2 blib/lib/auto/share/dist/SQL-Translator/DiaUml/uml-class.tt2
cp share/DiaUml/uml-class-start.tt2 blib/lib/auto/share/dist/SQL-Translator/DiaUml/uml-class-start.tt2
cp share/DiaUml/layer.tt2 blib/lib/auto/share/dist/SQL-Translator/DiaUml/layer.tt2
cp share/DiaUml/uml-class-all.tt2 blib/lib/auto/share/dist/SQL-Translator/DiaUml/uml-class-all.tt2
cp share/PrecompiledParsers/Parse/RecDescent/DDL/SQLT/README blib/lib/auto/share/dist/SQL-Translator/PrecompiledParsers/Parse/RecDescent/DDL/SQLT/README
cp share/DiaUml/diagram.tt2 blib/lib/auto/share/dist/SQL-Translator/DiaUml/diagram.tt2
cp share/DiaUml/uml-attribute.tt2 blib/lib/auto/share/dist/SQL-Translator/DiaUml/uml-attribute.tt2
cp lib/SQL/Translator/Diff.pm blib/lib/SQL/Translator/Diff.pm
cp lib/SQL/Translator/Generator/Role/DDL.pm blib/lib/SQL/Translator/Generator/Role/DDL.pm
cp lib/SQL/Translator/Schema/Constraint.pm blib/lib/SQL/Translator/Schema/Constraint.pm
cp lib/SQL/Translator/Parser/DBI/PostgreSQL.pm blib/lib/SQL/Translator/Parser/DBI/PostgreSQL.pm
cp lib/SQL/Translator/Parser/YAML.pm blib/lib/SQL/Translator/Parser/YAML.pm
cp lib/SQL/Translator/Parser/Excel.pm blib/lib/SQL/Translator/Parser/Excel.pm
cp lib/SQL/Translator/Parser/XML/SQLFairy.pm blib/lib/SQL/Translator/Parser/XML/SQLFairy.pm
cp lib/SQL/Translator/Parser/DBI/SQLite.pm blib/lib/SQL/Translator/Parser/DBI/SQLite.pm
cp lib/SQL/Translator/Utils.pm blib/lib/SQL/Translator/Utils.pm
cp lib/SQL/Translator/Parser/XML.pm blib/lib/SQL/Translator/Parser/XML.pm
cp lib/SQL/Translator/Parser/SQLServer.pm blib/lib/SQL/Translator/Parser/SQLServer.pm
cp lib/SQL/Translator/Manual.pod blib/lib/SQL/Translator/Manual.pod
cp lib/SQL/Translator/Producer/JSON.pm blib/lib/SQL/Translator/Producer/JSON.pm
cp lib/SQL/Translator/Role/Debug.pm blib/lib/SQL/Translator/Role/Debug.pm
cp lib/SQL/Translator/Parser/DBI/MySQL.pm blib/lib/SQL/Translator/Parser/DBI/MySQL.pm
cp lib/SQL/Translator/Parser/DBI.pm blib/lib/SQL/Translator/Parser/DBI.pm
cp lib/SQL/Translator/Parser/DB2.pm blib/lib/SQL/Translator/Parser/DB2.pm
cp lib/SQL/Translator/Generator/DDL/SQLite.pm blib/lib/SQL/Translator/Generator/DDL/SQLite.pm
cp lib/SQL/Translator/Role/Error.pm blib/lib/SQL/Translator/Role/Error.pm
cp lib/SQL/Translator/Parser/Storable.pm blib/lib/SQL/Translator/Parser/Storable.pm
cp lib/SQL/Translator/Generator/DDL/MySQL.pm blib/lib/SQL/Translator/Generator/DDL/MySQL.pm
cp lib/SQL/Translator/Parser/DBI/Oracle.pm blib/lib/SQL/Translator/Parser/DBI/Oracle.pm
cp lib/SQL/Translator/Producer/SQLServer.pm blib/lib/SQL/Translator/Producer/SQLServer.pm
cp lib/SQL/Translator/Role/ListAttr.pm blib/lib/SQL/Translator/Role/ListAttr.pm
cp lib/SQL/Translator/Producer/Storable.pm blib/lib/SQL/Translator/Producer/Storable.pm
cp lib/SQL/Translator/Producer/TT/Base.pm blib/lib/SQL/Translator/Producer/TT/Base.pm
cp lib/SQL/Translator/Generator/Role/Quote.pm blib/lib/SQL/Translator/Generator/Role/Quote.pm
cp lib/SQL/Translator/Producer/YAML.pm blib/lib/SQL/Translator/Producer/YAML.pm
cp lib/SQL/Translator/Producer/TTSchema.pm blib/lib/SQL/Translator/Producer/TTSchema.pm
cp lib/SQL/Translator/Producer/Diagram.pm blib/lib/SQL/Translator/Producer/Diagram.pm
cp lib/SQL/Translator/Schema/Constants.pm blib/lib/SQL/Translator/Schema/Constants.pm
cp lib/SQL/Translator/Schema/IndexField.pm blib/lib/SQL/Translator/Schema/IndexField.pm
cp lib/SQL/Translator/Producer/GraphViz.pm blib/lib/SQL/Translator/Producer/GraphViz.pm
cp lib/SQL/Translator/Filter/Globals.pm blib/lib/SQL/Translator/Filter/Globals.pm
cp lib/SQL/Translator/Schema/Index.pm blib/lib/SQL/Translator/Schema/Index.pm
cp lib/SQL/Translator/Parser/PostgreSQL.pm blib/lib/SQL/Translator/Parser/PostgreSQL.pm
cp lib/SQL/Translator/Parser/JSON.pm blib/lib/SQL/Translator/Parser/JSON.pm
cp lib/SQL/Translator.pm blib/lib/SQL/Translator.pm
cp lib/SQL/Translator/Schema/Role/Compare.pm blib/lib/SQL/Translator/Schema/Role/Compare.pm
cp lib/SQL/Translator/Parser/Oracle.pm blib/lib/SQL/Translator/Parser/Oracle.pm
cp lib/SQL/Translator/Parser/DBI/DB2.pm blib/lib/SQL/Translator/Parser/DBI/DB2.pm
cp lib/SQL/Translator/Parser/MySQL.pm blib/lib/SQL/Translator/Parser/MySQL.pm
cp lib/SQL/Translator/Producer/DiaUml.pm blib/lib/SQL/Translator/Producer/DiaUml.pm
cp lib/SQL/Translator/Producer/Oracle.pm blib/lib/SQL/Translator/Producer/Oracle.pm
cp lib/SQL/Translator/Producer/MySQL.pm blib/lib/SQL/Translator/Producer/MySQL.pm
cp lib/SQL/Translator/Generator/DDL/PostgreSQL.pm blib/lib/SQL/Translator/Generator/DDL/PostgreSQL.pm
cp lib/SQL/Translator/Schema/Trigger.pm blib/lib/SQL/Translator/Schema/Trigger.pm
cp lib/SQL/Translator/Producer/Sybase.pm blib/lib/SQL/Translator/Producer/Sybase.pm
cp lib/SQL/Translator/Parser.pm blib/lib/SQL/Translator/Parser.pm
cp lib/SQL/Translator/Filter/Names.pm blib/lib/SQL/Translator/Filter/Names.pm
cp lib/SQL/Translator/Producer/SQLite.pm blib/lib/SQL/Translator/Producer/SQLite.pm
cp lib/SQL/Translator/Parser/DBI/Sybase.pm blib/lib/SQL/Translator/Parser/DBI/Sybase.pm
cp lib/SQL/Translator/Schema/Procedure.pm blib/lib/SQL/Translator/Schema/Procedure.pm
cp lib/SQL/Translator/Types.pm blib/lib/SQL/Translator/Types.pm
cp lib/SQL/Translator/Schema.pm blib/lib/SQL/Translator/Schema.pm
cp lib/SQL/Translator/Schema/Table.pm blib/lib/SQL/Translator/Schema/Table.pm
cp lib/SQL/Translator/Parser/SQLite.pm blib/lib/SQL/Translator/Parser/SQLite.pm
cp lib/SQL/Translator/Schema/Object.pm blib/lib/SQL/Translator/Schema/Object.pm
cp lib/Test/SQL/Translator.pm blib/lib/Test/SQL/Translator.pm
cp lib/SQL/Translator/Role/BuildArgs.pm blib/lib/SQL/Translator/Role/BuildArgs.pm
cp lib/SQL/Translator/Parser/xSV.pm blib/lib/SQL/Translator/Parser/xSV.pm
cp lib/SQL/Translator/Producer/PostgreSQL.pm blib/lib/SQL/Translator/Producer/PostgreSQL.pm
cp lib/SQL/Translator/Parser/Sybase.pm blib/lib/SQL/Translator/Parser/Sybase.pm
cp lib/SQL/Translator/Schema/Role/Extra.pm blib/lib/SQL/Translator/Schema/Role/Extra.pm
cp lib/SQL/Translator/Schema/View.pm blib/lib/SQL/Translator/Schema/View.pm
cp lib/SQL/Translator/Producer/POD.pm blib/lib/SQL/Translator/Producer/POD.pm
cp lib/SQL/Translator/Producer/Latex.pm blib/lib/SQL/Translator/Producer/Latex.pm
cp lib/SQL/Translator/Producer/XML.pm blib/lib/SQL/Translator/Producer/XML.pm
cp lib/SQL/Translator/Producer/TT/Table.pm blib/lib/SQL/Translator/Producer/TT/Table.pm
cp lib/SQL/Translator/Parser/DBI/SQLServer.pm blib/lib/SQL/Translator/Parser/DBI/SQLServer.pm
cp lib/SQL/Translator/Generator/DDL/SQLServer.pm blib/lib/SQL/Translator/Generator/DDL/SQLServer.pm
cp lib/SQL/Translator/Producer/ClassDBI.pm blib/lib/SQL/Translator/Producer/ClassDBI.pm
cp lib/SQL/Translator/Producer/Dumper.pm blib/lib/SQL/Translator/Producer/Dumper.pm
cp lib/SQL/Translator/Producer.pm blib/lib/SQL/Translator/Producer.pm
cp lib/SQL/Translator/Producer/DB2.pm blib/lib/SQL/Translator/Producer/DB2.pm
cp lib/SQL/Translator/Parser/Access.pm blib/lib/SQL/Translator/Parser/Access.pm
cp lib/SQL/Translator/Producer/XML/SQLFairy.pm blib/lib/SQL/Translator/Producer/XML/SQLFairy.pm
cp lib/SQL/Translator/Filter/DefaultExtra.pm blib/lib/SQL/Translator/Filter/DefaultExtra.pm
cp lib/SQL/Translator/Schema/Field.pm blib/lib/SQL/Translator/Schema/Field.pm
cp lib/SQL/Translator/Parser/DB2/Grammar.pm blib/lib/SQL/Translator/Parser/DB2/Grammar.pm
cp lib/SQL/Translator/Producer/HTML.pm blib/lib/SQL/Translator/Producer/HTML.pm
cp script/sqlt blib/script/sqlt
"/Users/Amory/perl5/perlbrew/perls/perl-5.36.0/bin/perl" -MExtUtils::MY -e 'MY->fixin(shift)' -- blib/script/sqlt
cp script/sqlt-diagram blib/script/sqlt-diagram
"/Users/Amory/perl5/perlbrew/perls/perl-5.36.0/bin/perl" -MExtUtils::MY -e 'MY->fixin(shift)' -- blib/script/sqlt-diagram
cp script/sqlt-diff blib/script/sqlt-diff
"/Users/Amory/perl5/perlbrew/perls/perl-5.36.0/bin/perl" -MExtUtils::MY -e 'MY->fixin(shift)' -- blib/script/sqlt-diff
cp script/sqlt-diff-old blib/script/sqlt-diff-old
"/Users/Amory/perl5/perlbrew/perls/perl-5.36.0/bin/perl" -MExtUtils::MY -e 'MY->fixin(shift)' -- blib/script/sqlt-diff-old
cp script/sqlt-dumper blib/script/sqlt-dumper
"/Users/Amory/perl5/perlbrew/perls/perl-5.36.0/bin/perl" -MExtUtils::MY -e 'MY->fixin(shift)' -- blib/script/sqlt-dumper
cp script/sqlt-graph blib/script/sqlt-graph
"/Users/Amory/perl5/perlbrew/perls/perl-5.36.0/bin/perl" -MExtUtils::MY -e 'MY->fixin(shift)' -- blib/script/sqlt-graph
Manifying 6 pod documents
Manifying 79 pod documents
Skip blib/lib/auto/share/dist/SQL-Translator/DiaUml/uml-attribute.tt2 (unchanged)
Skip blib/lib/auto/share/dist/SQL-Translator/DiaUml/diagram.tt2 (unchanged)
Skip blib/lib/auto/share/dist/SQL-Translator/DiaUml/uml-class-start.tt2 (unchanged)
Skip blib/lib/auto/share/dist/SQL-Translator/DiaUml/uml-class-end.tt2 (unchanged)
Skip blib/lib/auto/share/dist/SQL-Translator/DiaUml/layer.tt2 (unchanged)
Skip blib/lib/auto/share/dist/SQL-Translator/DiaUml/uml-class-all.tt2 (unchanged)
Skip blib/lib/auto/share/dist/SQL-Translator/DiaUml/schema.tt2 (unchanged)
Skip blib/lib/auto/share/dist/SQL-Translator/DiaUml/uml-class.tt2 (unchanged)
Skip blib/lib/auto/share/dist/SQL-Translator/PrecompiledParsers/Parse/RecDescent/DDL/SQLT/README (unchanged)
PERL_DL_NONLAZY=1 "/Users/Amory/perl5/perlbrew/perls/perl-5.36.0/bin/perl" "-MExtUtils::Command::MM" "-MTest::Harness" "-e" "undef *Test::Harness::Switches; test_harness(0, 'blib/lib', 'blib/arch')" t/*.t
t/02mysql-parser.t ...................... ok
t/03mysql-to-oracle.t ................... ok
t/04file,fh,string.t .................... ok
t/05bgep-re.t ........................... ok
t/06xsv.t ............................... skipped: Missing dependency: Text::RecordParser
t/07p_args.t ............................ ok
t/08postgres-to-mysql.t ................. ok
t/09sqlt-diagram.t ...................... skipped: Missing dependencies: GD, Graph::Directed, GD
t/10excel.t ............................. ok
t/11normalize.t ......................... ok
t/12header_comment.t .................... ok
t/13schema.t ............................ ok
t/14postgres-parser.t ................... ok
t/15oracle-parser.t ..................... ok
t/16xml-parser.t ........................ ok
t/17sqlfxml-producer.t .................. ok
t/18ttschema-producer.t ................. ok
t/19sybase-parser.t ..................... ok
t/20format_X_name.t ..................... ok
t/23json.t .............................. ok
t/24yaml.t .............................. ok
t/25storable.t .......................... ok
t/26sybase.t ............................ ok
t/27sqlite-parser.t ..................... ok
t/29html.t .............................. ok
t/30sqlt-new-diff-mysql.t ............... ok
t/30sqlt-new-diff-pgsql.t ............... ok
t/30sqlt-new-diff-sqlite.t .............. ok
t/30sqlt-new-diff.t ..................... ok
t/31dumper.t ............................ ok
t/32schema-lookups.t .................... ok
t/33tt-table-producer.t ................. ok
t/34tt-base.t ........................... ok
t/35-access-parser.t .................... ok
t/36-filters.t .......................... ok
t/38-filter-names.t ..................... ok
t/38-mysql-producer.t ................... ok
t/39-filter-globals.t ................... ok
t/40oracle-parser-dbi.t ................. ok
t/43xml-to-db2.t ........................ ok
t/44-xml-to-db2-array.t ................. ok
t/45db2-producer.t ...................... ok
t/46xml-to-pg.t ......................... ok
t/47postgres-producer.t ................. ok
t/48xml-to-sqlite.t ..................... ok
t/49xml-to-pg-samefield.t ............... ok
t/50-sqlserver-parser.t ................. ok
t/51-xml-to-oracle.t .................... ok
t/51-xml-to-oracle_quoted.t ............. ok
t/52-oracle-options.t ................... ok
t/53-oracle-delay-constraints.t ......... ok
t/53-oracle-delay-constraints_quoted.t .. ok
t/54-oracle-alter-constraint.t .......... ok
t/54-oracle-alter-field.t ............... ok
t/54-oracle-sql-diff.t .................. ok
t/55-oracle-add-drop-field.t ............ ok
t/55-oracle-producer.t .................. ok
t/56-sqlite-producer.t .................. ok
t/57-class-dbi.t ........................ ok
t/60roundtrip.t ......................... ok
t/61translator_agnostic.t ............... ok
t/62roundtrip_datacheck.t ............... ok
t/63-spacial-pgsql.t .................... ok
t/64xml-to-mysql.t ...................... ok
t/66-postgres-dbi-parser.t .............. skipped: Set $ENV{DBICTEST_PG_DSN}, _USER and _PASS to run this test, or install Test::PostgreSQL
t/70sqlt-diff_script.t .................. ok
t/70sqlt-diff_script_old.t .............. ok
t/71-generator-sql_server.t ............. ok
t/72-sqlite-add-drop-fields.t ........... ok
t/73-sqlite-respects-quote.t ............ ok
t/74-filename-arrayref.t ................ ok
t/75-sqlserver-producer.t ............... ok
t/mysql-sqlite-translate.t .............. ok
t/postgresql-rename-table-and-field.t ... skipped: Missing dependency: DBD::Pg
t/sqlite-rename-field.t ................. ok
All tests successful.

Test Summary Report
-------------------
t/60roundtrip.t                       (Wstat: 0 Tests: 100 Failed: 0)
  TODO passed:   92, 94, 98, 100
Files=75, Tests=2022, 12 wallclock secs ( 0.08 usr  0.06 sys + 11.03 cusr  0.68 csys = 11.85 CPU)
Result: PASS

------------------------------
PREREQUISITES
------------------------------

Prerequisite modules loaded:

runtime:

    Module                  Need     Have    
    ----------------------- -------- --------
    Carp::Clan              0        6.08    
    DBI                     1.54     1.647   
    Digest::SHA             0        6.02    
    File::ShareDir          1.0      1.118   
    List::Util              1.33     1.62    
    Moo                     1.000003 2.005005
    Package::Variant        1.001001 1.003002
    Parse::RecDescent       1.967009 1.967015
    perl                    5.008001 5.036000
    Scalar::Util            0        1.62    
    Sub::Quote              0        2.006008
    Try::Tiny               0.04     0.32    

build:

    Module                  Need     Have    
    ----------------------- -------- --------
    ExtUtils::MakeMaker     0        7.64    

configure:

    Module                  Need     Have    
    ----------------------- -------- --------
    ExtUtils::MakeMaker     6.54     7.64    
    File::ShareDir::Install 0        0.14    


------------------------------
ENVIRONMENT AND OTHER CONTEXT
------------------------------

Environment variables:

    LANG = en_US.UTF-8
    LC_ALL = C
    PATH = /Users/Amory/bin:/Users/amory/perl5/perlbrew/bin:/Users/amory/perl5/perlbrew/perls/perl-5.36.0/bin:/opt/homebrew/bin:/opt/homebrew/sbin:/opt/homebrew/opt/python@3.13/libexec/bin:/opt/homebrew/opt/python@3.13/Frameworks/Python.framework/Versions/3.13/lib/python3.13/site-packages:/Users/Amory/.local/bin:/usr/local/bin:/System/Cryptexes/App/usr/bin:/usr/bin:/bin:/usr/sbin:/sbin:/var/run/com.apple.security.cryptexd/codex.system/bootstrap/usr/local/bin:/var/run/com.apple.security.cryptexd/codex.system/bootstrap/usr/bin:/var/run/com.apple.security.cryptexd/codex.system/bootstrap/usr/appleinternal/bin:/Library/Apple/usr/bin:/usr/local/MacGPG2/bin:/Library/Frameworks/Mono.framework/Versions/Current/Commands:/Users/Amory/Documents/git/external/git-extra-commands@unixorn/bin:/Users/Amory/Documents/git/external/tiny-scripts@vitorgalvao:/Users/Amory/Documents/git/external/bash-itunes@illusori:/Users/Amory/Documents/git/external/video_transcoding@lisamelton/bin:/Users/Amory/Documents/git/external/other_video_transcoding@lisamelton:/Users/Amory/Documents/git/personal/lockquote:/Applications/CKAN.app/Contents/MacOS/
    PERL5DB = use Devel::NYTProf
    PERL5_DIR = /Users/Amory/perl5
    PERL5_V = 5.36
    PERLBREW = command perlbrew
    PERLBREW_HOME = /Users/Amory/.perlbrew
    PERLBREW_MANPATH = /Users/amory/perl5/perlbrew/perls/perl-5.36.0/man
    PERLBREW_PATH = /Users/amory/perl5/perlbrew/bin:/Users/amory/perl5/perlbrew/perls/perl-5.36.0/bin
    PERLBREW_PERL = perl-5.36.0
    PERLBREW_ROOT = /Users/amory/perl5/perlbrew
    PERLBREW_SHELLRC_VERSION = 0.98
    PERLBREW_VERSION = 0.98
    PERLDOC_PAGER = sh -c 'col -bx | bat -l man -p'
    PERL_CPANM_OPT = --verify --from https://www.cpan.org
    PERL_MM_USE_DEFAULT = 1
    SHELL = /opt/homebrew/bin/bash
    TERM = xterm-256color
    TMPDIR = /var/folders/3s/yzp_k_q54799t3cx5vg512040000gn/T/

Perl special variables (and OS-specific diagnostics, for MSWin32):

    EGID = 20 20 12 61 79 80 81 98 702 701 33 100 204 250 395 398 399
    EUID = 501
    EXECUTABLE_NAME = /Users/Amory/perl5/perlbrew/perls/perl-5.36.0/bin/perl
    GID = 20 20 12 61 79 80 81 98 702 701 33 100 204 250 395 398 399
    UID = 501

Perl module toolchain versions installed:

    Module              Have    
    ------------------- --------
    CPAN                2.33    
    CPAN::Meta          2.150010
    Cwd                 3.84    
    ExtUtils::CBuilder  0.280236
    ExtUtils::Command   7.64    
    ExtUtils::Install   2.20    
    ExtUtils::MakeMaker 7.64    
    ExtUtils::Manifest  1.73    
    ExtUtils::ParseXS   3.45    
    File::Spec          3.84    
    JSON                4.10    
    JSON::PP            4.07    
    Module::Build       0.4234  
    Module::Signature   0.89    
    Parse::CPAN::Meta   2.150010
    Test::Harness       3.44    
    Test::More          1.302209
    YAML                1.31    
    YAML::Syck          n/a     
    version             0.9929  


--

Summary of my perl5 (revision 5 version 36 subversion 0) configuration:
   
  Platform:
    osname=darwin
    osvers=21.6.0
    archname=darwin-2level
    uname='darwin nayru.fios-router.home 21.6.0 darwin kernel version 21.6.0: wed aug 10 14:28:25 pdt 2022; root:xnu-8020.141.5~2release_arm64_t8110 arm64 '
    config_args='-de -Dprefix=/Users/amory/perl5/perlbrew/perls/perl-5.36.0 -Aeval:scriptdir=/Users/amory/perl5/perlbrew/perls/perl-5.36.0/bin'
    hint=recommended
    useposix=true
    d_sigaction=define
    useithreads=undef
    usemultiplicity=undef
    use64bitint=define
    use64bitall=define
    uselongdouble=undef
    usemymalloc=n
    default_inc_excludes_dot=define
  Compiler:
    cc='cc'
    ccflags ='-fno-common -DPERL_DARWIN -mmacosx-version-min=12.5 -fno-strict-aliasing -pipe -fstack-protector-strong -DPERL_USE_SAFE_PUTENV'
    optimize='-O3'
    cppflags='-fno-common -DPERL_DARWIN -mmacosx-version-min=12.5 -fno-strict-aliasing -pipe -fstack-protector-strong'
    ccversion=''
    gccversion='Apple LLVM 13.1.6 (clang-1316.0.21.2.5)'
    gccosandvers=''
    intsize=4
    longsize=8
    ptrsize=8
    doublesize=8
    byteorder=12345678
    doublekind=3
    d_longlong=define
    longlongsize=8
    d_longdbl=define
    longdblsize=8
    longdblkind=0
    ivtype='long'
    ivsize=8
    nvtype='double'
    nvsize=8
    Off_t='off_t'
    lseeksize=8
    alignbytes=8
    prototype=define
  Linker and Libraries:
    ld='cc'
    ldflags =' -mmacosx-version-min=12.5 -fstack-protector-strong'
    libpth=/Library/Developer/CommandLineTools/usr/lib/clang/13.1.6/lib /Library/Developer/CommandLineTools/SDKs/MacOSX.sdk/usr/lib /Library/Developer/CommandLineTools/usr/lib /usr/lib
    libs= 
    perllibs=
    libc=
    so=dylib
    useshrplib=false
    libperl=libperl.a
    gnulibc_version=''
  Dynamic Linking:
    dlsrc=dl_dlopen.xs
    dlext=bundle
    d_dlsymun=undef
    ccdlflags=' '
    cccdlflags=' '
    lddlflags=' -mmacosx-version-min=12.5 -bundle -undefined dynamic_lookup -fstack-protector-strong'


Characteristics of this binary (from libperl): 
  Compile-time options:
    HAS_TIMES
    PERLIO_LAYERS
    PERL_COPY_ON_WRITE
    PERL_DONT_CREATE_GVSV
    PERL_MALLOC_WRAP
    PERL_OP_PARENT
    PERL_PRESERVE_IVUV
    PERL_USE_SAFE_PUTENV
    USE_64_BIT_ALL
    USE_64_BIT_INT
    USE_LARGE_FILES
    USE_LOCALE
    USE_LOCALE_COLLATE
    USE_LOCALE_CTYPE
    USE_LOCALE_NUMERIC
    USE_LOCALE_TIME
    USE_PERLIO
    USE_PERL_ATOF
  Built under darwin
  Compiled at Sep  6 2022 11:44:09
  %ENV:
    PERL5DB="use Devel::NYTProf"
    PERL5_DIR="/Users/Amory/perl5"
    PERL5_V="5.36"
    PERLBREW="command perlbrew"
    PERLBREW_HOME="/Users/Amory/.perlbrew"
    PERLBREW_MANPATH="/Users/amory/perl5/perlbrew/perls/perl-5.36.0/man"
    PERLBREW_PATH="/Users/amory/perl5/perlbrew/bin:/Users/amory/perl5/perlbrew/perls/perl-5.36.0/bin"
    PERLBREW_PERL="perl-5.36.0"
    PERLBREW_ROOT="/Users/amory/perl5/perlbrew"
    PERLBREW_SHELLRC_VERSION="0.98"
    PERLBREW_VERSION="0.98"
    PERLDOC_PAGER="sh -c 'col -bx | bat -l man -p'"
    PERL_CPANM_OPT="--verify --from https://www.cpan.org"
    PERL_MM_USE_DEFAULT="1"
  @INC:
    /Users/amory/perl5/perlbrew/perls/perl-5.36.0/lib/site_perl/5.36.0/darwin-2level
    /Users/amory/perl5/perlbrew/perls/perl-5.36.0/lib/site_perl/5.36.0
    /Users/amory/perl5/perlbrew/perls/perl-5.36.0/lib/5.36.0/darwin-2level
    /Users/amory/perl5/perlbrew/perls/perl-5.36.0/lib/5.36.0