Exporter-Tiny v1.006002 Perl 5 v5.41.12 x86_64-linux-thread-multi-ld

Status
Pass
From
Lukas Mai
Dist
Exporter-Tiny v1.006002
Platform
Perl 5 v5.41.12 x86_64-linux-thread-multi-ld
Date
2025-06-03 18:14:44
ID
a01385fc-40a6-11f0-a313-f1113c2dab02
This distribution has been tested as part of the CPAN Testers
project, supporting the Perl programming language.  See
http://wiki.cpantesters.org/ for more information or email
questions to cpan-testers-discuss@perl.org


--
Dear Toby Inkster,

This is a computer-generated report for Exporter-Tiny-1.006002
on perl 5.41.12, created by CPAN-Reporter-1.2020.

Thank you for uploading your work to CPAN.  Congratulations!
All tests were successful.

Sections of this report:

    * Tester comments
    * Program output
    * Prerequisites
    * Environment and other context

------------------------------
TESTER COMMENTS
------------------------------

Additional comments from tester:

none provided

------------------------------
PROGRAM OUTPUT
------------------------------

Output from '/usr/bin/make test':

PERL_DL_NONLAZY=1 "/home/mauke/perl5/perlbrew/perls/perl-5.41.12/bin/perl5.41.12" "-MExtUtils::Command::MM" "-MTest::Harness" "-e" "undef *Test::Harness::Switches; test_harness(0, 'inc', 'blib/lib', 'blib/arch')" t/*.t
# Perl 5.041012
t/01basic.t .............. ok
t/02renaming.t ........... ok
t/03generators.t ......... ok
t/04into.t ............... ok
t/05shiny.t .............. ok
t/06notwant.t ............ ok
t/07regexp.t ............. ok
t/08tags.t ............... ok
t/09warnings.t ........... ok
t/10no.t ................. ok
t/11noncode.t ............ ok
t/12noncodegenerators.t .. ok
t/13doesntexist.t ........ ok
t/14lexical.t ............ ok
t/15nonhashvalue.t ....... ok
t/gh-8.t ................. ok
t/gh-9.t ................. ok
All tests successful.
Files=17, Tests=84,  1 wallclock secs ( 0.04 usr  0.02 sys +  0.67 cusr  0.12 csys =  0.85 CPU)
Result: PASS

------------------------------
PREREQUISITES
------------------------------

Prerequisite modules loaded:

requires:

    Module              Need     Have    
    ------------------- -------- --------
    perl                5.006001 5.041012

build_requires:

    Module              Need     Have    
    ------------------- -------- --------
    Test::More          0.47     1.302210

configure_requires:

    Module              Need     Have    
    ------------------- -------- --------
    ExtUtils::MakeMaker 6.17     7.74    


------------------------------
ENVIRONMENT AND OTHER CONTEXT
------------------------------

Environment variables:

    LANG = en_US.UTF-8
    LANGUAGE = en_US:en
    LC_ADDRESS = de_DE.UTF-8
    LC_COLLATE = POSIX
    LC_IDENTIFICATION = de_DE.UTF-8
    LC_MEASUREMENT = de_DE.UTF-8
    LC_MONETARY = de_DE.UTF-8
    LC_NAME = de_DE.UTF-8
    LC_NUMERIC = en_US.UTF-8
    LC_PAPER = de_DE.UTF-8
    LC_TELEPHONE = de_DE.UTF-8
    LC_TIME = de_DE.UTF-8
    NONINTERACTIVE_TESTING = 1
    PATH = /home/mauke/perl5/perlbrew/bin:/home/mauke/perl5/perlbrew/perls/perl-5.41.12/bin:/home/mauke/perl5/perlbrew/bin:/home/mauke/perl5/perlbrew/perls/perl-5.40.2/bin:/home/mauke/bin:/home/mauke/.local/bin:/home/mauke/.cargo/bin:/home/mauke/.ghcup/bin:/usr/local/sbin:/usr/local/bin:/usr/sbin:/usr/bin:/sbin:/bin:/usr/games:/usr/local/games:/snap/bin:/snap/bin
    PERL5LIB = 
    PERL5OPT = 
    PERL5_CPANPLUS_IS_RUNNING = 718595
    PERL5_CPAN_IS_RUNNING = 718595
    PERLBREW_BASHRC_VERSION = 0.74
    PERLBREW_HOME = /home/mauke/.perlbrew
    PERLBREW_LIB = 
    PERLBREW_MANPATH = /home/mauke/perl5/perlbrew/perls/perl-5.41.12/man
    PERLBREW_PATH = /home/mauke/perl5/perlbrew/bin:/home/mauke/perl5/perlbrew/perls/perl-5.41.12/bin
    PERLBREW_PERL = perl-5.41.12
    PERLBREW_ROOT = /home/mauke/perl5/perlbrew
    PERLBREW_VERSION = 0.98
    PERLDOC = -oman
    PERL_LOCAL_LIB_ROOT = 
    PERL_MM_USE_DEFAULT = 1
    PERL_UNICODE = SAL
    PERL_USE_UNSAFE_INC = 1
    SHELL = /bin/bash
    TERM = tmux-256color

Perl special variables (and OS-specific diagnostics, for MSWin32):

    $^X = /home/mauke/perl5/perlbrew/perls/perl-5.41.12/bin/perl5.41.12
    $UID/$EUID = 1000 / 1000
    $GID = 1000 4 24 27 29 30 44 46 113 129 144 1000
    $EGID = 1000 4 24 27 29 30 44 46 113 129 144 1000

Perl module toolchain versions installed:

    Module              Have    
    ------------------- --------
    CPAN                2.38    
    CPAN::Meta          2.150010
    Cwd                 3.94    
    ExtUtils::CBuilder  0.280240
    ExtUtils::Command   7.74    
    ExtUtils::Install   2.22    
    ExtUtils::MakeMaker 7.74    
    ExtUtils::Manifest  1.75    
    ExtUtils::ParseXS   3.57    
    File::Spec          3.94    
    JSON                n/a     
    JSON::PP            4.16    
    Module::Build       n/a     
    Module::Signature   n/a     
    Parse::CPAN::Meta   2.150010
    Test2               1.302210
    Test::Harness       3.50    
    Test::More          1.302210
    YAML                n/a     
    YAML::Syck          n/a     
    version             0.9933  


--

Summary of my perl5 (revision 5 version 41 subversion 12) configuration:
   
  Platform:
    osname=linux
    osvers=6.11.0-112021-tuxedo
    archname=x86_64-linux-thread-multi-ld
    uname='linux luum 6.11.0-112021-tuxedo #21~24.04.1tux1 smp preempt_dynamic tue mar 11 20:03:05 utc 2025 x86_64 x86_64 x86_64 gnulinux '
    config_args='-de -Dprefix=/home/mauke/perl5/perlbrew/perls/perl-5.41.12 -Dcc=c-gcc -Doptimize=-O2 -march=native -flto=auto -Dman1dir=none -Dman3dir=none -Dusethreads -Duselongdouble -Dusedevel -Aeval:scriptdir=/home/mauke/perl5/perlbrew/perls/perl-5.41.12/bin'
    hint=recommended
    useposix=true
    d_sigaction=define
    useithreads=define
    usemultiplicity=define
    use64bitint=define
    use64bitall=define
    uselongdouble=define
    usemymalloc=n
    default_inc_excludes_dot=define
  Compiler:
    cc='c-gcc'
    ccflags ='-D_REENTRANT -D_GNU_SOURCE -fwrapv -fno-strict-aliasing -pipe -fstack-protector-strong -I/usr/local/include -D_LARGEFILE_SOURCE -D_FILE_OFFSET_BITS=64'
    optimize='-O2 -march=native -flto=auto'
    cppflags='-D_REENTRANT -D_GNU_SOURCE -fwrapv -fno-strict-aliasing -pipe -fstack-protector-strong -I/usr/local/include'
    ccversion=''
    gccversion='13.3.0'
    gccosandvers=''
    intsize=4
    longsize=8
    ptrsize=8
    doublesize=8
    byteorder=12345678
    doublekind=3
    d_longlong=define
    longlongsize=8
    d_longdbl=define
    longdblsize=16
    longdblkind=3
    ivtype='long'
    ivsize=8
    nvtype='long double'
    nvsize=16
    Off_t='off_t'
    lseeksize=8
    alignbytes=16
    prototype=define
  Linker and Libraries:
    ld='c-gcc'
    ldflags =' -fstack-protector-strong -L/usr/local/lib'
    libpth=/usr/local/lib /usr/lib/x86_64-linux-gnu /usr/lib /usr/lib64
    libs=-lpthread -ldb -ldl -lm -lcrypt -lutil -lc
    perllibs=-lpthread -ldl -lm -lcrypt -lutil -lc
    libc=/lib/x86_64-linux-gnu/libc.so.6
    so=so
    useshrplib=false
    libperl=libperl.a
    gnulibc_version='2.39'
  Dynamic Linking:
    dlsrc=dl_dlopen.xs
    dlext=so
    d_dlsymun=undef
    ccdlflags='-Wl,-E'
    cccdlflags='-fPIC'
    lddlflags='-shared -O2 -march=native -flto=auto -L/usr/local/lib -fstack-protector-strong'


Characteristics of this binary (from libperl): 
  Compile-time options:
    HAS_LONG_DOUBLE
    HAS_STRTOLD
    HAS_TIMES
    MULTIPLICITY
    PERLIO_LAYERS
    PERL_COPY_ON_WRITE
    PERL_DONT_CREATE_GVSV
    PERL_HASH_FUNC_SIPHASH13
    PERL_HASH_USE_SBOX32
    PERL_MALLOC_WRAP
    PERL_OP_PARENT
    PERL_PRESERVE_IVUV
    PERL_USE_DEVEL
    PERL_USE_SAFE_PUTENV
    USE_64_BIT_ALL
    USE_64_BIT_INT
    USE_ITHREADS
    USE_LARGE_FILES
    USE_LOCALE
    USE_LOCALE_COLLATE
    USE_LOCALE_CTYPE
    USE_LOCALE_NUMERIC
    USE_LOCALE_TIME
    USE_LONG_DOUBLE
    USE_PERLIO
    USE_PERL_ATOF
    USE_REENTRANT_API
    USE_THREAD_SAFE_LOCALE
  Built under linux
  Compiled at Apr 22 2025 23:30:34
  %ENV:
    PERL5LIB=""
    PERL5OPT=""
    PERL5_CPANPLUS_IS_RUNNING="718595"
    PERL5_CPAN_IS_RUNNING="718595"
    PERLBREW_BASHRC_VERSION="0.74"
    PERLBREW_HOME="/home/mauke/.perlbrew"
    PERLBREW_LIB=""
    PERLBREW_MANPATH="/home/mauke/perl5/perlbrew/perls/perl-5.41.12/man"
    PERLBREW_PATH="/home/mauke/perl5/perlbrew/bin:/home/mauke/perl5/perlbrew/perls/perl-5.41.12/bin"
    PERLBREW_PERL="perl-5.41.12"
    PERLBREW_ROOT="/home/mauke/perl5/perlbrew"
    PERLBREW_VERSION="0.98"
    PERLDOC="-oman"
    PERL_LOCAL_LIB_ROOT=""
    PERL_MM_USE_DEFAULT="1"
    PERL_UNICODE="SAL"
    PERL_USE_UNSAFE_INC="1"
  @INC:
    /home/mauke/perl5/perlbrew/perls/perl-5.41.12/lib/site_perl/5.41.12/x86_64-linux-thread-multi-ld
    /home/mauke/perl5/perlbrew/perls/perl-5.41.12/lib/site_perl/5.41.12
    /home/mauke/perl5/perlbrew/perls/perl-5.41.12/lib/5.41.12/x86_64-linux-thread-multi-ld
    /home/mauke/perl5/perlbrew/perls/perl-5.41.12/lib/5.41.12
    .