Back
From: metabase:user:314402c4-2aae-11df-837a-5e0a49663a4f
Subject: PASS Net-Traceroute-1.15 v5.18.1 FreeBSD
Date: 2014-03-24T21:31:13Z
This distribution has been tested as part of the CPAN Testers
project, supporting the Perl programming language.  See
http://wiki.cpantesters.org/ for more information or email
questions to cpan-testers-discuss@perl.org
--
Dear Daniel Hagerty,
This is a computer-generated report for Net-Traceroute-1.15
on perl 5.18.1, created by CPAN-Reporter-1.2010.
Thank you for uploading your work to CPAN.  Congratulations!
All tests were successful.
Sections of this report:
    * Tester comments
    * Program output
    * Prerequisites
    * Environment and other context
------------------------------
TESTER COMMENTS
------------------------------
Additional comments from tester:
none provided
------------------------------
PROGRAM OUTPUT
------------------------------
Output from '/usr/bin/make test':
PERL_DL_NONLAZY=1 /usr/perl5.18.1/bin/perl "-MExtUtils::Command::MM" "-MTest::Harness" "-e" "undef *Test::Harness::Switches; test_harness(0, 'blib/lib', 'blib/arch')" t/*.t
t/00-basics.t ................. ok
t/05-backend.t ................ ok
t/07-subclassing.t ............ ok
t/20-parse-4basic.t ........... ok
t/21-parse-4timeouts.t ........ ok
t/22-parse-4ecmp.t ............ ok
t/23-parse-4flags.t ........... ok
t/30-parse-6basic.t ........... ok
t/33-parse-6flags.t ........... ok
t/34-parse-6wierd.t ........... ok
t/40-parse-cisco-4basic.t ..... ok
t/41-parse-cisco-4timeouts.t .. ok
t/42-parse-cisco-4ecmp.t ...... ok
t/43-parse-cisco-4flags.t ..... ok
t/44-parse-cisco-4unknown.t ... ok
t/45-parse-cisco-6basic.t ..... ok
t/46-parse-cisco-6timeouts.t .. ok
t/47-parse-cisco-6ecmp.t ...... ok
t/48-parse-cisco-6flags.t ..... ok
t/80-tracelie.t ............... ok
t/81-timeout.t ................ ok
t/95-sys-traceroute.t ......... ok
All tests successful.
Files=22, Tests=189,  4 wallclock secs ( 0.08 usr  0.07 sys +  1.44 cusr  0.30 csys =  1.88 CPU)
Result: PASS
------------------------------
PREREQUISITES
------------------------------
Prerequisite modules loaded:
requires:
    Module              Need Have  
    ------------------- ---- ------
    Time::HiRes         0    1.9725
build_requires:
    Module              Need Have  
    ------------------- ---- ------
    ExtUtils::MakeMaker 0    6.86  
configure_requires:
    Module              Need Have  
    ------------------- ---- ------
    ExtUtils::MakeMaker 0    6.86  
------------------------------
ENVIRONMENT AND OTHER CONTEXT
------------------------------
Environment variables:
    DBIC_NO_WARN_BAD_PERL = 1
    LC_ALL = de_DE.ISO8859-1
    PATH = /usr/local/bin:/usr/bin:/bin:/usr/local/sbin:/usr/sbin:/sbin:/home/cpansand/bin/freebsd9.1:/home/cpansand/bin/sh:/home/cpansand/bin:/usr/games:/home/cpansand/devel:/usr/home/eserte/work/srezic-misc/scripts
    PERL5LIB = /home/eserte/.cpan/build/FROGGS-Ca6uOg/blib/arch:/home/eserte/.cpan/build/FROGGS-Ca6uOg/blib/lib
    PERL5OPT = 
    PERL5_CPANPLUS_IS_RUNNING = 85194
    PERL5_CPAN_IS_RUNNING = 85194
    PERL5_CPAN_IS_RUNNING_IN_RECURSION = 85172,85194
    PERLDOC = -MPod::Perldoc::ToTextOverstrike
    PERL_BATCH = yes
    PERL_CPAN_REPORTER_CONFIG = /var/tmp/cpansmoker-1023/jzPTAkDBJ1_config.ini
    PERL_EXTUTILS_AUTOINSTALL = --defaultdeps
    PERL_HTML_DISPLAY_CLASS = HTML::Display::Mozilla
    SHELL = /usr/local/bin/zsh
    TERM = screen
    TMPDIR = /var/tmp/cpansmoker-1023
Perl special variables (and OS-specific diagnostics, for MSWin32):
    $^X = /usr/perl5.18.1/bin/perl
    $UID/$EUID = 1023 / 1023
    $GID = 1023 1023
    $EGID = 1023 1023
Perl module toolchain versions installed:
    Module              Have    
    ------------------- --------
    CPAN                2.00    
    CPAN::Meta          2.132830
    Cwd                 3.40    
    ExtUtils::CBuilder  0.280210
    ExtUtils::Command   1.17    
    ExtUtils::Install   1.59    
    ExtUtils::MakeMaker 6.86    
    ExtUtils::Manifest  1.63    
    ExtUtils::ParseXS   3.18    
    File::Spec          3.40    
    JSON                2.90    
    JSON::PP            2.27203 
    Module::Build       0.4204  
    Module::Signature   0.73    
    Parse::CPAN::Meta   1.4409  
    Test::Harness       3.30    
    Test::More          1.001002
    YAML                0.85    
    YAML::Syck          1.27    
    version             0.9904  
--
Summary of my perl5 (revision 5 version 18 subversion 1) configuration:
   
  Platform:
    osname=freebsd, osvers=9.2-release, archname=amd64-freebsd
    uname='freebsd cvrsnica-freebsd-92 9.2-release freebsd 9.2-release #0 r255898: thu sep 26 22:50:31 utc 2013 root@bake.isc.freebsd.org:usrobjusrsrcsysgeneric amd64 '
    config_args='-ds -e -Dprefix=/usr/perl5.18.1 -Dshrplib'
    hint=previous, useposix=true, d_sigaction=define
    useithreads=undef, usemultiplicity=undef
    useperlio=define, d_sfio=undef, uselargefiles=define, usesocks=undef
    use64bitint=define, use64bitall=define, uselongdouble=undef
    usemymalloc=n, bincompat5005=undef
  Compiler:
    cc='cc', ccflags ='-DHAS_FPSETMASK -DHAS_FLOATINGPOINT_H -fno-strict-aliasing -pipe -fstack-protector -I/usr/local/include',
    optimize='-O',
    cppflags='-DHAS_FPSETMASK -DHAS_FLOATINGPOINT_H -fno-strict-aliasing -pipe -fstack-protector -I/usr/local/include -DHAS_FPSETMASK -DHAS_FLOATINGPOINT_H -fno-strict-aliasing -pipe -fstack-protector -I/usr/local/include'
    ccversion='', gccversion='4.2.1 20070831 patched [FreeBSD]', gccosandvers=''
    intsize=4, longsize=8, ptrsize=8, doublesize=8, byteorder=12345678
    d_longlong=define, longlongsize=8, d_longdbl=define, longdblsize=16
    ivtype='long', ivsize=8, nvtype='double', nvsize=8, Off_t='off_t', lseeksize=8
    alignbytes=8, prototype=define
  Linker and Libraries:
    ld='cc', ldflags ='-Wl,-E  -fstack-protector -L/usr/local/lib'
    libpth=/usr/lib /usr/local/lib
    libs=-lm -lcrypt -lutil -lc
    perllibs=-lm -lcrypt -lutil -lc
    libc=, so=so, useshrplib=false, libperl=libperl.a
    gnulibc_version=''
  Dynamic Linking:
    dlsrc=dl_dlopen.xs, dlext=so, d_dlsymun=undef, ccdlflags=' '
    cccdlflags='-DPIC -fPIC', lddlflags='-shared  -L/usr/local/lib -fstack-protector'
Characteristics of this binary (from libperl): 
  Compile-time options: HAS_TIMES PERLIO_LAYERS PERL_DONT_CREATE_GVSV
                        PERL_HASH_FUNC_ONE_AT_A_TIME_HARD PERL_MALLOC_WRAP
                        PERL_PRESERVE_IVUV PERL_SAWAMPERSAND USE_64_BIT_ALL
                        USE_64_BIT_INT USE_LARGE_FILES USE_LOCALE
                        USE_LOCALE_COLLATE USE_LOCALE_CTYPE
                        USE_LOCALE_NUMERIC USE_PERLIO USE_PERL_ATOF
  Built under freebsd
  Compiled at Oct 15 2013 21:30:37
  %ENV:
    PERL5LIB="/home/eserte/.cpan/build/FROGGS-Ca6uOg/blib/arch:/home/eserte/.cpan/build/FROGGS-Ca6uOg/blib/lib"
    PERL5OPT=""
    PERL5_CPANPLUS_IS_RUNNING="85194"
    PERL5_CPAN_IS_RUNNING="85194"
    PERL5_CPAN_IS_RUNNING_IN_RECURSION="85172,85194"
    PERLDOC="-MPod::Perldoc::ToTextOverstrike"
    PERL_BATCH="yes"
    PERL_CPAN_REPORTER_CONFIG="/var/tmp/cpansmoker-1023/jzPTAkDBJ1_config.ini"
    PERL_EXTUTILS_AUTOINSTALL="--defaultdeps"
    PERL_HTML_DISPLAY_CLASS="HTML::Display::Mozilla"
  @INC:
    /home/eserte/.cpan/build/FROGGS-Ca6uOg/blib/arch
    /home/eserte/.cpan/build/FROGGS-Ca6uOg/blib/lib
    /usr/perl5.18.1/lib/site_perl/5.18.1/amd64-freebsd
    /usr/perl5.18.1/lib/site_perl/5.18.1
    /usr/perl5.18.1/lib/5.18.1/amd64-freebsd
    /usr/perl5.18.1/lib/5.18.1
    .