Set-Object v1.38 Perl 5 v5.26.0 x86_64-linux

Status
Pass
From
raytestinger
Dist
Set-Object v1.38
Platform
Perl 5 v5.26.0 x86_64-linux
Date
2018-02-04 20:26:58
ID
BFB4A0C2-09E9-11E8-A3BC-D6F95510EFC6
From: "raytestinger" <testinger@yahoo.com>
X-Test-Reporter-Distfile: RURBAN/Set-Object-1.38.tar.gz
X-Test-Reporter-Perl: v5.26.0
Subject: PASS Set-Object-1.38 x86_64-linux 4.10.0-30-generic
Report: This distribution has been tested as part of the CPAN Testers
project, supporting the Perl programming language.  See
http://wiki.cpantesters.org/ for more information or email
questions to cpan-testers-discuss@perl.org


--
Dear RURBAN,

This is a computer-generated report for Set-Object-1.38
on perl 5.26.0, created by App::cpanminus::reporter 0.17 (1.7043).

Thank you for uploading your work to CPAN.  Congratulations!
All tests were successful.

Sections of this report:

    * Tester comments
    * Program output
    * Prerequisites
    * Environment and other context

------------------------------
TESTER COMMENTS
------------------------------

Additional comments from tester:

this report is from an automated smoke testing program
and was not reviewed by a human for accuracy

------------------------------
PROGRAM OUTPUT
------------------------------

Output from '':

Building and testing Set-Object-1.38
cp Changes.pod blib/lib/Set/Changes.pod
cp lib/Set/Object.pm blib/lib/Set/Object.pm
AutoSplitting blib/lib/Set/Object.pm (blib/lib/auto/Set/Object)
cp lib/Set/Object/Weak.pm blib/lib/Set/Object/Weak.pm
Running Mkbootstrap for Object ()
chmod 644 "Object.bs"
"/home/ray/perl5/perlbrew/perls/perl-5.26.0/bin/perl" -MExtUtils::Command::MM -e 'cp_nonempty' -- Object.bs blib/arch/auto/Set/Object/Object.bs 644
"/home/ray/perl5/perlbrew/perls/perl-5.26.0/bin/perl" "/home/ray/perl5/perlbrew/perls/perl-5.26.0/lib/5.26.0/ExtUtils/xsubpp"  -typemap '/home/ray/perl5/perlbrew/perls/perl-5.26.0/lib/5.26.0/ExtUtils/typemap' -typemap '/tmp/qy670K0Abv/work/1512686826.4906/Set-Object-1.38/typemap'  Object.xs > Object.xsc
mv Object.xsc Object.c
cc -c   -fwrapv -fno-strict-aliasing -pipe -fstack-protector-strong -I/usr/local/include -D_LARGEFILE_SOURCE -D_FILE_OFFSET_BITS=64 -O2   -DVERSION=\"1.38\" -DXS_VERSION=\"1.38\" -fPIC "-I/home/ray/perl5/perlbrew/perls/perl-5.26.0/lib/5.26.0/x86_64-linux/CORE"   Object.c
rm -f blib/arch/auto/Set/Object/Object.so
cc  -shared -O2 -L/usr/local/lib -fstack-protector-strong  Object.o  -o blib/arch/auto/Set/Object/Object.so  \
      \
  
chmod 755 blib/arch/auto/Set/Object/Object.so
Manifying 3 pod documents
"/home/ray/perl5/perlbrew/perls/perl-5.26.0/bin/perl" -MExtUtils::Command::MM -e 'cp_nonempty' -- Object.bs blib/arch/auto/Set/Object/Object.bs 644
PERL_DL_NONLAZY=1 "/home/ray/perl5/perlbrew/perls/perl-5.26.0/bin/perl" "-MExtUtils::Command::MM" "-MTest::Harness" "-e" "undef *Test::Harness::Switches; test_harness(0, 'blib/lib', 'blib/arch')" t/ingy/arrayref.t t/misc/kwalitee.t t/misc/leaks.t t/misc/leaktrace.t t/misc/manifest.t t/misc/meta.t t/misc/more_leaks.t t/misc/perl_minimum_version.t t/misc/pod.t t/misc/pod_coverage.t t/misc/segfault.t t/misc/threads.t t/misc/undef.t t/object/abuse.t t/object/clear.t t/object/difference.t t/object/equal.t t/object/flags.t t/object/includes.t t/object/insert.t t/object/intersection.t t/object/magic.t t/object/members.t t/object/properties.t t/object/refcount.t t/object/remove.t t/object/set_subclass.t t/object/storable.t t/object/subsuper.t t/object/symmetric_difference.t t/object/union.t t/object/weakref.t t/scalar/basic.t t/scalar/basic_overload.t t/scalar/boolean.t t/scalar/clear.t t/scalar/compare.t t/scalar/custom_display.t t/scalar/difference.t t/scalar/each.t t/scalar/has.t t/scalar/intersection.t t/scalar/member.t t/scalar/misc.t t/scalar/set_set.t t/scalar/storable.t t/scalar/symmdiff.t t/scalar/union.t t/scalar/unique.t
t/ingy/arrayref.t ................ ok
t/misc/kwalitee.t ................ skipped: This test is only run for the module author
t/misc/leaks.t ................... ok
t/misc/leaktrace.t ............... ok
t/misc/manifest.t ................ skipped: Author tests not required for installation
t/misc/meta.t .................... skipped: This test is only run for the module author
t/misc/more_leaks.t .............. ok
t/misc/perl_minimum_version.t .... skipped: Author tests not required for installation
t/misc/pod.t ..................... ok
t/misc/pod_coverage.t ............ ok
t/misc/segfault.t ................ ok
t/misc/threads.t ................. skipped: threads missing
t/misc/undef.t ................... ok
t/object/abuse.t ................. ok
t/object/clear.t ................. ok
t/object/difference.t ............ ok
t/object/equal.t ................. ok
t/object/flags.t ................. ok
t/object/includes.t .............. ok
t/object/insert.t ................ ok
t/object/intersection.t .......... ok
t/object/magic.t ................. ok
t/object/members.t ............... ok
t/object/properties.t ............ ok
t/object/refcount.t .............. ok
t/object/remove.t ................ ok
t/object/set_subclass.t .......... ok
t/object/storable.t .............. ok
t/object/subsuper.t .............. ok
t/object/symmetric_difference.t .. ok
t/object/union.t ................. ok
t/object/weakref.t ............... ok
t/scalar/basic.t ................. ok
t/scalar/basic_overload.t ........ ok
t/scalar/boolean.t ............... ok
t/scalar/clear.t ................. ok
t/scalar/compare.t ............... ok
t/scalar/custom_display.t ........ ok
t/scalar/difference.t ............ ok
t/scalar/each.t .................. skipped: TO-DO
t/scalar/has.t ................... ok
t/scalar/intersection.t .......... ok
t/scalar/member.t ................ ok
t/scalar/misc.t .................. ok
t/scalar/set_set.t ............... ok
t/scalar/storable.t .............. ok
t/scalar/symmdiff.t .............. ok
t/scalar/union.t ................. ok
t/scalar/unique.t ................ ok
All tests successful.
Files=49, Tests=459,  2 wallclock secs ( 0.14 usr  0.04 sys +  2.09 cusr  0.17 csys =  2.44 CPU)
Result: PASS

------------------------------
PREREQUISITES
------------------------------

Prerequisite modules loaded:

    No requirements found

------------------------------
ENVIRONMENT AND OTHER CONTEXT
------------------------------

Environment variables:

    AUTOMATED_TESTING = 1
    LANG = en_US.UTF-8
    LANGUAGE = en_US
    NONINTERACTIVE_TESTING = 1
    PATH = /home/ray/perl5/perlbrew/bin:/home/ray/perl5/perlbrew/perls/perl-5.26.0/bin:/home/ray/bin:/home/ray/.local/bin:/usr/local/sbin:/usr/local/bin:/usr/sbin:/usr/bin:/sbin:/bin:/usr/games:/usr/local/games
    PERL5_CPANPLUS_IS_RUNNING = 30364
    PERL5_CPAN_IS_RUNNING = 30364
    PERLBREW_BASHRC_VERSION = 0.74
    PERLBREW_HOME = /home/ray/.perlbrew
    PERLBREW_MANPATH = /home/ray/perl5/perlbrew/perls/perl-5.26.0/man
    PERLBREW_PATH = /home/ray/perl5/perlbrew/bin:/home/ray/perl5/perlbrew/perls/perl-5.26.0/bin
    PERLBREW_PERL = perl-5.26.0
    PERLBREW_ROOT = /home/ray/perl5/perlbrew
    PERLBREW_VERSION = 0.80
    PERL_CPANM_HOME = /tmp/qy670K0Abv
    PERL_CPAN_REPORTER_CONFIG = /tmp/qy670K0Abv/config.ini
    SHELL = /bin/bash
    TERM = xterm

Perl special variables (and OS-specific diagnostics, for MSWin32):

    EGID = 1000 4 24 27 30 46 113 130 1000
    EUID = 1000
    EXECUTABLE_NAME = /home/ray/perl5/perlbrew/perls/perl-5.26.0/bin/perl
    GID = 1000 4 24 27 30 46 113 130 1000
    UID = 1000

Perl module toolchain versions installed:

    Module              Have    
    ------------------- --------
    CPAN                2.18    
    CPAN::Meta          2.150010
    Cwd                 3.67    
    ExtUtils::CBuilder  0.280230
    ExtUtils::Command   7.30    
    ExtUtils::Install   2.06    
    ExtUtils::MakeMaker 7.30    
    ExtUtils::Manifest  1.70    
    ExtUtils::ParseXS   3.34    
    File::Spec          3.67    
    JSON                2.94    
    JSON::PP            2.97000 
    Module::Build       0.4224  
    Module::Signature   0.81    
    Parse::CPAN::Meta   2.150010
    Test::Harness       3.39    
    Test::More          1.302120
    YAML                1.24    
    YAML::Syck          1.30    
    version             0.9917  


--

Summary of my perl5 (revision 5 version 26 subversion 0) configuration:
   
  Platform:
    osname=linux
    osvers=4.10.0-30-generic
    archname=x86_64-linux
    uname='linux ray-hp-250-g5-notebook-pc 4.10.0-30-generic #34~16.04.1-ubuntu smp wed aug 2 02:13:56 utc 2017 x86_64 x86_64 x86_64 gnulinux '
    config_args='-de -Dprefix=/home/ray/perl5/perlbrew/perls/perl-5.26.0 -Aeval:scriptdir=/home/ray/perl5/perlbrew/perls/perl-5.26.0/bin'
    hint=recommended
    useposix=true
    d_sigaction=define
    useithreads=undef
    usemultiplicity=undef
    use64bitint=define
    use64bitall=define
    uselongdouble=undef
    usemymalloc=n
    default_inc_excludes_dot=define
    bincompat5005=undef
  Compiler:
    cc='cc'
    ccflags ='-fwrapv -fno-strict-aliasing -pipe -fstack-protector-strong -I/usr/local/include -D_LARGEFILE_SOURCE -D_FILE_OFFSET_BITS=64'
    optimize='-O2'
    cppflags='-fwrapv -fno-strict-aliasing -pipe -fstack-protector-strong -I/usr/local/include'
    ccversion=''
    gccversion='5.4.0 20160609'
    gccosandvers=''
    intsize=4
    longsize=8
    ptrsize=8
    doublesize=8
    byteorder=12345678
    doublekind=3
    d_longlong=define
    longlongsize=8
    d_longdbl=define
    longdblsize=16
    longdblkind=3
    ivtype='long'
    ivsize=8
    nvtype='double'
    nvsize=8
    Off_t='off_t'
    lseeksize=8
    alignbytes=8
    prototype=define
  Linker and Libraries:
    ld='cc'
    ldflags =' -fstack-protector-strong -L/usr/local/lib'
    libpth=/usr/local/lib /usr/lib/gcc/x86_64-linux-gnu/5/include-fixed /usr/include/x86_64-linux-gnu /usr/lib /lib/x86_64-linux-gnu /lib/../lib /usr/lib/x86_64-linux-gnu /usr/lib/../lib /lib
    libs=-lpthread -lnsl -ldl -lm -lcrypt -lutil -lc
    perllibs=-lpthread -lnsl -ldl -lm -lcrypt -lutil -lc
    libc=libc-2.23.so
    so=so
    useshrplib=false
    libperl=libperl.a
    gnulibc_version='2.23'
  Dynamic Linking:
    dlsrc=dl_dlopen.xs
    dlext=so
    d_dlsymun=undef
    ccdlflags='-Wl,-E'
    cccdlflags='-fPIC'
    lddlflags='-shared -O2 -L/usr/local/lib -fstack-protector-strong'


Characteristics of this binary (from libperl): 
  Compile-time options:
    HAS_TIMES
    PERLIO_LAYERS
    PERL_COPY_ON_WRITE
    PERL_DONT_CREATE_GVSV
    PERL_MALLOC_WRAP
    PERL_OP_PARENT
    PERL_PRESERVE_IVUV
    USE_64_BIT_ALL
    USE_64_BIT_INT
    USE_LARGE_FILES
    USE_LOCALE
    USE_LOCALE_COLLATE
    USE_LOCALE_CTYPE
    USE_LOCALE_NUMERIC
    USE_LOCALE_TIME
    USE_PERLIO
    USE_PERL_ATOF
  Locally applied patches:
    Devel::PatchPerl 1.48
  Built under linux
  Compiled at Aug  5 2017 21:05:23
  %ENV:
    PERL5_CPANPLUS_IS_RUNNING="30364"
    PERL5_CPAN_IS_RUNNING="30364"
    PERLBREW_BASHRC_VERSION="0.74"
    PERLBREW_HOME="/home/ray/.perlbrew"
    PERLBREW_MANPATH="/home/ray/perl5/perlbrew/perls/perl-5.26.0/man"
    PERLBREW_PATH="/home/ray/perl5/perlbrew/bin:/home/ray/perl5/perlbrew/perls/perl-5.26.0/bin"
    PERLBREW_PERL="perl-5.26.0"
    PERLBREW_ROOT="/home/ray/perl5/perlbrew"
    PERLBREW_VERSION="0.80"
    PERL_CPANM_HOME="/tmp/qy670K0Abv"
    PERL_CPAN_REPORTER_CONFIG="/tmp/qy670K0Abv/config.ini"
  @INC:
    /home/ray/perl5/perlbrew/perls/perl-5.26.0/lib/site_perl/5.26.0/x86_64-linux
    /home/ray/perl5/perlbrew/perls/perl-5.26.0/lib/site_perl/5.26.0
    /home/ray/perl5/perlbrew/perls/perl-5.26.0/lib/5.26.0/x86_64-linux
    /home/ray/perl5/perlbrew/perls/perl-5.26.0/lib/5.26.0