Report for Lexical-Types-0.12

Back
From: metabase:user:88ef830e-3cb1-11e3-afcf-3a1e153c5931
Subject: PASS Lexical-Types-0.12 v5.8.9 GNU/Linux
Date: 2013-10-24T21:17:01Z

This distribution has been tested as part of the CPAN Testers
project, supporting the Perl programming language.  See
http://wiki.cpantesters.org/ for more information or email
questions to cpan-testers-discuss@perl.org


--
Dear VPIT,

This is a computer-generated report for Lexical-Types-0.12
on perl 5.8.9, created by App::cpanminus::reporter 0.10 (1.7001).

Thank you for uploading your work to CPAN.  Congratulations!
All tests were successful.

Sections of this report:

    * Tester comments
    * Program output
    * Prerequisites
    * Environment and other context

------------------------------
TESTER COMMENTS
------------------------------

Additional comments from tester:

none provided

------------------------------
PROGRAM OUTPUT
------------------------------

Output from '':

Building and testing Lexical-Types-0.12
cp lib/Lexical/Types.pm blib/lib/Lexical/Types.pm
/root/perl5/perlbrew/perls/perl-5.8.9/bin/perl /root/perl5/perlbrew/perls/perl-5.8.9/lib/5.8.9/ExtUtils/xsubpp  -typemap /root/perl5/perlbrew/perls/perl-5.8.9/lib/5.8.9/ExtUtils/typemap  Types.xs > Types.xsc && mv Types.xsc Types.c
cc -c   -fno-strict-aliasing -pipe -I/usr/local/include -D_LARGEFILE_SOURCE -D_FILE_OFFSET_BITS=64 -O2   -DVERSION=\"0.12\" -DXS_VERSION=\"0.12\" -fPIC "-I/root/perl5/perlbrew/perls/perl-5.8.9/lib/5.8.9/x86_64-linux/CORE"   Types.c
rm -f blib/arch/auto/Lexical/Types/Types.so
cc  -shared -O2 -L/usr/local/lib Types.o  -o blib/arch/auto/Lexical/Types/Types.so 	\
     	\
  
chmod 755 blib/arch/auto/Lexical/Types/Types.so
/root/perl5/perlbrew/perls/perl-5.8.9/bin/perl -MExtUtils::Command::MM -e 'cp_nonempty' -- Types.bs blib/arch/auto/Lexical/Types/Types.bs 644
Manifying blib/man3/Lexical::Types.3
PERL_DL_NONLAZY=1 /root/perl5/perlbrew/perls/perl-5.8.9/bin/perl "-MExtUtils::Command::MM" "-MTest::Harness" "-e" "undef *Test::Harness::Switches; test_harness(0, 'blib/lib', 'blib/arch')" t/*.t
# Testing Lexical::Types 0.12, Perl 5.008009, /root/perl5/perlbrew/perls/perl-5.8.9/bin/perl
t/00-load.t ............... ok
t/10-base.t ............... ok
# This will throw two warnings
# This will throw two more warnings
t/11-args.t ............... ok
t/12-integrate.t .......... ok
t/13-padsv.t .............. ok
# This will throw two warnings
# This will throw two warnings
t/14-ro.t ................. ok
t/15-constants.t .......... ok
t/16-scope.t .............. ok
t/17-peep.t ............... ok
t/18-hints.t .............. ok
t/20-object.t ............. ok
t/21-tie.t ................ ok
# Using Variable::Magic 0.53
t/22-magic.t .............. ok
t/23-magic-uvar.t ......... skipped: Variable::Magic 0.35 on 5.10 required to test uvar magic
t/30-threads.t ............ skipped: This perl wasn't built to support threads
t/31-threads-teardown.t ... skipped: This perl wasn't built to support threads
t/40-stress.t ............. ok
t/91-pod.t ................ ok
t/92-pod-coverage.t ....... ok
t/95-portability-files.t .. ok
t/99-kwalitee.t ........... skipped: Test::Kwalitee not installed
All tests successful.
Files=21, Tests=1136,  3 wallclock secs ( 0.23 usr  0.16 sys +  0.92 cusr  0.27 csys =  1.58 CPU)
Result: PASS

------------------------------
PREREQUISITES
------------------------------

Prerequisite modules loaded:

runtime:

    Module              Need     Have    
    ------------------- -------- --------
    Carp                0        1.32    
    perl                5.008003 5.008009
    XSLoader            0        0.10    

build:

    Module              Need     Have    
    ------------------- -------- --------
    Carp                0        1.32    
    constant            0        1.17    
    ExtUtils::MakeMaker 0        6.80    
    Test::More          0        0.99    
    XSLoader            0        0.10    

configure:

    Module              Need     Have    
    ------------------- -------- --------
    ExtUtils::MakeMaker 0        6.80    


------------------------------
ENVIRONMENT AND OTHER CONTEXT
------------------------------

Environment variables:

    LANG = de_DE.UTF-8
    PATH = /root/perl5/perlbrew/bin:/root/perl5/perlbrew/perls/perl-5.8.9/bin:/sbin:/usr/sbin:/usr/local/sbin:/root/bin:/usr/local/bin:/usr/bin:/bin:/usr/X11R6/bin:/usr/games
    PERLBREW_MANPATH = /root/perl5/perlbrew/perls/perl-5.8.9/man
    PERLBREW_PATH = /root/perl5/perlbrew/bin:/root/perl5/perlbrew/perls/perl-5.8.9/bin
    PERLBREW_PERL = perl-5.8.9
    PERLBREW_ROOT = /root/perl5/perlbrew
    PERLBREW_SKIP_INIT = 1
    PERLBREW_VERSION = 0.42
    SHELL = /bin/bash
    TERM = xterm

Perl special variables (and OS-specific diagnostics, for MSWin32):

    EGID = 0 0
    EUID = 0
    EXECUTABLE_NAME = /root/perl5/perlbrew/perls/perl-5.8.9/bin/perl
    GID = 0 0
    UID = 0

Perl module toolchain versions installed:

    Module              Have    
    ------------------- --------
    CPAN                2.00    
    CPAN::Meta          2.132830
    Cwd                 3.40    
    ExtUtils::CBuilder  0.280212
    ExtUtils::Command   1.16    
    ExtUtils::Install   1.54    
    ExtUtils::MakeMaker 6.80    
    ExtUtils::Manifest  1.60    
    ExtUtils::ParseXS   3.22    
    File::Spec          3.40    
    JSON                2.61    
    JSON::PP            2.27203 
    Module::Build       0.4007  
    Module::Signature   0.73    
    Parse::CPAN::Meta   1.4409  
    Test::Harness       3.29    
    Test::More          0.99    
    YAML                0.84    
    YAML::Syck          1.27    
    version             0.9904  


--

Summary of my perl5 (revision 5 version 8 subversion 9) configuration:
  Platform:
    osname=linux, osvers=3.10.13-x86_64-jb1, archname=x86_64-linux
    uname='linux j67734 3.10.13-x86_64-jb1 #3 smp fri oct 4 11:46:29 cest 2013 x86_64 x86_64 x86_64 gnulinux '
    config_args='-de -Dprefix=/root/perl5/perlbrew/perls/perl-5.8.9'
    hint=recommended, useposix=true, d_sigaction=define
    usethreads=undef use5005threads=undef useithreads=undef usemultiplicity=undef
    useperlio=define d_sfio=undef uselargefiles=define usesocks=undef
    use64bitint=define use64bitall=define uselongdouble=undef
    usemymalloc=n, bincompat5005=undef
  Compiler:
    cc='cc', ccflags ='-fno-strict-aliasing -pipe -I/usr/local/include -D_LARGEFILE_SOURCE -D_FILE_OFFSET_BITS=64',
    optimize='-O2',
    cppflags='-fno-strict-aliasing -pipe -I/usr/local/include'
    ccversion='', gccversion='4.7.2 20130108 [gcc-4_7-branch revision 195012]', gccosandvers=''
    intsize=4, longsize=8, ptrsize=8, doublesize=8, byteorder=12345678
    d_longlong=define, longlongsize=8, d_longdbl=define, longdblsize=16
    ivtype='long', ivsize=8, nvtype='double', nvsize=8, Off_t='off_t', lseeksize=8
    alignbytes=8, prototype=define
  Linker and Libraries:
    ld='cc', ldflags =' -L/usr/local/lib'
    libpth=/usr/local/lib /lib/../lib64 /usr/lib/../lib64 /lib /usr/lib /lib64 /usr/lib64 /usr/local/lib64
    libs=-lnsl -ldl -lm -lcrypt -lutil -lc
    perllibs=-lnsl -ldl -lm -lcrypt -lutil -lc
    libc=/lib/libc-2.17.so, so=so, useshrplib=false, libperl=libperl.a
    gnulibc_version='2.17'
  Dynamic Linking:
    dlsrc=dl_dlopen.xs, dlext=so, d_dlsymun=undef, ccdlflags='-Wl,-E'
    cccdlflags='-fPIC', lddlflags='-shared -O2 -L/usr/local/lib'


Characteristics of this binary (from libperl): 
  Compile-time options: PERL_MALLOC_WRAP USE_64_BIT_ALL USE_64_BIT_INT
                        USE_FAST_STDIO USE_LARGE_FILES USE_PERLIO
  Built under linux
  Compiled at Oct 24 2013 13:12:26
  %ENV:
    PERLBREW_MANPATH="/root/perl5/perlbrew/perls/perl-5.8.9/man"
    PERLBREW_PATH="/root/perl5/perlbrew/bin:/root/perl5/perlbrew/perls/perl-5.8.9/bin"
    PERLBREW_PERL="perl-5.8.9"
    PERLBREW_ROOT="/root/perl5/perlbrew"
    PERLBREW_SKIP_INIT="1"
    PERLBREW_VERSION="0.42"
  @INC:
    /root/perl5/perlbrew/perls/perl-5.8.9/lib/5.8.9/x86_64-linux
    /root/perl5/perlbrew/perls/perl-5.8.9/lib/5.8.9
    /root/perl5/perlbrew/perls/perl-5.8.9/lib/site_perl/5.8.9/x86_64-linux
    /root/perl5/perlbrew/perls/perl-5.8.9/lib/site_perl/5.8.9
    .