Report for Template-Benchmark-1.09_01

Back
From: metabase:user:30977d10-2aae-11df-837a-5e0a49663a4f
Subject: PASS Template-Benchmark-1.09_01 v5.8.9 GNU/Linux
Date: 2010-12-08T15:05:41Z

This distribution has been tested as part of the CPAN Testers
project, supporting the Perl programming language.  See
http://wiki.cpantesters.org/ for more information or email
questions to cpan-testers-discuss@perl.org


--
Dear Sam Graham,

This is a computer-generated report for Template-Benchmark-1.09_01
on perl 5.8.9, created by CPAN-Reporter-1.1803.

Thank you for uploading your work to CPAN.  Congratulations!
All tests were successful.

Sections of this report:

    * Tester comments
    * Program output
    * Prerequisites
    * Environment and other context

------------------------------
TESTER COMMENTS
------------------------------

Additional comments from tester:

this report is from an automated smoke testing program
and was not reviewed by a human for accuracy

------------------------------
PROGRAM OUTPUT
------------------------------

Output from './Build test':

# Testing Template::Benchmark 1.09_01, Perl 5.008009, /home/stro/perl/perl589th/bin/perl
t/00-load.t .................. ok
t/10-class-methods.t ......... ok
t/15-constructor.t ........... ok
t/16-only-plugin.t ........... ok
t/17-features-from.t ......... ok
t/18-cache-types-from.t ...... ok
# Using plugin HTMLTemplate (2.9) for instance tests
t/20-instance-methods.t ...... ok
t/30-custom-dataset.t ........ skipped: Dataset testing requires one of the following sets of modules to be installed: (Template::Sandbox Cache::CacheFactory CHI Cache::FastMmap Cache::FileCache Cache::FastMemoryCache Cache::Ref::FIFO) (Text::Xslate 0.2007)
# Using plugin HTMLTemplate (2.9) for feature repeats tests
t/40-per-feature-repeats.t ... ok
t/50-script-run.t ............ ok
xt/release/check-changes.t ... ok
xt/release/fixme.t ........... ok
xt/release/hasversion.t ...... ok
xt/release/manifest.t ........ skipped: Author tests not required for installation
xt/release/meta.t ............ ok
xt/release/minimumversion.t .. ok
xt/release/pod-coverage.t .... ok
xt/release/pod.t ............. ok
All tests successful.
Files=18, Tests=301, 22 wallclock secs ( 0.07 usr  0.16 sys + 15.88 cusr  1.09 csys = 17.20 CPU)
Result: PASS

------------------------------
PREREQUISITES
------------------------------

Prerequisite modules loaded:

requires:

    Module            Need   Have     
    ----------------- ------ ---------
    Benchmark         0      1.1      
    File::Path        0      2.08     
    File::Spec        0      3.33     
    File::Temp        0.18   0.22     
    FindBin           0      1.49     
    Getopt::Long      0      2.38     
    IO::File          0      1.14     
    Module::Pluggable 0      3.9      
    perl              v5.6.1 5.008009 
    Pod::Usage        0      1.36     
    Scalar::Util      0      1.23     
    Text::Matrix      0      1.00     
    Text::Wrap        0      2006.1117

build_requires:

    Module            Need   Have     
    ----------------- ------ ---------
    Config            0      0        
    Cwd               0      3.33     
    File::Spec        0      3.33     
    FindBin           0      1.49     
    Test::Command     0.08   0.08     
    Test::Exception   0      0.31     
    Test::MockObject  0      1.09     
    Test::More        0      0.96     

configure_requires:

    Module            Need   Have     
    ----------------- ------ ---------
    Module::Build     0.23   0.36_17  


------------------------------
ENVIRONMENT AND OTHER CONTEXT
------------------------------

Environment variables:

    AUTOMATED_TESTING = 1
    LANG = en_US.UTF-8
    PATH = /usr/local/bin:/usr/bin:/bin:/usr/games
    PERL5LIB = 
    PERL5OPT = 
    PERL5_CPANPLUS_IS_RUNNING = 20865
    PERL5_CPAN_IS_RUNNING = 20865
    PERL5_CPAN_IS_RUNNING_IN_RECURSION = 17713,20865
    PERL_CR_SMOKER_CURRENT = Template-Benchmark-1.09_01
    PERL_EXTUTILS_AUTOINSTALL = --defaultdeps
    PERL_MM_USE_DEFAULT = 1
    SHELL = /bin/bash
    TERM = xterm

Perl special variables (and OS-specific diagnostics, for MSWin32):

    $^X = /home/stro/perl/perl589th/bin/perl
    $UID/$EUID = 1000 / 1000
    $GID = 1000 20 24 25 29 44 46 1000
    $EGID = 1000 20 24 25 29 44 46 1000

Perl module toolchain versions installed:

    Module              Have   
    ------------------- -------
    CPAN                1.9402 
    Cwd                 3.33   
    ExtUtils::CBuilder  0.2800 
    ExtUtils::Command   1.16   
    ExtUtils::Install   1.54   
    ExtUtils::MakeMaker 6.56   
    ExtUtils::Manifest  1.58   
    ExtUtils::ParseXS   2.2206 
    File::Spec          3.33   
    Module::Build       0.36_17
    Module::Signature   0.66   
    Test::Harness       3.22   
    Test::More          0.96   
    YAML                0.71   
    YAML::Syck          1.14   
    version             0.85   


--

Summary of my perl5 (revision 5 version 8 subversion 9) configuration:
  Platform:
    osname=linux, osvers=2.6.26-2-686, archname=i686-linux-thread-multi
    uname='linux debian5 2.6.26-2-686 #1 smp wed may 12 21:56:10 utc 2010 i686 gnulinux '
    config_args=''
    hint=recommended, useposix=true, d_sigaction=define
    usethreads=define use5005threads=undef useithreads=define usemultiplicity=define
    useperlio=define d_sfio=undef uselargefiles=define usesocks=undef
    use64bitint=undef use64bitall=undef uselongdouble=undef
    usemymalloc=n, bincompat5005=undef
  Compiler:
    cc='cc', ccflags ='-D_REENTRANT -D_GNU_SOURCE -DTHREADS_HAVE_PIDS -fno-strict-aliasing -pipe -I/usr/local/include -D_LARGEFILE_SOURCE -D_FILE_OFFSET_BITS=64',
    optimize='-O2',
    cppflags='-D_REENTRANT -D_GNU_SOURCE -DTHREADS_HAVE_PIDS -fno-strict-aliasing -pipe -I/usr/local/include'
    ccversion='', gccversion='4.3.2', gccosandvers=''
    intsize=4, longsize=4, ptrsize=4, doublesize=8, byteorder=1234
    d_longlong=define, longlongsize=8, d_longdbl=define, longdblsize=12
    ivtype='long', ivsize=4, nvtype='double', nvsize=8, Off_t='off_t', lseeksize=8
    alignbytes=4, prototype=define
  Linker and Libraries:
    ld='cc', ldflags =' -L/usr/local/lib'
    libpth=/usr/local/lib /lib /usr/lib
    libs=-lnsl -ldb -ldl -lm -lcrypt -lutil -lpthread -lc
    perllibs=-lnsl -ldl -lm -lcrypt -lutil -lpthread -lc
    libc=/lib/libc-2.7.so, so=so, useshrplib=false, libperl=libperl.a
    gnulibc_version='2.7'
  Dynamic Linking:
    dlsrc=dl_dlopen.xs, dlext=so, d_dlsymun=undef, ccdlflags='-Wl,-E'
    cccdlflags='-fPIC', lddlflags='-shared -O2 -L/usr/local/lib'


Characteristics of this binary (from libperl): 
  Compile-time options: MULTIPLICITY PERL_IMPLICIT_CONTEXT PERL_MALLOC_WRAP
                        THREADS_HAVE_PIDS USE_FAST_STDIO USE_ITHREADS
                        USE_LARGE_FILES USE_PERLIO USE_REENTRANT_API
  Built under linux
  Compiled at Jun 16 2010 17:51:04
  %ENV:
    PERL5LIB=""
    PERL5OPT=""
    PERL5_CPANPLUS_IS_RUNNING="20865"
    PERL5_CPAN_IS_RUNNING="20865"
    PERL5_CPAN_IS_RUNNING_IN_RECURSION="17713,20865"
    PERL_CR_SMOKER_CURRENT="Template-Benchmark-1.09_01"
    PERL_EXTUTILS_AUTOINSTALL="--defaultdeps"
    PERL_MM_USE_DEFAULT="1"
  @INC:
    /home/stro/perl/perl589th/lib/5.8.9/i686-linux-thread-multi
    /home/stro/perl/perl589th/lib/5.8.9
    /home/stro/perl/perl589th/lib/site_perl/5.8.9/i686-linux-thread-multi
    /home/stro/perl/perl589th/lib/site_perl/5.8.9
    .