PDL-Graphics-Prima v0.21 Perl 5 v5.38.0 x86_64-linux-multi-ld
- Status
- Pass
- From
- Andreas J. König (ANDK)
- Dist
-
PDL-Graphics-Prima v0.21
- Platform
- Perl 5 v5.38.0 x86_64-linux-multi-ld
- Date
- 2024-05-11 14:34:50
- ID
- 9f6575b4-0fa3-11ef-945f-db1a9407be7a
This distribution has been tested as part of the CPAN Testers
project, supporting the Perl programming language. See
http://wiki.cpantesters.org/ for more information or email
questions to cpan-testers-discuss@perl.org
--
Dear Ed J,
This is a computer-generated report for PDL-Graphics-Prima-0.21
on perl 5.38.0, created by CPAN-Reporter-1.2019.
Thank you for uploading your work to CPAN. Congratulations!
All tests were successful.
Sections of this report:
* Tester comments
* Program output
* Prerequisites
* Environment and other context
------------------------------
TESTER COMMENTS
------------------------------
Additional comments from tester:
this report is from an automated smoke testing program
and was not reviewed by a human for accuracy
------------------------------
PROGRAM OUTPUT
------------------------------
Output from '/usr/bin/make test':
PERL_DL_NONLAZY=1 "/home/sand/src/perl/repoperls/installed-perls/host/k93msid/v5.38.0/1d53/bin/perl" "-MExtUtils::Command::MM" "-MTest::Harness" "-e" "undef *Test::Harness::Switches; test_harness(0, 'blib/lib', 'blib/arch')" t/*.t
Application built with libpng-1.6.39 but running with 1.6.40
Failed to load standard bitmap '/home/sand/src/perl/repoperls/installed-perls/host/k93msid/v5.38.0/1d53/lib/site_perl/5.38.0/x86_64-linux-multi-ld/Prima/sysimage.gif':No appropriate codec found. Did you compile Prima with GIF support?
# Testing PDL::Graphics::Prima 0.21, Perl 5.038000, /home/sand/src/perl/repoperls/installed-perls/host/k93msid/v5.38.0/1d53/bin/perl
t/00-load-main.t .... ok
Application built with libpng-1.6.39 but running with 1.6.40
Failed to load standard bitmap '/home/sand/src/perl/repoperls/installed-perls/host/k93msid/v5.38.0/1d53/lib/site_perl/5.38.0/x86_64-linux-multi-ld/Prima/sysimage.gif':No appropriate codec found. Did you compile Prima with GIF support?
# Testing PDL::Graphics::Prima::Simple, Perl 5.038000, /home/sand/src/perl/repoperls/installed-perls/host/k93msid/v5.38.0/1d53/bin/perl
t/01-load-simple.t .. ok
Application built with libpng-1.6.39 but running with 1.6.40
Failed to load standard bitmap '/home/sand/src/perl/repoperls/installed-perls/host/k93msid/v5.38.0/1d53/lib/site_perl/5.38.0/x86_64-linux-multi-ld/Prima/sysimage.gif':No appropriate codec found. Did you compile Prima with GIF support?
t/120-on-paint.t .... ok
Application built with libpng-1.6.39 but running with 1.6.40
Failed to load standard bitmap '/home/sand/src/perl/repoperls/installed-perls/host/k93msid/v5.38.0/1d53/lib/site_perl/5.38.0/x86_64-linux-multi-ld/Prima/sysimage.gif':No appropriate codec found. Did you compile Prima with GIF support?
t/200-binning.t ..... ok
t/300-size-spec.t ... ok
All tests successful.
Test Summary Report
-------------------
t/120-on-paint.t (Wstat: 0 Tests: 6 Failed: 0)
TODO passed: 6
Files=5, Tests=22, 6 wallclock secs ( 0.03 usr 0.01 sys + 4.55 cusr 0.48 csys = 5.07 CPU)
Result: PASS
------------------------------
PREREQUISITES
------------------------------
Prerequisite modules loaded:
requires:
Module Need Have
------------------- ------ --------
PDL v2.4.0 2.084
PDL::Drawing::Prima 0.15 0.18
perl 5.012 5.038000
Prima 1.68 1.70
build_requires:
Module Need Have
------------------- ------ --------
ExtUtils::MakeMaker 0 7.70
Test::More 0.88 1.302195
configure_requires:
Module Need Have
------------------- ------ --------
ExtUtils::MakeMaker 0 7.70
------------------------------
ENVIRONMENT AND OTHER CONTEXT
------------------------------
Environment variables:
AUTOMATED_TESTING = 1
LANG = en_US.UTF-8
LANGUAGE = en_US:en
PATH = /home/sand/bin:/usr/local/bin:/usr/bin:/bin:/usr/games:/usr/local/perl/bin:/usr/X11/bin:/sbin:/usr/sbin
PERL5LIB =
PERL5OPT =
PERL5_CPANPLUS_IS_RUNNING = 1618117
PERL5_CPAN_IS_RUNNING = 1618117
PERL_CANARY_STABILITY_NOPROMPT = 1
PERL_MM_USE_DEFAULT = 1
PERL_USE_UNSAFE_INC = 1
SHELL = /usr/bin/zsh
TERM = screen
Perl special variables (and OS-specific diagnostics, for MSWin32):
$^X = /home/sand/src/perl/repoperls/installed-perls/host/k93msid/v5.38.0/1d53/bin/perl
$UID/$EUID = 1005 / 1005
$GID = 1005 1005
$EGID = 1005 1005
Perl module toolchain versions installed:
Module Have
------------------- --------
CPAN 2.36
CPAN::Meta 2.150010
Cwd 3.89
ExtUtils::CBuilder 0.280238
ExtUtils::Command 7.70
ExtUtils::Install 2.22
ExtUtils::MakeMaker 7.70
ExtUtils::Manifest 1.73
ExtUtils::ParseXS 3.51
File::Spec 3.88
JSON 4.10
JSON::PP 4.16
Module::Build 0.4234
Module::Signature 0.88
Parse::CPAN::Meta 2.150010
Test2 1.302195
Test::Harness 3.48
Test::More 1.302195
YAML 1.30
YAML::Syck 1.34
version 0.9929
--
Summary of my perl5 (revision 5 version 38 subversion 0) configuration:
Commit id: 76298ae68aa7796f0ffc05095b127d23f4b2de8f
Platform:
osname=linux
osvers=6.1.0-7-amd64
archname=x86_64-linux-multi-ld
uname='linux k93msid 6.1.0-7-amd64 #1 smp preempt_dynamic debian 6.1.20-1 (2023-03-19) x86_64 gnulinux '
config_args='-Dprefix=/home/sand/src/perl/repoperls/installed-perls/host/k93msid/v5.38.0/1d53 -Dmyhostname=k93msid -Dinstallusrbinperl=n -Uversiononly -Dusedevel -des -Ui_db -Dlibswanted=cl pthread socket inet nsl gdbm dbm malloc dl ld sun m crypt sec util c cposix posix ucb BSD gdbm_compat -Uuseithreads -Duselongdouble -DEBUGGING=both -Dusemultiplicity'
hint=recommended
useposix=true
d_sigaction=define
useithreads=undef
usemultiplicity=define
use64bitint=define
use64bitall=define
uselongdouble=define
usemymalloc=n
default_inc_excludes_dot=define
Compiler:
cc='cc'
ccflags ='-fwrapv -DDEBUGGING -fno-strict-aliasing -pipe -fstack-protector-strong -I/usr/local/include -D_LARGEFILE_SOURCE -D_FILE_OFFSET_BITS=64 -D_FORTIFY_SOURCE=2'
optimize='-O2 -g'
cppflags='-fwrapv -DDEBUGGING -fno-strict-aliasing -pipe -fstack-protector-strong -I/usr/local/include'
ccversion=''
gccversion='12.2.0'
gccosandvers=''
intsize=4
longsize=8
ptrsize=8
doublesize=8
byteorder=12345678
doublekind=3
d_longlong=define
longlongsize=8
d_longdbl=define
longdblsize=16
longdblkind=3
ivtype='long'
ivsize=8
nvtype='long double'
nvsize=16
Off_t='off_t'
lseeksize=8
alignbytes=16
prototype=define
Linker and Libraries:
ld='cc'
ldflags =' -fstack-protector-strong -L/usr/local/lib'
libpth=/usr/local/lib /usr/lib/x86_64-linux-gnu /usr/lib /usr/lib64
libs=-lpthread -lnsl -ldl -lm -lcrypt -lutil -lc
perllibs=-lpthread -lnsl -ldl -lm -lcrypt -lutil -lc
libc=/lib/x86_64-linux-gnu/libc.so.6
so=so
useshrplib=false
libperl=libperl.a
gnulibc_version='2.36'
Dynamic Linking:
dlsrc=dl_dlopen.xs
dlext=so
d_dlsymun=undef
ccdlflags='-Wl,-E'
cccdlflags='-fPIC'
lddlflags='-shared -O2 -g -L/usr/local/lib -fstack-protector-strong'
Characteristics of this binary (from libperl):
Compile-time options:
DEBUGGING
HAS_LONG_DOUBLE
HAS_STRTOLD
HAS_TIMES
MULTIPLICITY
PERLIO_LAYERS
PERL_COPY_ON_WRITE
PERL_DONT_CREATE_GVSV
PERL_HASH_FUNC_SIPHASH13
PERL_HASH_USE_SBOX32
PERL_MALLOC_WRAP
PERL_OP_PARENT
PERL_PRESERVE_IVUV
PERL_TRACK_MEMPOOL
PERL_USE_DEVEL
PERL_USE_SAFE_PUTENV
USE_64_BIT_ALL
USE_64_BIT_INT
USE_LARGE_FILES
USE_LOCALE
USE_LOCALE_COLLATE
USE_LOCALE_CTYPE
USE_LOCALE_NUMERIC
USE_LOCALE_TIME
USE_LONG_DOUBLE
USE_PERLIO
USE_PERL_ATOF
Built under linux
Compiled at Jul 3 2023 08:19:21
%ENV:
PERL5LIB=""
PERL5OPT=""
PERL5_CPANPLUS_IS_RUNNING="1618117"
PERL5_CPAN_IS_RUNNING="1618117"
PERL_CANARY_STABILITY_NOPROMPT="1"
PERL_MM_USE_DEFAULT="1"
PERL_USE_UNSAFE_INC="1"
@INC:
/home/sand/src/perl/repoperls/installed-perls/host/k93msid/v5.38.0/1d53/lib/site_perl/5.38.0/x86_64-linux-multi-ld
/home/sand/src/perl/repoperls/installed-perls/host/k93msid/v5.38.0/1d53/lib/site_perl/5.38.0
/home/sand/src/perl/repoperls/installed-perls/host/k93msid/v5.38.0/1d53/lib/5.38.0/x86_64-linux-multi-ld
/home/sand/src/perl/repoperls/installed-perls/host/k93msid/v5.38.0/1d53/lib/5.38.0
.