Report for YAML-Syck-1.17

Back
From: metabase:user:322078bc-2aae-11df-837a-5e0a49663a4f
Subject: PASS YAML-Syck-1.17 v5.12.2 FreeBSD
Date: 2010-11-22T17:12:01Z

This distribution has been tested as part of the CPAN Testers
project, supporting the Perl programming language.  See
http://wiki.cpantesters.org/ for more information or email
questions to cpan-testers-discuss@perl.org


--

Dear AEvar Arnfjord Bjarmason,
    
This is a computer-generated error report created automatically by
CPANPLUS, version 0.9010. Testers personal comments may appear 
at the end of this report.

MAKE TEST passed: PERL_DL_NONLAZY=1 /opt/perl-5.12.2/bin/perl "-MExtUtils::Command::MM" "-e" "test_harness(0, 'inc', 'blib/lib', 'blib/arch')" t/*.t t/*/*.t
t/1-basic.t ................... ok
t/11-loadfile.t ............... ok
t/12-dumpfile.t ............... ok
t/2-scalars.t ................. ok
t/3-objects.t ................. ok
t/4-perl_tag_scheme.t ......... ok
t/bug/rt-49404-double_free.t .. ok
t/bug/rt-54167.t .............. ok
t/json-basic.t ................ ok
t/json-circular-ref.t ......... ok
t/json-crlf.t ................. ok
t/json-empty.t ................ ok
t/json-indent.t ............... ok
t/json-loadfile.t ............. ok
t/json-minus.t ................ ok
t/json-newline.t .............. ok
t/json-null.t ................. ok
t/json-numbers.t .............. ok
t/json-refs.t ................. ok
t/json-singlequote.t .......... ok
t/leak.t ...................... ok
t/yaml-alias.t ................ ok
t/yaml-blessed-ref.t .......... ok
t/yaml-implicit-warnings.t .... ok
t/yaml-str-colon-first.t ...... ok
t/yaml-tie.t .................. ok
All tests successful.

Test Summary Report
-------------------
t/json-basic.t              (Wstat: 0 Tests: 104 Failed: 0)
  TODO passed:   81-82, 85-86, 93-94, 97-98
Files=26, Tests=586,  3 wallclock secs ( 0.42 usr  0.21 sys +  2.33 cusr  0.73 csys =  3.69 CPU)
Result: PASS

[MSG] [Mon Nov 22 17:12:01 2010] Sending test report for 'YAML-Syck-1.17'

This report was machine-generated by CPANPLUS::Dist::YACSmoke 0.58.

------------------------------
ENVIRONMENT AND OTHER CONTEXT
------------------------------

Environment variables:

    AUTOMATED_TESTING = 1
    PATH = /sbin:/bin:/usr/sbin:/usr/bin:/usr/games:/usr/local/sbin:/usr/local/bin:/root/bin
    PERL5LIB = :/opt/perl-5.12.2/.cpanplus/5.12.2/build/DateTime-TimeZone-1.26/blib/lib:/opt/perl-5.12.2/.cpanplus/5.12.2/build/DateTime-TimeZone-1.26/blib/arch:/opt/perl-5.12.2/.cpanplus/5.12.2/build/YAML-Syck-1.17/blib/lib:/opt/perl-5.12.2/.cpanplus/5.12.2/build/YAML-Syck-1.17/blib/arch
    PERL5_CPANPLUS_IS_RUNNING = 84195
    PERL5_CPANPLUS_IS_VERSION = 0.9010
    PERL_EXTUTILS_AUTOINSTALL = --defaultdeps
    PERL_MM_USE_DEFAULT = 1
    SHELL = /bin/csh
    TERM = screen

Perl special variables (and OS-specific diagnostics, for MSWin32):

    Perl: $^X = /opt/perl-5.12.2/bin/perl
    UID:  $<  = 0
    EUID: $>  = 0
    GID:  $(  = 0 0 0 5
    EGID: $)  = 0 0 0 5


-------------------------------


--

Summary of my perl5 (revision 5 version 12 subversion 2) configuration:
   
  Platform:
    osname=freebsd, osvers=7.2-release, archname=i386-freebsd
    uname='freebsd wintermute.staffordshire.gov.uk 7.2-release freebsd 7.2-release #0: fri may 1 08:49:13 utc 2009 root@walker.cse.buffalo.edu:usrobjusrsrcsysgeneric i386 '
    config_args='-des -Dprefix=/opt/perl-5.12.2'
    hint=recommended, useposix=true, d_sigaction=define
    useithreads=undef, usemultiplicity=undef
    useperlio=define, d_sfio=undef, uselargefiles=define, usesocks=undef
    use64bitint=undef, use64bitall=undef, uselongdouble=undef
    usemymalloc=n, bincompat5005=undef
  Compiler:
    cc='cc', ccflags ='-DHAS_FPSETMASK -DHAS_FLOATINGPOINT_H -fno-strict-aliasing -pipe -fstack-protector -I/usr/local/include',
    optimize='-O',
    cppflags='-DHAS_FPSETMASK -DHAS_FLOATINGPOINT_H -fno-strict-aliasing -pipe -fstack-protector -I/usr/local/include'
    ccversion='', gccversion='4.2.1 20070719  [FreeBSD]', gccosandvers=''
    intsize=4, longsize=4, ptrsize=4, doublesize=8, byteorder=1234
    d_longlong=define, longlongsize=8, d_longdbl=define, longdblsize=12
    ivtype='long', ivsize=4, nvtype='double', nvsize=8, Off_t='off_t', lseeksize=8
    alignbytes=4, prototype=define
  Linker and Libraries:
    ld='cc', ldflags ='-Wl,-E  -fstack-protector -L/usr/local/lib'
    libpth=/usr/lib /usr/local/lib
    libs=-lgdbm -lm -lcrypt -lutil -lc
    perllibs=-lm -lcrypt -lutil -lc
    libc=, so=so, useshrplib=false, libperl=libperl.a
    gnulibc_version=''
  Dynamic Linking:
    dlsrc=dl_dlopen.xs, dlext=so, d_dlsymun=undef, ccdlflags=' '
    cccdlflags='-DPIC -fPIC', lddlflags='-shared  -L/usr/local/lib -fstack-protector'


Characteristics of this binary (from libperl): 
  Compile-time options: PERL_DONT_CREATE_GVSV PERL_MALLOC_WRAP
                        USE_LARGE_FILES USE_PERLIO USE_PERL_ATOF
  Built under freebsd
  Compiled at Sep  8 2010 11:57:50
  %ENV:
    PERL5LIB=":/opt/perl-5.12.2/.cpanplus/5.12.2/build/DateTime-TimeZone-1.26/blib/lib:/opt/perl-5.12.2/.cpanplus/5.12.2/build/DateTime-TimeZone-1.26/blib/arch:/opt/perl-5.12.2/.cpanplus/5.12.2/build/YAML-Syck-1.17/blib/lib:/opt/perl-5.12.2/.cpanplus/5.12.2/build/YAML-Syck-1.17/blib/arch"
    PERL5_CPANPLUS_IS_RUNNING="84195"
    PERL5_CPANPLUS_IS_VERSION="0.9010"
    PERL_EXTUTILS_AUTOINSTALL="--defaultdeps"
    PERL_MM_USE_DEFAULT="1"
  @INC:
    /opt/perl-5.12.2/.cpanplus/5.12.2/build/DateTime-TimeZone-1.26/blib/lib
    /opt/perl-5.12.2/.cpanplus/5.12.2/build/DateTime-TimeZone-1.26/blib/arch
    /opt/perl-5.12.2/.cpanplus/5.12.2/build/YAML-Syck-1.17/blib/lib
    /opt/perl-5.12.2/.cpanplus/5.12.2/build/YAML-Syck-1.17/blib/arch
    /opt/perl-5.12.2/lib/site_perl/5.12.2/i386-freebsd
    /opt/perl-5.12.2/lib/site_perl/5.12.2
    /opt/perl-5.12.2/lib/5.12.2/i386-freebsd
    /opt/perl-5.12.2/lib/5.12.2
    .