Report for UDDI-Lite-0.718

Back
From: metabase:user:32904986-c427-11df-a07f-b497e104d833
Subject: UNKNOWN UDDI-Lite-0.718 v5.8.5 GNU/Linux
Date: 2013-08-11T14:02:13Z

This distribution has been tested as part of the CPAN Testers
project, supporting the Perl programming language.  See
http://wiki.cpantesters.org/ for more information or email
questions to cpan-testers-discuss@perl.org


--
Dear Fred Moyer,

This is a computer-generated report for UDDI-Lite-0.718
on perl 5.8.5, created by CPAN-Reporter-1.2010.

Thank you for uploading your work to CPAN.  However, attempting to
test your distribution gave an inconclusive result.

This could be because your distribution had an error during the make/build
stage, did not define tests, tests could not be found, because your tests were
interrupted before they finished, or because the results of the tests could not
be parsed.  You may wish to consult the CPAN Testers Wiki:

http://wiki.cpantesters.org/wiki/CPANAuthorNotes

Sections of this report:

    * Tester comments
    * Program output
    * Prerequisites
    * Environment and other context

------------------------------
TESTER COMMENTS
------------------------------

Additional comments from tester:

none provided

------------------------------
PROGRAM OUTPUT
------------------------------

Output from '/usr/bin/make test':

PERL_DL_NONLAZY=1 /usr/bin/perl "-MExtUtils::Command::MM" "-e" "test_harness(0, 'blib/lib', 'blib/arch')" t/*.t
t/25-uddi.t ............. skipped: 500 Can't connect to uddi.microsoft.com:80 (timeout)
t/28-uddi_search.t ...... skipped: 500 Can't connect to www-3.ibm.com:80 (Bad hostname)
t/29-uddi_publishing.t .. skipped: 500 Can't connect to uddi.xmethods.net:8005
Files=3, Tests=0,  9 wallclock secs ( 0.10 usr  0.00 sys +  2.21 cusr  0.14 csys =  2.45 CPU)
Result: NOTESTS

------------------------------
PREREQUISITES
------------------------------

Prerequisite modules loaded:

requires:

    Module              Need  Have
    ------------------- ----- ----
    SOAP::Lite          0.716 1.04

build_requires:

    Module              Need  Have
    ------------------- ----- ----
    ExtUtils::MakeMaker 0     6.66

configure_requires:

    Module              Need  Have
    ------------------- ----- ----
    ExtUtils::MakeMaker 0     6.66


------------------------------
ENVIRONMENT AND OTHER CONTEXT
------------------------------

Environment variables:

    LC_CTYPE = 
    PATH = /sbin:/usr/sbin:/usr/local/sbin:/root/bin:/usr/local/bin:/usr/bin:/usr/X11R6/bin:/bin:/usr/games:/opt/gnome/bin:/opt/kde3/bin
    PERL5LIB = 
    PERL5OPT = 
    PERL5_CPANPLUS_IS_RUNNING = 4244
    PERL5_CPAN_IS_RUNNING = 4244
    SHELL = /bin/bash
    TERM = xterm

Perl special variables (and OS-specific diagnostics, for MSWin32):

    $^X = /usr/bin/perl
    $UID/$EUID = 0 / 0
    $GID = 0 10 6 4 3 2 1 0
    $EGID = 0 10 6 4 3 2 1 0

Perl module toolchain versions installed:

    Module              Have    
    ------------------- --------
    CPAN                2.00    
    CPAN::Meta          2.120921
    Cwd                 3.40    
    ExtUtils::CBuilder  0.280205
    ExtUtils::Command   1.17    
    ExtUtils::Install   1.54    
    ExtUtils::MakeMaker 6.66    
    ExtUtils::Manifest  1.61    
    ExtUtils::ParseXS   3.18    
    File::Spec          3.40    
    JSON                2.58    
    JSON::PP            2.27202 
    Module::Build       0.4005  
    Module::Signature   0.70    
    Parse::CPAN::Meta   1.4404  
    Test::Harness       3.28    
    Test::More          0.98    
    YAML                0.84    
    YAML::Syck          1.27    
    version             0.9902  


--

Summary of my perl5 (revision 5 version 8 subversion 5) configuration:
  Platform:
    osname=linux, osvers=2.6.8.1, archname=i586-linux-thread-multi
    uname='linux beethoven 2.6.8.1 #1 smp mon dec 5 21:08:42 utc 2005 i686 athlon i386 gnulinux '
    config_args='-ds -e -Dprefix=/usr -Dvendorprefix=/usr -Dinstallusrbinperl -Dusethreads -Di_db -Di_dbm -Di_ndbm -Di_gdbm -Duseshrplib=true -Doptimize=-O2 -march=i586 -mcpu=i686 -fmessage-length=0 -Wall -Wall -pipe'
    hint=recommended, useposix=true, d_sigaction=define
    usethreads=define use5005threads=undef useithreads=define usemultiplicity=define
    useperlio=define d_sfio=undef uselargefiles=define usesocks=undef
    use64bitint=undef use64bitall=undef uselongdouble=undef
    usemymalloc=n, bincompat5005=undef
  Compiler:
    cc='cc', ccflags ='-D_REENTRANT -D_GNU_SOURCE -DTHREADS_HAVE_PIDS -fno-strict-aliasing -pipe -D_LARGEFILE_SOURCE -D_FILE_OFFSET_BITS=64',
    optimize='-O2 -march=i586 -mcpu=i686 -fmessage-length=0 -Wall -Wall -pipe',
    cppflags='-D_REENTRANT -D_GNU_SOURCE -DTHREADS_HAVE_PIDS -fno-strict-aliasing -pipe'
    ccversion='', gccversion='3.3.4 (pre 3.3.5 20040809)', gccosandvers=''
    intsize=4, longsize=4, ptrsize=4, doublesize=8, byteorder=1234
    d_longlong=define, longlongsize=8, d_longdbl=define, longdblsize=12
    ivtype='long', ivsize=4, nvtype='double', nvsize=8, Off_t='off_t', lseeksize=8
    alignbytes=4, prototype=define
  Linker and Libraries:
    ld='cc', ldflags =''
    libpth=/lib /usr/lib /usr/local/lib
    libs=-lnsl -ldl -lm -lcrypt -lutil -lpthread -lc
    perllibs=-lnsl -ldl -lm -lcrypt -lutil -lpthread -lc
    libc=, so=so, useshrplib=true, libperl=libperl.so
    gnulibc_version='2.3.3'
  Dynamic Linking:
    dlsrc=dl_dlopen.xs, dlext=so, d_dlsymun=undef, ccdlflags='-Wl,-E -Wl,-rpath,/usr/lib/perl5/5.8.5/i586-linux-thread-multi/CORE'
    cccdlflags='-fPIC', lddlflags='-shared'


Characteristics of this binary (from libperl): 
  Compile-time options: MULTIPLICITY USE_ITHREADS USE_LARGE_FILES PERL_IMPLICIT_CONTEXT
  Locally applied patches:
	SPRINTF0 - fixes for sprintf formatting issues - CVE-2005-3962
  Built under linux
  Compiled at Dec 17 2005 03:20:43
  %ENV:
    PERL5LIB=""
    PERL5OPT=""
    PERL5_CPANPLUS_IS_RUNNING="4244"
    PERL5_CPAN_IS_RUNNING="4244"
  @INC:
    /usr/lib/perl5/5.8.5/i586-linux-thread-multi
    /usr/lib/perl5/5.8.5
    /usr/lib/perl5/site_perl/5.8.5/i586-linux-thread-multi
    /usr/lib/perl5/site_perl/5.8.5
    /usr/lib/perl5/site_perl
    /usr/lib/perl5/vendor_perl/5.8.5/i586-linux-thread-multi
    /usr/lib/perl5/vendor_perl/5.8.5
    /usr/lib/perl5/vendor_perl
    .