Parse-LocalDistribution v0.19 Perl 5 v5.30.0 darwin-2level
- Status
- Pass
- From
- NONAME
- Dist
-
Parse-LocalDistribution v0.19
- Platform
- Perl 5 v5.30.0 darwin-2level
- Date
- 2019-08-09 20:16:50
- ID
- 9f40ad6c-bae2-11e9-9ddb-365cfa8dfe8e
This distribution has been tested as part of the CPAN Testers
project, supporting the Perl programming language. See
http://wiki.cpantesters.org/ for more information or email
questions to cpan-testers-discuss@perl.org
--
Dear Kenichi Ishigaki,
This is a computer-generated report for Parse-LocalDistribution-0.19
on perl 5.30.0, created by CPAN-Reporter-1.2018.
Thank you for uploading your work to CPAN. Congratulations!
All tests were successful.
Sections of this report:
* Tester comments
* Program output
* Prerequisites
* Environment and other context
------------------------------
TESTER COMMENTS
------------------------------
Additional comments from tester:
none provided
------------------------------
PROGRAM OUTPUT
------------------------------
Output from '/usr/bin/make test':
PERL_DL_NONLAZY=1 "/Users/michele/perl5/perlbrew/perls/perl-5.30.0/bin/perl" "-MExtUtils::Command::MM" "-MTest::Harness" "-e" "undef *Test::Harness::Switches; test_harness(0, 'blib/lib', 'blib/arch')" t/*.t
t/00_load.t ..................... ok
t/10_self_check.t ............... ok
t/20_dist_not_in_the_current.t .. ok
t/30_no_index.t ................. ok
t/40_manifest.t ................. ok
t/41_manifest_skip.t ............ ok
t/50_permissions_files.t ........ ok
t/50_permissions_meta.t ......... ok
All tests successful.
Files=8, Tests=49, 2 wallclock secs ( 0.06 usr 0.02 sys + 1.15 cusr 0.28 csys = 1.51 CPU)
Result: PASS
------------------------------
PREREQUISITES
------------------------------
Prerequisite modules loaded:
requires:
Module Need Have
----------------------------- ---- --------
File::Find 0 1.36
File::Spec 0 3.78
List::Util 0 1.50
Parse::CPAN::Meta 0 2.150010
Parse::PMFile 0.37 0.41
build_requires:
Module Need Have
----------------------------- ---- --------
ExtUtils::MakeMaker 0 7.34
File::Path 0 2.16
File::Temp 0 0.2309
Test::More 0.88 1.302162
Test::UseAllModules 0.10 0.17
configure_requires:
Module Need Have
----------------------------- ---- --------
ExtUtils::MakeMaker::CPANfile 0.07 0.09
------------------------------
ENVIRONMENT AND OTHER CONTEXT
------------------------------
Environment variables:
LANG = it_IT.UTF-8
NONINTERACTIVE_TESTING = 1
PATH = /Users/michele/.cargo/bin:/Users/michele/.rbenv/shims:/Users/michele/perl5/perlbrew/bin:/Users/michele/perl5/perlbrew/perls/perl-5.30.0/bin:/usr/local/bin:/usr/bin:/bin:/usr/sbin:/sbin:/usr/local/share/dotnet:/opt/X11/bin:/Library/Frameworks/Mono.framework/Versions/Current/Commands:/Applications/Xamarin Workbooks.app/Contents/SharedSupport/path-bin:/Users/michele/bin:/usr/local/mysql/bin/
PERL5LIB =
PERL5OPT =
PERL5_CPANPLUS_IS_RUNNING = 33104
PERL5_CPAN_IS_RUNNING = 33104
PERLBREW_BASHRC_VERSION = 0.78
PERLBREW_HOME = /Users/michele/.perlbrew
PERLBREW_MANPATH = /Users/michele/perl5/perlbrew/perls/perl-5.30.0/man
PERLBREW_PATH = /Users/michele/perl5/perlbrew/bin:/Users/michele/perl5/perlbrew/perls/perl-5.30.0/bin
PERLBREW_PERL = perl-5.30.0
PERLBREW_ROOT = /Users/michele/perl5/perlbrew
PERLBREW_VERSION = 0.78
PERL_MM_USE_DEFAULT = 1
PERL_USE_UNSAFE_INC = 1
SHELL = /bin/bash
TERM = xterm-256color
TMPDIR = /var/folders/vj/3qlq691j1nl8njzz04m96pdm0000gn/T/
Perl special variables (and OS-specific diagnostics, for MSWin32):
$^X = /Users/michele/perl5/perlbrew/perls/perl-5.30.0/bin/perl
$UID/$EUID = 501 / 501
$GID = 20 20 701 12 61 79 80 81 98 702 33 100 204 250 395 398 399
$EGID = 20 20 701 12 61 79 80 81 98 702 33 100 204 250 395 398 399
Perl module toolchain versions installed:
Module Have
------------------- --------
CPAN 2.22
CPAN::Meta 2.150010
Cwd 3.78
ExtUtils::CBuilder 0.280231
ExtUtils::Command 7.34
ExtUtils::Install 2.14
ExtUtils::MakeMaker 7.34
ExtUtils::Manifest 1.72
ExtUtils::ParseXS 3.40
File::Spec 3.78
JSON 4.02
JSON::PP 4.02
Module::Build 0.4229
Module::Signature n/a
Parse::CPAN::Meta 2.150010
Test::Harness 3.42
Test::More 1.302162
YAML 1.29
YAML::Syck n/a
version 0.9924
--
Summary of my perl5 (revision 5 version 30 subversion 0) configuration:
Platform:
osname=darwin
osvers=18.6.0
archname=darwin-2level
uname='darwin lambda.fritz.box 18.6.0 darwin kernel version 18.6.0: thu apr 25 23:16:27 pdt 2019; root:xnu-4903.261.4~2release_x86_64 x86_64 '
config_args='-de -Dprefix=/Users/michele/perl5/perlbrew/perls/perl-5.30.0 -Aeval:scriptdir=/Users/michele/perl5/perlbrew/perls/perl-5.30.0/bin'
hint=recommended
useposix=true
d_sigaction=define
useithreads=undef
usemultiplicity=undef
use64bitint=define
use64bitall=define
uselongdouble=undef
usemymalloc=n
default_inc_excludes_dot=define
bincompat5005=undef
Compiler:
cc='cc'
ccflags ='-fno-common -DPERL_DARWIN -mmacosx-version-min=10.14 -fno-strict-aliasing -pipe -fstack-protector-strong -I/usr/local/include -DPERL_USE_SAFE_PUTENV'
optimize='-O3'
cppflags='-fno-common -DPERL_DARWIN -mmacosx-version-min=10.14 -fno-strict-aliasing -pipe -fstack-protector-strong -I/usr/local/include'
ccversion=''
gccversion='4.2.1 Compatible Apple LLVM 10.0.1 (clang-1001.0.46.4)'
gccosandvers=''
intsize=4
longsize=8
ptrsize=8
doublesize=8
byteorder=12345678
doublekind=3
d_longlong=define
longlongsize=8
d_longdbl=define
longdblsize=16
longdblkind=3
ivtype='long'
ivsize=8
nvtype='double'
nvsize=8
Off_t='off_t'
lseeksize=8
alignbytes=8
prototype=define
Linker and Libraries:
ld='cc'
ldflags =' -mmacosx-version-min=10.14 -fstack-protector-strong -L/usr/local/lib'
libpth=/usr/local/lib /Applications/Xcode.app/Contents/Developer/Toolchains/XcodeDefault.xctoolchain/usr/lib/clang/10.0.1/lib /Applications/Xcode.app/Contents/Developer/Toolchains/XcodeDefault.xctoolchain/usr/lib /Applications/Xcode.app/Contents/Developer/Platforms/MacOSX.platform/Developer/SDKs/MacOSX10.14.sdk/usr/lib /usr/lib
libs=-lpthread -ldbm -ldl -lm -lutil -lc
perllibs=-lpthread -ldl -lm -lutil -lc
libc=
so=dylib
useshrplib=false
libperl=libperl.a
gnulibc_version=''
Dynamic Linking:
dlsrc=dl_dlopen.xs
dlext=bundle
d_dlsymun=undef
ccdlflags=' '
cccdlflags=' '
lddlflags=' -mmacosx-version-min=10.14 -bundle -undefined dynamic_lookup -L/usr/local/lib -fstack-protector-strong'
Characteristics of this binary (from libperl):
Compile-time options:
HAS_TIMES
PERLIO_LAYERS
PERL_COPY_ON_WRITE
PERL_DONT_CREATE_GVSV
PERL_MALLOC_WRAP
PERL_OP_PARENT
PERL_PRESERVE_IVUV
PERL_USE_SAFE_PUTENV
USE_64_BIT_ALL
USE_64_BIT_INT
USE_LARGE_FILES
USE_LOCALE
USE_LOCALE_COLLATE
USE_LOCALE_CTYPE
USE_LOCALE_NUMERIC
USE_LOCALE_TIME
USE_PERLIO
USE_PERL_ATOF
Locally applied patches:
Devel::PatchPerl 1.52
Built under darwin
Compiled at Jul 14 2019 22:09:55
%ENV:
PERL5LIB=""
PERL5OPT=""
PERL5_CPANPLUS_IS_RUNNING="33104"
PERL5_CPAN_IS_RUNNING="33104"
PERLBREW_BASHRC_VERSION="0.78"
PERLBREW_HOME="/Users/michele/.perlbrew"
PERLBREW_MANPATH="/Users/michele/perl5/perlbrew/perls/perl-5.30.0/man"
PERLBREW_PATH="/Users/michele/perl5/perlbrew/bin:/Users/michele/perl5/perlbrew/perls/perl-5.30.0/bin"
PERLBREW_PERL="perl-5.30.0"
PERLBREW_ROOT="/Users/michele/perl5/perlbrew"
PERLBREW_VERSION="0.78"
PERL_MM_USE_DEFAULT="1"
PERL_USE_UNSAFE_INC="1"
@INC:
/Users/michele/perl5/perlbrew/perls/perl-5.30.0/lib/site_perl/5.30.0/darwin-2level
/Users/michele/perl5/perlbrew/perls/perl-5.30.0/lib/site_perl/5.30.0
/Users/michele/perl5/perlbrew/perls/perl-5.30.0/lib/5.30.0/darwin-2level
/Users/michele/perl5/perlbrew/perls/perl-5.30.0/lib/5.30.0
.